Workbook

Sheet 表紙

Sheet 利用に当たって・出典
A1: 利 用 に 当 た っ て
A2: １． | B2: 本資料では、各国政府が公表しているデータを標準化せずに掲載している。当データは、 ・国ごとに統計の範囲・手法が異なること ・国ごとに教育システムが異なり、学校教育段階や、修業年限・年齢、就学形態（フルタイム／パートタイム）などに違いがあること に留意する必要がある。
A3: ２． | B3: 各統計の出典については、原則として各統計の下方に資料番号のみを付し、資料名は「出典一覧」に示した。
A4: ３． | B4: 学校の設置者は、原則として「国立」「公立」「私立」に分類した。連邦制をとるアメリカ合衆国の場合、州が教育行政に関して独自の権限を有するなど、連邦制をとらない国における「国」に準ずるとみられることから、これを「州立」「公立」「私立」に分類した。なお、「連邦立」の学校は、その数が極めて限られているため、「州立」に含めて示した。
A5: ４． | B5: 四捨五入した数を使用しているデータでは、内訳の数の合計が、計欄の数と一致しない場合がある。
A6: ５． | B6: 統計に使用している記号は次のことを表す。 「ｍ」：計数が不明。 「0」あるいは「0.0」：表章単位に満たないもの。 「ａ」：制度が存在しない。
A8: 出 典
B9: 連邦教育省、Digest of Education Statistics、各年版 | C9: 米－①
B10: 連邦統計局、National Population by Characteristics: 2020-2024, Vintage 2023, Datasets, Monthly Postcensal Resident Population (7/1/2021 to 12/1/2021) （https://www.census.gov/data/datasets/time-series/demo/popest/2020s-national-detail.html） | C10: 米－②

Sheet １．学校系統図
A1: １．学校系統図
B36: 就学前教育： | C36: 就学前教育は、幼稚園のほか保育学校等で行われ、通常3～5歳児を対象とする。
B37: 義務教育： | C37: 就学義務に関する規定は州により異なる。就学義務開始年齢を6歳とする州が最も多いが、7歳あるいは8歳とする州でも6歳からの就学が認められており、6歳児の大半が就学している。義務教育年限は、9～12年であるが、12年とする州が最も多い。
B38: 初等中等教育： | C38: 初等・中等教育は合計12年であるが、その形態は6－3(2) －3(4) 年制、8－4年制、6－6年制、5－3－4年制、4－4－4年制など多様であり、これらのほかにも、初等・中等双方の段階にまたがる学校もある。現在は5－3－4年制が一般的である。2018年について、公立初等学校の形態別の割合をみると、3年制又は4年制小学校6.5％、5年制小学校34.9％、6年制小学校12.3％、8年制小学校9.2％、ミドルスクール18.0％、初等・中等双方の段階にまたがる学校8.8％、その他10.3％であり、公立中等学校の形態別の割合をみると、下級ハイスクール（3年又は2年制）7.6％、上級ハイスクール（3年制）1.8％、4年制ハイスクール52.4％、上級・下級併設ハイスクール（通常6年）9.3％、初等・中等双方の段階にまたがる学校21.1％及びその他7.7％となっている。
B39: 高等教育： | C39: 高等教育機関は、総合大学、リベラルアーツカレッジをはじめとする総合大学以外の4年制大学、2年制大学に大別される。総合大学は、文理学部、文理大学院及び専門職大学院（学部レベルのプログラムを提供している場合もある）から構成される。専門職大学院（学部）は、医学、法学などの専門職教育を行うもので独立の機関として存在する場合（専門職大学、専門職大学院大学）もある。専門職大学院（学部）へ進学するためには、通常、総合大学又はリベラルアーツカレッジにおいて一般教育を受け（年限は専攻により異なる）、さらに試験、面接を受ける必要がある。2年制大学には、ジュニアカレッジ、コミュニティカレッジ、テクニカルカレッジがある。州立の2年制大学は主としてコミュニティカレッジあるいはテクニカルカレッジである。

Sheet ２．学校統計
A1: ２．学校統計
L2: （2022年度）
A3: 教育 | B3: 学校種名 | C3: 設置 | D3: 修業 | E3: 通 常 の | F3: 学校数 | H3: 児童・生徒・ | J3: 本 務 | L3: 備考
A4: 段階 | C4: 者別 | D4: 年限 | E4: 在学年齢 | H4: 学 生 数 | J4: 教員数
D5: 年 | E5: 歳 | F5: 校 | H5: 千人 | J5: 千人
A6: 就学前 | B6: 幼稚園（ISCED 02） | C6: 公 | D6: － | E6: 3～5 | F6: m | H6: m | J6: m
C7: 私 | F7: m | J7: m
B8: 保育学校（ISCED 02) | C8: 公 | D8: － | E8: 3～5 | F8: m | H8: m | J8: m
C9: 私 | F9: m | J9: m
A10: 初等・中等 | B10: 5年制小学校（ISCED 1） | C10: 公私 | D10: 5 | E10: 6～10 | L10: 初等段階の学校は第6学年以下から始まり、第8学年までに終了する学校。中等段階の学校は第7学年以上の学年で構成される学校。 「その他」は、初等段階の学校あるいは中等段階の学校のいずれにも分類されない学校であり、学年構成が不明な学校も含む。 私立の学校数、在学者数、教員数は2021年。また、私立の初等段階の学校数には就学前教育機関が含まれる。
B11: 6年制小学校（ISCED 1） | D11: 6 | E11: 6～11 | F11: 公 | G11: 70342
B12: 8年制小学校（ISCED 1～2） | D12: 8 | E12: 6～13 | F12: 私 | G12: 17780
B13: ミドルスクール（ISCED 1～2） | D13: 3(4) | E13: 11(10)～13 | H13: 初等段階
B14: 下級ハイスクール（ISCED 2） | D14: 3(2) | E14: 12～14(13) | H14: 公 | I14: 34071
B15: 上級ハイスクール（ISCED 3） | D15: 3 | E15: 15(14)～17 | F15: 公 | G15: 23810 | H15: 私 | I15: 4071.4283 | J15: 公 | K15: 3229
B16: 上級・下級併設 | D16: 6 | E16: 12～17 | F16: 私 | G16: 3510 | H16: 中等段階 | J16: 私 | K16: 483
B17: ハイスクール（ISCED 2～3）
B18: 4年制ハイスクール（ISCED 3） | D18: 4 | E18: 14～17 | H18: 公 | I18: 15547
B19: その他（ISCED 1～3） | C19: 公 | D19: － | E19: － | G19: 5236 | H19: 私 | I19: 1402.111
C20: 私 | G20: 8440
A21: 高等 | B21: 総合大学（ISCED 6～8） | C21: 州 | D21: 4～ | E21: 18～ | J21: 832 | L21: 学校数は、分校を含む。学生数、大学院及び非学位取得課程を含むフルタイム及びパートタイム在学者（総数18,580千人。うちフルタイム在学者は11,286千人）。
C22: 私 | F22: 州 | G22: 782 | H22: 州 | I22: 9040.08
B23: その他の4年制大学（ISCED 6） | C23: 州 | D23: 4 | E23: 18～21 | F23: 私 | G23: 1846 | H23: 私 | I23: 4454.257
B24: （リベラルアーツカレッジ等） | C24: 私
B25: 2年制大学（ISCED 5） | C25: 州 | D25: 標準2 | E25: 18～19 | F25: 817 | H25: 4882
C26: 私 | F26: 451 | H26: 203
A28: （注）
A29: １．私立の初等中等段階の学校数、児童・生徒数及び教員数は2021年。
A30: ２．私立の初等段階の学校数には就学前教育機関が含まれる。
A31: ３．特別支援学校は別枠の学校種として独立計上されおらず、在学者数・学校数は特別支援教育の数値が含まれている。
A32: ４．ISCEDは、ユネスコ「ISCED Mappings and Diagrams」を参照した。 | B32: ISCEDは、OECD「Eductaion GPS:United States 」及びユネスコ「ISCED Mappings and Diagrams」を参照した。
A33: （資料）
A34: 米－①

Sheet 3．私立学校の割合
A1: 3．私立学校の割合
L2: （2022年度）
A3: 児童・生徒・学生数 | G3: 機関数
A4: 幼稚園・保育学校 | D4: 大学・2年制大学 | G4: 幼稚園・保育学校 | J4: 大学・2年制大学
C5: ％ | E5: 25.066863 | F5: ％ | I5: ％ | K5: 58.957906 | L5: ％
A6: 公： | B6: m | C6: 千人 | D6: 州： | E6: 13922.08 | F6: 千人 | G6: 公： | H6: m | I6: 校 | J6: 州： | K6: 1599 | L6: 校
A7: 私： | B7: m | C7: 千人 | D7: 私： | E7: 4657.257 | F7: 千人 | G7: 私： | H7: m | I7: 校 | J7: 私： | K7: 2297 | L7: 校
A8: 計： | B8: m | C8: 千人 | D8: 計： | E8: 18579.337 | F8: 千人 | G8: 計： | H8: m | I8: 校 | J8: 計： | K8: 3896 | L8: 校
A9: 初等段階・中等段階 | D9: 大学 | G9: 小学校・ﾐﾄﾞﾙｽｸｰﾙ・ﾊｲｽｸｰﾙ・その他 | J9: 大学
B10: 9.9353537 | C10: ％ | E10: 33.008343 | F10: ％ | K10: 70.243531 | L10: ％
A11: 公： | B11: 49618 | C11: 千人 | D11: 州： | E11: 9040.08 | F11: 千人 | H11: 18.442161 | I11: ％ | J11: 州： | K11: 782 | L11: 校
A12: 私： | B12: 5473.5393 | C12: 千人 | D12: 私： | E12: 4454.257 | F12: 千人 | G12: 公： | H12: 94152 | I12: 校 | J12: 私： | K12: 1846 | L12: 校
A13: 計： | B13: 55091.539 | C13: 千人 | D13: 計： | E13: 13494.337 | F13: 千人 | G13: 私： | H13: 21290 | I13: 校 | J13: 計： | K13: 2628 | L13: 校
G14: 計： | H14: 115442 | I14: 校
A15: 初等段階 | D15: 2年制大学 | G15: 小学校・ミドルスクール | J15: 2年制大学
B16: 10.674277 | C16: ％ | E16: 3.9921337 | F16: ％ | H16: 20.176573 | I16: ％ | K16: 35.567823 | L16: ％
A17: 公： | B17: 34071 | C17: 千人 | D17: 州： | E17: 4882 | F17: 千人 | G17: 公： | H17: 70342 | I17: 校 | J17: 州： | K17: 817 | L17: 校
A18: 私： | B18: 4071.4283 | C18: 千人 | D18: 私： | E18: 203 | F18: 千人 | G18: 私： | H18: 17780 | I18: 校 | J18: 私： | K18: 451 | L18: 校
A19: 計： | B19: 38142.428 | C19: 千人 | D19: 計： | E19: 5085 | F19: 千人 | G19: 計： | H19: 88122 | I19: 校 | J19: 計： | K19: 1268 | L19: 校
A20: 中等段階 | G20: ハイスクール
B21: 8.2724752 | C21: ％ | H21: 12.847731 | I21: ％
A22: 公： | B22: 15547 | C22: 千人 | G22: 公： | H22: 23810 | I22: 校
A23: 私： | B23: 1402.111 | C23: 千人 | G23: 私： | H23: 3510 | I23: 校
A24: 計： | B24: 16949.111 | C24: 千人 | G24: 計： | H24: 27320 | I24: 校
G25: その他
H26: 61.713951 | I26: ％
G27: 公： | H27: 5236 | I27: 校
G28: 私： | H28: 8440 | I28: 校
G29: 計： | H29: 13676 | I29: 校
A31: （注）
A32: １．私立の初等中等段階の学校数及び児童・生徒数は2021年。
A33: ２．私立の初等段階の学校数には就学前教育機関が含まれる。
A34: （資料）
A35: 米－①

Sheet 4．学級編制基準
A1: 4．学級編制基準
B3: アメリカ合衆国
D4: 〔上限人数〕
D5: 学級編制基準は、就学前教育を含めた全ての初等中等教育段階について定めている場合のほか、初等教育を中心として特定の学年についてのみ定めるなど、州によって定めている内容が異なる。
C6: （テキサス州の例） | G6: ○テキサス州教育法第25.112条
C7: 就学前教育～第4学年 | D7: 22人
C9: （モンタナ州の例） | G9: ○モンタナ州行政規則第10.55.712条及び第10.55.713条
C10: 【単式学級】
C11: 就学前教育～第2学年 | D11: 20人
C12: 第3～4学年 | D12: 28人
C13: 第5～12学年 | D13: 30人
C14: 【複式学級】
C15: 就学前教育～第3学年で構成される学級 | D15: 20人
C16: 第4～6学年で構成される学級 | D16: 24人
C17: 第7～8学年で構成される学級 | D17: 26人
C19: （ケンタッキー州の例） | G19: ○ケンタッキー州教育法第157.360条
C20: 就学前教育～第3学年 | D20: 24人
C21: 第4学年 | D21: 28人
C22: 第5～6学年 | D22: 29人
C23: 第7～12学年 | D23: 31人

Sheet 5．大学の学生納付金
A1: 5．大学の学生納付金
D2: 計 | E2: （千円） | F2: 入学料 | G2: 授業料 | H2: その他 | I2: 備考
B4: 州立大学（単位：ドル）
B5: 4年制大学 | C5: 2019年 | D5: 9349.1417 | E5: =(D5*D32)/1000 -> 1035.4174 | F5: a | G5: 9349 | I5: 州内学生の全学年についての全国平均額。
C6: 2020年 | D6: 9374.1609 | E6: =(D6*E32)/1000 -> 1011.6594 | F6: a | G6: 9374.1609
C7: 2021年 | D7: 9596.0115 | E7: =(D7*F32)/1000 -> 1024.3742 | F7: a | G7: 9596.0115 | I7: 「その他」は実験費，演習費等である。
C8: 2022年 | D8: 9749.987 | E8: =(D8*G32)/1000 -> 1166.7809 | F8: a | G8: 9749.987
B9: 2年制大学 | C9: 2019年 | D9: 3376.9083 | E9: =(D9*D32)/1000 -> 373.99259 | F9: a | G9: 3376.9083 | I9: 入学料はないが、大学によっては学籍登録の意思を示す返還不可の手数料を徴収し、入学後に授業料等に充てるところもある。
C10: 2020年 | D10: 3503.4196 | E10: =(D10*E32)/1000 -> 378.08904 | F10: a | G10: 3503.4196
C11: 2021年 | D11: 3563.4317 | E11: =(D11*F32)/1000 -> 380.39633 | F11: a | G11: 3563.4317
C12: 2022年 | D12: 3597.9969 | E12: =(D12*G32)/1000 -> 430.57229 | F12: a | G12: 3597.9969
B15: 私立大学（単位：ドル）
B16: 4年制大学 | C16: 2019年 | D16: 32763.974 | E16: =(D16*D32)/1000 -> 3628.6101 | F16: a | G16: 32763.974 | I16: 全学年についての全国平均額。
C17: 2020年 | D17: 32728.17 | E17: =(D17*E32)/1000 -> 3532.0241 | F17: a | G17: 32728.17
C18: 2021年 | D18: 34050.94 | E18: =(D18*F32)/1000 -> 3634.9378 | F18: a | G18: 34050.94 | I18: 「その他」は実験費，演習費等である。
C19: 2022年 | D19: 35248.395 | E19: =(D19*G32)/1000 -> 4218.1754 | F19: a | G19: 35248.395
B20: 2年制大学 | C20: 2019年 | D20: 15830.984 | E20: =(D20*D32)/1000 -> 1753.2815 | F20: a | G20: 15830.984 | I20: 入学料はないが、大学によっては学籍登録の意思を示す返還不可の手数料を徴収し、入学後に授業料等に充てるところもある。
C21: 2020年 | D21: 15473.401 | E21: =(D21*E32)/1000 -> 1669.8894 | F21: a | G21: 15473.401
C22: 2021年 | D22: 16587.665 | E22: =(D22*F32)/1000 -> 1770.7332 | F22: a | G22: 16587.665
C23: 2022年 | D23: 17407.515 | E23: =(D23*G32)/1000 -> 2083.1573 | F23: a | G23: 17407.515
A26: （注）
A27: １．州立大学の場合、州内学生と州外学生とでは納付額が異なり、州外学生は上掲額より高くなる。
A28: 2．「4年制大学」は、「諸外国の教育統計」平成25年版、平成26年版及び平成27年版の「総合・4年制大学平均」に相当する。
A29: ３．円換算率：
B30: 国 （会計年度） | C30: 通貨単位 | D30: 単位当たり円価格
D31: 2019年 | E31: 2020年 | F31: 2021年 | G31: 2022年
B32: アメリカ （10～9月） | C32: ド ル | D32: 110.75 | E32: 107.92 | F32: 106.75 | G32: 119.67
B33: 日本銀行が毎月公表する基準外国為替相場の前年10月から当該年9月までの平均値。
A35: （資料） | B35: 日本銀行国際局「基準外国為相場及び裁定外国為替相場」の数値により算出（日本銀行ホームページよりデータを入手：https://www.boj.or.jp/about/services/tame/tame_rate/kijun/）
A37: （資料）
A38: 米－①
A40: （参考）個別大学の例 | I40: （2022年）
C41: 計 | D41: （千円） | E41: 入学料 | F41: 授業料 | G41: その他 | H41: 備考
B43: 州立大学（単位：ドル）
B45: ユタ大学 | C45: 9315 | D45: =(C45*$G$32)/1000 -> 1114.726 | E45: a | F45: =C45 -> 9315 | H45: 初年度学生の納付金額。
B47: ニューヨーク州立大学（オルバニー校） | C47: 10408 | D47: =(C47*$G$32)/1000 -> 1245.5254 | E47: a | F47: =C47 -> 10408 | H47: 入学料はない。
B49: テキサス大学 （ダラス校） | C49: 14564 | D49: =(C49*$G$32)/1000 -> 1742.8739 | E49: a | F49: =C49 -> 14564
A51: （平成24） | B51: 私立大学（単位：ドル）
B53: シカゴ大学 | C53: 64260 | D53: =(C53*$G$32)/1000 -> 7689.9942 | E53: a | F53: =C53 -> 64260
B55: ハーバード大学 | C55: 57261 | D55: =(C55*$G$32)/1000 -> 6852.4239 | E55: a | F55: =C55 -> 57261
...

Sheet 6．政府機関等奨学金制度
A1: 6．政府機関等奨学金制度
B2: 種類・対象 | C2: 事業主体 | D2: 事業対象 | F2: 年間経費 | G2: 1人当たりの 年間平均受給額 | I2: 受給者の割合 | J2: 給付・貸与 の別 | K2: 備 考
F3: （単位：百万ドル） | G3: （単位：ドル） | H3: （単位：万円） | I3: （単位：千人）
B5: 2022年
B7: 高等教育機関在学者 | C7: 連邦 | D7: ペル給付奨学金（学部） | F7: 27214.59 | G7: 4510.9742 | H7: =(G7*'5．大学の学生納付金'!$G$32)/10000 -> 53.982828 | I7: 6032.974 | J7: 給付
C9: 連邦及び大学 | D9: 補助的教育機会給付奨学金（学部） | F9: 906.374 | G9: 527.35346 | H9: =(G9*'5．大学の学生納付金'!$G$32)/10000 -> 6.3108389 | I9: 1718.722 | J9: 給付
C11: 連邦及び大学 | D11: 連邦ワークスタディ(学部，大学院） | F11: 1214.174 | G11: 2668.4263 | H11: =(G11*'5．大学の学生納付金'!$G$32)/10000 -> 31.933058 | I11: 455.015 | J11: 給付 | K11: 各学生の経済的な必要度に応じて定められた支給額を上限にパートタイム労働の賃金として支給。
C12: 連邦及び 民間金融機関 | D12: スタフォード貸与奨学金 | E12: 学部 | F12: 15430.896 | G12: 3790.4109 | H12: =(G12*'5．大学の学生納付金'!$G$32)/10000 -> 45.359848 | I12: 4071.035 | K12: * 政府による利子補給があるもの
J13: 貸与
E14: 学部 | F14: 17721.979 | G14: 4175.0977 | H14: =(G14*'5．大学の学生納付金'!$G$32)/10000 -> 49.963394 | I14: 4244.686
E15: 大学院 | F15: 26059.382 | G15: 19334.467 | H15: =(G15*'5．大学の学生納付金'!$G$32)/10000 -> 231.37557 | I15: 1347.82 | K15: ** 政府による利子補給がないもの
C17: 連邦及び 民間金融機関 | D17: 親ローン | E17: 学部 | F17: 11257.858 | G17: 19894.426 | H17: =(G17*'5．大学の学生納付金'!$G$32)/10000 -> 238.0766 | I17: 565.88 | J17: 貸与
E18: 大学院 | F18: 13274.289 | G18: 29818.94 | H18: =(G18*'5．大学の学生納付金'!$G$32)/10000 -> 356.84325 | I18: 445.163
C20: 連邦 | D20: 9/11後退役軍人教育給付金 | F20: 8642.295 | G20: 15305.172 | H20: =(G20*'5．大学の学生納付金'!$G$32)/10000 -> 183.15699 | I20: 564.665 | J20: 給付
A23: （注）
A24: １．「年間経費」「1人当たりの年間平均受給額（単位：ドル）」及び「受給者の割合」は典拠した資料における公表数値。
A25: ２．円換算率は「5．大学の学生納付金」のシートを参照。
A28: （資料）
B29: College Boardサイトよりダウンロードした統計表（Trends in Student Aid 2025, List of Figures and Tables)のTable SA-5, SA-6に基づく。
A31: （参考）民間等を含めた年間経費に基づく事業主体別構成
B32: （学部） | M32: （2022年）
D34: 連邦政府 による 奨学事業 | I34: 連邦政府 以外による 給付型 奨学事業 | M34: 連邦政府 以外による 貸付事業
C35: 奨学金事業 合 計 | E35: 連邦 給付 奨学金 | F35: 連邦 貸与 奨学金 | G35: 連邦 ワークスタディ | H35: 連邦 教育減税 措置 | J35: 州による 給付 奨学金 | K35: 大学による 給付 奨学金 | L35: 財団・企業 等による 給付奨学金
B37: 計（単位：百万ドル）
C38: 207106.46 | D38: 99301.994 | E38: 39159.037 | F38: 47602.666 | G38: 1156.1414 | H38: 11384.149 | I38: 94614.575 | J38: 15082.893 | K38: 66421.966 | L38: 13109.717 | M38: 13189.891
B39: （単位：十億円）
C40: 24784.43 | D40: 11883.47 | E40: 4686.162 | F40: 5696.6111 | G40: 138.35545 | H40: 1362.3411 | I40: 11322.526 | J40: 1804.9698 | K40: 7948.7166 | L40: 1568.8398 | M40: 1578.4342
B41: 構成比（単位：%）
C42: 100 | D42: 47.947319 | E42: 18.907685 | F42: 22.984636 | G42: 0.55823534 | H42: 5.4967621 | I42: 45.684029 | J42: 7.2826761 | K42: 32.071412 | L42: 6.329941 | M42: 6.3686525
B46: （大学院）
D48: 連邦政府 による 奨学事業 | I48: 連邦政府 以外による 給付型 奨学事業 | M48: 連邦政府 以外による 貸付事業
C49: 奨学金事業 合 計 | E49: 連邦 給付 奨学金 | F49: 連邦 貸与 奨学金 | G49: 連邦 ワークスタディ | H49: 連邦 教育減税 措置 | J49: 州による 給付 奨学金 | K49: 大学による 給付 奨学金 | L49: 財団・企業 等による 給付奨学金
B51: 計（単位：百万ドル）
C52: 70509.863 | D52: 45733.983 | E52: 2302.0787 | F52: 42160.7 | G52: 145.29891 | H52: 1125.9049 | I52: 23173.923 | J52: 318.42668 | K52: 17436.816 | L52: 5418.6804 | M52: 1601.9571
C54: 8437.9153 | D54: 5472.9857 | E54: 275.48976 | F54: 5045.371 | G54: 17.38792 | H54: 134.73704 | I54: 2773.2234 | J54: 38.106121 | K54: 2086.6638 | L54: 648.45349 | M54: 191.70621
B55: 構成比（単位：%）
C56: 100 | D56: 64.861823 | E56: 3.2649031 | F56: 59.794046 | G56: 0.20606891 | H56: 1.5968048 | I56: 32.866215 | J56: 0.45160587 | K56: 24.729613 | L56: 7.6849964 | M56: 2.2719617
A59: （注）
A60: １．「連邦政府以外による給付型奨学事業」を除く年間経費（百万ドル単位）は典拠資料における公表数値。
A61: ２．円換算率は「5．大学の学生納付金」のシートを参照。
...

Sheet 7．大学の収入の構成
A1: 7．大学の収入の構成（更新不可）
B2: （1） 州立大学 | M2: （2021 年）
C3: 合計 | D3: 学生納付金 | E3: 公財政支出 | I3: 事業収入 | J3: 附属病院 収入 | K3: 基本財産 運用収入 | L3: 寄付金 | M3: その他
F4: 連邦 | G4: 州 | H4: 地方
B6: 実数（単位：千ドル） | C6: 4.7451498e+08 | D6: 83362330 | E6: 2.1981993e+08 | F6: 85607934 | G6: 1.0066382e+08 | H6: 33548182 | I6: 60718717 | J6: 72809088 | K6: -12158207 | L6: 12154765 | M6: 37808355
B8: 構成比（単位：％） | C8: 100 | D8: 17.567903 | E8: 46.325183 | F8: 18.041145 | G8: 21.214044 | H8: 7.0699942 | I8: 12.795954 | J8: 15.343897 | K8: -2.5622388 | L8: 2.5615135 | M8: 7.9677896
B11: （2） 私立大学 | M11: （2021年）
C12: 合計 | D12: 学生納付金 | E12: 公財政支出 | I12: 事業収入等 | J12: 附属病院 収入 | K12: 基本財産 運用収入 | L12: 寄付金 | M12: その他
F13: 連邦 | G13: 州及び地方
B15: 実数（単位：千ドル） | C15: 2.2018067e+08 | D15: 81469140 | E15: 40667559 | F15: 38120140 | G15: 2547419 | I15: 29047265 | J15: 39433334 | K15: -26395436 | L15: 37510287 | M15: 18448526
B17: 構成比（単位：％） | C17: 100 | D17: 37.00104 | E17: 18.470085 | F17: 17.313118 | G17: 1.1569676 | I17: 13.192468 | J17: 17.909535 | K17: -11.98808 | L17: 17.03614 | M17: 8.3788124
A20: （注）
A21: １．「合計」の実数は連邦政府の公表数値。
A22: （資料）
A23: 米－①

Sheet 8．高等教育教職員の構成
A1: 8．高等教育教職員の構成
B2: 教員 | H2: （2022年）
C3: 合計 | D3: 教授 | E3: 准教授 | F3: 助教 | G3: 講師 | H3: その他
B5: 実数（単位：人） | C5: 841936 | D5: 189472 | E5: 162183 | F5: 178188 | G5: 141218 | H5: 170875
B7: 構成比（単位：％） | C7: =(C5/$C$5)*100 -> 100 | D7: =(D5/$C$5)*100 -> 22.504323 | E7: =(E5/$C$5)*100 -> 19.263103 | F7: =(F5/$C$5)*100 -> 21.164079 | G7: =(G5/$C$5)*100 -> 16.773009 | H7: =(H5/$C$5)*100 -> 20.295486
A9: （注）
A10: １．全ての高等教育機関（州立及び私立）についての数値である。「その他」は「教授」や「准教授」などの大学教員の職位を定めていない高等教育機関の教員。
A11: （資料）
A12: 米－①

Sheet 9．国・地域別留学者数（上位 10 か国）
A1: 9．国・地域別留学者数（上位 10 か国）
B2: 国・地域別留学者数 | M2: （2022年）
C3: 総数 | D3: 中国 | E3: インド | F3: 韓国 | G3: カナダ | H3: ベトナム | I3: 台湾 | J3: ナイジェリア | K3: 日本 | L3: ブラジル | M3: サウジアラビア
B4: 留学生数 | C4: 1057188 | D4: 289526 | E4: 268923 | F4: 43847 | G4: 27876 | H4: 21900 | I4: 21834 | J4: 17640 | K4: 16054 | L4: 16025 | M4: 15989
B5: （%) | C5: =C4/$C$4 -> 1 | D5: =D4/$C$4 -> 0.27386425 | E5: =E4/$C$4 -> 0.25437576 | F5: =F4/$C$4 -> 0.041475121 | G5: =G4/$C$4 -> 0.026368063 | H5: =H4/$C$4 -> 0.020715332 | I5: =I4/$C$4 -> 0.020652902 | J5: =J4/$C$4 -> 0.016685774 | ... M5: =M4/$C$4 -> 0.015124084
B6: 学士課程 | C6: 347602 | D6: 100349 | E6: 31954 | F6: 19306 | G6: 13051 | H6: 14295 | I6: 5859 | J6: 4804 | K6: 7191 | L6: 7860 | M6: 7507
B7: （%) | C7: =C6/$C$6 -> 1 | D7: =D6/$C$6 -> 0.28868936 | E7: =E6/$C$6 -> 0.091926974 | F7: =F6/$C$6 -> 0.055540532 | G7: =G6/$C$6 -> 0.037545814 | H7: =H6/$C$6 -> 0.04112462 | I7: =I6/$C$6 -> 0.016855484 | J7: =J6/$C$6 -> 0.013820404 | ... M7: =M6/$C$6 -> 0.021596539
B8: 大学院 | C8: 467027 | D8: 126028 | E8: 165936 | F8: 15305 | G8: 10669 | H8: 3768 | I8: 9985 | J8: 9555 | K8: 3516 | L8: 4908 | M8: 6146
B9: （%) | C9: =C8/$C$8 -> 1 | D9: =D8/$C$8 -> 0.26985164 | E9: =E8/$C$8 -> 0.3553028 | F9: =F8/$C$8 -> 0.032771125 | G9: =G8/$C$8 -> 0.022844504 | H9: =H8/$C$8 -> 0.008068056 | I9: =I8/$C$8 -> 0.02137992 | J9: =J8/$C$8 -> 0.020459203 | ... M9: =M8/$C$8 -> 0.013159839
B10: 非学位取得課程 | C10: 43766 | D10: 8016 | E10: 1971 | F10: 2590 | G10: 460 | H10: 561 | I10: 851 | J10: 456 | K10: 3926 | L10: 693 | M10: 833
B11: （%) | C11: =C10/$C$10 -> 1 | D11: =D10/$C$10 -> 0.18315587 | E11: =E10/$C$10 -> 0.045034959 | F11: =F10/$C$10 -> 0.059178358 | G11: =G10/$C$10 -> 0.010510442 | H11: =H10/$C$10 -> 0.012818169 | I11: =I10/$C$10 -> 0.019444318 | J11: =J10/$C$10 -> 0.010419047 | ... M11: =M10/$C$10 -> 0.019033039
B12: OPT | C12: 198793 | D12: 55133 | E12: 69062 | F12: 6646 | G12: 3696 | H12: 3276 | I12: 5139 | J12: 2825 | K12: 1421 | L12: 2564 | M12: 1503
B13: （%) | C13: =C12/$C$12 -> 1 | D13: =D12/$C$12 -> 0.27733874 | E13: =E12/$C$12 -> 0.3474066 | F13: =F12/$C$12 -> 0.033431761 | G13: =G12/$C$12 -> 0.018592204 | H13: =H12/$C$12 -> 0.016479454 | I13: =I12/$C$12 -> 0.025851011 | J13: =J12/$C$12 -> 0.014210762 | ... M13: =M12/$C$12 -> 0.0075606284
A14: （注） | B14: 「非学位取得課程」とは1～2年で帰国する交換留学や短期留学、数か月から1年程度の資格取得プログラム、大学付属の語学プログラムなどの4年制及び2年制大学で提供されるものの学位取得に結びつかないプログラム。OPT（Optional Practical Training）は大学の課程修了後に与えられる1年間の猶予期間で、この期間を利用して学生ビザのまま、専攻科目に関連した職業に就くことができる。留学生統計においては「非学位取得課程」在籍者及びOPTの立場にある者はいずれも留学生（international student）としてカウントされる。
A15: （出典） | B15: IIE, Leading Places of Origin of International Students, 2000/01 - 2024/25（https://opendoorsdata.org/data/international-students/leading-places-of-origin/）（2026年6月9日参照）
B16: IIE, INTERNATIONAL STUDENTS BY PLACE OF ORIGIN AND ACADEMIC LEVEL, 2000/01 - 2024/25（https://opendoorsdata.org/data/international-students/academic-level-and-places-of-origin/）（2026年6月9日参照）
