Workbook
Name 開始時期: [1]プルダウンリスト!$C$22:$C$38
Name 外国人研究者: [1]プルダウンリスト!$C$72
Name 機関: [1]プルダウンリスト!$C$53:$C$57
Name 国: [1]国・地域コードリスト!$L$2:$M$210
Name 財源: '[1]プルダウン（財源リスト）'!$C$4:$C$21
Name 常勤・非常勤: [1]プルダウンリスト!$C$11:$C$12
Name 職位: [1]プルダウンリスト!$C$61:$C$68
Name 性別: [1]プルダウンリスト!$C$5:$C$7
Name 地域: [1]国・地域コードリスト!$N$2:$O$210
Name 任期: [1]プルダウンリスト!$C$16:$C$17
Name 分野・分科: [2]分野・分科コードリスト!$G$3:$I$49
Name 分野・分科: [1]分野・分科コードリスト!$G$3:$I$49
Name 目的: [1]プルダウンリスト!$C$42:$C$48

Sheet 回答上の注意事項
B1: 【回答上の注意事項】研究者の交流に関する調査（２０２５年度（令和７年度）対象）
B2: ・調査票の回答締め切り：２０２６年〇月〇日（〇）
B4: ■本ファイルの対象団体
B5: ・本ファイルは、以下の団体を対象とした調査票です。
B6: 日本学術会議協力学術研究団体に指定される団体
B7: ※正しい調査票の入手方法が分からない場合、本シート下部に記載されている「お問い合わせ先」へご連絡ください。
B8: ■調査票の種類
C9: 内容
B10: 調査票（１シート） | C10: 主催した国際的な研究集会の数と参加者の概数
B12: ■回答に当たって | C12: ■回答に当たって
B13: ・各回答シートの中で、黄色、水色、白色のセルが回答欄です。灰色のセルは自動で記入されますので記入不要です。
B14: ・灰色箇所について、コピー＆ペーストは不可です。灰色箇所以外に関しては、コピー＆ペーストが可能です。
B15: ・特記事項がありましたら各シート右端の備考欄（自由記述）に記入してください。
B16: ・シートの追加・削除、シート名の変更などの編集はしないでください。
B18: ■お問い合わせ先
B19: ・問い合わせ時間：（平日午前１０時～午後５時（土・日・祝日除く））
B21: ★調査の実施・回答方法などに関するお問合せ先 | D21: 調査会社 連絡先（調査会社が決まり次第、お伝えいたします。）
B25: ★調査の目的・活用方法などに関するお問合せ先 | D25: 文部科学省 科学技術・学術政策局
D26: 国際研究開発政策課 担当：水戸、安澤、牧野、菅井
D27: 電話：03-6734-4053
D28: 専用メールアドレス: invstgt@mext.go.jp

Sheet 研究集会
B1: 【調査票：主催した国際的な研究集会（学会・シンポジウム）の数と参加者の概数】
B3: ■記入事項について
B4: ・主催した研究集会（学会・シンポジウム）毎に１行（１レコード）で記入してください。
B5: ・「主催」について、文字通り貴団体にて主催したもののみ回答してください。
B6: また、同一の集会を複数の団体・機関にて主催した場合、あるいは主催団体・機関が不明瞭の場合は、最も研究集会の運営に関与した団体・機関）を主催団体・機関とします。
B7: それでもなお、主催団体・機関の判断が困難な場合は、各団体・機関にてご相談の上、代表１団体・機関から回答ください。
B8: ・「国際的な研究集会（学会・シンポジウム）」について、「研究成果等に関して研究者が発表、議論、質疑応答などをする集まり（形式不問）のうち、外国機関からの参加者がいる集会」とします。
B9: また、集会の主な使用言語、参加者の国籍、参加人数の規模及び開催頻度は不問とします。
B10: ただし、回答対象は各団体・機関が公式に実施した集会に限り、研究者個人や研究室が非公式に開催した集会は含まないこととします。
B11: ・「参加者の概数」について、参加方法不問の「全体数」についてご記入ください。
B12: なお、同一の集会において複数のイベントが並行して開催された場合は、各イベントについてではなく、集会全体への参加者の概数を回答ください。
B13: ・「開催月」は、研究集会（学会・シンポジウム）の開催月を選択肢（「2025年4月」～「2026年3月」）から選んでください。
... B23: 合計
B24: =COUNTA(B29:B1990) -> 0
B25: 番号 （1, 2, 3, 4, 5, ・・・） | C25: 研究集会（学会・シンポジウム）名 | D25: 分野 | G25: 開催月 | H25: 参加者の概数（人）
D26: 分類 コード | E26: 自動 ※分野 | F26: 自動 ※分科 | H26: 全体数（人）
H27: 国内機関所属 | I27: 海外機関所属 | J27: 所属機関不明
B28: (例) | C28: 第○回○○学会 | D28: SA | E28: =VLOOKUP(D28,分野・分科コードリスト!$G$4:$I$49,2,FALSE) -> 理学 | F28: =VLOOKUP(D28,分野・分科コードリスト!$G$4:$I$49,3,FALSE) -> 物理 | G28: 2025年4月 | H28: 60 | I28: 40 | J28: 20
E29: =VLOOKUP(D29,分野・分科コードリスト!$G$4:$I$49,2,FALSE) -> #N/A | F29: =VLOOKUP(D29,分野・分科コードリスト!$G$4:$I$49,3,FALSE) -> #N/A
E30: =VLOOKUP(D30,分野・分科コードリスト!$G$4:$I$49,2,FALSE) -> #N/A | F30: =VLOOKUP(D30,分野・分科コードリスト!$G$4:$I$49,3,FALSE) -> #N/A
E31: =VLOOKUP(D31,分野・分科コードリスト!$G$4:$I$49,2,FALSE) -> #N/A | F31: =VLOOKUP(D31,分野・分科コードリスト!$G$4:$I$49,3,FALSE) -> #N/A
E32: =VLOOKUP(D32,分野・分科コードリスト!$G$4:$I$49,2,FALSE) -> #N/A | F32: =VLOOKUP(D32,分野・分科コードリスト!$G$4:$I$49,3,FALSE) -> #N/A
E33: =VLOOKUP(D33,分野・分科コードリスト!$G$4:$I$49,2,FALSE) -> #N/A | F33: =VLOOKUP(D33,分野・分科コードリスト!$G$4:$I$49,3,FALSE) -> #N/A
E34: =VLOOKUP(D34,分野・分科コードリスト!$G$4:$I$49,2,FALSE) -> #N/A | F34: =VLOOKUP(D34,分野・分科コードリスト!$G$4:$I$49,3,FALSE) -> #N/A
E35: =VLOOKUP(D35,分野・分科コードリスト!$G$4:$I$49,2,FALSE) -> #N/A | F35: =VLOOKUP(D35,分野・分科コードリスト!$G$4:$I$49,3,FALSE) -> #N/A
E36: =VLOOKUP(D36,分野・分科コードリスト!$G$4:$I$49,2,FALSE) -> #N/A | F36: =VLOOKUP(D36,分野・分科コードリスト!$G$4:$I$49,3,FALSE) -> #N/A
E37: =VLOOKUP(D37,分野・分科コードリスト!$G$4:$I$49,2,FALSE) -> #N/A | F37: =VLOOKUP(D37,分野・分科コードリスト!$G$4:$I$49,3,FALSE) -> #N/A
E38: =VLOOKUP(D38,分野・分科コードリスト!$G$4:$I$49,2,FALSE) -> #N/A | F38: =VLOOKUP(D38,分野・分科コードリスト!$G$4:$I$49,3,FALSE) -> #N/A
E39: =VLOOKUP(D39,分野・分科コードリスト!$G$4:$I$49,2,FALSE) -> #N/A | F39: =VLOOKUP(D39,分野・分科コードリスト!$G$4:$I$49,3,FALSE) -> #N/A
E40: =VLOOKUP(D40,分野・分科コードリスト!$G$4:$I$49,2,FALSE) -> #N/A | F40: =VLOOKUP(D40,分野・分科コードリスト!$G$4:$I$49,3,FALSE) -> #N/A
... E195: =VLOOKUP(D195,分野・分科コードリスト!$G$4:$I$49,2,FALSE) -> #N/A | F195: =VLOOKUP(D195,分野・分科コードリスト!$G$4:$I$49,3,FALSE) -> #N/A

Sheet プルダウンリスト
B1: 【プルダウンリスト】
B4: 【開始時期】
C5: 開始時期
C6: ～2020年度
C7: 2021年度
C8: 2022年度
C9: 2023年度
C10: 2024年度
C11: 2025年4月
C12: 2025年5月
C13: 2025年6月
C14: 2025年7月
C15: 2025年8月
C16: 2025年9月
... C22: 2026年3月

Sheet 分野・分科コードリスト
B1: 【分野・分科コードリスト】 | G1: 【分野・分科コードリスト】
C3: 分野名 | D3: コード | E3: 分科名 | G3: コード | H3: 分野 | I3: 分科名
C4: 理学 | D4: SA | E4: 物理 | G4: SA | H4: 理学 | I4: 物理
D5: SB | E5: 数学 | G5: SB | H5: 理学 | I5: 数学
D6: SC | E6: 化学 | G6: SC | H6: 理学 | I6: 化学
D7: SD | E7: 生物 | G7: SD | H7: 理学 | I7: 生物
D8: SE | E8: 情報科学 | G8: SE | H8: 理学 | I8: 情報科学
D9: SF | E9: 地学 | G9: SF | H9: 理学 | I9: 地学
D10: SG | E10: その他・分類不能含む | G10: SG | H10: 理学 | I10: その他・分類不能含む
C11: 工学 | D11: EA | E11: 機械・船舶 | G11: EA | H11: 工学 | I11: 機械・船舶
D12: EB | E12: 土木・建築 | G12: EB | H12: 工学 | I12: 土木・建築
D13: EC | E13: 電気・通信 | G13: EC | H13: 工学 | I13: 電気・通信
D14: ED | E14: 材料 | G14: ED | H14: 工学 | I14: 材料
D15: EE | E15: 応用化学 | G15: EE | H15: 工学 | I15: 応用化学
D16: EF | E16: 原子力 | G16: EF | H16: 工学 | I16: 原子力
D17: EG | E17: 応用理学 | G17: EG | H17: 工学 | I17: 応用理学
D18: EH | E18: 航空 | G18: EH | H18: 工学 | I18: 航空
D19: EJ | E19: 経営工学 | G19: EJ | H19: 工学 | I19: 経営工学
D20: EK | E20: 繊維 | G20: EK | H20: 工学 | I20: 繊維
D21: EL | E21: その他・分類不能含む | G21: EL | H21: 工学 | I21: その他・分類不能含む
C22: 農学 | D22: AA | E22: 農学 | G22: AA | H22: 農学 | I22: 農学
D23: AB | E23: 獣医・畜産 | G23: AB | H23: 農学 | I23: 獣医・畜産
D24: AC | E24: 水産 | G24: AC | H24: 農学 | I24: 水産
D25: AD | E25: 農業経済 | G25: AD | H25: 農学 | I25: 農業経済
D26: AE | E26: 林学 | G26: AE | H26: 農学 | I26: 林学
D27: AF | E27: 農業工学 | G27: AF | H27: 農学 | I27: 農業工学
D28: AG | E28: 農芸化学 | G28: AG | H28: 農学 | I28: 農芸化学
D29: AH | E29: 林産学 | G29: AH | H29: 農学 | I29: 林産学
D30: AJ | E30: その他・分類不能含む | G30: AJ | H30: 農学 | I30: その他・分類不能含む
C31: 保健 | D31: HA | E31: 医学 | G31: HA | H31: 保健 | I31: 医学
D32: HB | E32: 歯学 | G32: HB | H32: 保健 | I32: 歯学
D33: HC | E33: 薬学 | G33: HC | H33: 保健 | I33: 薬学
D34: HD | E34: 看護 | G34: HD | H34: 保健 | I34: 看護
D35: HE | E35: その他・分類不能含む | G35: HE | H35: 保健 | I35: その他・分類不能含む
C36: 人文・社会等 | D36: CA | E36: 社会（商学・経済） | G36: CA | H36: 人文・社会等 | I36: 社会（商学・経済）
D37: CB | E37: 社会（法学・政治） | G37: CB | H37: 人文・社会等 | I37: 社会（法学・政治）
D38: CC | E38: 社会（社会学） | G38: CC | H38: 人文・社会等 | I38: 社会（社会学）
D39: CD | E39: 社会（その他・分類不能含む） | G39: CD | H39: 人文・社会等 | I39: 社会（その他・分類不能含む）
D40: CE | E40: 人文（文学） | G40: CE | H40: 人文・社会等 | I40: 人文（文学）
D41: CF | E41: 人文（史学） | G41: CF | H41: 人文・社会等 | I41: 人文（史学）
...
