Workbook
Name 開始時期: [1]プルダウンリスト!$C$22:$C$38
Name 外国人研究者: [1]プルダウンリスト!$C$72
Name 機関: [1]プルダウンリスト!$C$53:$C$57
Name 協定の内容: [2]プルダウンリスト!$C$98
Name 国: [1]国・地域コードリスト!$L$2:$M$210
Name 財源: '[1]プルダウン（財源リスト）'!$C$4:$C$21
Name 常勤・非常勤: [1]プルダウンリスト!$C$11:$C$12
Name 職位: [1]プルダウンリスト!$C$61:$C$68
Name 性別: [1]プルダウンリスト!$C$5:$C$7
Name 地域: [1]国・地域コードリスト!$N$2:$O$210
Name 締結主体: [2]プルダウンリスト!$C$85:$C$94
Name 任期: [1]プルダウンリスト!$C$16:$C$17
Name 分野・分科: [3]分野・分科コードリスト!$G$3:$I$49
Name 分野・分科: [1]分野・分科コードリスト!$G$3:$I$49
Name 目的: [1]プルダウンリスト!$C$42:$C$48

Sheet 回答上の注意事項
B1: 【回答上の注意事項】研究者の交流に関する調査（２０２５年度（令和７年度）対象）
B2: ・調査票の回答締め切り：２０２６年〇月〇日（〇）
B4: ■本ファイルの対象機関
B5: ・本ファイルは、以下の機関を対象とした調査票です。
B6: 全ての国公私立大学、大学共同利用機関法人、国公私立高等専門学校、国立研究開発法人
B7: 指定の独立行政法人、国立試験研究機関
B8: ※正しい調査票の入手方法が分からない場合、本シート下部に記載されている「お問い合わせ先」へご連絡ください。
B9: ■調査票の種類
B10: ・調査票は調査票１～調査票５の計16シートから構成されます。
B11: 調査票種別 | C11: 内容 | E11: 備考
B12: 調査票１（２シート） | C12: 基礎データ | E12: 全ての機関が回答してください。
B13: 調査票２（６シート） | C13: ２０２５年度の短期の派遣・受入研究者数 | E13: 短期派遣・受入れの実績のある機関が回答してください。 派遣・受入れについて、職位・分野別、開始月別、財源別の６シートを含みます。
B14: 調査票３（３シート） | C14: ２０２５年度の中・長期の派遣・受入研究者数 | E14: 中・長期の派遣・受入れの実績のある機関が回答してください。 中・長期派遣、中・長期受入れ（雇用）、中・長期受入れ（雇用以外）の３シートを含みます。
B15: 調査票４（４シート） | C15: 各機関における国際化に係る体制・制度等 | E15: 全ての機関が回答してください。 総論、国際化戦略、機関独自の派遣・受入れ支援制度の５シートを含みます。
B16: 調査票５（１シート） | C16: 主催した国際的な研究集会の数と参加者の概数 | E16: 国際的な研究集会（学会・シンポジウム）を主催した実績のある機関が回答してください。 １つのシートを含みます。
B18: ■回答に当たって
B19: ・各回答シートの中で、黄色、水色、白色のセルが回答欄です。灰色のセルは自動で記入されますので記入不要です。
B20: ・灰色箇所について、コピー＆ペーストは不可です。灰色箇所以外に関しては、コピー＆ペーストが可能です。
B21: ・特記事項がありましたら各シート右端の備考欄（自由記述）に記入してください。
B22: ・シートの追加・削除、シート名の変更などの編集はしないでください。
B24: ■お問い合わせ先
B25: ・問い合わせ時間：（平日午前１０時～午後５時（土・日・祝日除く））
B27: ★調査の実施・回答方法などに関するお問合せ先 | D27: 調査会社 連絡先（調査会社が決まり次第、お伝えいたします。）
B31: ★調査の目的・活用方法などに関するお問合せ先 | D31: 文部科学省 科学技術・学術政策局
D32: 国際研究開発政策課 担当：水戸、安澤、牧野、菅井
D33: 電話：03-6734-4053
D34: 専用メールアドレス: invstgt@mext.go.jp

Sheet 番号
A1: 機関番号 | B1: 機関種別 | C1: 機関名称
A2: F101110100010 | B2: 国立大学法人 | C2: 北海道大学
A3: F101110100029 | B3: 国立大学法人 | C3: 北海道教育大学
A4: F101110100038 | B4: 国立大学法人 | C4: 室蘭工業大学
A5: F101110100047 | B5: 国立大学法人 | C5: 小樽商科大学
A6: F101110100056 | B6: 国立大学法人 | C6: 帯広畜産大学
A7: F101110100065 | B7: 国立大学法人 | C7: 旭川医科大学
A8: F101110100074 | B8: 国立大学法人 | C8: 北見工業大学
A9: F102110100572 | B9: 国立大学法人 | C9: 弘前大学
A10: F103110100731 | B10: 国立大学法人 | C10: 岩手大学
A11: F104110100856 | B11: 国立大学法人 | C11: 東北大学
A12: F104110100865 | B12: 国立大学法人 | C12: 宮城教育大学
... A939: 108-015 | B939: 国立試験研究機関 | C939: 消防庁消防大学校 消防研究センター

Sheet 1-1.基礎データ（研究者数）
B1: 【調査票1-1：基礎データ】
B2: ■記入事項について
B3: ・貴機関に在籍する研究者総数（研究活動を行う教員も含む）を回答してください。
B4: ※在籍について、貴機関と雇用関係（「常勤・非常勤」「任期のあり・なし」ともに該当※一部、雇用関係の無い職位も対象）がある場合を指します。
B5: ・原則として２０２６年３月３１日時点での、機関に在籍している研究者総数をお答えください。
B6: 但し、３月３１日時点よりも回答しやすい時点のデータがあれば、その時点の研究者数をお答えいただいても構いません。
B7: その場合は、下記日付を修正し、回答いただいたデータの時点を記入してください。
B8: →上記の人数は、 年 月 日時点です。
B9: ※なお、本調査は２０２５年度（令和７年度）の調査である点、ご留意ください。
B10: ・「常勤」の対象について、貴機関と雇用関係（かつ貴機関における本務研究者）があり、各学部・研究科・その他の組織(附置研究所等)に所属している
B11: 常勤教員（「教授」「准教授」「講師」「助教・助手」等の肩書を有する者）及び常勤研究員（教員の肩書を有しない者。「ポスドク・特別研究員等」
B12: 「主任研究員（PI）・グループリーダー以上」「一般研究員」「その他・分類不能（研究に関する職位）」）を指します。
... B29: ・灰色枠は自動で記入され、記入不可です。
C31: 内に機関番号を入力してください。
B33: 機関番号 | D33: =IF(C33="","※シート（番号）より、該当する機関名の機関番号を入力してください。","") -> ※シート（番号）より、該当する機関名の機関番号を入力してください。
B34: 機関名 | C34: =IF(C33="","",VLOOKUP(C33,番号!A2:C939,2,FALSE)) | D34: =IF(C33="","",VLOOKUP(C33,番号!A2:C939,3,FALSE))
G35: （単位：人数）
E36: 常勤 | F36: 非常勤 | G36: 合計人数
B37: 研究者数 合計 （外国人研究者数も含む） | E37: =SUM(E38,E39,E42,E45,E48,E51,E54,E57) -> 0 | F37: =SUM(F38,F39,F42,F45,F48,F51,F54,F57) -> 0 | G37: =SUM(E37,F37) -> 0
C38: ポスドク・特別研究員等 | G38: =SUM(E38,F38) -> 0
C39: 助教/助手 | E39: =SUM(E40:E41) -> 0 | F39: =SUM(F40:F41) -> 0 | G39: =SUM(E39,F39) -> 0
D40: 任期なし | G40: =SUM(E40,F40) -> 0
D41: 任期あり | G41: =SUM(E41,F41) -> 0
C42: 講師 | E42: =SUM(E43:E44) -> 0 | F42: =SUM(F43:F44) -> 0 | G42: =SUM(E42,F42) -> 0
D43: 任期なし | G43: =SUM(E43,F43) -> 0
D44: 任期あり | G44: =SUM(E44,F44) -> 0
C45: 准教授 | E45: =SUM(E46:E47) -> 0 | F45: =SUM(F46:F47) -> 0 | G45: =SUM(E45,F45) -> 0
D46: 任期なし | G46: =SUM(E46,F46) -> 0
D47: 任期あり | G47: =SUM(E47,F47) -> 0
C48: 教授 | E48: =SUM(E49:E50) -> 0 | F48: =SUM(F49:F50) -> 0 | G48: =SUM(E48,F48) -> 0
D49: 任期なし | G49: =SUM(E49,F49) -> 0
D50: 任期あり | G50: =SUM(E50,F50) -> 0
C51: 一般研究員 | E51: =SUM(E52:E53) -> 0 | F51: =SUM(F52:F53) -> 0 | G51: =SUM(E51,F51) -> 0
D52: 任期なし | G52: =SUM(E52,F52) -> 0
D53: 任期あり | G53: =SUM(E53,F53) -> 0
C54: 主任研究員（PI）、グループリーダー以上 | E54: =SUM(E55:E56) -> 0 | F54: =SUM(F55:F56) -> 0 | G54: =SUM(E54,F54) -> 0
D55: 任期なし | G55: =SUM(E55,F55) -> 0
D56: 任期あり | G56: =SUM(E56,F56) -> 0
C57: その他・分類不能（研究に関する職位） | E57: =SUM(E58:E59) -> 0 | F57: =SUM(F58:F59) -> 0 | G57: =SUM(E57,F57) -> 0
D58: 任期なし | G58: =SUM(E58,F58) -> 0
...

Sheet 1-2.基礎データ（協定）
B1: 【調査票1-2：各機関における国際化に係る体制・制度等（協定）】
B2: ■記入事項について
B3: ・海外の大学・研究機関との研究に関する協定の締結状況についてお答えください。
B4: ・ここで言う「研究に関する協定」とは、海外の大学及び研究機関と各々の当事者が履行すべき義務や約束について取り交わした合意文書（覚書含む）のうち、研究者の派遣、研修、その他の交流、及び共同研究の実施に係るものを指します。
B5: ・２０２６年３月３１日時点で締結している（有効である)協定について、回答してください。
B6: ・協定締結先が、海外にある大学、研究機関、政府関係機関のものを対象とします。民間（ＮＧＯ、財団を含む）と締結している協定は、調査対象外です。
B7: ・基本的に協定書１つにつき、１件としてください。同じ協定書の雛形を用いて、複数機関と協定書を交わしている場合は、それぞれ１件として回答してください。
B8: また、１つの協定書において、複数機関と合同で協定を交わしている場合も、それぞれの機関ごとに１件ずつ計上してください。（コンソーシアムを除く）
B9: ・研究に関する内容（研究者の派遣、研修、その他の交流、及び共同研究の実施に係るもの）が、協定の主たる内容でない場合においても、一部に含まれている場合は、対象に含めますので回答ください。
B10: ・回答する協定は、大学においては、大学間及び研究科（＝学部）間レベルのもの、高等専門学校においては、学校間レベル、学科間レベルのもの、大学共同利用機関法人においては、法人間レベル、及び研究所間レベルのもの、
B11: 国立試験研究機関においては、機関間レベル、及び、機関直下（機関の次の組織）の組織間レベルのもの（例：気象庁気象研究所における研究部）、
B12: 国立研究開発法人・独立行政法人においては、法人間レベル、及び、法人直下（法人の次の組織）の組織間レベルのもの（例：理化学研究所におけるセンター）を対象とします。
... B20: ・灰色枠は入力不要です。
B22: 機関名 | C22: ='1-1.基礎データ（研究者数）'!D34
B24: 合計
B25: =COUNTA(B30:B34) -> 0
B26: 番号 （1, 2, 3, 4, 5, ・・・） | C26: 協定締結主体 | D26: 協定名 | F26: 相手方機関名 | H26: 国名・地域名 | L26: 協定の内容 | N26: 締結年 | O26: 備考欄(自由記述）
D27: 日本語表記 | E27: 英語表記 | F27: 日本語表記 | G27: 英語表記 | H27: 分類 コード | I27: 自動 ※国名 | J27: K01 複数国 具体国名 | K27: 自動 ※地域名 | L27: 研究者の派遣、研修、その他の交流 | M27: 共同研究の実施 | N27: （西暦）
B28: （例）1 | C28: 大学・法人・機関レベル | D28: グローバルＩＴコンソーシアム | E28: Global IT Consortium | F28: △△大学、○○大学 | G28: △△University、○○University | H28: K01 | I28: =VLOOKUP(H28,国・地域コードリスト!$L$3:$M$209,2,FALSE) -> #N/A | J28: カナダ、中国 | K28: =VLOOKUP(H28,国・地域コードリスト!$N$3:$O$209,2,FALSE) -> #N/A | L28: ○ | N28: 2012
B29: （例）2 | C29: 研究科・学科・研究所レベル | D29: ○○共同研究 | E29: Joint Research of ○○ | F29: △△大学○○研究科 | G29: △△University Faculty of ○○ | H29: A01 | I29: =VLOOKUP(H29,国・地域コードリスト!$L$3:$M$209,2,FALSE) -> インド | K29: =VLOOKUP(H29,国・地域コードリスト!$N$3:$O$209,2,FALSE) -> アジア | L29: ○ | M29: ○ | N29: 1998
I30: =VLOOKUP(H30,国・地域コードリスト!$L$3:$M$209,2,FALSE) -> #N/A | K30: =VLOOKUP(H30,国・地域コードリスト!$N$3:$O$209,2,FALSE) -> #N/A
I31: =VLOOKUP(H31,国・地域コードリスト!$L$3:$M$209,2,FALSE) -> #N/A | K31: =VLOOKUP(H31,国・地域コードリスト!$N$3:$O$209,2,FALSE) -> #N/A
I32: =VLOOKUP(H32,国・地域コードリスト!$L$3:$M$209,2,FALSE) -> #N/A | K32: =VLOOKUP(H32,国・地域コードリスト!$N$3:$O$209,2,FALSE) -> #N/A
I33: =VLOOKUP(H33,国・地域コードリスト!$L$3:$M$209,2,FALSE) -> #N/A | K33: =VLOOKUP(H33,国・地域コードリスト!$N$3:$O$209,2,FALSE) -> #N/A
I34: =VLOOKUP(H34,国・地域コードリスト!$L$3:$M$209,2,FALSE) -> #N/A | K34: =VLOOKUP(H34,国・地域コードリスト!$N$3:$O$209,2,FALSE) -> #N/A
A36: (参考）国公私立大学回答御担当者様へ 本調査は、文部科学省高等教育局が、全ての国公私立大学（通信制大学、短期大学を除く。放送大学を含む。）を対象に毎年実施している「大学における教育内容等の改革状況調査」を参考に作成しております。「大学における教育内容等の改革状況調査」の８-A「海外の大学との大学間交流協定」で調査をしている９つの協定内容のうち、本調査においては、２つ（ｂの研究者の派遣、研修、その他の交流・fの共同研究の実施）の内容の協定を対象としております。 従って、各国公私立大学においては、高等教育局実施の当該調査の回答を参考にし回答いただきますようお願いいたします。 ただし、高等教育局調査との違いとして、本調査は、海外の大学だけではなく、海外の研究機関や政府機関と締結する協定も対象としていること、研究活動を行わず教育活動のみに従事する教員のみを対象とした派遣、研修、その他の交流に係る協定は対象外とすること、が挙げられます。（研究活動を少しでも行うことが想定される教員についての派遣、研究、その他の交流に係る協定は対象としています。） ※高等教育局調査「大学における教育内容等の改革状況について」調査票（HP下方に添付） http://www.mext.go.jp/a_menu/koutou/daigaku/04052801/005.htm なお、高等教育局実施の上記調査において、回答したものをできる限り有用できるよう、高等教育局調査で利用している国コードから、本調査への国コードへ変換するシートを用意（調査票の一式に添付）しましたので、御利用ください。

Sheet 2-1.短期派遣（職位・分野別）
B1: 【調査票2-1：短期派遣（職位別・分野別）※派遣期間が３０日以内を対象】
B2: ■記入事項について
B3: ・国・地域毎に１行（１レコード）で記入してください。
B4: ・１人の研究者が複数回、海外派遣された場合はその都度計上してください。（派遣者数は延べ人数となります。）
B5: ・「派遣国・地域名」は別シートの「国・地域コードリスト」を参照し、分類の欄に該当する「国名コード」を記入してください。「自動」の欄に「国名」「地域名」が表示されます。
B6: ・「職位」は、「ポスドク・特別研究員等」の他に「助教・助手」「講師」「准教授」「教授」「一般研究員」「主任研究員（PI）・グループリーダー以上」に分類しておりますので、調査票を参照の上、該当する「職位」を選択してください。
B7: ・研究者の「職位」を選択後、該当する「分野（「理学」「工学」「農学」「保健」「人文・社会等」「その他・分類不能」「不明」）を選択し、研究者数を記入してください。
B8: ・「分野」の分類について、「総務省統計局科学技術研究調査」を採用しております（「分野・分科コードリスト」参照）。
B9: ・国別に、調査対象期間内に実施した短期派遣を全て計上いただいた上で、そのうち「派遣目的」が「学会・シンポジウム」の研究者数を一番右側の欄にあります「派遣目的が学会・シンポジウムの人数」に記入してください。
B10: ■記入枠について
B11: ・黄色枠は別シートの「国・地域コードリスト」を参照の上、該当する「国名コード」を選択してください。
B12: ・水色枠は該当する研究者数（数字）を記入（半角）してください。
B13: ・灰色枠は自動で記入されます。
C15: 機関番号 | E15: =IF(D15="","※シート（番号）より、該当する機関名の機関番号を入力してください。","") -> ※シート（番号）より、該当する機関名の機関番号を入力してください。
C16: 機関名 | D16: =IF(D15="","",VLOOKUP(D15,番号!A2:C939,2,FALSE)) | E16: =IF(D15="","",VLOOKUP(D15,番号!A2:C939,3,FALSE))
B18: 派遣国・地域名 | E18: 派遣研究者（短期） 合計 | BR18: 派遣目的が「学会・シンポジウム」の人数（派遣研究者内数） | BS18: 備考欄（自由記述）
F19: ポスドク・特別研究員等 合計 | N19: 助教/助手 合計 | V19: 講師 合計 | AD19: 准教授 合計 | AL19: 教授 合計 | AT19: 一般研究員 合計 | BB19: 主任研究員（PI）、グループリーダー以上 合計 | BJ19: その他・分類不能（研究に関する職位) 合計
G20: 分野（各分野該当者数） | O20: 分野（各分野該当者数） | W20: 分野（各分野該当者数） | AE20: 分野（各分野該当者数） | AM20: 分野（各分野該当者数） | AU20: 分野（各分野該当者数） | BC20: 分野（各分野該当者数） | BK20: 分野（各分野該当者数）
G21: 理学 | H21: 工学 | I21: 農学 | J21: 保健 | K21: 人文・社会等 | L21: その他・分類不能 | M21: 不明 | O21: 理学 | P21: 工学 | Q21: 農学 | R21: 保健 | S21: 人文・社会等 | T21: その他・分類不能 | U21: 不明 | W21: 理学 | X21: 工学 | Y21: 農学 | Z21: 保健 | AA21: 人文・社会等 | AB21: その他・分類不能 | AC21: 不明 | AE21: 理学 | AF21: 工学 | AG21: 農学 | AH21: 保健 | AI21: 人文・社会等 | AJ21: その他・分類不能 | AK21: 不明 | AM21: 理学 | AN21: 工学 | AO21: 農学 | AP21: 保健 | AQ21: 人文・社会等 | AR21: その他・分類不能 | AS21: 不明 | AU21: 理学 | AV21: 工学 | AW21: 農学 | AX21: 保健 | AY21: 人文・社会等 | AZ21: その他・分類不能 | BA21: 不明 | BC21: 理学 | BD21: 工学 | BE21: 農学 | BF21: 保健 | BG21: 人文・社会等 | BH21: その他・分類不能 | BI21: 不明 | BK21: 理学 | BL21: 工学 | BM21: 農学 | BN21: 保健 | BO21: 人文・社会等 | BP21: その他・分類不能 | BQ21: 不明
B22: 国名コード | C22: 自動※国名 | D22: 自動※地域名 | E22: =SUM(E23:E1000) -> 0
C23: =VLOOKUP(B23,国・地域コードリスト!$L$3:$M$209,2,FALSE) -> #N/A | D23: =VLOOKUP(B23,国・地域コードリスト!$N$3:$O$209,2,FALSE) -> #N/A | E23: =SUM(F23,N23,V23,AD23,AL23,BB23,AT23,BJ23) -> 0 | F23: =SUM(G23:M23) -> 0 | N23: =SUM(O23:U23) -> 0 | V23: =SUM(W23:AC23) -> 0 | AD23: =SUM(AE23:AK23) -> 0 | AL23: =SUM(AM23:AS23) -> 0 | AT23: =SUM(AU23:BA23) -> 0 | BB23: =SUM(BC23:BI23) -> 0 | BJ23: =SUM(BK23:BQ23) -> 0
C24: =VLOOKUP(B24,国・地域コードリスト!$L$3:$M$209,2,FALSE) -> #N/A | D24: =VLOOKUP(B24,国・地域コードリスト!$N$3:$O$209,2,FALSE) -> #N/A | E24: =SUM(F24,N24,V24,AD24,AL24,BB24,AT24,BJ24) -> 0 | F24: =SUM(G24:M24) -> 0 | N24: =SUM(O24:U24) -> 0 | V24: =SUM(W24:AC24) -> 0 | AD24: =SUM(AE24:AK24) -> 0 | AL24: =SUM(AM24:AS24) -> 0 | AT24: =SUM(AU24:BA24) -> 0 | BB24: =SUM(BC24:BI24) -> 0 | BJ24: =SUM(BK24:BQ24) -> 0
C25: =VLOOKUP(B25,国・地域コードリスト!$L$3:$M$209,2,FALSE) -> #N/A | D25: =VLOOKUP(B25,国・地域コードリスト!$N$3:$O$209,2,FALSE) -> #N/A | E25: =SUM(F25,N25,V25,AD25,AL25,BB25,AT25,BJ25) -> 0 | F25: =SUM(G25:M25) -> 0 | N25: =SUM(O25:U25) -> 0 | V25: =SUM(W25:AC25) -> 0 | AD25: =SUM(AE25:AK25) -> 0 | AL25: =SUM(AM25:AS25) -> 0 | AT25: =SUM(AU25:BA25) -> 0 | BB25: =SUM(BC25:BI25) -> 0 | BJ25: =SUM(BK25:BQ25) -> 0

Sheet 2-2.短期派遣（財源別）
B1: 【調査票2-3：短期派遣（財源別）※派遣期間が３０日以内の研究者を対象】
B2: ■記入事項について
B3: ・「財源」は４分類（「自機関の運営資金」「外部資金」「自機関の負担なし」「不明」）となります。
B4: ・貴機関「自機関の運営資金」及び貴機関以外「外部資金」「自機関の負担なし」「不明」が負担している経費の財源区分に従い、該当する派遣研究者数を記入してください。
B5: ・複数の財源から支出を受けている場合には、負担割合の最も大きい「財源」を選択してください。
B6: ・派遣研究者に関わる経費を派遣先機関が一部負担している場合、その一部負担分を除外し、貴機関が負担している経費分の「財源」を回答してください。
B7: ・財源の分類については、「財源リスト」のシートをご確認ください。
B8: ■記入枠について
B9: ・水色枠は該当する研究者数（数字）を記入（半角）願います。
B10: ・灰色枠は自動で記入されます。
B12: 機関名 | D12: ='2-1.短期派遣（職位・分野別）'!E16
B14: 派遣研究者（短期） 合計
C15: 自機関の運営資金 | D15: 外部資金 | T15: 自機関の負担なし | X15: 不明
E16: 政府等 | I16: 政府関係機関等 | O16: 地方自治体 | P16: 民間 | Q16: 個人 | R16: 外国政府等及び海外機関等 | S16: その他 | U16: 私費等 | V16: 先方負担 | W16: その他
F17: 文部科学省 | H17: その他の官庁 | J17: 日本学術振興会 | L17: 科学技術振興機構 | M17: 日本医療研究開発機構 | N17: その他
F18: 科研費 | G18: 科研費以外 | J18: 科研費 | K18: 科研費以外
B19: =SUM(C19,D19,T19,X19) -> 0 | D19: =SUM(E19,I19,O19,P19,Q19,R19,S19) -> 0 | E19: =SUM(F19:H19) -> 0 | I19: =SUM(J19:N19) -> 0 | T19: =SUM(U19,V19,W19) -> 0

Sheet 2-3.短期受入（職位別・分野別）
B1: 【調査票2-4：短期受入れ（職位別・分野別）※受入期間が３０日以内を対象】
B2: ■記入事項について
B3: ・【調査票2-1：短期派遣（職位別・分野別）※派遣期間が３０日以内を対象】に準じます。
B4: ・受入れ研究者（短期）合計の内訳として、「海外大学等から招へい・来日した外国人研究者 合計」、「大学等以外の海外機関から招へい・来日した外国人研究者 合計」の２分類です（短期受入れについては雇用は対象外です）。その分類に該当する「職位」で該当する「分野」の研究者数を記入してください。
B5: ・項目の表記が派遣と受入れとで、下記のとおり変更しております。
B6: 派遣先国・地域名→受入前国・地域名、派遣研究者（短期）合計→受入研究者（短期）合計、派遣目的→受入目的
B7: ■記入枠について
B8: ・黄色枠は別シートの「国・地域コードリスト」を参照のうえ、該当する「国名コード」を選択してください。
B9: ・水色枠は該当する研究者数（数字）を記入（半角）してください。
B10: ・灰色枠は自動で記入されます。
B12: 機関名 | D12: ='2-1.短期派遣（職位・分野別）'!E16
B14: 受入前国・地域名 | E14: 受入研究者（短期）合計 | EF14: 受入目的が「学会・シンポジウム」の人数（受入れ研究者内数） | EG14: 備考欄（自由記述）
F15: 海外大学等から招へい・来日した外国人研究者 合計 | BS15: 大学等以外の海外機関から招へい・来日した外国人研究者 合計
G16: ポスドク・特別研究員等 合計 | O16: 助手・助教（Assistant Professor等） 合計 | W16: 講師(Lecturer等） 合計 | AE16: 准教授(Associate Professor等） 合計 | AM16: 教授（Professor等） 合計 | AU16: 一般研究員(Researcher等） 合計 | BC16: 主任研究員（PI)、グループリーダー（Group Leader）以上 合計 | BK16: その他・分類不能（研究に関する職位） 合計 | BT16: ポスドク・特別研究員等 合計 | CB16: 助手・助教（Assistant Professor等） 合計 | CJ16: 講師(Lecturer等） 合計 | CR16: 准教授(Associate Professor等） 合計 | CZ16: 教授（Professor等） 合計 | DH16: 一般研究員(Researcher等） 合計 | DP16: 主任研究員（PI)、グループリーダー（Group Leader）以上 合計 | DX16: その他・分類不能（研究に関する職位） 合計
H17: 分野（各分野該当者数） | P17: 分野（各分野該当者数） | X17: 分野（各分野該当者数） | AF17: 分野（各分野該当者数） | AN17: 分野（各分野該当者数） | AV17: 分野（各分野該当者数） | BD17: 分野（各分野該当者数） | BL17: 分野（各分野該当者数） | BU17: 分野（各分野該当者数） | CC17: 分野（各分野該当者数） | CK17: 分野（各分野該当者数） | CS17: 分野（各分野該当者数） | DA17: 分野（各分野該当者数） | DI17: 分野（各分野該当者数） | DQ17: 分野（各分野該当者数） | DY17: 分野（各分野該当者数）
H18: 理学 | I18: 工学 | J18: 農学 | K18: 保健 | L18: 人文・社会等 | M18: その他・分類不能 | N18: 不明 | P18: 理学 | Q18: 工学 | R18: 農学 | S18: 保健 | T18: 人文・社会等 | U18: その他・分類不能 | V18: 不明 | X18: 理学 | Y18: 工学 | Z18: 農学 | AA18: 保健 | AB18: 人文・社会等 | AC18: その他・分類不能 | AD18: 不明 | AF18: 理学 | AG18: 工学 | AH18: 農学 | AI18: 保健 | AJ18: 人文・社会等 | AK18: その他・分類不能 | AL18: 不明 | AN18: 理学 | AO18: 工学 | AP18: 農学 | AQ18: 保健 | AR18: 人文・社会等 | AS18: その他・分類不能 | AT18: 不明 | AV18: 理学 | AW18: 工学 | AX18: 農学 | AY18: 保健 | AZ18: 人文・社会等 | BA18: その他・分類不能 | BB18: 不明 | BD18: 理学 | BE18: 工学 | BF18: 農学 | BG18: 保健 | BH18: 人文・社会等 | BI18: その他・分類不能 | BJ18: 不明 | BL18: 理学 | BM18: 工学 | BN18: 農学 | BO18: 保健 | BP18: 人文・社会等 | BQ18: その他・分類不能 | BR18: 不明 | BU18: 理学 | BV18: 工学 | BW18: 農学 | BX18: 保健 | BY18: 人文・社会等 | BZ18: その他・分類不能 | CA18: 不明 | CC18: 理学 | CD18: 工学 | CE18: 農学 | CF18: 保健 | CG18: 人文・社会等 | CH18: その他・分類不能 | CI18: 不明 | CK18: 理学 | CL18: 工学 | CM18: 農学 | CN18: 保健 | CO18: 人文・社会等 | CP18: その他・分類不能 | CQ18: 不明 | CS18: 理学 | CT18: 工学 | CU18: 農学 | CV18: 保健 | CW18: 人文・社会等 | CX18: その他・分類不能 | CY18: 不明 | DA18: 理学 | DB18: 工学 | DC18: 農学 | DD18: 保健 | DE18: 人文・社会等 | DF18: その他・分類不能 | DG18: 不明 | DI18: 理学 | DJ18: 工学 | DK18: 農学 | DL18: 保健 | DM18: 人文・社会等 | DN18: その他・分類不能 | DO18: 不明 | DQ18: 理学 | DR18: 工学 | DS18: 農学 | DT18: 保健 | DU18: 人文・社会等 | DV18: その他・分類不能 | DW18: 不明 | DY18: 理学 | DZ18: 工学 | EA18: 農学 | EB18: 保健 | EC18: 人文・社会等 | ED18: その他・分類不能 | EE18: 不明
B19: 国名コード | C19: 自動※国名 | D19: 自動※地域名 | E19: =SUM(E20:E1000) -> 0
C20: =VLOOKUP(B20,国・地域コードリスト!$L$3:$M$209,2,FALSE) -> #N/A | D20: =VLOOKUP(B20,国・地域コードリスト!$N$3:$O$209,2,FALSE) -> #N/A | E20: =SUM(F20,BS20) -> 0 | F20: =SUM(G20,O20,W20,AE20,AM20,AU20,BC20,BK20) -> 0 | G20: =SUM(H20:N20) -> 0 | O20: =SUM(P20:V20) -> 0 | W20: =SUM(X20:AD20) -> 0 | AE20: =SUM(AF20:AL20) -> 0 | AM20: =SUM(AN20:AT20) -> 0 | AU20: =SUM(AV20:BB20) -> 0 | BC20: =SUM(BD20:BJ20) -> 0 | BK20: =SUM(BL20:BR20) -> 0 | BS20: =SUM(BT20,CB20,CJ20,CR20,CZ20,DH20,DP20,DX20) -> 0 | BT20: =SUM(BU20:CA20) -> 0 | CB20: =SUM(CC20:CI20) -> 0 | CJ20: =SUM(CK20:CQ20) -> 0 | CR20: =SUM(CS20:CY20) -> 0 | CZ20: =SUM(DA20:DG20) -> 0 | DH20: =SUM(DI20:DO20) -> 0 | DP20: =SUM(DQ20:DW20) -> 0 | DX20: =SUM(DY20:EE20) -> 0
C21: =VLOOKUP(B21,国・地域コードリスト!$L$3:$M$209,2,FALSE) -> #N/A | D21: =VLOOKUP(B21,国・地域コードリスト!$N$3:$O$209,2,FALSE) -> #N/A | E21: =SUM(F21,BS21) -> 0 | F21: =SUM(G21,O21,W21,AE21,AM21,AU21,BC21,BK21) -> 0 | G21: =SUM(H21:N21) -> 0 | O21: =SUM(P21:V21) -> 0 | W21: =SUM(X21:AD21) -> 0 | AE21: =SUM(AF21:AL21) -> 0 | AM21: =SUM(AN21:AT21) -> 0 | AU21: =SUM(AV21:BB21) -> 0 | BC21: =SUM(BD21:BJ21) -> 0 | BK21: =SUM(BL21:BR21) -> 0 | BS21: =SUM(BT21,CB21,CJ21,CR21,CZ21,DH21,DP21,DX21) -> 0 | BT21: =SUM(BU21:CA21) -> 0 | CB21: =SUM(CC21:CI21) -> 0 | CJ21: =SUM(CK21:CQ21) -> 0 | CR21: =SUM(CS21:CY21) -> 0 | CZ21: =SUM(DA21:DG21) -> 0 | DH21: =SUM(DI21:DO21) -> 0 | DP21: =SUM(DQ21:DW21) -> 0 | DX21: =SUM(DY21:EE21) -> 0
C22: =VLOOKUP(B22,国・地域コードリスト!$L$3:$M$209,2,FALSE) -> #N/A | D22: =VLOOKUP(B22,国・地域コードリスト!$N$3:$O$209,2,FALSE) -> #N/A | E22: =SUM(F22,BS22) -> 0 | F22: =SUM(G22,O22,W22,AE22,AM22,AU22,BC22,BK22) -> 0 | G22: =SUM(H22:N22) -> 0 | O22: =SUM(P22:V22) -> 0 | W22: =SUM(X22:AD22) -> 0 | AE22: =SUM(AF22:AL22) -> 0 | AM22: =SUM(AN22:AT22) -> 0 | AU22: =SUM(AV22:BB22) -> 0 | BC22: =SUM(BD22:BJ22) -> 0 | BK22: =SUM(BL22:BR22) -> 0 | BS22: =SUM(BT22,CB22,CJ22,CR22,CZ22,DH22,DP22,DX22) -> 0 | BT22: =SUM(BU22:CA22) -> 0 | CB22: =SUM(CC22:CI22) -> 0 | CJ22: =SUM(CK22:CQ22) -> 0 | CR22: =SUM(CS22:CY22) -> 0 | CZ22: =SUM(DA22:DG22) -> 0 | DH22: =SUM(DI22:DO22) -> 0 | DP22: =SUM(DQ22:DW22) -> 0 | DX22: =SUM(DY22:EE22) -> 0
C23: =VLOOKUP(B23,国・地域コードリスト!$L$3:$M$209,2,FALSE) -> #N/A | D23: =VLOOKUP(B23,国・地域コードリスト!$N$3:$O$209,2,FALSE) -> #N/A | E23: =SUM(F23,BS23) -> 0 | F23: =SUM(G23,O23,W23,AE23,AM23,AU23,BC23,BK23) -> 0 | G23: =SUM(H23:N23) -> 0 | O23: =SUM(P23:V23) -> 0 | W23: =SUM(X23:AD23) -> 0 | AE23: =SUM(AF23:AL23) -> 0 | AM23: =SUM(AN23:AT23) -> 0 | AU23: =SUM(AV23:BB23) -> 0 | BC23: =SUM(BD23:BJ23) -> 0 | BK23: =SUM(BL23:BR23) -> 0 | BS23: =SUM(BT23,CB23,CJ23,CR23,CZ23,DH23,DP23,DX23) -> 0 | BT23: =SUM(BU23:CA23) -> 0 | CB23: =SUM(CC23:CI23) -> 0 | CJ23: =SUM(CK23:CQ23) -> 0 | CR23: =SUM(CS23:CY23) -> 0 | CZ23: =SUM(DA23:DG23) -> 0 | DH23: =SUM(DI23:DO23) -> 0 | DP23: =SUM(DQ23:DW23) -> 0 | DX23: =SUM(DY23:EE23) -> 0
C24: =VLOOKUP(B24,国・地域コードリスト!$L$3:$M$209,2,FALSE) -> #N/A | D24: =VLOOKUP(B24,国・地域コードリスト!$N$3:$O$209,2,FALSE) -> #N/A | E24: =SUM(F24,BS24) -> 0 | F24: =SUM(G24,O24,W24,AE24,AM24,AU24,BC24,BK24) -> 0 | G24: =SUM(H24:N24) -> 0 | O24: =SUM(P24:V24) -> 0 | W24: =SUM(X24:AD24) -> 0 | AE24: =SUM(AF24:AL24) -> 0 | AM24: =SUM(AN24:AT24) -> 0 | AU24: =SUM(AV24:BB24) -> 0 | BC24: =SUM(BD24:BJ24) -> 0 | BK24: =SUM(BL24:BR24) -> 0 | BS24: =SUM(BT24,CB24,CJ24,CR24,CZ24,DH24,DP24,DX24) -> 0 | BT24: =SUM(BU24:CA24) -> 0 | CB24: =SUM(CC24:CI24) -> 0 | CJ24: =SUM(CK24:CQ24) -> 0 | CR24: =SUM(CS24:CY24) -> 0 | CZ24: =SUM(DA24:DG24) -> 0 | DH24: =SUM(DI24:DO24) -> 0 | DP24: =SUM(DQ24:DW24) -> 0 | DX24: =SUM(DY24:EE24) -> 0
C25: =VLOOKUP(B25,国・地域コードリスト!$L$3:$M$209,2,FALSE) -> #N/A | D25: =VLOOKUP(B25,国・地域コードリスト!$N$3:$O$209,2,FALSE) -> #N/A | E25: =SUM(F25,BS25) -> 0 | F25: =SUM(G25,O25,W25,AE25,AM25,AU25,BC25,BK25) -> 0 | G25: =SUM(H25:N25) -> 0 | O25: =SUM(P25:V25) -> 0 | W25: =SUM(X25:AD25) -> 0 | AE25: =SUM(AF25:AL25) -> 0 | AM25: =SUM(AN25:AT25) -> 0 | AU25: =SUM(AV25:BB25) -> 0 | BC25: =SUM(BD25:BJ25) -> 0 | BK25: =SUM(BL25:BR25) -> 0 | BS25: =SUM(BT25,CB25,CJ25,CR25,CZ25,DH25,DP25,DX25) -> 0 | BT25: =SUM(BU25:CA25) -> 0 | CB25: =SUM(CC25:CI25) -> 0 | CJ25: =SUM(CK25:CQ25) -> 0 | CR25: =SUM(CS25:CY25) -> 0 | CZ25: =SUM(DA25:DG25) -> 0 | DH25: =SUM(DI25:DO25) -> 0 | DP25: =SUM(DQ25:DW25) -> 0 | DX25: =SUM(DY25:EE25) -> 0
C26: =VLOOKUP(B26,国・地域コードリスト!$L$3:$M$209,2,FALSE) -> #N/A | D26: =VLOOKUP(B26,国・地域コードリスト!$N$3:$O$209,2,FALSE) -> #N/A | E26: =SUM(F26,BS26) -> 0 | F26: =SUM(G26,O26,W26,AE26,AM26,AU26,BC26,BK26) -> 0 | G26: =SUM(H26:N26) -> 0 | O26: =SUM(P26:V26) -> 0 | W26: =SUM(X26:AD26) -> 0 | AE26: =SUM(AF26:AL26) -> 0 | AM26: =SUM(AN26:AT26) -> 0 | AU26: =SUM(AV26:BB26) -> 0 | BC26: =SUM(BD26:BJ26) -> 0 | BK26: =SUM(BL26:BR26) -> 0 | BS26: =SUM(BT26,CB26,CJ26,CR26,CZ26,DH26,DP26,DX26) -> 0 | BT26: =SUM(BU26:CA26) -> 0 | CB26: =SUM(CC26:CI26) -> 0 | CJ26: =SUM(CK26:CQ26) -> 0 | CR26: =SUM(CS26:CY26) -> 0 | CZ26: =SUM(DA26:DG26) -> 0 | DH26: =SUM(DI26:DO26) -> 0 | DP26: =SUM(DQ26:DW26) -> 0 | DX26: =SUM(DY26:EE26) -> 0

Sheet 2-4.短期受入（財源別）
B1: 【調査票2-5：短期受入れ（財源別）※受入期間が３０日以内の研究者を対象】
B2: ■記入事項について
B3: ・【調査票2-3：短期派遣（財源別）※派遣期間が３０日以内の研究者を対象】に準じます。
B4: ・項目の表記が派遣と受入れとで、下記のとおり変更しております。
B5: 派遣研究者（短期）合計→受入研究者（短期）合計
B6: ■記入枠について
B7: ・水色枠は該当する研究者の人数（数字）を記入（半角）してください。
B8: ・灰色枠は自動で記入されます。
B10: 機関名 | D10: ='2-1.短期派遣（職位・分野別）'!E16
B12: 受入研究者（短期）合計
C13: 自機関の運営資金 | D13: 外部資金 | T13: 自機関の負担なし | X13: 不明
E14: 政府等 | I14: 政府関係機関等 | O14: 地方自治体 | P14: 民間 | Q14: 個人 | R14: 外国政府等及び海外機関等 | S14: その他 | U14: 私費等 | V14: 先方負担 | W14: その他
F15: 文部科学省 | H15: その他の官庁 | J15: 日本学術振興会 | L15: 科学技術振興機構 | M15: 日本医療研究開発機構 | N15: その他
F16: 科研費 | G16: 科研費以外 | J16: 科研費 | K16: 科研費以外
B17: =SUM(C17,D17,T17,X17) -> 0 | D17: =SUM(E17,I17,O17,P17,Q17,R17,S17) -> 0 | E17: =SUM(F17:H17) -> 0 | I17: =SUM(J17:N17) -> 0 | T17: =SUM(U17:W17) -> 0

Sheet 3-1.中・長期派遣
B1: 【調査票3-1：中・長期派遣※派遣期間が３１日以上の研究者を対象】
B2: ■記入事項について
B3: ・原則として研究者1人ずつの派遣データを記入してください。
B4: ・１回の出張で派遣先の国が複数にわたる場合、滞在した国（全て）が記入の対象となります。各派遣内容を１行（１レコード）ずつ記入してください。
B5: ・１人の研究者が複数回、海外派遣された場合はその都度計上してください。（派遣者数は延べ人数となります。）
B6: ・個人と判別できる情報を記入しないでください。
B7: ・「番号」について、案件ごとに数字を記入してください。番号は「１」から始めてください。
B8: ・中・長期派遣対象に「外国人研究者に該当」する場合、プルダウンで「○」を選択してください。該当しない場合は「空欄のまま（選択不要）」にしてください。
B9: ・「性別」について「男性」「女性」「不明」のいずれかをプルダウンで選択してください。
B10: ・「生年」を「西暦（算用数字）」で記入してください。
B11: ・「分野」の分類について「総務省統計局科学技術研究調査」を採用しております。「分野」に該当する「分野コード（別シートの分野・分科コードリストを参照）」を記入してください。
B12: ・「職位」について「教授」「准教授」「講師」「助教・助手」「ポスドク・特別研究員等」「主任研究員（PI）・グループリーダー以上」「一般研究員」「その他・分類不能（研究に関する職位）」「不明」）のいずれかをプルダウンで選択してください。
... B26: ・灰色枠は自動で記入されます。
C28: 機関番号 | E28: =IF(D28="","※シート（番号）より、該当する機関の機関番号を入力してください。","") -> ※シート（番号）より、該当する機関の機関番号を入力してください。
C29: 機関名 | D29: =IF(D28="","",VLOOKUP(D28,番号!A2:C939,2,FALSE)) | E29: =IF(D28="","",VLOOKUP(D28,番号!A2:C939,3,FALSE))
B31: 合計
B32: =COUNTA(B35:B2000) -> 0
B33: 番号 （1, 2, 3, 4, 5, ・・・） | C33: 外国人研究者 （該当者のみ） | D33: 性別 | E33: 生年 （西暦） | F33: 分野 | I33: 職位（派遣前） | J33: 常勤/ 非常勤 | K33: 任期 （あり/なし） | L33: 財源分類 | M33: 派遣開始 時期 | N33: 派遣期間 （日数） | O33: 派遣国・地域 | R33: 派遣先機関 | S33: 派遣目的 | T33: 備考欄（自由記述）
F34: 分類コード | G34: 自動 ※分野 | H34: 自動 ※分科 | O34: 国名コード | P34: 自動 ※国名 | Q34: 自動 ※地域名
G35: =VLOOKUP(F35,分野・分科コードリスト!$G$4:$I$49,2,FALSE) -> #N/A | H35: =VLOOKUP(F35,分野・分科コードリスト!$G$4:$I$49,3,FALSE) -> #N/A | P35: =VLOOKUP(O35,国・地域コードリスト!$L$3:$M$209,2,FALSE) -> #N/A | Q35: =VLOOKUP(O35,国・地域コードリスト!$N$3:$O$209,2,FALSE) -> #N/A
G36: =VLOOKUP(F36,分野・分科コードリスト!$G$4:$I$49,2,FALSE) -> #N/A | H36: =VLOOKUP(F36,分野・分科コードリスト!$G$4:$I$49,3,FALSE) -> #N/A | P36: =VLOOKUP(O36,国・地域コードリスト!$L$3:$M$209,2,FALSE) -> #N/A | Q36: =VLOOKUP(O36,国・地域コードリスト!$N$3:$O$209,2,FALSE) -> #N/A
G37: =VLOOKUP(F37,分野・分科コードリスト!$G$4:$I$49,2,FALSE) -> #N/A | H37: =VLOOKUP(F37,分野・分科コードリスト!$G$4:$I$49,3,FALSE) -> #N/A | P37: =VLOOKUP(O37,国・地域コードリスト!$L$3:$M$209,2,FALSE) -> #N/A | Q37: =VLOOKUP(O37,国・地域コードリスト!$N$3:$O$209,2,FALSE) -> #N/A
G38: =VLOOKUP(F38,分野・分科コードリスト!$G$4:$I$49,2,FALSE) -> #N/A | H38: =VLOOKUP(F38,分野・分科コードリスト!$G$4:$I$49,3,FALSE) -> #N/A | P38: =VLOOKUP(O38,国・地域コードリスト!$L$3:$M$209,2,FALSE) -> #N/A | Q38: =VLOOKUP(O38,国・地域コードリスト!$N$3:$O$209,2,FALSE) -> #N/A
G39: =VLOOKUP(F39,分野・分科コードリスト!$G$4:$I$49,2,FALSE) -> #N/A | H39: =VLOOKUP(F39,分野・分科コードリスト!$G$4:$I$49,3,FALSE) -> #N/A | P39: =VLOOKUP(O39,国・地域コードリスト!$L$3:$M$209,2,FALSE) -> #N/A | Q39: =VLOOKUP(O39,国・地域コードリスト!$N$3:$O$209,2,FALSE) -> #N/A
G40: =VLOOKUP(F40,分野・分科コードリスト!$G$4:$I$49,2,FALSE) -> #N/A | H40: =VLOOKUP(F40,分野・分科コードリスト!$G$4:$I$49,3,FALSE) -> #N/A | P40: =VLOOKUP(O40,国・地域コードリスト!$L$3:$M$209,2,FALSE) -> #N/A | Q40: =VLOOKUP(O40,国・地域コードリスト!$N$3:$O$209,2,FALSE) -> #N/A
G41: =VLOOKUP(F41,分野・分科コードリスト!$G$4:$I$49,2,FALSE) -> #N/A | H41: =VLOOKUP(F41,分野・分科コードリスト!$G$4:$I$49,3,FALSE) -> #N/A | P41: =VLOOKUP(O41,国・地域コードリスト!$L$3:$M$209,2,FALSE) -> #N/A | Q41: =VLOOKUP(O41,国・地域コードリスト!$N$3:$O$209,2,FALSE) -> #N/A
G42: =VLOOKUP(F42,分野・分科コードリスト!$G$4:$I$49,2,FALSE) -> #N/A | H42: =VLOOKUP(F42,分野・分科コードリスト!$G$4:$I$49,3,FALSE) -> #N/A | P42: =VLOOKUP(O42,国・地域コードリスト!$L$3:$M$209,2,FALSE) -> #N/A | Q42: =VLOOKUP(O42,国・地域コードリスト!$N$3:$O$209,2,FALSE) -> #N/A
G43: =VLOOKUP(F43,分野・分科コードリスト!$G$4:$I$49,2,FALSE) -> #N/A | H43: =VLOOKUP(F43,分野・分科コードリスト!$G$4:$I$49,3,FALSE) -> #N/A | P43: =VLOOKUP(O43,国・地域コードリスト!$L$3:$M$209,2,FALSE) -> #N/A | Q43: =VLOOKUP(O43,国・地域コードリスト!$N$3:$O$209,2,FALSE) -> #N/A
G44: =VLOOKUP(F44,分野・分科コードリスト!$G$4:$I$49,2,FALSE) -> #N/A | H44: =VLOOKUP(F44,分野・分科コードリスト!$G$4:$I$49,3,FALSE) -> #N/A | P44: =VLOOKUP(O44,国・地域コードリスト!$L$3:$M$209,2,FALSE) -> #N/A | Q44: =VLOOKUP(O44,国・地域コードリスト!$N$3:$O$209,2,FALSE) -> #N/A
G45: =VLOOKUP(F45,分野・分科コードリスト!$G$4:$I$49,2,FALSE) -> #N/A | H45: =VLOOKUP(F45,分野・分科コードリスト!$G$4:$I$49,3,FALSE) -> #N/A | P45: =VLOOKUP(O45,国・地域コードリスト!$L$3:$M$209,2,FALSE) -> #N/A | Q45: =VLOOKUP(O45,国・地域コードリスト!$N$3:$O$209,2,FALSE) -> #N/A
G46: =VLOOKUP(F46,分野・分科コードリスト!$G$4:$I$49,2,FALSE) -> #N/A | H46: =VLOOKUP(F46,分野・分科コードリスト!$G$4:$I$49,3,FALSE) -> #N/A | P46: =VLOOKUP(O46,国・地域コードリスト!$L$3:$M$209,2,FALSE) -> #N/A | Q46: =VLOOKUP(O46,国・地域コードリスト!$N$3:$O$209,2,FALSE) -> #N/A
... G1034: =VLOOKUP(F1034,分野・分科コードリスト!$G$4:$I$49,2,FALSE) -> #N/A | H1034: =VLOOKUP(F1034,分野・分科コードリスト!$G$4:$I$49,3,FALSE) -> #N/A | P1034: =VLOOKUP(O1034,国・地域コードリスト!$L$3:$M$209,2,FALSE) -> #N/A | Q1034: =VLOOKUP(O1034,国・地域コードリスト!$N$3:$O$209,2,FALSE) -> #N/A

Sheet 3-2.中・長期受入（雇用）
B1: 【調査票3-2：中・長期受入れ（雇用）※雇用期間が３１日以上の研究者を対象】
B2: ■記入事項について
B3: ・【調査票3-1：中・長期派遣※派遣期間が３１日以上の研究者を対象】に準じます。
B4: ・項目の表記が「派遣」と「受入れ（雇用）」で、下記のとおり、変更しております。
B5: 派遣前職位→職位（現職）、派遣期間→雇用期間、派遣先 国・地域→雇用前 国・地域、派遣先機関→雇用前機関、派遣目的→雇用目的
B6: 「外国人研究者に該当」の項目を削除しております。
B7: ・「受入開始時期」は、海外からの受入れ（雇用）の開始時期を選択肢（「～2020年度」、「2021年度」、「2022年度」、「2023年度」、「2024度」、「2025年4月」～「2026年3月」）から選んでください。
B8: ・雇用期間について、採用年月日から退職時点までの在籍日数を記入してください。任期の終了時点が２０２６年４月１日以降の場合、雇用期限までの総在籍（予定）日数を記入してください。「任期なし」の場合、採用年月日から２０２６年３月３１日時点までの総在籍日数を記入してください。
B9: また、２０２６年３月中に「任期なし」で採用された場合、中・長期受入れ（雇用）に記入してください（実質、中期または長期に該当するため）。雇用期間は採用年月日から２０２６年３月３１日時点までの日数を記入し、備考に２０２６年３月採用、と記入してください。
B10: ■記入枠について
B11: ・黄色枠はプルダウンにて該当する項目を選択してください。その際、別シートの「分野・分科コードリスト」「国・地位コードリスト」を参照の上、該当するコードを選択してください。
B12: ・水色枠は数字（「番号」「生年（西暦）」「雇用期間（日数）」）を記入（半角）してください。
... B14: ・灰色枠は自動で記入されます。
B16: 機関名 | D16: ='3-1.中・長期派遣'!E29
B18: 合計
B19: =COUNTA(B22:B1987) -> 0
B20: 番号 （1, 2, 3, 4, 5, ・・・） | C20: 性別 | D20: 生年 （西暦） | E20: 出身国・地域 | H20: 分野 | K20: 職位（現職） | L20: 常勤/ 非常勤 | M20: 任期 （あり/なし） | N20: 財源分類 | O20: 受入開始 時期 | P20: 雇用期間 （日数） | Q20: 雇用前国・地域 | T20: 雇用前機関 | U20: 雇用前機関名 | V20: 雇用目的 | W20: 備考欄(自由記述）
E21: 分類コード | F21: 自動 ※国名 | G21: 自動 ※地域名 | H21: 分類コード | I21: 自動 ※分野 | J21: 自動 ※分科 | Q21: 分類コード | R21: 自動 ※国名 | S21: 自動 ※地域名
F22: =VLOOKUP(E22,国・地域コードリスト!$L$3:$M$209,2,FALSE) -> #N/A | G22: =VLOOKUP(E22,国・地域コードリスト!$N$3:$O$209,2,FALSE) -> #N/A | I22: =VLOOKUP(H22,分野・分科コードリスト!$G$4:$I$49,2,FALSE) -> #N/A | J22: =VLOOKUP(H22,分野・分科コードリスト!$G$4:$I$49,3,FALSE) -> #N/A | R22: =VLOOKUP(Q22,国・地域コードリスト!$L$3:$M$209,2,FALSE) -> #N/A | S22: =VLOOKUP(Q22,国・地域コードリスト!$N$3:$O$209,2,FALSE) -> #N/A
F23: =VLOOKUP(E23,国・地域コードリスト!$L$3:$M$209,2,FALSE) -> #N/A | G23: =VLOOKUP(E23,国・地域コードリスト!$N$3:$O$209,2,FALSE) -> #N/A | I23: =VLOOKUP(H23,分野・分科コードリスト!$G$4:$I$49,2,FALSE) -> #N/A | J23: =VLOOKUP(H23,分野・分科コードリスト!$G$4:$I$49,3,FALSE) -> #N/A | R23: =VLOOKUP(Q23,国・地域コードリスト!$L$3:$M$209,2,FALSE) -> #N/A | S23: =VLOOKUP(Q23,国・地域コードリスト!$N$3:$O$209,2,FALSE) -> #N/A
F24: =VLOOKUP(E24,国・地域コードリスト!$L$3:$M$209,2,FALSE) -> #N/A | G24: =VLOOKUP(E24,国・地域コードリスト!$N$3:$O$209,2,FALSE) -> #N/A | I24: =VLOOKUP(H24,分野・分科コードリスト!$G$4:$I$49,2,FALSE) -> #N/A | J24: =VLOOKUP(H24,分野・分科コードリスト!$G$4:$I$49,3,FALSE) -> #N/A | R24: =VLOOKUP(Q24,国・地域コードリスト!$L$3:$M$209,2,FALSE) -> #N/A | S24: =VLOOKUP(Q24,国・地域コードリスト!$N$3:$O$209,2,FALSE) -> #N/A
F25: =VLOOKUP(E25,国・地域コードリスト!$L$3:$M$209,2,FALSE) -> #N/A | G25: =VLOOKUP(E25,国・地域コードリスト!$N$3:$O$209,2,FALSE) -> #N/A | I25: =VLOOKUP(H25,分野・分科コードリスト!$G$4:$I$49,2,FALSE) -> #N/A | J25: =VLOOKUP(H25,分野・分科コードリスト!$G$4:$I$49,3,FALSE) -> #N/A | R25: =VLOOKUP(Q25,国・地域コードリスト!$L$3:$M$209,2,FALSE) -> #N/A | S25: =VLOOKUP(Q25,国・地域コードリスト!$N$3:$O$209,2,FALSE) -> #N/A
F26: =VLOOKUP(E26,国・地域コードリスト!$L$3:$M$209,2,FALSE) -> #N/A | G26: =VLOOKUP(E26,国・地域コードリスト!$N$3:$O$209,2,FALSE) -> #N/A | I26: =VLOOKUP(H26,分野・分科コードリスト!$G$4:$I$49,2,FALSE) -> #N/A | J26: =VLOOKUP(H26,分野・分科コードリスト!$G$4:$I$49,3,FALSE) -> #N/A | R26: =VLOOKUP(Q26,国・地域コードリスト!$L$3:$M$209,2,FALSE) -> #N/A | S26: =VLOOKUP(Q26,国・地域コードリスト!$N$3:$O$209,2,FALSE) -> #N/A
F27: =VLOOKUP(E27,国・地域コードリスト!$L$3:$M$209,2,FALSE) -> #N/A | G27: =VLOOKUP(E27,国・地域コードリスト!$N$3:$O$209,2,FALSE) -> #N/A | I27: =VLOOKUP(H27,分野・分科コードリスト!$G$4:$I$49,2,FALSE) -> #N/A | J27: =VLOOKUP(H27,分野・分科コードリスト!$G$4:$I$49,3,FALSE) -> #N/A | R27: =VLOOKUP(Q27,国・地域コードリスト!$L$3:$M$209,2,FALSE) -> #N/A | S27: =VLOOKUP(Q27,国・地域コードリスト!$N$3:$O$209,2,FALSE) -> #N/A
F28: =VLOOKUP(E28,国・地域コードリスト!$L$3:$M$209,2,FALSE) -> #N/A | G28: =VLOOKUP(E28,国・地域コードリスト!$N$3:$O$209,2,FALSE) -> #N/A | I28: =VLOOKUP(H28,分野・分科コードリスト!$G$4:$I$49,2,FALSE) -> #N/A | J28: =VLOOKUP(H28,分野・分科コードリスト!$G$4:$I$49,3,FALSE) -> #N/A | R28: =VLOOKUP(Q28,国・地域コードリスト!$L$3:$M$209,2,FALSE) -> #N/A | S28: =VLOOKUP(Q28,国・地域コードリスト!$N$3:$O$209,2,FALSE) -> #N/A
F29: =VLOOKUP(E29,国・地域コードリスト!$L$3:$M$209,2,FALSE) -> #N/A | G29: =VLOOKUP(E29,国・地域コードリスト!$N$3:$O$209,2,FALSE) -> #N/A | I29: =VLOOKUP(H29,分野・分科コードリスト!$G$4:$I$49,2,FALSE) -> #N/A | J29: =VLOOKUP(H29,分野・分科コードリスト!$G$4:$I$49,3,FALSE) -> #N/A | R29: =VLOOKUP(Q29,国・地域コードリスト!$L$3:$M$209,2,FALSE) -> #N/A | S29: =VLOOKUP(Q29,国・地域コードリスト!$N$3:$O$209,2,FALSE) -> #N/A
F30: =VLOOKUP(E30,国・地域コードリスト!$L$3:$M$209,2,FALSE) -> #N/A | G30: =VLOOKUP(E30,国・地域コードリスト!$N$3:$O$209,2,FALSE) -> #N/A | I30: =VLOOKUP(H30,分野・分科コードリスト!$G$4:$I$49,2,FALSE) -> #N/A | J30: =VLOOKUP(H30,分野・分科コードリスト!$G$4:$I$49,3,FALSE) -> #N/A | R30: =VLOOKUP(Q30,国・地域コードリスト!$L$3:$M$209,2,FALSE) -> #N/A | S30: =VLOOKUP(Q30,国・地域コードリスト!$N$3:$O$209,2,FALSE) -> #N/A
F31: =VLOOKUP(E31,国・地域コードリスト!$L$3:$M$209,2,FALSE) -> #N/A | G31: =VLOOKUP(E31,国・地域コードリスト!$N$3:$O$209,2,FALSE) -> #N/A | I31: =VLOOKUP(H31,分野・分科コードリスト!$G$4:$I$49,2,FALSE) -> #N/A | J31: =VLOOKUP(H31,分野・分科コードリスト!$G$4:$I$49,3,FALSE) -> #N/A | R31: =VLOOKUP(Q31,国・地域コードリスト!$L$3:$M$209,2,FALSE) -> #N/A | S31: =VLOOKUP(Q31,国・地域コードリスト!$N$3:$O$209,2,FALSE) -> #N/A
F32: =VLOOKUP(E32,国・地域コードリスト!$L$3:$M$209,2,FALSE) -> #N/A | G32: =VLOOKUP(E32,国・地域コードリスト!$N$3:$O$209,2,FALSE) -> #N/A | I32: =VLOOKUP(H32,分野・分科コードリスト!$G$4:$I$49,2,FALSE) -> #N/A | J32: =VLOOKUP(H32,分野・分科コードリスト!$G$4:$I$49,3,FALSE) -> #N/A | R32: =VLOOKUP(Q32,国・地域コードリスト!$L$3:$M$209,2,FALSE) -> #N/A | S32: =VLOOKUP(Q32,国・地域コードリスト!$N$3:$O$209,2,FALSE) -> #N/A
F33: =VLOOKUP(E33,国・地域コードリスト!$L$3:$M$209,2,FALSE) -> #N/A | G33: =VLOOKUP(E33,国・地域コードリスト!$N$3:$O$209,2,FALSE) -> #N/A | I33: =VLOOKUP(H33,分野・分科コードリスト!$G$4:$I$49,2,FALSE) -> #N/A | J33: =VLOOKUP(H33,分野・分科コードリスト!$G$4:$I$49,3,FALSE) -> #N/A | R33: =VLOOKUP(Q33,国・地域コードリスト!$L$3:$M$209,2,FALSE) -> #N/A | S33: =VLOOKUP(Q33,国・地域コードリスト!$N$3:$O$209,2,FALSE) -> #N/A
... F1021: =VLOOKUP(E1021,国・地域コードリスト!$L$3:$M$209,2,FALSE) -> #N/A | G1021: =VLOOKUP(E1021,国・地域コードリスト!$N$3:$O$209,2,FALSE) -> #N/A | I1021: =VLOOKUP(H1021,分野・分科コードリスト!$G$4:$I$49,2,FALSE) -> #N/A | J1021: =VLOOKUP(H1021,分野・分科コードリスト!$G$4:$I$49,3,FALSE) -> #N/A | R1021: =VLOOKUP(Q1021,国・地域コードリスト!$L$3:$M$209,2,FALSE) -> #N/A | S1021: =VLOOKUP(Q1021,国・地域コードリスト!$N$3:$O$209,2,FALSE) -> #N/A

Sheet 3-3.中・長期受入（雇用以外）
B1: 【調査票3-3：中・長期受入れ（雇用以外）※受入期間が３１日以上の研究者を対象】
B2: ■記入事項について
B3: ・【調査票3-2：中・長期受入れ（雇用）※雇用期間が３１日以上の研究者を対象】に準じます。
B4: ・項目の表記が「受入れ（雇用）」と「受入れ（雇用以外）」で、下記のとおり、変更しております。
B5: 雇用期間→受入期間、雇用前国・地域→受入前国・地域、雇用前機関→受入前機関、雇用目的→受入目的
B6: ・「常勤/非常勤」「任期あり/なし」の項目は該当しないため削除しました。
B7: ・「受入開始時期」は、海外からの受入れ（雇用以外）の開始時期を選択肢（「～2020年度」、「2021年度」、「2022年度」、「2023年度」、「2024年度」、「2025年4月」～「2026年3月」）から選んでください。
B8: ・受入期間について、受入れ時点（年月日）から貴機関を離れる時点までの在籍日数を記入してください（離れる時点が２０２５年４月１日～２０２６年３月３１日の場合）。
B9: 貴機関を離れるのが２０２６年４月１日以降の場合、受入終了日が決まっている場合には、受入終了日までの全ての期間（（予定）在籍日数）を記入いただき、受入終了日が決まっていない場合には
B10: 受入れ時点から２０２６年３月３１日時点までの在籍日数を記入してください。
B11: ■記入枠について
B12: ・黄色枠はプルダウンにて該当する項目を選択してください。その際、別シートの「分野・分科コードリスト」「国・地位コードリスト」を参照の上、該当するコードを選択してください。
... B15: ・灰色枠は自動で記入されます。
B17: 機関名 | D17: ='3-1.中・長期派遣'!E29
B19: 合計
B20: =COUNTA(B23:B1988) -> 0
B21: 番号 （1, 2, 3, 4, 5, ・・・） | C21: 性別 | D21: 生年 （西暦） | E21: 出身国・地域 | H21: 分野 | K21: 職位（現職） | L21: 財源分類 | M21: 受入開始 時期 | N21: 受入期間 （日数） | O21: 受入前国・地域 | R21: 受入前機関 | S21: 受入前機関名 | T21: 受入目的 | U21: 備考欄(自由記述）
E22: 分類コード | F22: 自動 ※国名 | G22: 自動 ※地域名 | H22: 分類コード | I22: 自動 ※分野 | J22: 自動 ※分科 | O22: 分類コード | P22: 自動 ※国名 | Q22: 自動 ※地域名
F23: =VLOOKUP(E23,国・地域コードリスト!$L$3:$M$209,2,FALSE) -> #N/A | G23: =VLOOKUP(E23,国・地域コードリスト!$N$3:$O$209,2,FALSE) -> #N/A | I23: =VLOOKUP(H23,分野・分科コードリスト!$G$4:$I$49,2,FALSE) -> #N/A | J23: =VLOOKUP(H23,分野・分科コードリスト!$G$4:$I$49,3,FALSE) -> #N/A | P23: =VLOOKUP(O23,国・地域コードリスト!$L$3:$M$209,2,FALSE) -> #N/A | Q23: =VLOOKUP(O23,国・地域コードリスト!$N$3:$O$209,2,FALSE) -> #N/A
F24: =VLOOKUP(E24,国・地域コードリスト!$L$3:$M$209,2,FALSE) -> #N/A | G24: =VLOOKUP(E24,国・地域コードリスト!$N$3:$O$209,2,FALSE) -> #N/A | I24: =VLOOKUP(H24,分野・分科コードリスト!$G$4:$I$49,2,FALSE) -> #N/A | J24: =VLOOKUP(H24,分野・分科コードリスト!$G$4:$I$49,3,FALSE) -> #N/A | P24: =VLOOKUP(O24,国・地域コードリスト!$L$3:$M$209,2,FALSE) -> #N/A | Q24: =VLOOKUP(O24,国・地域コードリスト!$N$3:$O$209,2,FALSE) -> #N/A
F25: =VLOOKUP(E25,国・地域コードリスト!$L$3:$M$209,2,FALSE) -> #N/A | G25: =VLOOKUP(E25,国・地域コードリスト!$N$3:$O$209,2,FALSE) -> #N/A | I25: =VLOOKUP(H25,分野・分科コードリスト!$G$4:$I$49,2,FALSE) -> #N/A | J25: =VLOOKUP(H25,分野・分科コードリスト!$G$4:$I$49,3,FALSE) -> #N/A | P25: =VLOOKUP(O25,国・地域コードリスト!$L$3:$M$209,2,FALSE) -> #N/A | Q25: =VLOOKUP(O25,国・地域コードリスト!$N$3:$O$209,2,FALSE) -> #N/A
F26: =VLOOKUP(E26,国・地域コードリスト!$L$3:$M$209,2,FALSE) -> #N/A | G26: =VLOOKUP(E26,国・地域コードリスト!$N$3:$O$209,2,FALSE) -> #N/A | I26: =VLOOKUP(H26,分野・分科コードリスト!$G$4:$I$49,2,FALSE) -> #N/A | J26: =VLOOKUP(H26,分野・分科コードリスト!$G$4:$I$49,3,FALSE) -> #N/A | P26: =VLOOKUP(O26,国・地域コードリスト!$L$3:$M$209,2,FALSE) -> #N/A | Q26: =VLOOKUP(O26,国・地域コードリスト!$N$3:$O$209,2,FALSE) -> #N/A
F27: =VLOOKUP(E27,国・地域コードリスト!$L$3:$M$209,2,FALSE) -> #N/A | G27: =VLOOKUP(E27,国・地域コードリスト!$N$3:$O$209,2,FALSE) -> #N/A | I27: =VLOOKUP(H27,分野・分科コードリスト!$G$4:$I$49,2,FALSE) -> #N/A | J27: =VLOOKUP(H27,分野・分科コードリスト!$G$4:$I$49,3,FALSE) -> #N/A | P27: =VLOOKUP(O27,国・地域コードリスト!$L$3:$M$209,2,FALSE) -> #N/A | Q27: =VLOOKUP(O27,国・地域コードリスト!$N$3:$O$209,2,FALSE) -> #N/A
F28: =VLOOKUP(E28,国・地域コードリスト!$L$3:$M$209,2,FALSE) -> #N/A | G28: =VLOOKUP(E28,国・地域コードリスト!$N$3:$O$209,2,FALSE) -> #N/A | I28: =VLOOKUP(H28,分野・分科コードリスト!$G$4:$I$49,2,FALSE) -> #N/A | J28: =VLOOKUP(H28,分野・分科コードリスト!$G$4:$I$49,3,FALSE) -> #N/A | P28: =VLOOKUP(O28,国・地域コードリスト!$L$3:$M$209,2,FALSE) -> #N/A | Q28: =VLOOKUP(O28,国・地域コードリスト!$N$3:$O$209,2,FALSE) -> #N/A
F29: =VLOOKUP(E29,国・地域コードリスト!$L$3:$M$209,2,FALSE) -> #N/A | G29: =VLOOKUP(E29,国・地域コードリスト!$N$3:$O$209,2,FALSE) -> #N/A | I29: =VLOOKUP(H29,分野・分科コードリスト!$G$4:$I$49,2,FALSE) -> #N/A | J29: =VLOOKUP(H29,分野・分科コードリスト!$G$4:$I$49,3,FALSE) -> #N/A | P29: =VLOOKUP(O29,国・地域コードリスト!$L$3:$M$209,2,FALSE) -> #N/A | Q29: =VLOOKUP(O29,国・地域コードリスト!$N$3:$O$209,2,FALSE) -> #N/A
F30: =VLOOKUP(E30,国・地域コードリスト!$L$3:$M$209,2,FALSE) -> #N/A | G30: =VLOOKUP(E30,国・地域コードリスト!$N$3:$O$209,2,FALSE) -> #N/A | I30: =VLOOKUP(H30,分野・分科コードリスト!$G$4:$I$49,2,FALSE) -> #N/A | J30: =VLOOKUP(H30,分野・分科コードリスト!$G$4:$I$49,3,FALSE) -> #N/A | P30: =VLOOKUP(O30,国・地域コードリスト!$L$3:$M$209,2,FALSE) -> #N/A | Q30: =VLOOKUP(O30,国・地域コードリスト!$N$3:$O$209,2,FALSE) -> #N/A
F31: =VLOOKUP(E31,国・地域コードリスト!$L$3:$M$209,2,FALSE) -> #N/A | G31: =VLOOKUP(E31,国・地域コードリスト!$N$3:$O$209,2,FALSE) -> #N/A | I31: =VLOOKUP(H31,分野・分科コードリスト!$G$4:$I$49,2,FALSE) -> #N/A | J31: =VLOOKUP(H31,分野・分科コードリスト!$G$4:$I$49,3,FALSE) -> #N/A | P31: =VLOOKUP(O31,国・地域コードリスト!$L$3:$M$209,2,FALSE) -> #N/A | Q31: =VLOOKUP(O31,国・地域コードリスト!$N$3:$O$209,2,FALSE) -> #N/A
F32: =VLOOKUP(E32,国・地域コードリスト!$L$3:$M$209,2,FALSE) -> #N/A | G32: =VLOOKUP(E32,国・地域コードリスト!$N$3:$O$209,2,FALSE) -> #N/A | I32: =VLOOKUP(H32,分野・分科コードリスト!$G$4:$I$49,2,FALSE) -> #N/A | J32: =VLOOKUP(H32,分野・分科コードリスト!$G$4:$I$49,3,FALSE) -> #N/A | P32: =VLOOKUP(O32,国・地域コードリスト!$L$3:$M$209,2,FALSE) -> #N/A | Q32: =VLOOKUP(O32,国・地域コードリスト!$N$3:$O$209,2,FALSE) -> #N/A
F33: =VLOOKUP(E33,国・地域コードリスト!$L$3:$M$209,2,FALSE) -> #N/A | G33: =VLOOKUP(E33,国・地域コードリスト!$N$3:$O$209,2,FALSE) -> #N/A | I33: =VLOOKUP(H33,分野・分科コードリスト!$G$4:$I$49,2,FALSE) -> #N/A | J33: =VLOOKUP(H33,分野・分科コードリスト!$G$4:$I$49,3,FALSE) -> #N/A | P33: =VLOOKUP(O33,国・地域コードリスト!$L$3:$M$209,2,FALSE) -> #N/A | Q33: =VLOOKUP(O33,国・地域コードリスト!$N$3:$O$209,2,FALSE) -> #N/A
F34: =VLOOKUP(E34,国・地域コードリスト!$L$3:$M$209,2,FALSE) -> #N/A | G34: =VLOOKUP(E34,国・地域コードリスト!$N$3:$O$209,2,FALSE) -> #N/A | I34: =VLOOKUP(H34,分野・分科コードリスト!$G$4:$I$49,2,FALSE) -> #N/A | J34: =VLOOKUP(H34,分野・分科コードリスト!$G$4:$I$49,3,FALSE) -> #N/A | P34: =VLOOKUP(O34,国・地域コードリスト!$L$3:$M$209,2,FALSE) -> #N/A | Q34: =VLOOKUP(O34,国・地域コードリスト!$N$3:$O$209,2,FALSE) -> #N/A
... F1021: =VLOOKUP(E1021,国・地域コードリスト!$L$3:$M$209,2,FALSE) -> #N/A | G1021: =VLOOKUP(E1021,国・地域コードリスト!$N$3:$O$209,2,FALSE) -> #N/A | I1021: =VLOOKUP(H1021,分野・分科コードリスト!$G$4:$I$49,2,FALSE) -> #N/A | J1021: =VLOOKUP(H1021,分野・分科コードリスト!$G$4:$I$49,3,FALSE) -> #N/A | P1021: =VLOOKUP(O1021,国・地域コードリスト!$L$3:$M$209,2,FALSE) -> #N/A | Q1021: =VLOOKUP(O1021,国・地域コードリスト!$N$3:$O$209,2,FALSE) -> #N/A

Sheet 4-1.体制・制度等（総論）
B1: 【調査票4-1：各機関における国際化に係る体制・制度等（総論）】
B2: ■記入事項について
B3: ・貴機関おける国際化に係る体制についてお答えください。
B4: ・海外拠点については、事務機能も有するものを回答してください（観測等のための拠点で、事務職員が常駐していない場合は記入対象外です）。
B6: ■記入枠について
B7: ・黄色枠はプルダウンにて該当する項目を選択してください。なお、「国・地域名」の分類コードは、別シートの「国・地域名コードリスト」を参照の上、該当するコードを選択してください。
B8: ・プルダウンで「その他」を選択した場合は、備考欄に具体の内容を記入してください。
B9: ・水色枠は数字（「拠点数」）を記入（半角）してください。
B10: ・白色枠は自由記述欄です。
B11: ・灰色枠は入力不要または自動で記入されます。
C13: 内に機関番号を入力してください。
B15: 機関番号 | D15: =IF(C15="","※シート（番号）より、該当する機関名の機関番号を入力してください。","") -> ※シート（番号）より、該当する機関名の機関番号を入力してください。
B16: 機関名 | C16: =IF(C15="","",VLOOKUP(C15,番号!A2:C939,2,FALSE)) | D16: =IF(C15="","",VLOOKUP(C15,番号!A2:C939,3,FALSE))
B18: 体制
B19: 貴機関の国際化に係る 主幹部局 | C19: 海外拠点の 有無 | D19: 国・地域名 | G19: 拠点数 | H19: 備考欄（自由記述）
D20: 分類コード | E20: 国名 ※自動 | F20: 地域名 ※自動
E21: =VLOOKUP(D21,国・地域コードリスト!$L$3:$M$209,2,FALSE) -> #N/A | F21: =VLOOKUP(D21,国・地域コードリスト!$N$3:$O$209,2,FALSE) -> #N/A
E22: =VLOOKUP(D22,国・地域コードリスト!$L$3:$M$209,2,FALSE) -> #N/A | F22: =VLOOKUP(D22,国・地域コードリスト!$N$3:$O$209,2,FALSE) -> #N/A
E23: =VLOOKUP(D23,国・地域コードリスト!$L$3:$M$209,2,FALSE) -> #N/A | F23: =VLOOKUP(D23,国・地域コードリスト!$N$3:$O$209,2,FALSE) -> #N/A
E24: =VLOOKUP(D24,国・地域コードリスト!$L$3:$M$209,2,FALSE) -> #N/A | F24: =VLOOKUP(D24,国・地域コードリスト!$N$3:$O$209,2,FALSE) -> #N/A
E25: =VLOOKUP(D25,国・地域コードリスト!$L$3:$M$209,2,FALSE) -> #N/A | F25: =VLOOKUP(D25,国・地域コードリスト!$N$3:$O$209,2,FALSE) -> #N/A
E26: =VLOOKUP(D26,国・地域コードリスト!$L$3:$M$209,2,FALSE) -> #N/A | F26: =VLOOKUP(D26,国・地域コードリスト!$N$3:$O$209,2,FALSE) -> #N/A

Sheet 4-2.体制・制度等（戦略）
B1: 【調査票4-2：各機関における国際化に係る体制・制度等（国際化戦略）】
B2: ■記入事項について
B3: ・貴機関おける国際化戦略の策定状況についてお答えください。
B4: ・派遣及び受入れの成果・課題については、該当するものをすべてチェックした上で、具体の内容を自由記述欄に記入してください。
B6: ■記入枠について
B7: ・黄色枠はプルダウンにて該当する項目を選択してください。なお、プルダウンで「その他」を選択した場合は、備考欄に具体の内容を記入してください。
B8: ・水色枠は数字（「策定年度（西暦）」「目標値（人）」）を記入（半角）してください。
B9: ・白色枠は自由記述欄です。
B10: ・灰色枠は自動で記入されます。
B12: 機関名 | C12: ='4-1.体制・制度等（総論）'!D16
B14: 国際化戦略
B15: 策定の有無 | C15: 策定している場合 | E15: 策定していない場合 | G15: 備考欄（自由記述）
C16: 策定年度（西暦） | D16: 重視している観点 | E16: 策定予定 | F16: 策定しない理由
B19: 派遣・受入人数に係る目標等 | E19: 人事マネジメント上の取扱い
B20: 年間派遣人数の目標 | D20: 備考欄（自由記述） | E20: 海外経験に係る人事評価指標 （新規採用時） | F20: 具体の指標（自由記述）
B21: 目標設定 | C21: 目標値（人）
B23: 年間受入人数の目標 | D23: 備考欄（自由記述） | E23: 海外経験に係る人事評価指標 （継続雇用時） | F23: 具体の指標（自由記述）
B24: 目標設定 | C24: 目標値（人）
B27: 派遣の成果
C28: 選択肢 | E28: 自由記述欄
B29: FALSE | C29: 国際共著論文数が増加した
B30: FALSE | C30: 機関間協力に発展した
B31: FALSE | C31: その他
B33: 派遣に係る課題
C34: 選択肢 | E34: 自由記述欄
B35: FALSE | C35: 派遣希望者が少ない
B36: FALSE | C36: 派遣費用の捻出が難しい
B37: FALSE | C37: 代替人員の確保が困難
B38: FALSE | C38: 派遣先との調整が困難
B39: FALSE | C39: 研究セキュリティ上の懸念がある
B40: FALSE | C40: その他
B42: 受入れの成果
C43: 選択肢 | E43: 自由記述欄
B44: FALSE | C44: 国際共著論文数が増加した
B45: FALSE | C45: 機関間協力に発展した
B46: FALSE | C46: 外国人学生や留学生の増加につながった
B47: FALSE | C47: その他
B49: 受入れに係る課題
C50: 選択肢 | E50: 自由記述欄
B51: FALSE | C51: 受入れ希望者が少ない
...

Sheet 4-3.体制・制度等（派遣支援）
B1: 【調査票4-3：各機関における国際化に係る体制・制度等（派遣支援等）】
B2: ■記入事項について
B3: ・研究者派遣のために貴機関が実施している独自の制度や取組についてお答えください。
B4: ・制度を利用して派遣された人数を明確に判断できるものを「制度」、利用人数を明確に判断できないものを「取組」としてお答えください。
B5: ・制度及び取組について、それぞれ回答欄を５つ設けています。該当する制度や取組が５つ以上ある場合は、主要なものから順に５つまでお答えください。
B6: ・派遣先の選定時における公的機関の活用については、該当するものをすべて選択してください。「その他」を選択した場合は、詳細を自由記述欄に記入してください。
B8: ■記入枠について
B9: ・水色枠は数字（「制度の開始時期」「2025年度実績」）を記入（半角）してください。
B10: ・黄色枠は該当するものにチェックを入れてください。
B11: ・白色枠は自由記述欄です。
B12: ・灰色枠は入力不要または自動で記入されます。
B14: 機関名 | C14: ='4-1.体制・制度等（総論）'!D16
B16: 研究者派遣のための独自支援制度とその実績
B17: no. | C17: 制度名 | D17: 対象者 | E17: 制度概要 | H17: 2025年度実績（人）
E18: 制度の開始時期 | F18: 金銭的な支援内容 | G18: 金銭以外の支援内容 | H18: 短期派遣 | I18: 中・長期派遣
B19: 例 | C19: ▲▲研究員 | D19: ユニークな研究アイデア・計画を持つ若手（35歳未満）研究者 | E19: 38808 | F19: ・派遣に必要な渡航費を全額支給。 ・派遣中も、派遣前と同様の水準で給与を支給。 ・派遣期間中も退職金算定根拠となる在籍期間として算入し、退職金支給の際、不利にならないよう配慮。 | G19: ・選定した各研究者に対して教授レベルの指導員を配置し、派遣期間中に研究上のアドバイスを定期的に行う。 | H19: 21 | I19: 10
B20: 1
B21: 2
B22: 3
B23: 4
B24: 5
B26: 研究者派遣のための独自の取組
B27: no. | C27: 取組の名称 | D27: 対象者 | E27: 取り組の概要
E28: 制度の開始時期 | F28: 取組の内容
B29: 例 | C29: 海外派遣情報の積極提供 | D29: 在籍研究者全員 | E29: 39356 | F29: ・自機関で実施している派遣支援制度の募集などに関して、定期的なメールによる研究者への周知を徹底。 ・海外機関から受入募集などがあった場合にも、メールにより随時研究者へ周知。
B30: 1
B31: 2
B32: 3
B33: 4
B34: 5
B36: 派遣先の選定時における公的機関の活用状況
C37: 選択肢 | D37: 自由記述欄
B38: FALSE | C38: JSPS（海外事務所を含む）が提供する情報の活用
B39: FALSE | C39: 在外公館が提供する情報の活用
B40: FALSE | C40: その他

Sheet 4-4.体制・制度等（受入支援）
B1: 【調査票4-4：各機関における国際化に係る体制・制度等（受入支援等）】
B2: ■記入事項について
B3: ・研究者受入れのために貴機関が実施している独自の制度や取組についてお答えください。
B4: ・制度を利用して受入れた人数を明確に判断できるものを「制度」、利用人数を明確に判断できないものを「取組」としてお答えください。
B5: ・制度及び取組について、それぞれ回答欄を５つ設けています。該当する制度や取組が５つ以上ある場合は、主要なものから順に５つまでお答えください。
B7: ■記入枠について
B8: ・水色枠は数字（「制度の開始時期」「2025年度実績」）を記入（半角）してください。
B9: ・白色枠は自由記述欄です。
B10: ・灰色枠は入力不要または自動で記入されます。
B12: 機関名 | C12: ='4-1.体制・制度等（総論）'!D16
B14: 研究者派遣のための独自支援制度とその実績
B15: no. | C15: 制度名 | D15: 対象者 | E15: 制度概要 | H15: 2025年度実績（人）
E16: 制度の開始時期 | F16: 金銭的な支援内容 | G16: 金銭以外の支援内容 | H16: 短期派遣 | I16: 中・長期派遣
B17: 例 | C17: ▲▲研究員 | D17: ユニークな研究アイデア・計画を持つ若手（35歳未満）研究者 | E17: 38808 | F17: ・派遣に必要な渡航費を全額支給。 ・派遣中も、派遣前と同様の水準で給与を支給。 ・派遣期間中も退職金算定根拠となる在籍期間として算入し、退職金支給の際、不利にならないよう配慮。 | G17: ・選定した各研究者に対して教授レベルの指導員を配置し、派遣期間中に研究上のアドバイスを定期的に行う。 | H17: 21 | I17: 10
B18: 1
B19: 2
B20: 3
B21: 4
B22: 5
B24: 研究者派遣のための独自の取組
B25: no. | C25: 取組の名称 | D25: 対象者 | E25: 取り組の概要
E26: 制度の開始時期 | F26: 取組の内容
B27: 例 | C27: 海外派遣情報の積極提供 | D27: 在籍研究者全員 | E27: 39356 | F27: ・自機関で実施している派遣支援制度の募集などに関して、定期的なメールによる研究者への周知を徹底。 ・海外機関から受入募集などがあった場合にも、メールにより随時研究者へ周知。
B28: 1
B29: 2
B30: 3
B31: 4
B32: 5

Sheet 5-1.研究集会
B1: 【調査票5-1：主催した国際的な研究集会（学会・シンポジウム）の数と参加者の概数】
B3: ■記入事項について
B4: ・主催した研究集会（学会・シンポジウム）毎に１行（１レコード）で記入してください。
B5: ・「主催」について、文字通り各大学・研究機関等にて主催したもののみ回答してください。（※日本学術会議協力学術研究団体（約2,100団体）の事務局への調査は別途、実施しています。）
B6: また、同一の集会を複数機関にて主催した場合、あるいは主催機関が不明瞭の場合は、最も研究集会の運営に関与した機関（例えば開催場所となった等）を主催機関とします。
B7: それでもなお、主催機関の判断が困難な場合は、各機関にてご相談の上、代表１機関から回答ください。
B8: ・「国際的な研究集会（学会・シンポジウム）」について、「研究成果等に関して研究者が発表、議論、質疑応答などをする集まり（形式不問）のうち、外国機関からの参加者がいる集会」とします。
B9: また、集会の主な使用言語、参加者の国籍、参加人数の規模及び開催頻度は不問とします。
B10: ただし、回答対象は各機関が公式に実施した集会に限り、研究者個人や研究室が非公式に開催した集会は含まないこととします。
B11: ・「参加者の概数」について、参加方法不問の「全体数」についてご記入ください。
B12: なお、同一の集会において複数のイベントが並行して開催された場合は、各イベントについてではなく、集会全体への参加者の概数を回答ください。
B13: ・「開催月」は、研究集会（学会・シンポジウム）の開催月を選択肢（「2025年4月」～「2026年3月」）から選んでください。
... B19: ・灰色枠は自動で記入されます。
B21: 機関番号 | D21: =IF(C21="","※シート（番号）より、該当する機関の機関番号を入力してください。","") -> ※シート（番号）より、該当する機関の機関番号を入力してください。
B22: 機関名 | C22: =IF(C21="","",VLOOKUP(C21,番号!A2:C939,2,FALSE)) | D22: =IF(C21="","",VLOOKUP(C21,番号!A2:C939,3,FALSE))
B24: 合計
B25: =COUNTA(B30:B1991) -> 0
B26: 番号 （1, 2, 3, 4, 5, ・・・） | C26: 研究集会（学会・シンポジウム）名 | D26: 分野 | G26: 開催月 | H26: 参加者の概数（人）
D27: 分類 コード | E27: 自動 ※分野 | F27: 自動 ※分科 | H27: 全体数（人）
H28: 国内機関所属 | I28: 海外機関所属 | J28: 所属機関不明
B29: (例) | C29: 第○回○○学会 | D29: SA | E29: =VLOOKUP(D29,分野・分科コードリスト!$G$4:$I$49,2,FALSE) -> 理学 | F29: =VLOOKUP(D29,分野・分科コードリスト!$G$4:$I$49,3,FALSE) -> 物理 | G29: 2025年4月 | H29: 60 | I29: 40 | J29: 20
E30: =VLOOKUP(D30,分野・分科コードリスト!$G$4:$I$49,2,FALSE) -> #N/A | F30: =VLOOKUP(D30,分野・分科コードリスト!$G$4:$I$49,3,FALSE) -> #N/A
E31: =VLOOKUP(D31,分野・分科コードリスト!$G$4:$I$49,2,FALSE) -> #N/A | F31: =VLOOKUP(D31,分野・分科コードリスト!$G$4:$I$49,3,FALSE) -> #N/A
E32: =VLOOKUP(D32,分野・分科コードリスト!$G$4:$I$49,2,FALSE) -> #N/A | F32: =VLOOKUP(D32,分野・分科コードリスト!$G$4:$I$49,3,FALSE) -> #N/A
E33: =VLOOKUP(D33,分野・分科コードリスト!$G$4:$I$49,2,FALSE) -> #N/A | F33: =VLOOKUP(D33,分野・分科コードリスト!$G$4:$I$49,3,FALSE) -> #N/A
E34: =VLOOKUP(D34,分野・分科コードリスト!$G$4:$I$49,2,FALSE) -> #N/A | F34: =VLOOKUP(D34,分野・分科コードリスト!$G$4:$I$49,3,FALSE) -> #N/A
E35: =VLOOKUP(D35,分野・分科コードリスト!$G$4:$I$49,2,FALSE) -> #N/A | F35: =VLOOKUP(D35,分野・分科コードリスト!$G$4:$I$49,3,FALSE) -> #N/A
E36: =VLOOKUP(D36,分野・分科コードリスト!$G$4:$I$49,2,FALSE) -> #N/A | F36: =VLOOKUP(D36,分野・分科コードリスト!$G$4:$I$49,3,FALSE) -> #N/A
E37: =VLOOKUP(D37,分野・分科コードリスト!$G$4:$I$49,2,FALSE) -> #N/A | F37: =VLOOKUP(D37,分野・分科コードリスト!$G$4:$I$49,3,FALSE) -> #N/A
E38: =VLOOKUP(D38,分野・分科コードリスト!$G$4:$I$49,2,FALSE) -> #N/A | F38: =VLOOKUP(D38,分野・分科コードリスト!$G$4:$I$49,3,FALSE) -> #N/A
E39: =VLOOKUP(D39,分野・分科コードリスト!$G$4:$I$49,2,FALSE) -> #N/A | F39: =VLOOKUP(D39,分野・分科コードリスト!$G$4:$I$49,3,FALSE) -> #N/A
E40: =VLOOKUP(D40,分野・分科コードリスト!$G$4:$I$49,2,FALSE) -> #N/A | F40: =VLOOKUP(D40,分野・分科コードリスト!$G$4:$I$49,3,FALSE) -> #N/A
E41: =VLOOKUP(D41,分野・分科コードリスト!$G$4:$I$49,2,FALSE) -> #N/A | F41: =VLOOKUP(D41,分野・分科コードリスト!$G$4:$I$49,3,FALSE) -> #N/A
... E196: =VLOOKUP(D196,分野・分科コードリスト!$G$4:$I$49,2,FALSE) -> #N/A | F196: =VLOOKUP(D196,分野・分科コードリスト!$G$4:$I$49,3,FALSE) -> #N/A

Sheet プルダウンリスト
B1: 【プルダウンリスト】
B3: 【協定締結主体】
C4: 協定締結主体
C5: 大学・法人・機関レベル
C6: 研究科・学科・研究所レベル
B8: 【協定の内容（該当）】
C9: 協定の内容
C10: ○
B12: 【性別】
C13: 性別
C14: 男性
C15: 女性
C16: 不明
B18: 【常勤/非常勤】
C19: 常勤・非常勤
C20: 常勤
C21: 非常勤
B23: 【任期】
C24: 任期
C25: あり
C26: なし
B29: 【開始時期】
C30: 開始時期
C31: ～2020年度
C32: 2021年度
C33: 2022年度
C34: 2023年度
C35: 2024年度
C36: 2025年4月
C37: 2025年5月
C38: 2025年6月
C39: 2025年7月
C40: 2025年8月
C41: 2025年9月
... C47: 2026年3月
B49: 【目的】
C50: 目的
C51: 共同研究
C52: フィールドワーク
C53: 研修
...

Sheet 国・地域コードリスト
B1: 【国・地域コードリスト】 | K1: 国・地域コード表
L2: コード | M2: 国・地域名 | N2: コード | O2: 地域区分
C3: 地域区分 | D3: コード | E3: 国・地域名 | G3: 地域区分 | H3: コード | I3: 国・地域名 | L3: A01 | M3: インド | N3: A01 | O3: アジア
C4: アジア | D4: A01 | E4: インド | G4: オセアニア | H4: D01 | I4: オーストラリア | L4: A02 | M4: インドネシア | N4: A02 | O4: アジア
D5: A02 | E5: インドネシア | H5: D02 | I5: キリバス | L5: A03 | M5: 韓国 | N5: A03 | O5: アジア
D6: A03 | E6: 韓国 | H6: D03 | I6: クック諸島 | L6: A04 | M6: カンボジア | N6: A04 | O6: アジア
D7: A04 | E7: カンボジア | H7: D04 | I7: サモア | L7: A05 | M7: 北朝鮮 | N7: A05 | O7: アジア
D8: A05 | E8: 北朝鮮 | H8: D05 | I8: ソロモン諸島 | L8: A06 | M8: シンガポール | N8: A06 | O8: アジア
D9: A06 | E9: シンガポール | H9: D06 | I9: ツバル | L9: A07 | M9: スリランカ | N9: A07 | O9: アジア
D10: A07 | E10: スリランカ | H10: D07 | I10: トンガ | L10: A08 | M10: タイ | N10: A08 | O10: アジア
D11: A08 | E11: タイ | H11: D08 | I11: ナウル | L11: A09 | M11: 台湾 | N11: A09 | O11: アジア
D12: A09 | E12: 台湾 | H12: D09 | I12: ニウエ | L12: A10 | M12: 中国（香港含む） | N12: A10 | O12: アジア
D13: A10 | E13: 中国（香港含む） | H13: D10 | I13: ニュージーランド | L13: A11 | M13: ネパール | N13: A11 | O13: アジア
D14: A11 | E14: ネパール | H14: D11 | I14: バヌアツ | L14: A12 | M14: パキスタン | N14: A12 | O14: アジア
D15: A12 | E15: パキスタン | H15: D12 | I15: パプアニューギニア | L15: A13 | M15: バングラデシュ | N15: A13 | O15: アジア
D16: A13 | E16: バングラデシュ | H16: D13 | I16: パラオ | L16: A14 | M16: 東ティモール | N16: A14 | O16: アジア
... D20: A17 | E20: ブルネイ | H20: D17 | I20: その他（オセアニア地域） | L20: A18 | M20: ベトナム | N20: A18 | O20: アジア
D21: A18 | E21: ベトナム | G21: 北米 | H21: E01 | I21: アメリカ合衆国 | L21: A19 | M21: マレーシア | N21: A19 | O21: アジア
D22: A19 | E22: マレーシア | H22: E02 | I22: カナダ | L22: A20 | M22: ミャンマー | N22: A20 | O22: アジア
D23: A20 | E23: ミャンマー | H23: E03 | I23: その他（北米地域） | L23: A21 | M23: モルディブ | N23: A21 | O23: アジア
D24: A21 | E24: モルディブ | G24: 中南米 | H24: F01 | I24: アルゼンチン | L24: A22 | M24: モンゴル | N24: A22 | O24: アジア
D25: A22 | E25: モンゴル | H25: F02 | I25: アンティグア・バーブーダ | L25: A23 | M25: ラオス | N25: A23 | O25: アジア
D26: A23 | E26: ラオス | H26: F03 | I26: ウルグアイ | L26: A24 | M26: その他（アジア地域） | N26: A24 | O26: アジア
D27: A24 | E27: その他（アジア地域） | H27: F04 | I27: エクアドル | L27: B01 | M27: アフガニスタン | N27: B01 | O27: 中東
C28: 中東 | D28: B01 | E28: アフガニスタン | H28: F05 | I28: エルサルバドル | L28: B02 | M28: アラブ首長国連邦 | N28: B02 | O28: 中東
D29: B02 | E29: アラブ首長国連邦 | H29: F06 | I29: ガイアナ | L29: B03 | M29: イエメン | N29: B03 | O29: 中東
D30: B03 | E30: イエメン | H30: F07 | I30: キューバ | L30: B04 | M30: イスラエル | N30: B04 | O30: 中東
D31: B04 | E31: イスラエル | H31: F08 | I31: グアテマラ | L31: B05 | M31: イラク | N31: B05 | O31: 中東
D32: B05 | E32: イラク | H32: F09 | I32: グレナダ | L32: B06 | M32: イラン | N32: B06 | O32: 中東
D33: B06 | E33: イラン | H33: F10 | I33: コスタリカ | L33: B07 | M33: オマーン | N33: B07 | O33: 中東
D34: B07 | E34: オマーン | H34: F11 | I34: コロンビア | L34: B08 | M34: カタール | N34: B08 | O34: 中東
D35: B08 | E35: カタール | H35: F12 | I35: ジャマイカ | L35: B09 | M35: クウェート | N35: B09 | O35: 中東
D36: B09 | E36: クウェート | H36: F13 | I36: スリナム | L36: B10 | M36: サウジアラビア | N36: B10 | O36: 中東
D37: B10 | E37: サウジアラビア | H37: F14 | I37: セントビンセント及びグレナディーン諸島 | L37: B11 | M37: シリア | N37: B11 | O37: 中東
D38: B11 | E38: シリア | H38: F15 | I38: セントクリストファー・ネーヴィス | L38: B12 | M38: トルコ | N38: B12 | O38: 中東
D39: B12 | E39: トルコ | H39: F16 | I39: セントルシア | L39: B13 | M39: バーレーン | N39: B13 | O39: 中東
D40: B13 | E40: バーレーン | H40: F17 | I40: チリ | L40: B14 | M40: パレスチナ | N40: B14 | O40: 中東
... D44: B17 | E44: その他（中近東地域） | H44: F21 | I44: ニカラグア | L44: C01 | M44: アルジェリア | N44: C01 | O44: アフリカ
C45: アフリカ | D45: C01 | E45: アルジェリア | H45: F22 | I45: ハイチ | L45: C02 | M45: アンゴラ | N45: C02 | O45: アフリカ
D46: C02 | E46: アンゴラ | H46: F23 | I46: パナマ | L46: C03 | M46: ウガンダ | N46: C03 | O46: アフリカ
...

Sheet 分野・分科コードリスト
B1: 【分野・分科コードリスト】 | G1: 【分野・分科コードリスト】
C3: 分野名 | D3: コード | E3: 分科名 | G3: コード | H3: 分野 | I3: 分科名
C4: 理学 | D4: SA | E4: 物理 | G4: SA | H4: 理学 | I4: 物理
D5: SB | E5: 数学 | G5: SB | H5: 理学 | I5: 数学
D6: SC | E6: 化学 | G6: SC | H6: 理学 | I6: 化学
D7: SD | E7: 生物 | G7: SD | H7: 理学 | I7: 生物
D8: SE | E8: 情報科学 | G8: SE | H8: 理学 | I8: 情報科学
D9: SF | E9: 地学 | G9: SF | H9: 理学 | I9: 地学
D10: SG | E10: その他・分類不能含む | G10: SG | H10: 理学 | I10: その他・分類不能含む
C11: 工学 | D11: EA | E11: 機械・船舶 | G11: EA | H11: 工学 | I11: 機械・船舶
D12: EB | E12: 土木・建築 | G12: EB | H12: 工学 | I12: 土木・建築
D13: EC | E13: 電気・通信 | G13: EC | H13: 工学 | I13: 電気・通信
D14: ED | E14: 材料 | G14: ED | H14: 工学 | I14: 材料
D15: EE | E15: 応用化学 | G15: EE | H15: 工学 | I15: 応用化学
D16: EF | E16: 原子力 | G16: EF | H16: 工学 | I16: 原子力
D17: EG | E17: 応用理学 | G17: EG | H17: 工学 | I17: 応用理学
D18: EH | E18: 航空 | G18: EH | H18: 工学 | I18: 航空
D19: EJ | E19: 経営工学 | G19: EJ | H19: 工学 | I19: 経営工学
D20: EK | E20: 繊維 | G20: EK | H20: 工学 | I20: 繊維
D21: EL | E21: その他・分類不能含む | G21: EL | H21: 工学 | I21: その他・分類不能含む
C22: 農学 | D22: AA | E22: 農学 | G22: AA | H22: 農学 | I22: 農学
D23: AB | E23: 獣医・畜産 | G23: AB | H23: 農学 | I23: 獣医・畜産
D24: AC | E24: 水産 | G24: AC | H24: 農学 | I24: 水産
D25: AD | E25: 農業経済 | G25: AD | H25: 農学 | I25: 農業経済
D26: AE | E26: 林学 | G26: AE | H26: 農学 | I26: 林学
D27: AF | E27: 農業工学 | G27: AF | H27: 農学 | I27: 農業工学
D28: AG | E28: 農芸化学 | G28: AG | H28: 農学 | I28: 農芸化学
D29: AH | E29: 林産学 | G29: AH | H29: 農学 | I29: 林産学
D30: AJ | E30: その他・分類不能含む | G30: AJ | H30: 農学 | I30: その他・分類不能含む
C31: 保健 | D31: HA | E31: 医学 | G31: HA | H31: 保健 | I31: 医学
D32: HB | E32: 歯学 | G32: HB | H32: 保健 | I32: 歯学
D33: HC | E33: 薬学 | G33: HC | H33: 保健 | I33: 薬学
D34: HD | E34: 看護 | G34: HD | H34: 保健 | I34: 看護
D35: HE | E35: その他・分類不能含む | G35: HE | H35: 保健 | I35: その他・分類不能含む
C36: 人文・社会等 | D36: CA | E36: 社会（商学・経済） | G36: CA | H36: 人文・社会等 | I36: 社会（商学・経済）
D37: CB | E37: 社会（法学・政治） | G37: CB | H37: 人文・社会等 | I37: 社会（法学・政治）
D38: CC | E38: 社会（社会学） | G38: CC | H38: 人文・社会等 | I38: 社会（社会学）
D39: CD | E39: 社会（その他・分類不能含む） | G39: CD | H39: 人文・社会等 | I39: 社会（その他・分類不能含む）
D40: CE | E40: 人文（文学） | G40: CE | H40: 人文・社会等 | I40: 人文（文学）
D41: CF | E41: 人文（史学） | G41: CF | H41: 人文・社会等 | I41: 人文（史学）
...

Sheet 財源リスト
A1: 【プルダウンリスト（財源一覧）】
B3: 分類 | C3: 財源項目 | D3: 備考
B4: 自機関 | C4: 自機関の運営資金等 | D4: 国立大学法人や独立行政法人等における運営費交付金が対象となります。私立大学の 「私立大学等経常費補助金」は「外部資金の政府関係機関等：その他政府関係機関」に分類
B5: 外部資金 | C5: 外部資金＞政府等＞文部科学省（科研費） | D5: 科研費名称：「特別推進研究」「新学術領域研究」「学術変革領域研究（A・B）」「基盤研究（S・A）」「奨励研究」「研究成果公開促進費」等の補助金種目の場合。
B6: 外部資金 | C6: 外部資金＞政府等＞文部科学省（科研費以外） | D6: 文部科学省の実施する事業 （在外研究員の派遣事業、国際シンポジウム招へい等）、文部科学省からの研究委託事業、文部科学省の内局予算で、関連独立行政法人等が事務を実施している事業（「世界トップレベル研究拠点プログラム（WPI）」、「先端国際共同研究推進事業/プログラム（ASPIRE）」等）の場合等）
B7: 外部資金 | C7: 外部資金＞政府等＞その他官庁 | D7: 文部科学省以外の省庁が行う事業、文部科学省以外の省庁の内局予算で、関連独立行政法人等が事務を実施している事業等
B8: 外部資金 | C8: 外部資金＞政府関係機関等＞日本学術振興会（科研費） | D8: 科研費名称：「基盤研究（Ｂ・Ｃ）」「挑戦的研究（開拓・萌芽）」「若手研究」「研究活動スタート支援」「特別研究員奨励費」「特別研究促進費」「国際共同研究加速基金」等の基金種目の場合等。
B9: 外部資金 | C9: 外部資金＞政府関係機関等＞日本学術振興会（科研費以外） | D9: 日本学術振興会の事業（海外特別研究員、外国人特別研究員等）、助成金等
B10: 外部資金 | C10: 外部資金＞政府関係機関等＞科学技術振興機構 | D10: 科学技術振興機構の事業、助成金等
B11: 外部資金 | C11: 外部資金＞政府関係機関等＞日本医療研究開発機構 | D11: 日本医療研究開発機構の事業、助成金等
B12: 外部資金 | C12: 外部資金＞政府関係機関等＞その他・分類不能 | D12: 上記の政府関係機関等にいずれにも該当しない政府関係機関の事業、助成金等
B13: 外部資金 | C13: 外部資金＞地方自治体・地方自治体関係機関等 | D13: 地方自治体・地方自治体関係機関等による経費措置を通じた事業等
B14: 外部資金 | C14: 外部資金＞民間 | D14: 民間企業・法人・団体等による経費措置を通じた事業、国立試験研究機関における委任経理金の場合等 ※「財団法人」及び「社団法人」の場合は、公益、一般に関わらず、「民間」に分類
... B21: 不明 | C21: 不明 | D21: 上記の分類に該当しない財源
