{"text_format":"1","workbook":"xlsx","n_sheets":3,"sheets":["検索シート","全国版","設定の仕方"],"not_rendered":{"charts":0,"images":0,"macros":1,"external_links":0,"defined_names":6,"comments":0,"pivot_tables":0},"unopened":[],"bounds":{"document_bytes":16777216,"sheet_cells":100000,"rows_first":2000,"rows_last":500,"rows_between":2000,"halvings":0,"cell_chars":16384,"cell_head_chars":4096},"cells_cut":0,"cells_raw":0,"read":"whole","date_system":"1900"}

{"sheet":"検索シート","index":0,"n_rows":118,"n_cols":16,"rows_kept":118,"cut":false,"hidden":false,"merged":[[15,14,15,15],[1,3,1,5],[4,5,4,6],[5,5,5,6],[6,5,6,6],[6,3,6,4],[5,3,5,4],[4,3,4,4],[12,3,12,5],[8,3,8,4],[8,5,8,6],[10,3,10,10],[7,5,7,6],[13,3,13,10],[16,15,17,15],[16,11,17,11],[16,10,17,10],[16,7,17,9],[16,14,17,14],[16,12,16,13],[16,1,17,1],[16,6,17,6],[16,5,17,5],[16,4,17,4],[16,3,17,3]]}
[]
[null,null,null,"高度専門士検索システム"]
[]
[]
[null,null,null,"位置"]
[null,null,null,"学校名",null,null,null,"を含む"]
[null,null,null,"課程名",null,null,null,"を含む"]
[]
[null,null,null,"手続き"]
[]
[null,null,null,"※ 「検索ボタン」が動かない場合は、「数式」タブより「再計算実行」を行ってください。"]
[]
[null,null,null,{"$f":"\"検索結果数：\"&TEXT(B15,\"#,##0\")&\"件\"","v":"検索結果数：1,082件"}]
[null,null,null,{"$f":"IF(B15<100,\"\",\"　※ 検索結果が多いため、１００件まで表示します。条件で絞って再度検索ください。\")","v":"　※ 検索結果が多いため、１００件まで表示します。条件で絞って再度検索ください。"}]
["検索結果数",{"$f":"MAX(全国版!C:C)","v":1082},null,null,"1","2","3","4","5","6","7","8","9","10","11","12"]
[null,null,null,"●検索結果一覧",null,null,null,null,null,null,null,null,null,null,"(令和6年3月現在)"]
["都道府県","該当の行数",null,"No","位 置","専　修　学　校　名","課　程　名","適用年月日",null,null,"告示年月日","手続き","名称変更後",null,"変更、廃止、不適合\n年月日","変更、廃止、不適合\n告示年月日"]
[null,null,null,null,null,null,null,null,null,null,null,null,"変更後","変更後"]
["（指定なし）",{"$f":"MATCH(D19,全国版!C:C,0)","v":4},null,{"$f":"IF($B$15=0,\"\",1)","v":1},{"$f":"IF(OR($D19=\"\",IFERROR(INDEX(全国版!$D:$O,$B19,E$15),\"\")=\"\"),\"\",INDEX(全国版!$D:$O,$B19,E$15))","v":"北海道"},{"$f":"IF(OR($D19=\"\",IFERROR(INDEX(全国版!$D:$O,$B19,F$15),\"\")=\"\"),\"\",INDEX(全国版!$D:$O,$B19,F$15))","v":"大原簿記情報専門学校札幌校"},{"$f":"IF(OR($D19=\"\",IFERROR(INDEX(全国版!$D:$O,$B19,G$15),\"\")=\"\"),\"\",INDEX(全国版!$D:$O,$B19,G$15))","v":"商業実務専門課程　会計システム４年制学科"},{"$f":"IF(OR($D19=\"\",IFERROR(INDEX(全国版!$D:$O,$B19,H$15),\"\")=\"\"),\"\",INDEX(全国版!$D:$O,$B19,H$15))","v":"2008-02-29"},{"$f":"IF(OR($D19=\"\",IFERROR(INDEX(全国版!$D:$O,$B19,I$15),\"\")=\"\"),\"\",INDEX(全国版!$D:$O,$B19,I$15))","v":"～"},{"$f":"IF(OR($D19=\"\",IFERROR(INDEX(全国版!$D:$O,$B19,J$15),\"\")=\"\"),\"\",INDEX(全国版!$D:$O,$B19,J$15))","v":""},{"$f":"IF(OR($D19=\"\",IFERROR(INDEX(全国版!$D:$O,$B19,K$15),\"\")=\"\"),\"\",INDEX(全国版!$D:$O,$B19,K$15))","v":"2008-02-29"},{"$f":"IF(OR($D19=\"\",IFERROR(INDEX(全国版!$D:$O,$B19,L$15),\"\")=\"\"),\"\",INDEX(全国版!$D:$O,$B19,L$15))","v":""},{"$f":"IF(OR($D19=\"\",IFERROR(INDEX(全国版!$D:$O,$B19,M$15),\"\")=\"\"),\"\",INDEX(全国版!$D:$O,$B19,M$15))","v":""},{"$f":"IF(OR($D19=\"\",IFERROR(INDEX(全国版!$D:$O,$B19,N$15),\"\")=\"\"),\"\",INDEX(全国版!$D:$O,$B19,N$15))","v":""},{"$f":"IF(OR($D19=\"\",IFERROR(INDEX(全国版!$D:$O,$B19,O$15),\"\")=\"\"),\"\",INDEX(全国版!$D:$O,$B19,O$15))","v":""},{"$f":"IF(OR($D19=\"\",IFERROR(INDEX(全国版!$D:$O,$B19,P$15),\"\")=\"\"),\"\",INDEX(全国版!$D:$O,$B19,P$15))","v":""}]
["北海道",{"$f":"MATCH(D20,全国版!C:C,0)","v":5},null,{"$f":"IF(OR(D19=\"\",$B$15=D19),\"\",D19+1)","v":2},{"$f":"IF(OR($D20=\"\",IFERROR(INDEX(全国版!$D:$O,$B20,E$15),\"\")=\"\"),\"\",INDEX(全国版!$D:$O,$B20,E$15))","v":"北海道"},{"$f":"IF(OR($D20=\"\",IFERROR(INDEX(全国版!$D:$O,$B20,F$15),\"\")=\"\"),\"\",INDEX(全国版!$D:$O,$B20,F$15))","v":"札幌医学技術福祉歯科専門学校"},{"$f":"IF(OR($D20=\"\",IFERROR(INDEX(全国版!$D:$O,$B20,G$15),\"\")=\"\"),\"\",INDEX(全国版!$D:$O,$B20,G$15))","v":"医療専門課程　理学療法士科"},{"$f":"IF(OR($D20=\"\",IFERROR(INDEX(全国版!$D:$O,$B20,H$15),\"\")=\"\"),\"\",INDEX(全国版!$D:$O,$B20,H$15))","v":"2012-04-01"},{"$f":"IF(OR($D20=\"\",IFERROR(INDEX(全国版!$D:$O,$B20,I$15),\"\")=\"\"),\"\",INDEX(全国版!$D:$O,$B20,I$15))","v":"～"},{"$f":"IF(OR($D20=\"\",IFERROR(INDEX(全国版!$D:$O,$B20,J$15),\"\")=\"\"),\"\",INDEX(全国版!$D:$O,$B20,J$15))","v":"2019-03-30"},{"$f":"IF(OR($D20=\"\",IFERROR(INDEX(全国版!$D:$O,$B20,K$15),\"\")=\"\"),\"\",INDEX(全国版!$D:$O,$B20,K$15))","v":"2013-01-29"},{"$f":"IF(OR($D20=\"\",IFERROR(INDEX(全国版!$D:$O,$B20,L$15),\"\")=\"\"),\"\",INDEX(全国版!$D:$O,$B20,L$15))","v":"不適合"},{"$f":"IF(OR($D20=\"\",IFERROR(INDEX(全国版!$D:$O,$B20,M$15),\"\")=\"\"),\"\",INDEX(全国版!$D:$O,$B20,M$15))","v":""},{"$f":"IF(OR($D20=\"\",IFERROR(INDEX(全国版!$D:$O,$B20,N$15),\"\")=\"\"),\"\",INDEX(全国版!$D:$O,$B20,N$15))","v":""},{"$f":"IF(OR($D20=\"\",IFERROR(INDEX(全国版!$D:$O,$B20,O$15),\"\")=\"\"),\"\",INDEX(全国版!$D:$O,$B20,O$15))","v":"2019-03-31"},{"$f":"IF(OR($D20=\"\",IFERROR(INDEX(全国版!$D:$O,$B20,P$15),\"\")=\"\"),\"\",INDEX(全国版!$D:$O,$B20,P$15))","v":"2020-02-29"}]
["青森県",{"$f":"MATCH(D21,全国版!C:C,0)","v":6},null,3,{"$f":"IF(OR($D21=\"\",IFERROR(INDEX(全国版!$D:$O,$B21,E$15),\"\")=\"\"),\"\",INDEX(全国版!$D:$O,$B21,E$15))","v":"北海道"},{"$f":"IF(OR($D21=\"\",IFERROR(INDEX(全国版!$D:$O,$B21,F$15),\"\")=\"\"),\"\",INDEX(全国版!$D:$O,$B21,F$15))","v":"札幌医学技術福祉専門学校"},{"$f":"IF(OR($D21=\"\",IFERROR(INDEX(全国版!$D:$O,$B21,G$15),\"\")=\"\"),\"\",INDEX(全国版!$D:$O,$B21,G$15))","v":"医療専門課程　理学療法士科"},{"$f":"IF(OR($D21=\"\",IFERROR(INDEX(全国版!$D:$O,$B21,H$15),\"\")=\"\"),\"\",INDEX(全国版!$D:$O,$B21,H$15))","v":"2010-02-26"},{"$f":"IF(OR($D21=\"\",IFERROR(INDEX(全国版!$D:$O,$B21,I$15),\"\")=\"\"),\"\",INDEX(全国版!$D:$O,$B21,I$15))","v":"～"},{"$f":"IF(OR($D21=\"\",IFERROR(INDEX(全国版!$D:$O,$B21,J$15),\"\")=\"\"),\"\",INDEX(全国版!$D:$O,$B21,J$15))","v":"2012-03-31"},{"$f":"IF(OR($D21=\"\",IFERROR(INDEX(全国版!$D:$O,$B21,K$15),\"\")=\"\"),\"\",INDEX(全国版!$D:$O,$B21,K$15))","v":"2010-02-26"},{"$f":"IF(OR($D21=\"\",IFERROR(INDEX(全国版!$D:$O,$B21,L$15),\"\")=\"\"),\"\",INDEX(全国版!$D:$O,$B21,L$15))","v":"名称変更"},{"$f":"IF(OR($D21=\"\",IFERROR(INDEX(全国版!$D:$O,$B21,M$15),\"\")=\"\"),\"\",INDEX(全国版!$D:$O,$B21,M$15))","v":"札幌医学技術福祉歯科専門学校"},{"$f":"IF(OR($D21=\"\",IFERROR(INDEX(全国版!$D:$O,$B21,N$15),\"\")=\"\"),\"\",INDEX(全国版!$D:$O,$B21,N$15))","v":"医療専門課程　理学療法士科"},{"$f":"IF(OR($D21=\"\",IFERROR(INDEX(全国版!$D:$O,$B21,O$15),\"\")=\"\"),\"\",INDEX(全国版!$D:$O,$B21,O$15))","v":"2012-04-01"},{"$f":"IF(OR($D21=\"\",IFERROR(INDEX(全国版!$D:$O,$B21,P$15),\"\")=\"\"),\"\",INDEX(全国版!$D:$O,$B21,P$15))","v":"2013-01-29"}]
["岩手県",{"$f":"MATCH(D22,全国版!C:C,0)","v":7},null,4,{"$f":"IF(OR($D22=\"\",IFERROR(INDEX(全国版!$D:$O,$B22,E$15),\"\")=\"\"),\"\",INDEX(全国版!$D:$O,$B22,E$15))","v":"北海道"},{"$f":"IF(OR($D22=\"\",IFERROR(INDEX(全国版!$D:$O,$B22,F$15),\"\")=\"\"),\"\",INDEX(全国版!$D:$O,$B22,F$15))","v":"札幌デザイン＆テクノロジー専門学校"},{"$f":"IF(OR($D22=\"\",IFERROR(INDEX(全国版!$D:$O,$B22,G$15),\"\")=\"\"),\"\",INDEX(全国版!$D:$O,$B22,G$15))","v":"文化・教養専門課程　ＡＩ＆テクノロジー科昼間Ⅱ部"},{"$f":"IF(OR($D22=\"\",IFERROR(INDEX(全国版!$D:$O,$B22,H$15),\"\")=\"\"),\"\",INDEX(全国版!$D:$O,$B22,H$15))","v":"2024-01-17"},{"$f":"IF(OR($D22=\"\",IFERROR(INDEX(全国版!$D:$O,$B22,I$15),\"\")=\"\"),\"\",INDEX(全国版!$D:$O,$B22,I$15))","v":""},{"$f":"IF(OR($D22=\"\",IFERROR(INDEX(全国版!$D:$O,$B22,J$15),\"\")=\"\"),\"\",INDEX(全国版!$D:$O,$B22,J$15))","v":""},{"$f":"IF(OR($D22=\"\",IFERROR(INDEX(全国版!$D:$O,$B22,K$15),\"\")=\"\"),\"\",INDEX(全国版!$D:$O,$B22,K$15))","v":"2024-01-17"},{"$f":"IF(OR($D22=\"\",IFERROR(INDEX(全国版!$D:$O,$B22,L$15),\"\")=\"\"),\"\",INDEX(全国版!$D:$O,$B22,L$15))","v":""},{"$f":"IF(OR($D22=\"\",IFERROR(INDEX(全国版!$D:$O,$B22,M$15),\"\")=\"\"),\"\",INDEX(全国版!$D:$O,$B22,M$15))","v":""},{"$f":"IF(OR($D22=\"\",IFERROR(INDEX(全国版!$D:$O,$B22,N$15),\"\")=\"\"),\"\",INDEX(全国版!$D:$O,$B22,N$15))","v":""},{"$f":"IF(OR($D22=\"\",IFERROR(INDEX(全国版!$D:$O,$B22,O$15),\"\")=\"\"),\"\",INDEX(全国版!$D:$O,$B22,O$15))","v":""},{"$f":"IF(OR($D22=\"\",IFERROR(INDEX(全国版!$D:$O,$B22,P$15),\"\")=\"\"),\"\",INDEX(全国版!$D:$O,$B22,P$15))","v":""}]
["宮城県",{"$f":"MATCH(D23,全国版!C:C,0)","v":8},null,5,{"$f":"IF(OR($D23=\"\",IFERROR(INDEX(全国版!$D:$O,$B23,E$15),\"\")=\"\"),\"\",INDEX(全国版!$D:$O,$B23,E$15))","v":"北海道"},{"$f":"IF(OR($D23=\"\",IFERROR(INDEX(全国版!$D:$O,$B23,F$15),\"\")=\"\"),\"\",INDEX(全国版!$D:$O,$B23,F$15))","v":"札幌ミュージック＆ダンス・放送専門学校"},{"$f":"IF(OR($D23=\"\",IFERROR(INDEX(全国版!$D:$O,$B23,G$15),\"\")=\"\"),\"\",INDEX(全国版!$D:$O,$B23,G$15))","v":"文化・教養専門課程　スーパーｅエンターテイメント科昼間Ⅱ部"},{"$f":"IF(OR($D23=\"\",IFERROR(INDEX(全国版!$D:$O,$B23,H$15),\"\")=\"\"),\"\",INDEX(全国版!$D:$O,$B23,H$15))","v":"2023-01-27"},{"$f":"IF(OR($D23=\"\",IFERROR(INDEX(全国版!$D:$O,$B23,I$15),\"\")=\"\"),\"\",INDEX(全国版!$D:$O,$B23,I$15))","v":"～"},{"$f":"IF(OR($D23=\"\",IFERROR(INDEX(全国版!$D:$O,$B23,J$15),\"\")=\"\"),\"\",INDEX(全国版!$D:$O,$B23,J$15))","v":""},{"$f":"IF(OR($D23=\"\",IFERROR(INDEX(全国版!$D:$O,$B23,K$15),\"\")=\"\"),\"\",INDEX(全国版!$D:$O,$B23,K$15))","v":"2023-01-27"},{"$f":"IF(OR($D23=\"\",IFERROR(INDEX(全国版!$D:$O,$B23,L$15),\"\")=\"\"),\"\",INDEX(全国版!$D:$O,$B23,L$15))","v":""},{"$f":"IF(OR($D23=\"\",IFERROR(INDEX(全国版!$D:$O,$B23,M$15),\"\")=\"\"),\"\",INDEX(全国版!$D:$O,$B23,M$15))","v":""},{"$f":"IF(OR($D23=\"\",IFERROR(INDEX(全国版!$D:$O,$B23,N$15),\"\")=\"\"),\"\",INDEX(全国版!$D:$O,$B23,N$15))","v":""},{"$f":"IF(OR($D23=\"\",IFERROR(INDEX(全国版!$D:$O,$B23,O$15),\"\")=\"\"),\"\",INDEX(全国版!$D:$O,$B23,O$15))","v":""},{"$f":"IF(OR($D23=\"\",IFERROR(INDEX(全国版!$D:$O,$B23,P$15),\"\")=\"\"),\"\",INDEX(全国版!$D:$O,$B23,P$15))","v":""}]
["秋田県",{"$f":"MATCH(D24,全国版!C:C,0)","v":9},null,6,{"$f":"IF(OR($D24=\"\",IFERROR(INDEX(全国版!$D:$O,$B24,E$15),\"\")=\"\"),\"\",INDEX(全国版!$D:$O,$B24,E$15))","v":"北海道"},{"$f":"IF(OR($D24=\"\",IFERROR(INDEX(全国版!$D:$O,$B24,F$15),\"\")=\"\"),\"\",INDEX(全国版!$D:$O,$B24,F$15))","v":"札幌リハビリテーション専門学校"},{"$f":"IF(OR($D24=\"\",IFERROR(INDEX(全国版!$D:$O,$B24,G$15),\"\")=\"\"),\"\",INDEX(全国版!$D:$O,$B24,G$15))","v":"医療専門課程　作業療法士科"},{"$f":"IF(OR($D24=\"\",IFERROR(INDEX(全国版!$D:$O,$B24,H$15),\"\")=\"\"),\"\",INDEX(全国版!$D:$O,$B24,H$15))","v":"2005-12-09"},{"$f":"IF(OR($D24=\"\",IFERROR(INDEX(全国版!$D:$O,$B24,I$15),\"\")=\"\"),\"\",INDEX(全国版!$D:$O,$B24,I$15))","v":"～"},{"$f":"IF(OR($D24=\"\",IFERROR(INDEX(全国版!$D:$O,$B24,J$15),\"\")=\"\"),\"\",INDEX(全国版!$D:$O,$B24,J$15))","v":""},{"$f":"IF(OR($D24=\"\",IFERROR(INDEX(全国版!$D:$O,$B24,K$15),\"\")=\"\"),\"\",INDEX(全国版!$D:$O,$B24,K$15))","v":"2005-12-09"},{"$f":"IF(OR($D24=\"\",IFERROR(INDEX(全国版!$D:$O,$B24,L$15),\"\")=\"\"),\"\",INDEX(全国版!$D:$O,$B24,L$15))","v":""},{"$f":"IF(OR($D24=\"\",IFERROR(INDEX(全国版!$D:$O,$B24,M$15),\"\")=\"\"),\"\",INDEX(全国版!$D:$O,$B24,M$15))","v":""},{"$f":"IF(OR($D24=\"\",IFERROR(INDEX(全国版!$D:$O,$B24,N$15),\"\")=\"\"),\"\",INDEX(全国版!$D:$O,$B24,N$15))","v":""},{"$f":"IF(OR($D24=\"\",IFERROR(INDEX(全国版!$D:$O,$B24,O$15),\"\")=\"\"),\"\",INDEX(全国版!$D:$O,$B24,O$15))","v":""},{"$f":"IF(OR($D24=\"\",IFERROR(INDEX(全国版!$D:$O,$B24,P$15),\"\")=\"\"),\"\",INDEX(全国版!$D:$O,$B24,P$15))","v":""}]
["山形県",{"$f":"MATCH(D25,全国版!C:C,0)","v":10},null,7,{"$f":"IF(OR($D25=\"\",IFERROR(INDEX(全国版!$D:$O,$B25,E$15),\"\")=\"\"),\"\",INDEX(全国版!$D:$O,$B25,E$15))","v":"北海道"},{"$f":"IF(OR($D25=\"\",IFERROR(INDEX(全国版!$D:$O,$B25,F$15),\"\")=\"\"),\"\",INDEX(全国版!$D:$O,$B25,F$15))","v":"札幌リハビリテーション専門学校"},{"$f":"IF(OR($D25=\"\",IFERROR(INDEX(全国版!$D:$O,$B25,G$15),\"\")=\"\"),\"\",INDEX(全国版!$D:$O,$B25,G$15))","v":"医療専門課程　理学療法士科"},{"$f":"IF(OR($D25=\"\",IFERROR(INDEX(全国版!$D:$O,$B25,H$15),\"\")=\"\"),\"\",INDEX(全国版!$D:$O,$B25,H$15))","v":"2005-12-09"},{"$f":"IF(OR($D25=\"\",IFERROR(INDEX(全国版!$D:$O,$B25,I$15),\"\")=\"\"),\"\",INDEX(全国版!$D:$O,$B25,I$15))","v":"～"},{"$f":"IF(OR($D25=\"\",IFERROR(INDEX(全国版!$D:$O,$B25,J$15),\"\")=\"\"),\"\",INDEX(全国版!$D:$O,$B25,J$15))","v":""},{"$f":"IF(OR($D25=\"\",IFERROR(INDEX(全国版!$D:$O,$B25,K$15),\"\")=\"\"),\"\",INDEX(全国版!$D:$O,$B25,K$15))","v":"2005-12-09"},{"$f":"IF(OR($D25=\"\",IFERROR(INDEX(全国版!$D:$O,$B25,L$15),\"\")=\"\"),\"\",INDEX(全国版!$D:$O,$B25,L$15))","v":""},{"$f":"IF(OR($D25=\"\",IFERROR(INDEX(全国版!$D:$O,$B25,M$15),\"\")=\"\"),\"\",INDEX(全国版!$D:$O,$B25,M$15))","v":""},{"$f":"IF(OR($D25=\"\",IFERROR(INDEX(全国版!$D:$O,$B25,N$15),\"\")=\"\"),\"\",INDEX(全国版!$D:$O,$B25,N$15))","v":""},{"$f":"IF(OR($D25=\"\",IFERROR(INDEX(全国版!$D:$O,$B25,O$15),\"\")=\"\"),\"\",INDEX(全国版!$D:$O,$B25,O$15))","v":""},{"$f":"IF(OR($D25=\"\",IFERROR(INDEX(全国版!$D:$O,$B25,P$15),\"\")=\"\"),\"\",INDEX(全国版!$D:$O,$B25,P$15))","v":""}]
["福島県",{"$f":"MATCH(D26,全国版!C:C,0)","v":11},null,8,{"$f":"IF(OR($D26=\"\",IFERROR(INDEX(全国版!$D:$O,$B26,E$15),\"\")=\"\"),\"\",INDEX(全国版!$D:$O,$B26,E$15))","v":"北海道"},{"$f":"IF(OR($D26=\"\",IFERROR(INDEX(全国版!$D:$O,$B26,F$15),\"\")=\"\"),\"\",INDEX(全国版!$D:$O,$B26,F$15))","v":"専修学校ファーイースタンステイトユニバーシティ函館校"},{"$f":"IF(OR($D26=\"\",IFERROR(INDEX(全国版!$D:$O,$B26,G$15),\"\")=\"\"),\"\",INDEX(全国版!$D:$O,$B26,G$15))","v":"文化・教養専門課程　ロシア地域学科"},{"$f":"IF(OR($D26=\"\",IFERROR(INDEX(全国版!$D:$O,$B26,H$15),\"\")=\"\"),\"\",INDEX(全国版!$D:$O,$B26,H$15))","v":"2005-12-09"},{"$f":"IF(OR($D26=\"\",IFERROR(INDEX(全国版!$D:$O,$B26,I$15),\"\")=\"\"),\"\",INDEX(全国版!$D:$O,$B26,I$15))","v":"～"},{"$f":"IF(OR($D26=\"\",IFERROR(INDEX(全国版!$D:$O,$B26,J$15),\"\")=\"\"),\"\",INDEX(全国版!$D:$O,$B26,J$15))","v":"2007-03-31"},{"$f":"IF(OR($D26=\"\",IFERROR(INDEX(全国版!$D:$O,$B26,K$15),\"\")=\"\"),\"\",INDEX(全国版!$D:$O,$B26,K$15))","v":"2005-12-09"},{"$f":"IF(OR($D26=\"\",IFERROR(INDEX(全国版!$D:$O,$B26,L$15),\"\")=\"\"),\"\",INDEX(全国版!$D:$O,$B26,L$15))","v":"名称変更"},{"$f":"IF(OR($D26=\"\",IFERROR(INDEX(全国版!$D:$O,$B26,M$15),\"\")=\"\"),\"\",INDEX(全国版!$D:$O,$B26,M$15))","v":"専修学校ロシア極東大函館校"},{"$f":"IF(OR($D26=\"\",IFERROR(INDEX(全国版!$D:$O,$B26,N$15),\"\")=\"\"),\"\",INDEX(全国版!$D:$O,$B26,N$15))","v":"文化・教養専門課程　ロシア地域学科"},{"$f":"IF(OR($D26=\"\",IFERROR(INDEX(全国版!$D:$O,$B26,O$15),\"\")=\"\"),\"\",INDEX(全国版!$D:$O,$B26,O$15))","v":"2007-04-01"},{"$f":"IF(OR($D26=\"\",IFERROR(INDEX(全国版!$D:$O,$B26,P$15),\"\")=\"\"),\"\",INDEX(全国版!$D:$O,$B26,P$15))","v":"2008-02-29"}]
["茨城県",{"$f":"MATCH(D27,全国版!C:C,0)","v":12},null,9,{"$f":"IF(OR($D27=\"\",IFERROR(INDEX(全国版!$D:$O,$B27,E$15),\"\")=\"\"),\"\",INDEX(全国版!$D:$O,$B27,E$15))","v":"北海道"},{"$f":"IF(OR($D27=\"\",IFERROR(INDEX(全国版!$D:$O,$B27,F$15),\"\")=\"\"),\"\",INDEX(全国版!$D:$O,$B27,F$15))","v":"専修学校ロシア極東大函館校"},{"$f":"IF(OR($D27=\"\",IFERROR(INDEX(全国版!$D:$O,$B27,G$15),\"\")=\"\"),\"\",INDEX(全国版!$D:$O,$B27,G$15))","v":"文化・教養専門課程　ロシア地域学科"},{"$f":"IF(OR($D27=\"\",IFERROR(INDEX(全国版!$D:$O,$B27,H$15),\"\")=\"\"),\"\",INDEX(全国版!$D:$O,$B27,H$15))","v":"2007-04-01"},{"$f":"IF(OR($D27=\"\",IFERROR(INDEX(全国版!$D:$O,$B27,I$15),\"\")=\"\"),\"\",INDEX(全国版!$D:$O,$B27,I$15))","v":"～"},{"$f":"IF(OR($D27=\"\",IFERROR(INDEX(全国版!$D:$O,$B27,J$15),\"\")=\"\"),\"\",INDEX(全国版!$D:$O,$B27,J$15))","v":""},{"$f":"IF(OR($D27=\"\",IFERROR(INDEX(全国版!$D:$O,$B27,K$15),\"\")=\"\"),\"\",INDEX(全国版!$D:$O,$B27,K$15))","v":"2008-02-29"},{"$f":"IF(OR($D27=\"\",IFERROR(INDEX(全国版!$D:$O,$B27,L$15),\"\")=\"\"),\"\",INDEX(全国版!$D:$O,$B27,L$15))","v":""},{"$f":"IF(OR($D27=\"\",IFERROR(INDEX(全国版!$D:$O,$B27,M$15),\"\")=\"\"),\"\",INDEX(全国版!$D:$O,$B27,M$15))","v":""},{"$f":"IF(OR($D27=\"\",IFERROR(INDEX(全国版!$D:$O,$B27,N$15),\"\")=\"\"),\"\",INDEX(全国版!$D:$O,$B27,N$15))","v":""},{"$f":"IF(OR($D27=\"\",IFERROR(INDEX(全国版!$D:$O,$B27,O$15),\"\")=\"\"),\"\",INDEX(全国版!$D:$O,$B27,O$15))","v":""},{"$f":"IF(OR($D27=\"\",IFERROR(INDEX(全国版!$D:$O,$B27,P$15),\"\")=\"\"),\"\",INDEX(全国版!$D:$O,$B27,P$15))","v":""}]
["栃木県",{"$f":"MATCH(D28,全国版!C:C,0)","v":13},null,10,{"$f":"IF(OR($D28=\"\",IFERROR(INDEX(全国版!$D:$O,$B28,E$15),\"\")=\"\"),\"\",INDEX(全国版!$D:$O,$B28,E$15))","v":"北海道"},{"$f":"IF(OR($D28=\"\",IFERROR(INDEX(全国版!$D:$O,$B28,F$15),\"\")=\"\"),\"\",INDEX(全国版!$D:$O,$B28,F$15))","v":"専門学校北日本自動車大学校"},{"$f":"IF(OR($D28=\"\",IFERROR(INDEX(全国版!$D:$O,$B28,G$15),\"\")=\"\"),\"\",INDEX(全国版!$D:$O,$B28,G$15))","v":"工業専門課程　自動車整備科（一級整備士コース）"},{"$f":"IF(OR($D28=\"\",IFERROR(INDEX(全国版!$D:$O,$B28,H$15),\"\")=\"\"),\"\",INDEX(全国版!$D:$O,$B28,H$15))","v":"2010-02-26"},{"$f":"IF(OR($D28=\"\",IFERROR(INDEX(全国版!$D:$O,$B28,I$15),\"\")=\"\"),\"\",INDEX(全国版!$D:$O,$B28,I$15))","v":"～"},{"$f":"IF(OR($D28=\"\",IFERROR(INDEX(全国版!$D:$O,$B28,J$15),\"\")=\"\"),\"\",INDEX(全国版!$D:$O,$B28,J$15))","v":"2020-03-31"},{"$f":"IF(OR($D28=\"\",IFERROR(INDEX(全国版!$D:$O,$B28,K$15),\"\")=\"\"),\"\",INDEX(全国版!$D:$O,$B28,K$15))","v":"2010-02-26"},{"$f":"IF(OR($D28=\"\",IFERROR(INDEX(全国版!$D:$O,$B28,L$15),\"\")=\"\"),\"\",INDEX(全国版!$D:$O,$B28,L$15))","v":"名称変更"},{"$f":"IF(OR($D28=\"\",IFERROR(INDEX(全国版!$D:$O,$B28,M$15),\"\")=\"\"),\"\",INDEX(全国版!$D:$O,$B28,M$15))","v":"専門学校北日本自動車大学校"},{"$f":"IF(OR($D28=\"\",IFERROR(INDEX(全国版!$D:$O,$B28,N$15),\"\")=\"\"),\"\",INDEX(全国版!$D:$O,$B28,N$15))","v":"工業専門課程　自動車工学科"},{"$f":"IF(OR($D28=\"\",IFERROR(INDEX(全国版!$D:$O,$B28,O$15),\"\")=\"\"),\"\",INDEX(全国版!$D:$O,$B28,O$15))","v":"2020-04-01"},{"$f":"IF(OR($D28=\"\",IFERROR(INDEX(全国版!$D:$O,$B28,P$15),\"\")=\"\"),\"\",INDEX(全国版!$D:$O,$B28,P$15))","v":"2023-01-27"}]
["群馬県",{"$f":"MATCH(D29,全国版!C:C,0)","v":14},null,11,{"$f":"IF(OR($D29=\"\",IFERROR(INDEX(全国版!$D:$O,$B29,E$15),\"\")=\"\"),\"\",INDEX(全国版!$D:$O,$B29,E$15))","v":"北海道"},{"$f":"IF(OR($D29=\"\",IFERROR(INDEX(全国版!$D:$O,$B29,F$15),\"\")=\"\"),\"\",INDEX(全国版!$D:$O,$B29,F$15))","v":"専門学校北日本自動車大学校"},{"$f":"IF(OR($D29=\"\",IFERROR(INDEX(全国版!$D:$O,$B29,G$15),\"\")=\"\"),\"\",INDEX(全国版!$D:$O,$B29,G$15))","v":"工業専門課程　自動車工学科"},{"$f":"IF(OR($D29=\"\",IFERROR(INDEX(全国版!$D:$O,$B29,H$15),\"\")=\"\"),\"\",INDEX(全国版!$D:$O,$B29,H$15))","v":"2020-04-01"},{"$f":"IF(OR($D29=\"\",IFERROR(INDEX(全国版!$D:$O,$B29,I$15),\"\")=\"\"),\"\",INDEX(全国版!$D:$O,$B29,I$15))","v":"～"},{"$f":"IF(OR($D29=\"\",IFERROR(INDEX(全国版!$D:$O,$B29,J$15),\"\")=\"\"),\"\",INDEX(全国版!$D:$O,$B29,J$15))","v":""},{"$f":"IF(OR($D29=\"\",IFERROR(INDEX(全国版!$D:$O,$B29,K$15),\"\")=\"\"),\"\",INDEX(全国版!$D:$O,$B29,K$15))","v":"2023-01-27"},{"$f":"IF(OR($D29=\"\",IFERROR(INDEX(全国版!$D:$O,$B29,L$15),\"\")=\"\"),\"\",INDEX(全国版!$D:$O,$B29,L$15))","v":""},{"$f":"IF(OR($D29=\"\",IFERROR(INDEX(全国版!$D:$O,$B29,M$15),\"\")=\"\"),\"\",INDEX(全国版!$D:$O,$B29,M$15))","v":""},{"$f":"IF(OR($D29=\"\",IFERROR(INDEX(全国版!$D:$O,$B29,N$15),\"\")=\"\"),\"\",INDEX(全国版!$D:$O,$B29,N$15))","v":""},{"$f":"IF(OR($D29=\"\",IFERROR(INDEX(全国版!$D:$O,$B29,O$15),\"\")=\"\"),\"\",INDEX(全国版!$D:$O,$B29,O$15))","v":""},{"$f":"IF(OR($D29=\"\",IFERROR(INDEX(全国版!$D:$O,$B29,P$15),\"\")=\"\"),\"\",INDEX(全国版!$D:$O,$B29,P$15))","v":""}]
["埼玉県",{"$f":"MATCH(D30,全国版!C:C,0)","v":15},null,{"$f":"IF(OR(D29=\"\",$B$15=D29),\"\",D29+1)","v":12},{"$f":"IF(OR($D30=\"\",IFERROR(INDEX(全国版!$D:$O,$B30,E$15),\"\")=\"\"),\"\",INDEX(全国版!$D:$O,$B30,E$15))","v":"北海道"},{"$f":"IF(OR($D30=\"\",IFERROR(INDEX(全国版!$D:$O,$B30,F$15),\"\")=\"\"),\"\",INDEX(全国版!$D:$O,$B30,F$15))","v":"専門学校日本航空大学校北海道"},{"$f":"IF(OR($D30=\"\",IFERROR(INDEX(全国版!$D:$O,$B30,G$15),\"\")=\"\"),\"\",INDEX(全国版!$D:$O,$B30,G$15))","v":"工業専門課程　航空工学科"},{"$f":"IF(OR($D30=\"\",IFERROR(INDEX(全国版!$D:$O,$B30,H$15),\"\")=\"\"),\"\",INDEX(全国版!$D:$O,$B30,H$15))","v":"2022-03-04"},{"$f":"IF(OR($D30=\"\",IFERROR(INDEX(全国版!$D:$O,$B30,I$15),\"\")=\"\"),\"\",INDEX(全国版!$D:$O,$B30,I$15))","v":"～"},{"$f":"IF(OR($D30=\"\",IFERROR(INDEX(全国版!$D:$O,$B30,J$15),\"\")=\"\"),\"\",INDEX(全国版!$D:$O,$B30,J$15))","v":""},{"$f":"IF(OR($D30=\"\",IFERROR(INDEX(全国版!$D:$O,$B30,K$15),\"\")=\"\"),\"\",INDEX(全国版!$D:$O,$B30,K$15))","v":"2022-03-04"},{"$f":"IF(OR($D30=\"\",IFERROR(INDEX(全国版!$D:$O,$B30,L$15),\"\")=\"\"),\"\",INDEX(全国版!$D:$O,$B30,L$15))","v":""},{"$f":"IF(OR($D30=\"\",IFERROR(INDEX(全国版!$D:$O,$B30,M$15),\"\")=\"\"),\"\",INDEX(全国版!$D:$O,$B30,M$15))","v":""},{"$f":"IF(OR($D30=\"\",IFERROR(INDEX(全国版!$D:$O,$B30,N$15),\"\")=\"\"),\"\",INDEX(全国版!$D:$O,$B30,N$15))","v":""},{"$f":"IF(OR($D30=\"\",IFERROR(INDEX(全国版!$D:$O,$B30,O$15),\"\")=\"\"),\"\",INDEX(全国版!$D:$O,$B30,O$15))","v":""},{"$f":"IF(OR($D30=\"\",IFERROR(INDEX(全国版!$D:$O,$B30,P$15),\"\")=\"\"),\"\",INDEX(全国版!$D:$O,$B30,P$15))","v":""}]
["千葉県",{"$f":"MATCH(D31,全国版!C:C,0)","v":16},null,13,{"$f":"IF(OR($D31=\"\",IFERROR(INDEX(全国版!$D:$O,$B31,E$15),\"\")=\"\"),\"\",INDEX(全国版!$D:$O,$B31,E$15))","v":"北海道"},{"$f":"IF(OR($D31=\"\",IFERROR(INDEX(全国版!$D:$O,$B31,F$15),\"\")=\"\"),\"\",INDEX(全国版!$D:$O,$B31,F$15))","v":"専門学校日本福祉看護・診療放射線学院"},{"$f":"IF(OR($D31=\"\",IFERROR(INDEX(全国版!$D:$O,$B31,G$15),\"\")=\"\"),\"\",INDEX(全国版!$D:$O,$B31,G$15))","v":"医療専門課程　看護学科"},{"$f":"IF(OR($D31=\"\",IFERROR(INDEX(全国版!$D:$O,$B31,H$15),\"\")=\"\"),\"\",INDEX(全国版!$D:$O,$B31,H$15))","v":"2009-04-01"},{"$f":"IF(OR($D31=\"\",IFERROR(INDEX(全国版!$D:$O,$B31,I$15),\"\")=\"\"),\"\",INDEX(全国版!$D:$O,$B31,I$15))","v":"～"},{"$f":"IF(OR($D31=\"\",IFERROR(INDEX(全国版!$D:$O,$B31,J$15),\"\")=\"\"),\"\",INDEX(全国版!$D:$O,$B31,J$15))","v":"2017-03-31"},{"$f":"IF(OR($D31=\"\",IFERROR(INDEX(全国版!$D:$O,$B31,K$15),\"\")=\"\"),\"\",INDEX(全国版!$D:$O,$B31,K$15))","v":"2010-02-26"},{"$f":"IF(OR($D31=\"\",IFERROR(INDEX(全国版!$D:$O,$B31,L$15),\"\")=\"\"),\"\",INDEX(全国版!$D:$O,$B31,L$15))","v":"廃止"},{"$f":"IF(OR($D31=\"\",IFERROR(INDEX(全国版!$D:$O,$B31,M$15),\"\")=\"\"),\"\",INDEX(全国版!$D:$O,$B31,M$15))","v":""},{"$f":"IF(OR($D31=\"\",IFERROR(INDEX(全国版!$D:$O,$B31,N$15),\"\")=\"\"),\"\",INDEX(全国版!$D:$O,$B31,N$15))","v":""},{"$f":"IF(OR($D31=\"\",IFERROR(INDEX(全国版!$D:$O,$B31,O$15),\"\")=\"\"),\"\",INDEX(全国版!$D:$O,$B31,O$15))","v":"2017-03-31"},{"$f":"IF(OR($D31=\"\",IFERROR(INDEX(全国版!$D:$O,$B31,P$15),\"\")=\"\"),\"\",INDEX(全国版!$D:$O,$B31,P$15))","v":"2018-02-28"}]
["東京都",{"$f":"MATCH(D32,全国版!C:C,0)","v":17},null,14,{"$f":"IF(OR($D32=\"\",IFERROR(INDEX(全国版!$D:$O,$B32,E$15),\"\")=\"\"),\"\",INDEX(全国版!$D:$O,$B32,E$15))","v":"北海道"},{"$f":"IF(OR($D32=\"\",IFERROR(INDEX(全国版!$D:$O,$B32,F$15),\"\")=\"\"),\"\",INDEX(全国版!$D:$O,$B32,F$15))","v":"専門学校日本福祉看護・診療放射線学院"},{"$f":"IF(OR($D32=\"\",IFERROR(INDEX(全国版!$D:$O,$B32,G$15),\"\")=\"\"),\"\",INDEX(全国版!$D:$O,$B32,G$15))","v":"医療専門課程　診療放射線学科"},{"$f":"IF(OR($D32=\"\",IFERROR(INDEX(全国版!$D:$O,$B32,H$15),\"\")=\"\"),\"\",INDEX(全国版!$D:$O,$B32,H$15))","v":"2010-02-26"},{"$f":"IF(OR($D32=\"\",IFERROR(INDEX(全国版!$D:$O,$B32,I$15),\"\")=\"\"),\"\",INDEX(全国版!$D:$O,$B32,I$15))","v":"～"},{"$f":"IF(OR($D32=\"\",IFERROR(INDEX(全国版!$D:$O,$B32,J$15),\"\")=\"\"),\"\",INDEX(全国版!$D:$O,$B32,J$15))","v":"2019-03-31"},{"$f":"IF(OR($D32=\"\",IFERROR(INDEX(全国版!$D:$O,$B32,K$15),\"\")=\"\"),\"\",INDEX(全国版!$D:$O,$B32,K$15))","v":"2010-02-26"},{"$f":"IF(OR($D32=\"\",IFERROR(INDEX(全国版!$D:$O,$B32,L$15),\"\")=\"\"),\"\",INDEX(全国版!$D:$O,$B32,L$15))","v":"廃止"},{"$f":"IF(OR($D32=\"\",IFERROR(INDEX(全国版!$D:$O,$B32,M$15),\"\")=\"\"),\"\",INDEX(全国版!$D:$O,$B32,M$15))","v":""},{"$f":"IF(OR($D32=\"\",IFERROR(INDEX(全国版!$D:$O,$B32,N$15),\"\")=\"\"),\"\",INDEX(全国版!$D:$O,$B32,N$15))","v":""},{"$f":"IF(OR($D32=\"\",IFERROR(INDEX(全国版!$D:$O,$B32,O$15),\"\")=\"\"),\"\",INDEX(全国版!$D:$O,$B32,O$15))","v":"2019-03-31"},{"$f":"IF(OR($D32=\"\",IFERROR(INDEX(全国版!$D:$O,$B32,P$15),\"\")=\"\"),\"\",INDEX(全国版!$D:$O,$B32,P$15))","v":"2020-02-29"}]
["神奈川県",{"$f":"MATCH(D33,全国版!C:C,0)","v":18},null,15,{"$f":"IF(OR($D33=\"\",IFERROR(INDEX(全国版!$D:$O,$B33,E$15),\"\")=\"\"),\"\",INDEX(全国版!$D:$O,$B33,E$15))","v":"北海道"},{"$f":"IF(OR($D33=\"\",IFERROR(INDEX(全国版!$D:$O,$B33,F$15),\"\")=\"\"),\"\",INDEX(全国版!$D:$O,$B33,F$15))","v":"専門学校日本福祉看護学院"},{"$f":"IF(OR($D33=\"\",IFERROR(INDEX(全国版!$D:$O,$B33,G$15),\"\")=\"\"),\"\",INDEX(全国版!$D:$O,$B33,G$15))","v":"医療専門課程　看護学科"},{"$f":"IF(OR($D33=\"\",IFERROR(INDEX(全国版!$D:$O,$B33,H$15),\"\")=\"\"),\"\",INDEX(全国版!$D:$O,$B33,H$15))","v":"2005-12-09"},{"$f":"IF(OR($D33=\"\",IFERROR(INDEX(全国版!$D:$O,$B33,I$15),\"\")=\"\"),\"\",INDEX(全国版!$D:$O,$B33,I$15))","v":"～"},{"$f":"IF(OR($D33=\"\",IFERROR(INDEX(全国版!$D:$O,$B33,J$15),\"\")=\"\"),\"\",INDEX(全国版!$D:$O,$B33,J$15))","v":"2009-03-31"},{"$f":"IF(OR($D33=\"\",IFERROR(INDEX(全国版!$D:$O,$B33,K$15),\"\")=\"\"),\"\",INDEX(全国版!$D:$O,$B33,K$15))","v":"2005-12-09"},{"$f":"IF(OR($D33=\"\",IFERROR(INDEX(全国版!$D:$O,$B33,L$15),\"\")=\"\"),\"\",INDEX(全国版!$D:$O,$B33,L$15))","v":"名称変更"},{"$f":"IF(OR($D33=\"\",IFERROR(INDEX(全国版!$D:$O,$B33,M$15),\"\")=\"\"),\"\",INDEX(全国版!$D:$O,$B33,M$15))","v":"専門学校日本福祉看護・診療放射線学院"},{"$f":"IF(OR($D33=\"\",IFERROR(INDEX(全国版!$D:$O,$B33,N$15),\"\")=\"\"),\"\",INDEX(全国版!$D:$O,$B33,N$15))","v":"医療専門課程　看護学科"},{"$f":"IF(OR($D33=\"\",IFERROR(INDEX(全国版!$D:$O,$B33,O$15),\"\")=\"\"),\"\",INDEX(全国版!$D:$O,$B33,O$15))","v":"2009-04-01"},{"$f":"IF(OR($D33=\"\",IFERROR(INDEX(全国版!$D:$O,$B33,P$15),\"\")=\"\"),\"\",INDEX(全国版!$D:$O,$B33,P$15))","v":"2010-02-26"}]
["新潟県",{"$f":"MATCH(D34,全国版!C:C,0)","v":19},null,16,{"$f":"IF(OR($D34=\"\",IFERROR(INDEX(全国版!$D:$O,$B34,E$15),\"\")=\"\"),\"\",INDEX(全国版!$D:$O,$B34,E$15))","v":"北海道"},{"$f":"IF(OR($D34=\"\",IFERROR(INDEX(全国版!$D:$O,$B34,F$15),\"\")=\"\"),\"\",INDEX(全国版!$D:$O,$B34,F$15))","v":"専門学校日本福祉リハビリテーション学院"},{"$f":"IF(OR($D34=\"\",IFERROR(INDEX(全国版!$D:$O,$B34,G$15),\"\")=\"\"),\"\",INDEX(全国版!$D:$O,$B34,G$15))","v":"医療専門課程　言語聴覚学科"},{"$f":"IF(OR($D34=\"\",IFERROR(INDEX(全国版!$D:$O,$B34,H$15),\"\")=\"\"),\"\",INDEX(全国版!$D:$O,$B34,H$15))","v":"2007-02-28"},{"$f":"IF(OR($D34=\"\",IFERROR(INDEX(全国版!$D:$O,$B34,I$15),\"\")=\"\"),\"\",INDEX(全国版!$D:$O,$B34,I$15))","v":"～"},{"$f":"IF(OR($D34=\"\",IFERROR(INDEX(全国版!$D:$O,$B34,J$15),\"\")=\"\"),\"\",INDEX(全国版!$D:$O,$B34,J$15))","v":""},{"$f":"IF(OR($D34=\"\",IFERROR(INDEX(全国版!$D:$O,$B34,K$15),\"\")=\"\"),\"\",INDEX(全国版!$D:$O,$B34,K$15))","v":"2007-02-28"},{"$f":"IF(OR($D34=\"\",IFERROR(INDEX(全国版!$D:$O,$B34,L$15),\"\")=\"\"),\"\",INDEX(全国版!$D:$O,$B34,L$15))","v":""},{"$f":"IF(OR($D34=\"\",IFERROR(INDEX(全国版!$D:$O,$B34,M$15),\"\")=\"\"),\"\",INDEX(全国版!$D:$O,$B34,M$15))","v":""},{"$f":"IF(OR($D34=\"\",IFERROR(INDEX(全国版!$D:$O,$B34,N$15),\"\")=\"\"),\"\",INDEX(全国版!$D:$O,$B34,N$15))","v":""},{"$f":"IF(OR($D34=\"\",IFERROR(INDEX(全国版!$D:$O,$B34,O$15),\"\")=\"\"),\"\",INDEX(全国版!$D:$O,$B34,O$15))","v":""},{"$f":"IF(OR($D34=\"\",IFERROR(INDEX(全国版!$D:$O,$B34,P$15),\"\")=\"\"),\"\",INDEX(全国版!$D:$O,$B34,P$15))","v":""}]
["富山県",{"$f":"MATCH(D35,全国版!C:C,0)","v":20},null,17,{"$f":"IF(OR($D35=\"\",IFERROR(INDEX(全国版!$D:$O,$B35,E$15),\"\")=\"\"),\"\",INDEX(全国版!$D:$O,$B35,E$15))","v":"北海道"},{"$f":"IF(OR($D35=\"\",IFERROR(INDEX(全国版!$D:$O,$B35,F$15),\"\")=\"\"),\"\",INDEX(全国版!$D:$O,$B35,F$15))","v":"専門学校日本福祉リハビリテーション学院"},{"$f":"IF(OR($D35=\"\",IFERROR(INDEX(全国版!$D:$O,$B35,G$15),\"\")=\"\"),\"\",INDEX(全国版!$D:$O,$B35,G$15))","v":"医療専門課程　作業療法学科"},{"$f":"IF(OR($D35=\"\",IFERROR(INDEX(全国版!$D:$O,$B35,H$15),\"\")=\"\"),\"\",INDEX(全国版!$D:$O,$B35,H$15))","v":"2005-12-09"},{"$f":"IF(OR($D35=\"\",IFERROR(INDEX(全国版!$D:$O,$B35,I$15),\"\")=\"\"),\"\",INDEX(全国版!$D:$O,$B35,I$15))","v":"～"},{"$f":"IF(OR($D35=\"\",IFERROR(INDEX(全国版!$D:$O,$B35,J$15),\"\")=\"\"),\"\",INDEX(全国版!$D:$O,$B35,J$15))","v":""},{"$f":"IF(OR($D35=\"\",IFERROR(INDEX(全国版!$D:$O,$B35,K$15),\"\")=\"\"),\"\",INDEX(全国版!$D:$O,$B35,K$15))","v":"2005-12-09"},{"$f":"IF(OR($D35=\"\",IFERROR(INDEX(全国版!$D:$O,$B35,L$15),\"\")=\"\"),\"\",INDEX(全国版!$D:$O,$B35,L$15))","v":""},{"$f":"IF(OR($D35=\"\",IFERROR(INDEX(全国版!$D:$O,$B35,M$15),\"\")=\"\"),\"\",INDEX(全国版!$D:$O,$B35,M$15))","v":""},{"$f":"IF(OR($D35=\"\",IFERROR(INDEX(全国版!$D:$O,$B35,N$15),\"\")=\"\"),\"\",INDEX(全国版!$D:$O,$B35,N$15))","v":""},{"$f":"IF(OR($D35=\"\",IFERROR(INDEX(全国版!$D:$O,$B35,O$15),\"\")=\"\"),\"\",INDEX(全国版!$D:$O,$B35,O$15))","v":""},{"$f":"IF(OR($D35=\"\",IFERROR(INDEX(全国版!$D:$O,$B35,P$15),\"\")=\"\"),\"\",INDEX(全国版!$D:$O,$B35,P$15))","v":""}]
["石川県",{"$f":"MATCH(D36,全国版!C:C,0)","v":21},null,18,{"$f":"IF(OR($D36=\"\",IFERROR(INDEX(全国版!$D:$O,$B36,E$15),\"\")=\"\"),\"\",INDEX(全国版!$D:$O,$B36,E$15))","v":"北海道"},{"$f":"IF(OR($D36=\"\",IFERROR(INDEX(全国版!$D:$O,$B36,F$15),\"\")=\"\"),\"\",INDEX(全国版!$D:$O,$B36,F$15))","v":"専門学校日本福祉リハビリテーション学院"},{"$f":"IF(OR($D36=\"\",IFERROR(INDEX(全国版!$D:$O,$B36,G$15),\"\")=\"\"),\"\",INDEX(全国版!$D:$O,$B36,G$15))","v":"医療専門課程　診療放射線学科"},{"$f":"IF(OR($D36=\"\",IFERROR(INDEX(全国版!$D:$O,$B36,H$15),\"\")=\"\"),\"\",INDEX(全国版!$D:$O,$B36,H$15))","v":"2007-02-28"},{"$f":"IF(OR($D36=\"\",IFERROR(INDEX(全国版!$D:$O,$B36,I$15),\"\")=\"\"),\"\",INDEX(全国版!$D:$O,$B36,I$15))","v":"～"},{"$f":"IF(OR($D36=\"\",IFERROR(INDEX(全国版!$D:$O,$B36,J$15),\"\")=\"\"),\"\",INDEX(全国版!$D:$O,$B36,J$15))","v":"2009-03-31"},{"$f":"IF(OR($D36=\"\",IFERROR(INDEX(全国版!$D:$O,$B36,K$15),\"\")=\"\"),\"\",INDEX(全国版!$D:$O,$B36,K$15))","v":"2007-02-28"},{"$f":"IF(OR($D36=\"\",IFERROR(INDEX(全国版!$D:$O,$B36,L$15),\"\")=\"\"),\"\",INDEX(全国版!$D:$O,$B36,L$15))","v":"廃止"},{"$f":"IF(OR($D36=\"\",IFERROR(INDEX(全国版!$D:$O,$B36,M$15),\"\")=\"\"),\"\",INDEX(全国版!$D:$O,$B36,M$15))","v":""},{"$f":"IF(OR($D36=\"\",IFERROR(INDEX(全国版!$D:$O,$B36,N$15),\"\")=\"\"),\"\",INDEX(全国版!$D:$O,$B36,N$15))","v":""},{"$f":"IF(OR($D36=\"\",IFERROR(INDEX(全国版!$D:$O,$B36,O$15),\"\")=\"\"),\"\",INDEX(全国版!$D:$O,$B36,O$15))","v":"2009-03-31"},{"$f":"IF(OR($D36=\"\",IFERROR(INDEX(全国版!$D:$O,$B36,P$15),\"\")=\"\"),\"\",INDEX(全国版!$D:$O,$B36,P$15))","v":"2010-02-26"}]
["福井県",{"$f":"MATCH(D37,全国版!C:C,0)","v":22},null,19,{"$f":"IF(OR($D37=\"\",IFERROR(INDEX(全国版!$D:$O,$B37,E$15),\"\")=\"\"),\"\",INDEX(全国版!$D:$O,$B37,E$15))","v":"北海道"},{"$f":"IF(OR($D37=\"\",IFERROR(INDEX(全国版!$D:$O,$B37,F$15),\"\")=\"\"),\"\",INDEX(全国版!$D:$O,$B37,F$15))","v":"専門学校日本福祉リハビリテーション学院"},{"$f":"IF(OR($D37=\"\",IFERROR(INDEX(全国版!$D:$O,$B37,G$15),\"\")=\"\"),\"\",INDEX(全国版!$D:$O,$B37,G$15))","v":"医療専門課程　理学療法学科"},{"$f":"IF(OR($D37=\"\",IFERROR(INDEX(全国版!$D:$O,$B37,H$15),\"\")=\"\"),\"\",INDEX(全国版!$D:$O,$B37,H$15))","v":"2005-12-09"},{"$f":"IF(OR($D37=\"\",IFERROR(INDEX(全国版!$D:$O,$B37,I$15),\"\")=\"\"),\"\",INDEX(全国版!$D:$O,$B37,I$15))","v":"～"},{"$f":"IF(OR($D37=\"\",IFERROR(INDEX(全国版!$D:$O,$B37,J$15),\"\")=\"\"),\"\",INDEX(全国版!$D:$O,$B37,J$15))","v":""},{"$f":"IF(OR($D37=\"\",IFERROR(INDEX(全国版!$D:$O,$B37,K$15),\"\")=\"\"),\"\",INDEX(全国版!$D:$O,$B37,K$15))","v":"2005-12-09"},{"$f":"IF(OR($D37=\"\",IFERROR(INDEX(全国版!$D:$O,$B37,L$15),\"\")=\"\"),\"\",INDEX(全国版!$D:$O,$B37,L$15))","v":""},{"$f":"IF(OR($D37=\"\",IFERROR(INDEX(全国版!$D:$O,$B37,M$15),\"\")=\"\"),\"\",INDEX(全国版!$D:$O,$B37,M$15))","v":""},{"$f":"IF(OR($D37=\"\",IFERROR(INDEX(全国版!$D:$O,$B37,N$15),\"\")=\"\"),\"\",INDEX(全国版!$D:$O,$B37,N$15))","v":""},{"$f":"IF(OR($D37=\"\",IFERROR(INDEX(全国版!$D:$O,$B37,O$15),\"\")=\"\"),\"\",INDEX(全国版!$D:$O,$B37,O$15))","v":""},{"$f":"IF(OR($D37=\"\",IFERROR(INDEX(全国版!$D:$O,$B37,P$15),\"\")=\"\"),\"\",INDEX(全国版!$D:$O,$B37,P$15))","v":""}]
["山梨県",{"$f":"MATCH(D38,全国版!C:C,0)","v":23},null,20,{"$f":"IF(OR($D38=\"\",IFERROR(INDEX(全国版!$D:$O,$B38,E$15),\"\")=\"\"),\"\",INDEX(全国版!$D:$O,$B38,E$15))","v":"北海道"},{"$f":"IF(OR($D38=\"\",IFERROR(INDEX(全国版!$D:$O,$B38,F$15),\"\")=\"\"),\"\",INDEX(全国版!$D:$O,$B38,F$15))","v":"専門学校北海道自動車整備大学校"},{"$f":"IF(OR($D38=\"\",IFERROR(INDEX(全国版!$D:$O,$B38,G$15),\"\")=\"\"),\"\",INDEX(全国版!$D:$O,$B38,G$15))","v":"工業専門課程　一級自動車整備学科"},{"$f":"IF(OR($D38=\"\",IFERROR(INDEX(全国版!$D:$O,$B38,H$15),\"\")=\"\"),\"\",INDEX(全国版!$D:$O,$B38,H$15))","v":"2006-06-30"},{"$f":"IF(OR($D38=\"\",IFERROR(INDEX(全国版!$D:$O,$B38,I$15),\"\")=\"\"),\"\",INDEX(全国版!$D:$O,$B38,I$15))","v":"～"},{"$f":"IF(OR($D38=\"\",IFERROR(INDEX(全国版!$D:$O,$B38,J$15),\"\")=\"\"),\"\",INDEX(全国版!$D:$O,$B38,J$15))","v":""},{"$f":"IF(OR($D38=\"\",IFERROR(INDEX(全国版!$D:$O,$B38,K$15),\"\")=\"\"),\"\",INDEX(全国版!$D:$O,$B38,K$15))","v":"2006-06-30"},{"$f":"IF(OR($D38=\"\",IFERROR(INDEX(全国版!$D:$O,$B38,L$15),\"\")=\"\"),\"\",INDEX(全国版!$D:$O,$B38,L$15))","v":""},{"$f":"IF(OR($D38=\"\",IFERROR(INDEX(全国版!$D:$O,$B38,M$15),\"\")=\"\"),\"\",INDEX(全国版!$D:$O,$B38,M$15))","v":""},{"$f":"IF(OR($D38=\"\",IFERROR(INDEX(全国版!$D:$O,$B38,N$15),\"\")=\"\"),\"\",INDEX(全国版!$D:$O,$B38,N$15))","v":""},{"$f":"IF(OR($D38=\"\",IFERROR(INDEX(全国版!$D:$O,$B38,O$15),\"\")=\"\"),\"\",INDEX(全国版!$D:$O,$B38,O$15))","v":""},{"$f":"IF(OR($D38=\"\",IFERROR(INDEX(全国版!$D:$O,$B38,P$15),\"\")=\"\"),\"\",INDEX(全国版!$D:$O,$B38,P$15))","v":""}]
["長野県",{"$f":"MATCH(D39,全国版!C:C,0)","v":24},null,21,{"$f":"IF(OR($D39=\"\",IFERROR(INDEX(全国版!$D:$O,$B39,E$15),\"\")=\"\"),\"\",INDEX(全国版!$D:$O,$B39,E$15))","v":"北海道"},{"$f":"IF(OR($D39=\"\",IFERROR(INDEX(全国版!$D:$O,$B39,F$15),\"\")=\"\"),\"\",INDEX(全国版!$D:$O,$B39,F$15))","v":"専門学校北海道体育大学校"},{"$f":"IF(OR($D39=\"\",IFERROR(INDEX(全国版!$D:$O,$B39,G$15),\"\")=\"\"),\"\",INDEX(全国版!$D:$O,$B39,G$15))","v":"文化・教養専門課程　スポーツ未来学科"},{"$f":"IF(OR($D39=\"\",IFERROR(INDEX(全国版!$D:$O,$B39,H$15),\"\")=\"\"),\"\",INDEX(全国版!$D:$O,$B39,H$15))","v":"2008-02-29"},{"$f":"IF(OR($D39=\"\",IFERROR(INDEX(全国版!$D:$O,$B39,I$15),\"\")=\"\"),\"\",INDEX(全国版!$D:$O,$B39,I$15))","v":"～"},{"$f":"IF(OR($D39=\"\",IFERROR(INDEX(全国版!$D:$O,$B39,J$15),\"\")=\"\"),\"\",INDEX(全国版!$D:$O,$B39,J$15))","v":"2017-03-31"},{"$f":"IF(OR($D39=\"\",IFERROR(INDEX(全国版!$D:$O,$B39,K$15),\"\")=\"\"),\"\",INDEX(全国版!$D:$O,$B39,K$15))","v":"2008-02-29"},{"$f":"IF(OR($D39=\"\",IFERROR(INDEX(全国版!$D:$O,$B39,L$15),\"\")=\"\"),\"\",INDEX(全国版!$D:$O,$B39,L$15))","v":"名称変更"},{"$f":"IF(OR($D39=\"\",IFERROR(INDEX(全国版!$D:$O,$B39,M$15),\"\")=\"\"),\"\",INDEX(全国版!$D:$O,$B39,M$15))","v":"北海道スポーツ専門学校"},{"$f":"IF(OR($D39=\"\",IFERROR(INDEX(全国版!$D:$O,$B39,N$15),\"\")=\"\"),\"\",INDEX(全国版!$D:$O,$B39,N$15))","v":"文化・教養専門課程　スポーツ未来学科"},{"$f":"IF(OR($D39=\"\",IFERROR(INDEX(全国版!$D:$O,$B39,O$15),\"\")=\"\"),\"\",INDEX(全国版!$D:$O,$B39,O$15))","v":"2017-04-01"},{"$f":"IF(OR($D39=\"\",IFERROR(INDEX(全国版!$D:$O,$B39,P$15),\"\")=\"\"),\"\",INDEX(全国版!$D:$O,$B39,P$15))","v":"2018-02-28"}]
["岐阜県",{"$f":"MATCH(D40,全国版!C:C,0)","v":25},null,22,{"$f":"IF(OR($D40=\"\",IFERROR(INDEX(全国版!$D:$O,$B40,E$15),\"\")=\"\"),\"\",INDEX(全国版!$D:$O,$B40,E$15))","v":"北海道"},{"$f":"IF(OR($D40=\"\",IFERROR(INDEX(全国版!$D:$O,$B40,F$15),\"\")=\"\"),\"\",INDEX(全国版!$D:$O,$B40,F$15))","v":"専門学校北海道福祉・保育大学校"},{"$f":"IF(OR($D40=\"\",IFERROR(INDEX(全国版!$D:$O,$B40,G$15),\"\")=\"\"),\"\",INDEX(全国版!$D:$O,$B40,G$15))","v":"教育・社会福祉専門課程　社会福祉学科"},{"$f":"IF(OR($D40=\"\",IFERROR(INDEX(全国版!$D:$O,$B40,H$15),\"\")=\"\"),\"\",INDEX(全国版!$D:$O,$B40,H$15))","v":"2019-04-01"},{"$f":"IF(OR($D40=\"\",IFERROR(INDEX(全国版!$D:$O,$B40,I$15),\"\")=\"\"),\"\",INDEX(全国版!$D:$O,$B40,I$15))","v":"～"},{"$f":"IF(OR($D40=\"\",IFERROR(INDEX(全国版!$D:$O,$B40,J$15),\"\")=\"\"),\"\",INDEX(全国版!$D:$O,$B40,J$15))","v":""},{"$f":"IF(OR($D40=\"\",IFERROR(INDEX(全国版!$D:$O,$B40,K$15),\"\")=\"\"),\"\",INDEX(全国版!$D:$O,$B40,K$15))","v":"2020-02-29"},{"$f":"IF(OR($D40=\"\",IFERROR(INDEX(全国版!$D:$O,$B40,L$15),\"\")=\"\"),\"\",INDEX(全国版!$D:$O,$B40,L$15))","v":""},{"$f":"IF(OR($D40=\"\",IFERROR(INDEX(全国版!$D:$O,$B40,M$15),\"\")=\"\"),\"\",INDEX(全国版!$D:$O,$B40,M$15))","v":""},{"$f":"IF(OR($D40=\"\",IFERROR(INDEX(全国版!$D:$O,$B40,N$15),\"\")=\"\"),\"\",INDEX(全国版!$D:$O,$B40,N$15))","v":""},{"$f":"IF(OR($D40=\"\",IFERROR(INDEX(全国版!$D:$O,$B40,O$15),\"\")=\"\"),\"\",INDEX(全国版!$D:$O,$B40,O$15))","v":""},{"$f":"IF(OR($D40=\"\",IFERROR(INDEX(全国版!$D:$O,$B40,P$15),\"\")=\"\"),\"\",INDEX(全国版!$D:$O,$B40,P$15))","v":""}]
["静岡県",{"$f":"MATCH(D41,全国版!C:C,0)","v":26},null,23,{"$f":"IF(OR($D41=\"\",IFERROR(INDEX(全国版!$D:$O,$B41,E$15),\"\")=\"\"),\"\",INDEX(全国版!$D:$O,$B41,E$15))","v":"北海道"},{"$f":"IF(OR($D41=\"\",IFERROR(INDEX(全国版!$D:$O,$B41,F$15),\"\")=\"\"),\"\",INDEX(全国版!$D:$O,$B41,F$15))","v":"専門学校北海道福祉大学校"},{"$f":"IF(OR($D41=\"\",IFERROR(INDEX(全国版!$D:$O,$B41,G$15),\"\")=\"\"),\"\",INDEX(全国版!$D:$O,$B41,G$15))","v":"教育・社会福祉専門課程　社会福祉学科"},{"$f":"IF(OR($D41=\"\",IFERROR(INDEX(全国版!$D:$O,$B41,H$15),\"\")=\"\"),\"\",INDEX(全国版!$D:$O,$B41,H$15))","v":"2009-02-27"},{"$f":"IF(OR($D41=\"\",IFERROR(INDEX(全国版!$D:$O,$B41,I$15),\"\")=\"\"),\"\",INDEX(全国版!$D:$O,$B41,I$15))","v":"～"},{"$f":"IF(OR($D41=\"\",IFERROR(INDEX(全国版!$D:$O,$B41,J$15),\"\")=\"\"),\"\",INDEX(全国版!$D:$O,$B41,J$15))","v":"2019-03-31"},{"$f":"IF(OR($D41=\"\",IFERROR(INDEX(全国版!$D:$O,$B41,K$15),\"\")=\"\"),\"\",INDEX(全国版!$D:$O,$B41,K$15))","v":"2009-02-27"},{"$f":"IF(OR($D41=\"\",IFERROR(INDEX(全国版!$D:$O,$B41,L$15),\"\")=\"\"),\"\",INDEX(全国版!$D:$O,$B41,L$15))","v":"名称変更"},{"$f":"IF(OR($D41=\"\",IFERROR(INDEX(全国版!$D:$O,$B41,M$15),\"\")=\"\"),\"\",INDEX(全国版!$D:$O,$B41,M$15))","v":"専門学校北海道福祉・保育大学校"},{"$f":"IF(OR($D41=\"\",IFERROR(INDEX(全国版!$D:$O,$B41,N$15),\"\")=\"\"),\"\",INDEX(全国版!$D:$O,$B41,N$15))","v":"教育・社会福祉専門課程　社会福祉学科"},{"$f":"IF(OR($D41=\"\",IFERROR(INDEX(全国版!$D:$O,$B41,O$15),\"\")=\"\"),\"\",INDEX(全国版!$D:$O,$B41,O$15))","v":"2019-04-01"},{"$f":"IF(OR($D41=\"\",IFERROR(INDEX(全国版!$D:$O,$B41,P$15),\"\")=\"\"),\"\",INDEX(全国版!$D:$O,$B41,P$15))","v":"2020-02-29"}]
["愛知県",{"$f":"MATCH(D42,全国版!C:C,0)","v":27},null,24,{"$f":"IF(OR($D42=\"\",IFERROR(INDEX(全国版!$D:$O,$B42,E$15),\"\")=\"\"),\"\",INDEX(全国版!$D:$O,$B42,E$15))","v":"北海道"},{"$f":"IF(OR($D42=\"\",IFERROR(INDEX(全国版!$D:$O,$B42,F$15),\"\")=\"\"),\"\",INDEX(全国版!$D:$O,$B42,F$15))","v":"専門学校北海道保健看護大学校"},{"$f":"IF(OR($D42=\"\",IFERROR(INDEX(全国版!$D:$O,$B42,G$15),\"\")=\"\"),\"\",INDEX(全国版!$D:$O,$B42,G$15))","v":"医療専門課程　保健看護学科"},{"$f":"IF(OR($D42=\"\",IFERROR(INDEX(全国版!$D:$O,$B42,H$15),\"\")=\"\"),\"\",INDEX(全国版!$D:$O,$B42,H$15))","v":"2006-04-01"},{"$f":"IF(OR($D42=\"\",IFERROR(INDEX(全国版!$D:$O,$B42,I$15),\"\")=\"\"),\"\",INDEX(全国版!$D:$O,$B42,I$15))","v":"～"},{"$f":"IF(OR($D42=\"\",IFERROR(INDEX(全国版!$D:$O,$B42,J$15),\"\")=\"\"),\"\",INDEX(全国版!$D:$O,$B42,J$15))","v":"2016-03-31"},{"$f":"IF(OR($D42=\"\",IFERROR(INDEX(全国版!$D:$O,$B42,K$15),\"\")=\"\"),\"\",INDEX(全国版!$D:$O,$B42,K$15))","v":"2007-02-28"},{"$f":"IF(OR($D42=\"\",IFERROR(INDEX(全国版!$D:$O,$B42,L$15),\"\")=\"\"),\"\",INDEX(全国版!$D:$O,$B42,L$15))","v":"廃止"},{"$f":"IF(OR($D42=\"\",IFERROR(INDEX(全国版!$D:$O,$B42,M$15),\"\")=\"\"),\"\",INDEX(全国版!$D:$O,$B42,M$15))","v":""},{"$f":"IF(OR($D42=\"\",IFERROR(INDEX(全国版!$D:$O,$B42,N$15),\"\")=\"\"),\"\",INDEX(全国版!$D:$O,$B42,N$15))","v":""},{"$f":"IF(OR($D42=\"\",IFERROR(INDEX(全国版!$D:$O,$B42,O$15),\"\")=\"\"),\"\",INDEX(全国版!$D:$O,$B42,O$15))","v":"2016-03-31"},{"$f":"IF(OR($D42=\"\",IFERROR(INDEX(全国版!$D:$O,$B42,P$15),\"\")=\"\"),\"\",INDEX(全国版!$D:$O,$B42,P$15))","v":"2018-02-28"}]
["三重県",{"$f":"MATCH(D43,全国版!C:C,0)","v":28},null,25,{"$f":"IF(OR($D43=\"\",IFERROR(INDEX(全国版!$D:$O,$B43,E$15),\"\")=\"\"),\"\",INDEX(全国版!$D:$O,$B43,E$15))","v":"北海道"},{"$f":"IF(OR($D43=\"\",IFERROR(INDEX(全国版!$D:$O,$B43,F$15),\"\")=\"\"),\"\",INDEX(全国版!$D:$O,$B43,F$15))","v":"専門学校北海道リハビリテーション大学校"},{"$f":"IF(OR($D43=\"\",IFERROR(INDEX(全国版!$D:$O,$B43,G$15),\"\")=\"\"),\"\",INDEX(全国版!$D:$O,$B43,G$15))","v":"医療専門課程　作業療法学科"},{"$f":"IF(OR($D43=\"\",IFERROR(INDEX(全国版!$D:$O,$B43,H$15),\"\")=\"\"),\"\",INDEX(全国版!$D:$O,$B43,H$15))","v":"2006-04-01"},{"$f":"IF(OR($D43=\"\",IFERROR(INDEX(全国版!$D:$O,$B43,I$15),\"\")=\"\"),\"\",INDEX(全国版!$D:$O,$B43,I$15))","v":"～"},{"$f":"IF(OR($D43=\"\",IFERROR(INDEX(全国版!$D:$O,$B43,J$15),\"\")=\"\"),\"\",INDEX(全国版!$D:$O,$B43,J$15))","v":""},{"$f":"IF(OR($D43=\"\",IFERROR(INDEX(全国版!$D:$O,$B43,K$15),\"\")=\"\"),\"\",INDEX(全国版!$D:$O,$B43,K$15))","v":"2007-02-28"},{"$f":"IF(OR($D43=\"\",IFERROR(INDEX(全国版!$D:$O,$B43,L$15),\"\")=\"\"),\"\",INDEX(全国版!$D:$O,$B43,L$15))","v":""},{"$f":"IF(OR($D43=\"\",IFERROR(INDEX(全国版!$D:$O,$B43,M$15),\"\")=\"\"),\"\",INDEX(全国版!$D:$O,$B43,M$15))","v":""},{"$f":"IF(OR($D43=\"\",IFERROR(INDEX(全国版!$D:$O,$B43,N$15),\"\")=\"\"),\"\",INDEX(全国版!$D:$O,$B43,N$15))","v":""},{"$f":"IF(OR($D43=\"\",IFERROR(INDEX(全国版!$D:$O,$B43,O$15),\"\")=\"\"),\"\",INDEX(全国版!$D:$O,$B43,O$15))","v":""},{"$f":"IF(OR($D43=\"\",IFERROR(INDEX(全国版!$D:$O,$B43,P$15),\"\")=\"\"),\"\",INDEX(全国版!$D:$O,$B43,P$15))","v":""}]
["滋賀県",{"$f":"MATCH(D44,全国版!C:C,0)","v":29},null,26,{"$f":"IF(OR($D44=\"\",IFERROR(INDEX(全国版!$D:$O,$B44,E$15),\"\")=\"\"),\"\",INDEX(全国版!$D:$O,$B44,E$15))","v":"北海道"},{"$f":"IF(OR($D44=\"\",IFERROR(INDEX(全国版!$D:$O,$B44,F$15),\"\")=\"\"),\"\",INDEX(全国版!$D:$O,$B44,F$15))","v":"専門学校北海道リハビリテーション大学校"},{"$f":"IF(OR($D44=\"\",IFERROR(INDEX(全国版!$D:$O,$B44,G$15),\"\")=\"\"),\"\",INDEX(全国版!$D:$O,$B44,G$15))","v":"医療専門課程　理学療法学科"},{"$f":"IF(OR($D44=\"\",IFERROR(INDEX(全国版!$D:$O,$B44,H$15),\"\")=\"\"),\"\",INDEX(全国版!$D:$O,$B44,H$15))","v":"2006-04-01"},{"$f":"IF(OR($D44=\"\",IFERROR(INDEX(全国版!$D:$O,$B44,I$15),\"\")=\"\"),\"\",INDEX(全国版!$D:$O,$B44,I$15))","v":"～"},{"$f":"IF(OR($D44=\"\",IFERROR(INDEX(全国版!$D:$O,$B44,J$15),\"\")=\"\"),\"\",INDEX(全国版!$D:$O,$B44,J$15))","v":""},{"$f":"IF(OR($D44=\"\",IFERROR(INDEX(全国版!$D:$O,$B44,K$15),\"\")=\"\"),\"\",INDEX(全国版!$D:$O,$B44,K$15))","v":"2007-02-28"},{"$f":"IF(OR($D44=\"\",IFERROR(INDEX(全国版!$D:$O,$B44,L$15),\"\")=\"\"),\"\",INDEX(全国版!$D:$O,$B44,L$15))","v":""},{"$f":"IF(OR($D44=\"\",IFERROR(INDEX(全国版!$D:$O,$B44,M$15),\"\")=\"\"),\"\",INDEX(全国版!$D:$O,$B44,M$15))","v":""},{"$f":"IF(OR($D44=\"\",IFERROR(INDEX(全国版!$D:$O,$B44,N$15),\"\")=\"\"),\"\",INDEX(全国版!$D:$O,$B44,N$15))","v":""},{"$f":"IF(OR($D44=\"\",IFERROR(INDEX(全国版!$D:$O,$B44,O$15),\"\")=\"\"),\"\",INDEX(全国版!$D:$O,$B44,O$15))","v":""},{"$f":"IF(OR($D44=\"\",IFERROR(INDEX(全国版!$D:$O,$B44,P$15),\"\")=\"\"),\"\",INDEX(全国版!$D:$O,$B44,P$15))","v":""}]
["京都府",{"$f":"MATCH(D45,全国版!C:C,0)","v":30},null,27,{"$f":"IF(OR($D45=\"\",IFERROR(INDEX(全国版!$D:$O,$B45,E$15),\"\")=\"\"),\"\",INDEX(全国版!$D:$O,$B45,E$15))","v":"北海道"},{"$f":"IF(OR($D45=\"\",IFERROR(INDEX(全国版!$D:$O,$B45,F$15),\"\")=\"\"),\"\",INDEX(全国版!$D:$O,$B45,F$15))","v":"ディーズファッション専門学校"},{"$f":"IF(OR($D45=\"\",IFERROR(INDEX(全国版!$D:$O,$B45,G$15),\"\")=\"\"),\"\",INDEX(全国版!$D:$O,$B45,G$15))","v":"文化・教養専門課程　ＡＩ＆テクノロジー科"},{"$f":"IF(OR($D45=\"\",IFERROR(INDEX(全国版!$D:$O,$B45,H$15),\"\")=\"\"),\"\",INDEX(全国版!$D:$O,$B45,H$15))","v":"2022-03-04"},{"$f":"IF(OR($D45=\"\",IFERROR(INDEX(全国版!$D:$O,$B45,I$15),\"\")=\"\"),\"\",INDEX(全国版!$D:$O,$B45,I$15))","v":"～"},{"$f":"IF(OR($D45=\"\",IFERROR(INDEX(全国版!$D:$O,$B45,J$15),\"\")=\"\"),\"\",INDEX(全国版!$D:$O,$B45,J$15))","v":""},{"$f":"IF(OR($D45=\"\",IFERROR(INDEX(全国版!$D:$O,$B45,K$15),\"\")=\"\"),\"\",INDEX(全国版!$D:$O,$B45,K$15))","v":"2022-03-04"},{"$f":"IF(OR($D45=\"\",IFERROR(INDEX(全国版!$D:$O,$B45,L$15),\"\")=\"\"),\"\",INDEX(全国版!$D:$O,$B45,L$15))","v":""},{"$f":"IF(OR($D45=\"\",IFERROR(INDEX(全国版!$D:$O,$B45,M$15),\"\")=\"\"),\"\",INDEX(全国版!$D:$O,$B45,M$15))","v":""},{"$f":"IF(OR($D45=\"\",IFERROR(INDEX(全国版!$D:$O,$B45,N$15),\"\")=\"\"),\"\",INDEX(全国版!$D:$O,$B45,N$15))","v":""},{"$f":"IF(OR($D45=\"\",IFERROR(INDEX(全国版!$D:$O,$B45,O$15),\"\")=\"\"),\"\",INDEX(全国版!$D:$O,$B45,O$15))","v":""},{"$f":"IF(OR($D45=\"\",IFERROR(INDEX(全国版!$D:$O,$B45,P$15),\"\")=\"\"),\"\",INDEX(全国版!$D:$O,$B45,P$15))","v":""}]
["大阪府",{"$f":"MATCH(D46,全国版!C:C,0)","v":31},null,28,{"$f":"IF(OR($D46=\"\",IFERROR(INDEX(全国版!$D:$O,$B46,E$15),\"\")=\"\"),\"\",INDEX(全国版!$D:$O,$B46,E$15))","v":"北海道"},{"$f":"IF(OR($D46=\"\",IFERROR(INDEX(全国版!$D:$O,$B46,F$15),\"\")=\"\"),\"\",INDEX(全国版!$D:$O,$B46,F$15))","v":"日本工学院北海道専門学校"},{"$f":"IF(OR($D46=\"\",IFERROR(INDEX(全国版!$D:$O,$B46,G$15),\"\")=\"\"),\"\",INDEX(全国版!$D:$O,$B46,G$15))","v":"工業専門課程　ＩＴスペシャリスト科"},{"$f":"IF(OR($D46=\"\",IFERROR(INDEX(全国版!$D:$O,$B46,H$15),\"\")=\"\"),\"\",INDEX(全国版!$D:$O,$B46,H$15))","v":"2022-03-04"},{"$f":"IF(OR($D46=\"\",IFERROR(INDEX(全国版!$D:$O,$B46,I$15),\"\")=\"\"),\"\",INDEX(全国版!$D:$O,$B46,I$15))","v":"～"},{"$f":"IF(OR($D46=\"\",IFERROR(INDEX(全国版!$D:$O,$B46,J$15),\"\")=\"\"),\"\",INDEX(全国版!$D:$O,$B46,J$15))","v":""},{"$f":"IF(OR($D46=\"\",IFERROR(INDEX(全国版!$D:$O,$B46,K$15),\"\")=\"\"),\"\",INDEX(全国版!$D:$O,$B46,K$15))","v":"2022-03-04"},{"$f":"IF(OR($D46=\"\",IFERROR(INDEX(全国版!$D:$O,$B46,L$15),\"\")=\"\"),\"\",INDEX(全国版!$D:$O,$B46,L$15))","v":""},{"$f":"IF(OR($D46=\"\",IFERROR(INDEX(全国版!$D:$O,$B46,M$15),\"\")=\"\"),\"\",INDEX(全国版!$D:$O,$B46,M$15))","v":""},{"$f":"IF(OR($D46=\"\",IFERROR(INDEX(全国版!$D:$O,$B46,N$15),\"\")=\"\"),\"\",INDEX(全国版!$D:$O,$B46,N$15))","v":""},{"$f":"IF(OR($D46=\"\",IFERROR(INDEX(全国版!$D:$O,$B46,O$15),\"\")=\"\"),\"\",INDEX(全国版!$D:$O,$B46,O$15))","v":""},{"$f":"IF(OR($D46=\"\",IFERROR(INDEX(全国版!$D:$O,$B46,P$15),\"\")=\"\"),\"\",INDEX(全国版!$D:$O,$B46,P$15))","v":""}]
["兵庫県",{"$f":"MATCH(D47,全国版!C:C,0)","v":32},null,29,{"$f":"IF(OR($D47=\"\",IFERROR(INDEX(全国版!$D:$O,$B47,E$15),\"\")=\"\"),\"\",INDEX(全国版!$D:$O,$B47,E$15))","v":"北海道"},{"$f":"IF(OR($D47=\"\",IFERROR(INDEX(全国版!$D:$O,$B47,F$15),\"\")=\"\"),\"\",INDEX(全国版!$D:$O,$B47,F$15))","v":"北都保健福祉専門学校"},{"$f":"IF(OR($D47=\"\",IFERROR(INDEX(全国版!$D:$O,$B47,G$15),\"\")=\"\"),\"\",INDEX(全国版!$D:$O,$B47,G$15))","v":"医療専門課程　作業療法学科"},{"$f":"IF(OR($D47=\"\",IFERROR(INDEX(全国版!$D:$O,$B47,H$15),\"\")=\"\"),\"\",INDEX(全国版!$D:$O,$B47,H$15))","v":"2005-12-09"},{"$f":"IF(OR($D47=\"\",IFERROR(INDEX(全国版!$D:$O,$B47,I$15),\"\")=\"\"),\"\",INDEX(全国版!$D:$O,$B47,I$15))","v":"～"},{"$f":"IF(OR($D47=\"\",IFERROR(INDEX(全国版!$D:$O,$B47,J$15),\"\")=\"\"),\"\",INDEX(全国版!$D:$O,$B47,J$15))","v":""},{"$f":"IF(OR($D47=\"\",IFERROR(INDEX(全国版!$D:$O,$B47,K$15),\"\")=\"\"),\"\",INDEX(全国版!$D:$O,$B47,K$15))","v":"2005-12-09"},{"$f":"IF(OR($D47=\"\",IFERROR(INDEX(全国版!$D:$O,$B47,L$15),\"\")=\"\"),\"\",INDEX(全国版!$D:$O,$B47,L$15))","v":""},{"$f":"IF(OR($D47=\"\",IFERROR(INDEX(全国版!$D:$O,$B47,M$15),\"\")=\"\"),\"\",INDEX(全国版!$D:$O,$B47,M$15))","v":""},{"$f":"IF(OR($D47=\"\",IFERROR(INDEX(全国版!$D:$O,$B47,N$15),\"\")=\"\"),\"\",INDEX(全国版!$D:$O,$B47,N$15))","v":""},{"$f":"IF(OR($D47=\"\",IFERROR(INDEX(全国版!$D:$O,$B47,O$15),\"\")=\"\"),\"\",INDEX(全国版!$D:$O,$B47,O$15))","v":""},{"$f":"IF(OR($D47=\"\",IFERROR(INDEX(全国版!$D:$O,$B47,P$15),\"\")=\"\"),\"\",INDEX(全国版!$D:$O,$B47,P$15))","v":""}]
["奈良県",{"$f":"MATCH(D48,全国版!C:C,0)","v":33},null,30,{"$f":"IF(OR($D48=\"\",IFERROR(INDEX(全国版!$D:$O,$B48,E$15),\"\")=\"\"),\"\",INDEX(全国版!$D:$O,$B48,E$15))","v":"北海道"},{"$f":"IF(OR($D48=\"\",IFERROR(INDEX(全国版!$D:$O,$B48,F$15),\"\")=\"\"),\"\",INDEX(全国版!$D:$O,$B48,F$15))","v":"北都保健福祉専門学校"},{"$f":"IF(OR($D48=\"\",IFERROR(INDEX(全国版!$D:$O,$B48,G$15),\"\")=\"\"),\"\",INDEX(全国版!$D:$O,$B48,G$15))","v":"医療専門課程　理学療法学科"},{"$f":"IF(OR($D48=\"\",IFERROR(INDEX(全国版!$D:$O,$B48,H$15),\"\")=\"\"),\"\",INDEX(全国版!$D:$O,$B48,H$15))","v":"2005-12-09"},{"$f":"IF(OR($D48=\"\",IFERROR(INDEX(全国版!$D:$O,$B48,I$15),\"\")=\"\"),\"\",INDEX(全国版!$D:$O,$B48,I$15))","v":"～"},{"$f":"IF(OR($D48=\"\",IFERROR(INDEX(全国版!$D:$O,$B48,J$15),\"\")=\"\"),\"\",INDEX(全国版!$D:$O,$B48,J$15))","v":""},{"$f":"IF(OR($D48=\"\",IFERROR(INDEX(全国版!$D:$O,$B48,K$15),\"\")=\"\"),\"\",INDEX(全国版!$D:$O,$B48,K$15))","v":"2005-12-09"},{"$f":"IF(OR($D48=\"\",IFERROR(INDEX(全国版!$D:$O,$B48,L$15),\"\")=\"\"),\"\",INDEX(全国版!$D:$O,$B48,L$15))","v":""},{"$f":"IF(OR($D48=\"\",IFERROR(INDEX(全国版!$D:$O,$B48,M$15),\"\")=\"\"),\"\",INDEX(全国版!$D:$O,$B48,M$15))","v":""},{"$f":"IF(OR($D48=\"\",IFERROR(INDEX(全国版!$D:$O,$B48,N$15),\"\")=\"\"),\"\",INDEX(全国版!$D:$O,$B48,N$15))","v":""},{"$f":"IF(OR($D48=\"\",IFERROR(INDEX(全国版!$D:$O,$B48,O$15),\"\")=\"\"),\"\",INDEX(全国版!$D:$O,$B48,O$15))","v":""},{"$f":"IF(OR($D48=\"\",IFERROR(INDEX(全国版!$D:$O,$B48,P$15),\"\")=\"\"),\"\",INDEX(全国版!$D:$O,$B48,P$15))","v":""}]
["和歌山県",{"$f":"MATCH(D49,全国版!C:C,0)","v":34},null,31,{"$f":"IF(OR($D49=\"\",IFERROR(INDEX(全国版!$D:$O,$B49,E$15),\"\")=\"\"),\"\",INDEX(全国版!$D:$O,$B49,E$15))","v":"北海道"},{"$f":"IF(OR($D49=\"\",IFERROR(INDEX(全国版!$D:$O,$B49,F$15),\"\")=\"\"),\"\",INDEX(全国版!$D:$O,$B49,F$15))","v":"北都保健福祉専門学校"},{"$f":"IF(OR($D49=\"\",IFERROR(INDEX(全国版!$D:$O,$B49,G$15),\"\")=\"\"),\"\",INDEX(全国版!$D:$O,$B49,G$15))","v":"教育・社会福祉専門課程　社会福祉学科"},{"$f":"IF(OR($D49=\"\",IFERROR(INDEX(全国版!$D:$O,$B49,H$15),\"\")=\"\"),\"\",INDEX(全国版!$D:$O,$B49,H$15))","v":"2011-12-22"},{"$f":"IF(OR($D49=\"\",IFERROR(INDEX(全国版!$D:$O,$B49,I$15),\"\")=\"\"),\"\",INDEX(全国版!$D:$O,$B49,I$15))","v":"～"},{"$f":"IF(OR($D49=\"\",IFERROR(INDEX(全国版!$D:$O,$B49,J$15),\"\")=\"\"),\"\",INDEX(全国版!$D:$O,$B49,J$15))","v":"2012-03-31"},{"$f":"IF(OR($D49=\"\",IFERROR(INDEX(全国版!$D:$O,$B49,K$15),\"\")=\"\"),\"\",INDEX(全国版!$D:$O,$B49,K$15))","v":"2011-12-22"},{"$f":"IF(OR($D49=\"\",IFERROR(INDEX(全国版!$D:$O,$B49,L$15),\"\")=\"\"),\"\",INDEX(全国版!$D:$O,$B49,L$15))","v":"廃止"},{"$f":"IF(OR($D49=\"\",IFERROR(INDEX(全国版!$D:$O,$B49,M$15),\"\")=\"\"),\"\",INDEX(全国版!$D:$O,$B49,M$15))","v":""},{"$f":"IF(OR($D49=\"\",IFERROR(INDEX(全国版!$D:$O,$B49,N$15),\"\")=\"\"),\"\",INDEX(全国版!$D:$O,$B49,N$15))","v":""},{"$f":"IF(OR($D49=\"\",IFERROR(INDEX(全国版!$D:$O,$B49,O$15),\"\")=\"\"),\"\",INDEX(全国版!$D:$O,$B49,O$15))","v":"2012-03-31"},{"$f":"IF(OR($D49=\"\",IFERROR(INDEX(全国版!$D:$O,$B49,P$15),\"\")=\"\"),\"\",INDEX(全国版!$D:$O,$B49,P$15))","v":"2013-01-29"}]
["鳥取県",{"$f":"MATCH(D50,全国版!C:C,0)","v":35},null,32,{"$f":"IF(OR($D50=\"\",IFERROR(INDEX(全国版!$D:$O,$B50,E$15),\"\")=\"\"),\"\",INDEX(全国版!$D:$O,$B50,E$15))","v":"北海道"},{"$f":"IF(OR($D50=\"\",IFERROR(INDEX(全国版!$D:$O,$B50,F$15),\"\")=\"\"),\"\",INDEX(全国版!$D:$O,$B50,F$15))","v":"北海道エコ・動物自然専門学校"},{"$f":"IF(OR($D50=\"\",IFERROR(INDEX(全国版!$D:$O,$B50,G$15),\"\")=\"\"),\"\",INDEX(全国版!$D:$O,$B50,G$15))","v":"商業実務専門課程　動物医療飼育学科"},{"$f":"IF(OR($D50=\"\",IFERROR(INDEX(全国版!$D:$O,$B50,H$15),\"\")=\"\"),\"\",INDEX(全国版!$D:$O,$B50,H$15))","v":"2024-01-17"},{"$f":"IF(OR($D50=\"\",IFERROR(INDEX(全国版!$D:$O,$B50,I$15),\"\")=\"\"),\"\",INDEX(全国版!$D:$O,$B50,I$15))","v":""},{"$f":"IF(OR($D50=\"\",IFERROR(INDEX(全国版!$D:$O,$B50,J$15),\"\")=\"\"),\"\",INDEX(全国版!$D:$O,$B50,J$15))","v":""},{"$f":"IF(OR($D50=\"\",IFERROR(INDEX(全国版!$D:$O,$B50,K$15),\"\")=\"\"),\"\",INDEX(全国版!$D:$O,$B50,K$15))","v":"2024-01-17"},{"$f":"IF(OR($D50=\"\",IFERROR(INDEX(全国版!$D:$O,$B50,L$15),\"\")=\"\"),\"\",INDEX(全国版!$D:$O,$B50,L$15))","v":""},{"$f":"IF(OR($D50=\"\",IFERROR(INDEX(全国版!$D:$O,$B50,M$15),\"\")=\"\"),\"\",INDEX(全国版!$D:$O,$B50,M$15))","v":""},{"$f":"IF(OR($D50=\"\",IFERROR(INDEX(全国版!$D:$O,$B50,N$15),\"\")=\"\"),\"\",INDEX(全国版!$D:$O,$B50,N$15))","v":""},{"$f":"IF(OR($D50=\"\",IFERROR(INDEX(全国版!$D:$O,$B50,O$15),\"\")=\"\"),\"\",INDEX(全国版!$D:$O,$B50,O$15))","v":""},{"$f":"IF(OR($D50=\"\",IFERROR(INDEX(全国版!$D:$O,$B50,P$15),\"\")=\"\"),\"\",INDEX(全国版!$D:$O,$B50,P$15))","v":""}]
["島根県",{"$f":"MATCH(D51,全国版!C:C,0)","v":36},null,33,{"$f":"IF(OR($D51=\"\",IFERROR(INDEX(全国版!$D:$O,$B51,E$15),\"\")=\"\"),\"\",INDEX(全国版!$D:$O,$B51,E$15))","v":"北海道"},{"$f":"IF(OR($D51=\"\",IFERROR(INDEX(全国版!$D:$O,$B51,F$15),\"\")=\"\"),\"\",INDEX(全国版!$D:$O,$B51,F$15))","v":"北海道情報専門学校"},{"$f":"IF(OR($D51=\"\",IFERROR(INDEX(全国版!$D:$O,$B51,G$15),\"\")=\"\"),\"\",INDEX(全国版!$D:$O,$B51,G$15))","v":"工業専門課程　情報大学併学科"},{"$f":"IF(OR($D51=\"\",IFERROR(INDEX(全国版!$D:$O,$B51,H$15),\"\")=\"\"),\"\",INDEX(全国版!$D:$O,$B51,H$15))","v":"2010-04-01"},{"$f":"IF(OR($D51=\"\",IFERROR(INDEX(全国版!$D:$O,$B51,I$15),\"\")=\"\"),\"\",INDEX(全国版!$D:$O,$B51,I$15))","v":"～"},{"$f":"IF(OR($D51=\"\",IFERROR(INDEX(全国版!$D:$O,$B51,J$15),\"\")=\"\"),\"\",INDEX(全国版!$D:$O,$B51,J$15))","v":"2018-03-31"},{"$f":"IF(OR($D51=\"\",IFERROR(INDEX(全国版!$D:$O,$B51,K$15),\"\")=\"\"),\"\",INDEX(全国版!$D:$O,$B51,K$15))","v":"2010-11-29"},{"$f":"IF(OR($D51=\"\",IFERROR(INDEX(全国版!$D:$O,$B51,L$15),\"\")=\"\"),\"\",INDEX(全国版!$D:$O,$B51,L$15))","v":"名称変更"},{"$f":"IF(OR($D51=\"\",IFERROR(INDEX(全国版!$D:$O,$B51,M$15),\"\")=\"\"),\"\",INDEX(全国版!$D:$O,$B51,M$15))","v":"北海道情報専門学校"},{"$f":"IF(OR($D51=\"\",IFERROR(INDEX(全国版!$D:$O,$B51,N$15),\"\")=\"\"),\"\",INDEX(全国版!$D:$O,$B51,N$15))","v":"工業専門課程　大学併修科"},{"$f":"IF(OR($D51=\"\",IFERROR(INDEX(全国版!$D:$O,$B51,O$15),\"\")=\"\"),\"\",INDEX(全国版!$D:$O,$B51,O$15))","v":"2018-04-01"},{"$f":"IF(OR($D51=\"\",IFERROR(INDEX(全国版!$D:$O,$B51,P$15),\"\")=\"\"),\"\",INDEX(全国版!$D:$O,$B51,P$15))","v":"2022-03-04"}]
["岡山県",{"$f":"MATCH(D52,全国版!C:C,0)","v":37},null,34,{"$f":"IF(OR($D52=\"\",IFERROR(INDEX(全国版!$D:$O,$B52,E$15),\"\")=\"\"),\"\",INDEX(全国版!$D:$O,$B52,E$15))","v":"北海道"},{"$f":"IF(OR($D52=\"\",IFERROR(INDEX(全国版!$D:$O,$B52,F$15),\"\")=\"\"),\"\",INDEX(全国版!$D:$O,$B52,F$15))","v":"北海道情報専門学校"},{"$f":"IF(OR($D52=\"\",IFERROR(INDEX(全国版!$D:$O,$B52,G$15),\"\")=\"\"),\"\",INDEX(全国版!$D:$O,$B52,G$15))","v":"工業専門課程　大学併修科"},{"$f":"IF(OR($D52=\"\",IFERROR(INDEX(全国版!$D:$O,$B52,H$15),\"\")=\"\"),\"\",INDEX(全国版!$D:$O,$B52,H$15))","v":"2018-04-01"},{"$f":"IF(OR($D52=\"\",IFERROR(INDEX(全国版!$D:$O,$B52,I$15),\"\")=\"\"),\"\",INDEX(全国版!$D:$O,$B52,I$15))","v":"～"},{"$f":"IF(OR($D52=\"\",IFERROR(INDEX(全国版!$D:$O,$B52,J$15),\"\")=\"\"),\"\",INDEX(全国版!$D:$O,$B52,J$15))","v":""},{"$f":"IF(OR($D52=\"\",IFERROR(INDEX(全国版!$D:$O,$B52,K$15),\"\")=\"\"),\"\",INDEX(全国版!$D:$O,$B52,K$15))","v":"2022-03-04"},{"$f":"IF(OR($D52=\"\",IFERROR(INDEX(全国版!$D:$O,$B52,L$15),\"\")=\"\"),\"\",INDEX(全国版!$D:$O,$B52,L$15))","v":""},{"$f":"IF(OR($D52=\"\",IFERROR(INDEX(全国版!$D:$O,$B52,M$15),\"\")=\"\"),\"\",INDEX(全国版!$D:$O,$B52,M$15))","v":""},{"$f":"IF(OR($D52=\"\",IFERROR(INDEX(全国版!$D:$O,$B52,N$15),\"\")=\"\"),\"\",INDEX(全国版!$D:$O,$B52,N$15))","v":""},{"$f":"IF(OR($D52=\"\",IFERROR(INDEX(全国版!$D:$O,$B52,O$15),\"\")=\"\"),\"\",INDEX(全国版!$D:$O,$B52,O$15))","v":""},{"$f":"IF(OR($D52=\"\",IFERROR(INDEX(全国版!$D:$O,$B52,P$15),\"\")=\"\"),\"\",INDEX(全国版!$D:$O,$B52,P$15))","v":""}]
["広島県",{"$f":"MATCH(D53,全国版!C:C,0)","v":38},null,35,{"$f":"IF(OR($D53=\"\",IFERROR(INDEX(全国版!$D:$O,$B53,E$15),\"\")=\"\"),\"\",INDEX(全国版!$D:$O,$B53,E$15))","v":"北海道"},{"$f":"IF(OR($D53=\"\",IFERROR(INDEX(全国版!$D:$O,$B53,F$15),\"\")=\"\"),\"\",INDEX(全国版!$D:$O,$B53,F$15))","v":"北海道情報専門学校"},{"$f":"IF(OR($D53=\"\",IFERROR(INDEX(全国版!$D:$O,$B53,G$15),\"\")=\"\"),\"\",INDEX(全国版!$D:$O,$B53,G$15))","v":"工業専門課程　情報システム研究科"},{"$f":"IF(OR($D53=\"\",IFERROR(INDEX(全国版!$D:$O,$B53,H$15),\"\")=\"\"),\"\",INDEX(全国版!$D:$O,$B53,H$15))","v":"2005-12-09"},{"$f":"IF(OR($D53=\"\",IFERROR(INDEX(全国版!$D:$O,$B53,I$15),\"\")=\"\"),\"\",INDEX(全国版!$D:$O,$B53,I$15))","v":"～"},{"$f":"IF(OR($D53=\"\",IFERROR(INDEX(全国版!$D:$O,$B53,J$15),\"\")=\"\"),\"\",INDEX(全国版!$D:$O,$B53,J$15))","v":"2010-03-31"},{"$f":"IF(OR($D53=\"\",IFERROR(INDEX(全国版!$D:$O,$B53,K$15),\"\")=\"\"),\"\",INDEX(全国版!$D:$O,$B53,K$15))","v":"2005-12-09"},{"$f":"IF(OR($D53=\"\",IFERROR(INDEX(全国版!$D:$O,$B53,L$15),\"\")=\"\"),\"\",INDEX(全国版!$D:$O,$B53,L$15))","v":"名称変更"},{"$f":"IF(OR($D53=\"\",IFERROR(INDEX(全国版!$D:$O,$B53,M$15),\"\")=\"\"),\"\",INDEX(全国版!$D:$O,$B53,M$15))","v":"北海道情報専門学校"},{"$f":"IF(OR($D53=\"\",IFERROR(INDEX(全国版!$D:$O,$B53,N$15),\"\")=\"\"),\"\",INDEX(全国版!$D:$O,$B53,N$15))","v":"工業専門課程　情報大学併学科"},{"$f":"IF(OR($D53=\"\",IFERROR(INDEX(全国版!$D:$O,$B53,O$15),\"\")=\"\"),\"\",INDEX(全国版!$D:$O,$B53,O$15))","v":"2010-04-01"},{"$f":"IF(OR($D53=\"\",IFERROR(INDEX(全国版!$D:$O,$B53,P$15),\"\")=\"\"),\"\",INDEX(全国版!$D:$O,$B53,P$15))","v":"2010-11-29"}]
["山口県",{"$f":"MATCH(D54,全国版!C:C,0)","v":39},null,36,{"$f":"IF(OR($D54=\"\",IFERROR(INDEX(全国版!$D:$O,$B54,E$15),\"\")=\"\"),\"\",INDEX(全国版!$D:$O,$B54,E$15))","v":"北海道"},{"$f":"IF(OR($D54=\"\",IFERROR(INDEX(全国版!$D:$O,$B54,F$15),\"\")=\"\"),\"\",INDEX(全国版!$D:$O,$B54,F$15))","v":"北海道スポーツ専門学校"},{"$f":"IF(OR($D54=\"\",IFERROR(INDEX(全国版!$D:$O,$B54,G$15),\"\")=\"\"),\"\",INDEX(全国版!$D:$O,$B54,G$15))","v":"文化・教養専門課程　スポーツ未来学科"},{"$f":"IF(OR($D54=\"\",IFERROR(INDEX(全国版!$D:$O,$B54,H$15),\"\")=\"\"),\"\",INDEX(全国版!$D:$O,$B54,H$15))","v":"2017-04-01"},{"$f":"IF(OR($D54=\"\",IFERROR(INDEX(全国版!$D:$O,$B54,I$15),\"\")=\"\"),\"\",INDEX(全国版!$D:$O,$B54,I$15))","v":"～"},{"$f":"IF(OR($D54=\"\",IFERROR(INDEX(全国版!$D:$O,$B54,J$15),\"\")=\"\"),\"\",INDEX(全国版!$D:$O,$B54,J$15))","v":"2021-03-31"},{"$f":"IF(OR($D54=\"\",IFERROR(INDEX(全国版!$D:$O,$B54,K$15),\"\")=\"\"),\"\",INDEX(全国版!$D:$O,$B54,K$15))","v":"2018-02-28"},{"$f":"IF(OR($D54=\"\",IFERROR(INDEX(全国版!$D:$O,$B54,L$15),\"\")=\"\"),\"\",INDEX(全国版!$D:$O,$B54,L$15))","v":"廃止"},{"$f":"IF(OR($D54=\"\",IFERROR(INDEX(全国版!$D:$O,$B54,M$15),\"\")=\"\"),\"\",INDEX(全国版!$D:$O,$B54,M$15))","v":""},{"$f":"IF(OR($D54=\"\",IFERROR(INDEX(全国版!$D:$O,$B54,N$15),\"\")=\"\"),\"\",INDEX(全国版!$D:$O,$B54,N$15))","v":""},{"$f":"IF(OR($D54=\"\",IFERROR(INDEX(全国版!$D:$O,$B54,O$15),\"\")=\"\"),\"\",INDEX(全国版!$D:$O,$B54,O$15))","v":"2021-03-31"},{"$f":"IF(OR($D54=\"\",IFERROR(INDEX(全国版!$D:$O,$B54,P$15),\"\")=\"\"),\"\",INDEX(全国版!$D:$O,$B54,P$15))","v":"2022-03-04"}]
["徳島県",{"$f":"MATCH(D55,全国版!C:C,0)","v":40},null,37,{"$f":"IF(OR($D55=\"\",IFERROR(INDEX(全国版!$D:$O,$B55,E$15),\"\")=\"\"),\"\",INDEX(全国版!$D:$O,$B55,E$15))","v":"北海道"},{"$f":"IF(OR($D55=\"\",IFERROR(INDEX(全国版!$D:$O,$B55,F$15),\"\")=\"\"),\"\",INDEX(全国版!$D:$O,$B55,F$15))","v":"北海道ハイテクノロジー専門学校"},{"$f":"IF(OR($D55=\"\",IFERROR(INDEX(全国版!$D:$O,$B55,G$15),\"\")=\"\"),\"\",INDEX(全国版!$D:$O,$B55,G$15))","v":"医療専門課程　バイオテクノロジー科（４年制）"},{"$f":"IF(OR($D55=\"\",IFERROR(INDEX(全国版!$D:$O,$B55,H$15),\"\")=\"\"),\"\",INDEX(全国版!$D:$O,$B55,H$15))","v":"2009-02-27"},{"$f":"IF(OR($D55=\"\",IFERROR(INDEX(全国版!$D:$O,$B55,I$15),\"\")=\"\"),\"\",INDEX(全国版!$D:$O,$B55,I$15))","v":"～"},{"$f":"IF(OR($D55=\"\",IFERROR(INDEX(全国版!$D:$O,$B55,J$15),\"\")=\"\"),\"\",INDEX(全国版!$D:$O,$B55,J$15))","v":"2009-03-31"},{"$f":"IF(OR($D55=\"\",IFERROR(INDEX(全国版!$D:$O,$B55,K$15),\"\")=\"\"),\"\",INDEX(全国版!$D:$O,$B55,K$15))","v":"2009-02-27"},{"$f":"IF(OR($D55=\"\",IFERROR(INDEX(全国版!$D:$O,$B55,L$15),\"\")=\"\"),\"\",INDEX(全国版!$D:$O,$B55,L$15))","v":"名称変更"},{"$f":"IF(OR($D55=\"\",IFERROR(INDEX(全国版!$D:$O,$B55,M$15),\"\")=\"\"),\"\",INDEX(全国版!$D:$O,$B55,M$15))","v":"北海道ハイテクノロジー専門学校"},{"$f":"IF(OR($D55=\"\",IFERROR(INDEX(全国版!$D:$O,$B55,N$15),\"\")=\"\"),\"\",INDEX(全国版!$D:$O,$B55,N$15))","v":"医療専門課程　バイオテクノロジー学科（４年制）"},{"$f":"IF(OR($D55=\"\",IFERROR(INDEX(全国版!$D:$O,$B55,O$15),\"\")=\"\"),\"\",INDEX(全国版!$D:$O,$B55,O$15))","v":"2009-04-01"},{"$f":"IF(OR($D55=\"\",IFERROR(INDEX(全国版!$D:$O,$B55,P$15),\"\")=\"\"),\"\",INDEX(全国版!$D:$O,$B55,P$15))","v":"2010-02-26"}]
["香川県",{"$f":"MATCH(D56,全国版!C:C,0)","v":41},null,38,{"$f":"IF(OR($D56=\"\",IFERROR(INDEX(全国版!$D:$O,$B56,E$15),\"\")=\"\"),\"\",INDEX(全国版!$D:$O,$B56,E$15))","v":"北海道"},{"$f":"IF(OR($D56=\"\",IFERROR(INDEX(全国版!$D:$O,$B56,F$15),\"\")=\"\"),\"\",INDEX(全国版!$D:$O,$B56,F$15))","v":"北海道ハイテクノロジー専門学校"},{"$f":"IF(OR($D56=\"\",IFERROR(INDEX(全国版!$D:$O,$B56,G$15),\"\")=\"\"),\"\",INDEX(全国版!$D:$O,$B56,G$15))","v":"医療専門課程　バイオテクノロジー学科（４年制）"},{"$f":"IF(OR($D56=\"\",IFERROR(INDEX(全国版!$D:$O,$B56,H$15),\"\")=\"\"),\"\",INDEX(全国版!$D:$O,$B56,H$15))","v":"2009-04-01"},{"$f":"IF(OR($D56=\"\",IFERROR(INDEX(全国版!$D:$O,$B56,I$15),\"\")=\"\"),\"\",INDEX(全国版!$D:$O,$B56,I$15))","v":"～"},{"$f":"IF(OR($D56=\"\",IFERROR(INDEX(全国版!$D:$O,$B56,J$15),\"\")=\"\"),\"\",INDEX(全国版!$D:$O,$B56,J$15))","v":"2017-03-31"},{"$f":"IF(OR($D56=\"\",IFERROR(INDEX(全国版!$D:$O,$B56,K$15),\"\")=\"\"),\"\",INDEX(全国版!$D:$O,$B56,K$15))","v":"2010-02-26"},{"$f":"IF(OR($D56=\"\",IFERROR(INDEX(全国版!$D:$O,$B56,L$15),\"\")=\"\"),\"\",INDEX(全国版!$D:$O,$B56,L$15))","v":"廃止"},{"$f":"IF(OR($D56=\"\",IFERROR(INDEX(全国版!$D:$O,$B56,M$15),\"\")=\"\"),\"\",INDEX(全国版!$D:$O,$B56,M$15))","v":""},{"$f":"IF(OR($D56=\"\",IFERROR(INDEX(全国版!$D:$O,$B56,N$15),\"\")=\"\"),\"\",INDEX(全国版!$D:$O,$B56,N$15))","v":""},{"$f":"IF(OR($D56=\"\",IFERROR(INDEX(全国版!$D:$O,$B56,O$15),\"\")=\"\"),\"\",INDEX(全国版!$D:$O,$B56,O$15))","v":"2017-03-31"},{"$f":"IF(OR($D56=\"\",IFERROR(INDEX(全国版!$D:$O,$B56,P$15),\"\")=\"\"),\"\",INDEX(全国版!$D:$O,$B56,P$15))","v":"2018-02-28"}]
["愛媛県",{"$f":"MATCH(D57,全国版!C:C,0)","v":42},null,39,{"$f":"IF(OR($D57=\"\",IFERROR(INDEX(全国版!$D:$O,$B57,E$15),\"\")=\"\"),\"\",INDEX(全国版!$D:$O,$B57,E$15))","v":"北海道"},{"$f":"IF(OR($D57=\"\",IFERROR(INDEX(全国版!$D:$O,$B57,F$15),\"\")=\"\"),\"\",INDEX(全国版!$D:$O,$B57,F$15))","v":"吉田学園保健看護専門学校"},{"$f":"IF(OR($D57=\"\",IFERROR(INDEX(全国版!$D:$O,$B57,G$15),\"\")=\"\"),\"\",INDEX(全国版!$D:$O,$B57,G$15))","v":"医療専門課程　保健看護学科"},{"$f":"IF(OR($D57=\"\",IFERROR(INDEX(全国版!$D:$O,$B57,H$15),\"\")=\"\"),\"\",INDEX(全国版!$D:$O,$B57,H$15))","v":"2005-12-09"},{"$f":"IF(OR($D57=\"\",IFERROR(INDEX(全国版!$D:$O,$B57,I$15),\"\")=\"\"),\"\",INDEX(全国版!$D:$O,$B57,I$15))","v":"～"},{"$f":"IF(OR($D57=\"\",IFERROR(INDEX(全国版!$D:$O,$B57,J$15),\"\")=\"\"),\"\",INDEX(全国版!$D:$O,$B57,J$15))","v":"2006-03-31"},{"$f":"IF(OR($D57=\"\",IFERROR(INDEX(全国版!$D:$O,$B57,K$15),\"\")=\"\"),\"\",INDEX(全国版!$D:$O,$B57,K$15))","v":"2005-12-09"},{"$f":"IF(OR($D57=\"\",IFERROR(INDEX(全国版!$D:$O,$B57,L$15),\"\")=\"\"),\"\",INDEX(全国版!$D:$O,$B57,L$15))","v":"名称変更"},{"$f":"IF(OR($D57=\"\",IFERROR(INDEX(全国版!$D:$O,$B57,M$15),\"\")=\"\"),\"\",INDEX(全国版!$D:$O,$B57,M$15))","v":"専門学校北海道保健看護大学校"},{"$f":"IF(OR($D57=\"\",IFERROR(INDEX(全国版!$D:$O,$B57,N$15),\"\")=\"\"),\"\",INDEX(全国版!$D:$O,$B57,N$15))","v":"医療専門課程　保健看護学科"},{"$f":"IF(OR($D57=\"\",IFERROR(INDEX(全国版!$D:$O,$B57,O$15),\"\")=\"\"),\"\",INDEX(全国版!$D:$O,$B57,O$15))","v":"2006-04-01"},{"$f":"IF(OR($D57=\"\",IFERROR(INDEX(全国版!$D:$O,$B57,P$15),\"\")=\"\"),\"\",INDEX(全国版!$D:$O,$B57,P$15))","v":"2007-02-28"}]
["高知県",{"$f":"MATCH(D58,全国版!C:C,0)","v":43},null,40,{"$f":"IF(OR($D58=\"\",IFERROR(INDEX(全国版!$D:$O,$B58,E$15),\"\")=\"\"),\"\",INDEX(全国版!$D:$O,$B58,E$15))","v":"北海道"},{"$f":"IF(OR($D58=\"\",IFERROR(INDEX(全国版!$D:$O,$B58,F$15),\"\")=\"\"),\"\",INDEX(全国版!$D:$O,$B58,F$15))","v":"吉田学園リハビリテーション専門学校"},{"$f":"IF(OR($D58=\"\",IFERROR(INDEX(全国版!$D:$O,$B58,G$15),\"\")=\"\"),\"\",INDEX(全国版!$D:$O,$B58,G$15))","v":"医療専門課程　作業療法学科"},{"$f":"IF(OR($D58=\"\",IFERROR(INDEX(全国版!$D:$O,$B58,H$15),\"\")=\"\"),\"\",INDEX(全国版!$D:$O,$B58,H$15))","v":"2005-12-09"},{"$f":"IF(OR($D58=\"\",IFERROR(INDEX(全国版!$D:$O,$B58,I$15),\"\")=\"\"),\"\",INDEX(全国版!$D:$O,$B58,I$15))","v":"～"},{"$f":"IF(OR($D58=\"\",IFERROR(INDEX(全国版!$D:$O,$B58,J$15),\"\")=\"\"),\"\",INDEX(全国版!$D:$O,$B58,J$15))","v":"2006-03-31"},{"$f":"IF(OR($D58=\"\",IFERROR(INDEX(全国版!$D:$O,$B58,K$15),\"\")=\"\"),\"\",INDEX(全国版!$D:$O,$B58,K$15))","v":"2005-12-09"},{"$f":"IF(OR($D58=\"\",IFERROR(INDEX(全国版!$D:$O,$B58,L$15),\"\")=\"\"),\"\",INDEX(全国版!$D:$O,$B58,L$15))","v":"名称変更"},{"$f":"IF(OR($D58=\"\",IFERROR(INDEX(全国版!$D:$O,$B58,M$15),\"\")=\"\"),\"\",INDEX(全国版!$D:$O,$B58,M$15))","v":"専門学校北海道リハビリテーション大学校"},{"$f":"IF(OR($D58=\"\",IFERROR(INDEX(全国版!$D:$O,$B58,N$15),\"\")=\"\"),\"\",INDEX(全国版!$D:$O,$B58,N$15))","v":"医療専門課程　作業療法学科"},{"$f":"IF(OR($D58=\"\",IFERROR(INDEX(全国版!$D:$O,$B58,O$15),\"\")=\"\"),\"\",INDEX(全国版!$D:$O,$B58,O$15))","v":"2006-04-01"},{"$f":"IF(OR($D58=\"\",IFERROR(INDEX(全国版!$D:$O,$B58,P$15),\"\")=\"\"),\"\",INDEX(全国版!$D:$O,$B58,P$15))","v":"2007-02-28"}]
["福岡県",{"$f":"MATCH(D59,全国版!C:C,0)","v":44},null,41,{"$f":"IF(OR($D59=\"\",IFERROR(INDEX(全国版!$D:$O,$B59,E$15),\"\")=\"\"),\"\",INDEX(全国版!$D:$O,$B59,E$15))","v":"北海道"},{"$f":"IF(OR($D59=\"\",IFERROR(INDEX(全国版!$D:$O,$B59,F$15),\"\")=\"\"),\"\",INDEX(全国版!$D:$O,$B59,F$15))","v":"吉田学園リハビリテーション専門学校"},{"$f":"IF(OR($D59=\"\",IFERROR(INDEX(全国版!$D:$O,$B59,G$15),\"\")=\"\"),\"\",INDEX(全国版!$D:$O,$B59,G$15))","v":"医療専門課程　理学療法学科"},{"$f":"IF(OR($D59=\"\",IFERROR(INDEX(全国版!$D:$O,$B59,H$15),\"\")=\"\"),\"\",INDEX(全国版!$D:$O,$B59,H$15))","v":"2005-12-09"},{"$f":"IF(OR($D59=\"\",IFERROR(INDEX(全国版!$D:$O,$B59,I$15),\"\")=\"\"),\"\",INDEX(全国版!$D:$O,$B59,I$15))","v":"～"},{"$f":"IF(OR($D59=\"\",IFERROR(INDEX(全国版!$D:$O,$B59,J$15),\"\")=\"\"),\"\",INDEX(全国版!$D:$O,$B59,J$15))","v":"2006-03-31"},{"$f":"IF(OR($D59=\"\",IFERROR(INDEX(全国版!$D:$O,$B59,K$15),\"\")=\"\"),\"\",INDEX(全国版!$D:$O,$B59,K$15))","v":"2005-12-09"},{"$f":"IF(OR($D59=\"\",IFERROR(INDEX(全国版!$D:$O,$B59,L$15),\"\")=\"\"),\"\",INDEX(全国版!$D:$O,$B59,L$15))","v":"名称変更"},{"$f":"IF(OR($D59=\"\",IFERROR(INDEX(全国版!$D:$O,$B59,M$15),\"\")=\"\"),\"\",INDEX(全国版!$D:$O,$B59,M$15))","v":"専門学校北海道リハビリテーション大学校"},{"$f":"IF(OR($D59=\"\",IFERROR(INDEX(全国版!$D:$O,$B59,N$15),\"\")=\"\"),\"\",INDEX(全国版!$D:$O,$B59,N$15))","v":"医療専門課程　理学療法学科"},{"$f":"IF(OR($D59=\"\",IFERROR(INDEX(全国版!$D:$O,$B59,O$15),\"\")=\"\"),\"\",INDEX(全国版!$D:$O,$B59,O$15))","v":"2006-04-01"},{"$f":"IF(OR($D59=\"\",IFERROR(INDEX(全国版!$D:$O,$B59,P$15),\"\")=\"\"),\"\",INDEX(全国版!$D:$O,$B59,P$15))","v":"2007-02-28"}]
["佐賀県",{"$f":"MATCH(D60,全国版!C:C,0)","v":45},null,42,{"$f":"IF(OR($D60=\"\",IFERROR(INDEX(全国版!$D:$O,$B60,E$15),\"\")=\"\"),\"\",INDEX(全国版!$D:$O,$B60,E$15))","v":"青森県"},{"$f":"IF(OR($D60=\"\",IFERROR(INDEX(全国版!$D:$O,$B60,F$15),\"\")=\"\"),\"\",INDEX(全国版!$D:$O,$B60,F$15))","v":"東北メディカル学院"},{"$f":"IF(OR($D60=\"\",IFERROR(INDEX(全国版!$D:$O,$B60,G$15),\"\")=\"\"),\"\",INDEX(全国版!$D:$O,$B60,G$15))","v":"医療専門課程　作業療法学科"},{"$f":"IF(OR($D60=\"\",IFERROR(INDEX(全国版!$D:$O,$B60,H$15),\"\")=\"\"),\"\",INDEX(全国版!$D:$O,$B60,H$15))","v":"2006-06-30"},{"$f":"IF(OR($D60=\"\",IFERROR(INDEX(全国版!$D:$O,$B60,I$15),\"\")=\"\"),\"\",INDEX(全国版!$D:$O,$B60,I$15))","v":"～"},{"$f":"IF(OR($D60=\"\",IFERROR(INDEX(全国版!$D:$O,$B60,J$15),\"\")=\"\"),\"\",INDEX(全国版!$D:$O,$B60,J$15))","v":""},{"$f":"IF(OR($D60=\"\",IFERROR(INDEX(全国版!$D:$O,$B60,K$15),\"\")=\"\"),\"\",INDEX(全国版!$D:$O,$B60,K$15))","v":"2006-06-30"},{"$f":"IF(OR($D60=\"\",IFERROR(INDEX(全国版!$D:$O,$B60,L$15),\"\")=\"\"),\"\",INDEX(全国版!$D:$O,$B60,L$15))","v":""},{"$f":"IF(OR($D60=\"\",IFERROR(INDEX(全国版!$D:$O,$B60,M$15),\"\")=\"\"),\"\",INDEX(全国版!$D:$O,$B60,M$15))","v":""},{"$f":"IF(OR($D60=\"\",IFERROR(INDEX(全国版!$D:$O,$B60,N$15),\"\")=\"\"),\"\",INDEX(全国版!$D:$O,$B60,N$15))","v":""},{"$f":"IF(OR($D60=\"\",IFERROR(INDEX(全国版!$D:$O,$B60,O$15),\"\")=\"\"),\"\",INDEX(全国版!$D:$O,$B60,O$15))","v":""},{"$f":"IF(OR($D60=\"\",IFERROR(INDEX(全国版!$D:$O,$B60,P$15),\"\")=\"\"),\"\",INDEX(全国版!$D:$O,$B60,P$15))","v":""}]
["長崎県",{"$f":"MATCH(D61,全国版!C:C,0)","v":46},null,43,{"$f":"IF(OR($D61=\"\",IFERROR(INDEX(全国版!$D:$O,$B61,E$15),\"\")=\"\"),\"\",INDEX(全国版!$D:$O,$B61,E$15))","v":"青森県"},{"$f":"IF(OR($D61=\"\",IFERROR(INDEX(全国版!$D:$O,$B61,F$15),\"\")=\"\"),\"\",INDEX(全国版!$D:$O,$B61,F$15))","v":"東北メディカル学院"},{"$f":"IF(OR($D61=\"\",IFERROR(INDEX(全国版!$D:$O,$B61,G$15),\"\")=\"\"),\"\",INDEX(全国版!$D:$O,$B61,G$15))","v":"医療専門課程　理学療法学科"},{"$f":"IF(OR($D61=\"\",IFERROR(INDEX(全国版!$D:$O,$B61,H$15),\"\")=\"\"),\"\",INDEX(全国版!$D:$O,$B61,H$15))","v":"2006-06-30"},{"$f":"IF(OR($D61=\"\",IFERROR(INDEX(全国版!$D:$O,$B61,I$15),\"\")=\"\"),\"\",INDEX(全国版!$D:$O,$B61,I$15))","v":"～"},{"$f":"IF(OR($D61=\"\",IFERROR(INDEX(全国版!$D:$O,$B61,J$15),\"\")=\"\"),\"\",INDEX(全国版!$D:$O,$B61,J$15))","v":""},{"$f":"IF(OR($D61=\"\",IFERROR(INDEX(全国版!$D:$O,$B61,K$15),\"\")=\"\"),\"\",INDEX(全国版!$D:$O,$B61,K$15))","v":"2006-06-30"},{"$f":"IF(OR($D61=\"\",IFERROR(INDEX(全国版!$D:$O,$B61,L$15),\"\")=\"\"),\"\",INDEX(全国版!$D:$O,$B61,L$15))","v":""},{"$f":"IF(OR($D61=\"\",IFERROR(INDEX(全国版!$D:$O,$B61,M$15),\"\")=\"\"),\"\",INDEX(全国版!$D:$O,$B61,M$15))","v":""},{"$f":"IF(OR($D61=\"\",IFERROR(INDEX(全国版!$D:$O,$B61,N$15),\"\")=\"\"),\"\",INDEX(全国版!$D:$O,$B61,N$15))","v":""},{"$f":"IF(OR($D61=\"\",IFERROR(INDEX(全国版!$D:$O,$B61,O$15),\"\")=\"\"),\"\",INDEX(全国版!$D:$O,$B61,O$15))","v":""},{"$f":"IF(OR($D61=\"\",IFERROR(INDEX(全国版!$D:$O,$B61,P$15),\"\")=\"\"),\"\",INDEX(全国版!$D:$O,$B61,P$15))","v":""}]
["熊本県",{"$f":"MATCH(D62,全国版!C:C,0)","v":47},null,44,{"$f":"IF(OR($D62=\"\",IFERROR(INDEX(全国版!$D:$O,$B62,E$15),\"\")=\"\"),\"\",INDEX(全国版!$D:$O,$B62,E$15))","v":"岩手県"},{"$f":"IF(OR($D62=\"\",IFERROR(INDEX(全国版!$D:$O,$B62,F$15),\"\")=\"\"),\"\",INDEX(全国版!$D:$O,$B62,F$15))","v":"岩手リハビリテーション学院"},{"$f":"IF(OR($D62=\"\",IFERROR(INDEX(全国版!$D:$O,$B62,G$15),\"\")=\"\"),\"\",INDEX(全国版!$D:$O,$B62,G$15))","v":"医療専門課程　作業療法学科"},{"$f":"IF(OR($D62=\"\",IFERROR(INDEX(全国版!$D:$O,$B62,H$15),\"\")=\"\"),\"\",INDEX(全国版!$D:$O,$B62,H$15))","v":"2024-01-17"},{"$f":"IF(OR($D62=\"\",IFERROR(INDEX(全国版!$D:$O,$B62,I$15),\"\")=\"\"),\"\",INDEX(全国版!$D:$O,$B62,I$15))","v":""},{"$f":"IF(OR($D62=\"\",IFERROR(INDEX(全国版!$D:$O,$B62,J$15),\"\")=\"\"),\"\",INDEX(全国版!$D:$O,$B62,J$15))","v":""},{"$f":"IF(OR($D62=\"\",IFERROR(INDEX(全国版!$D:$O,$B62,K$15),\"\")=\"\"),\"\",INDEX(全国版!$D:$O,$B62,K$15))","v":"2024-01-17"},{"$f":"IF(OR($D62=\"\",IFERROR(INDEX(全国版!$D:$O,$B62,L$15),\"\")=\"\"),\"\",INDEX(全国版!$D:$O,$B62,L$15))","v":""},{"$f":"IF(OR($D62=\"\",IFERROR(INDEX(全国版!$D:$O,$B62,M$15),\"\")=\"\"),\"\",INDEX(全国版!$D:$O,$B62,M$15))","v":""},{"$f":"IF(OR($D62=\"\",IFERROR(INDEX(全国版!$D:$O,$B62,N$15),\"\")=\"\"),\"\",INDEX(全国版!$D:$O,$B62,N$15))","v":""},{"$f":"IF(OR($D62=\"\",IFERROR(INDEX(全国版!$D:$O,$B62,O$15),\"\")=\"\"),\"\",INDEX(全国版!$D:$O,$B62,O$15))","v":""},{"$f":"IF(OR($D62=\"\",IFERROR(INDEX(全国版!$D:$O,$B62,P$15),\"\")=\"\"),\"\",INDEX(全国版!$D:$O,$B62,P$15))","v":""}]
["大分県",{"$f":"MATCH(D63,全国版!C:C,0)","v":48},null,45,{"$f":"IF(OR($D63=\"\",IFERROR(INDEX(全国版!$D:$O,$B63,E$15),\"\")=\"\"),\"\",INDEX(全国版!$D:$O,$B63,E$15))","v":"岩手県"},{"$f":"IF(OR($D63=\"\",IFERROR(INDEX(全国版!$D:$O,$B63,F$15),\"\")=\"\"),\"\",INDEX(全国版!$D:$O,$B63,F$15))","v":"岩手リハビリテーション学院"},{"$f":"IF(OR($D63=\"\",IFERROR(INDEX(全国版!$D:$O,$B63,G$15),\"\")=\"\"),\"\",INDEX(全国版!$D:$O,$B63,G$15))","v":"医療専門課程　理学療法学科"},{"$f":"IF(OR($D63=\"\",IFERROR(INDEX(全国版!$D:$O,$B63,H$15),\"\")=\"\"),\"\",INDEX(全国版!$D:$O,$B63,H$15))","v":"2024-01-17"},{"$f":"IF(OR($D63=\"\",IFERROR(INDEX(全国版!$D:$O,$B63,I$15),\"\")=\"\"),\"\",INDEX(全国版!$D:$O,$B63,I$15))","v":""},{"$f":"IF(OR($D63=\"\",IFERROR(INDEX(全国版!$D:$O,$B63,J$15),\"\")=\"\"),\"\",INDEX(全国版!$D:$O,$B63,J$15))","v":""},{"$f":"IF(OR($D63=\"\",IFERROR(INDEX(全国版!$D:$O,$B63,K$15),\"\")=\"\"),\"\",INDEX(全国版!$D:$O,$B63,K$15))","v":"2024-01-17"},{"$f":"IF(OR($D63=\"\",IFERROR(INDEX(全国版!$D:$O,$B63,L$15),\"\")=\"\"),\"\",INDEX(全国版!$D:$O,$B63,L$15))","v":""},{"$f":"IF(OR($D63=\"\",IFERROR(INDEX(全国版!$D:$O,$B63,M$15),\"\")=\"\"),\"\",INDEX(全国版!$D:$O,$B63,M$15))","v":""},{"$f":"IF(OR($D63=\"\",IFERROR(INDEX(全国版!$D:$O,$B63,N$15),\"\")=\"\"),\"\",INDEX(全国版!$D:$O,$B63,N$15))","v":""},{"$f":"IF(OR($D63=\"\",IFERROR(INDEX(全国版!$D:$O,$B63,O$15),\"\")=\"\"),\"\",INDEX(全国版!$D:$O,$B63,O$15))","v":""},{"$f":"IF(OR($D63=\"\",IFERROR(INDEX(全国版!$D:$O,$B63,P$15),\"\")=\"\"),\"\",INDEX(全国版!$D:$O,$B63,P$15))","v":""}]
["宮崎県",{"$f":"MATCH(D64,全国版!C:C,0)","v":49},null,46,{"$f":"IF(OR($D64=\"\",IFERROR(INDEX(全国版!$D:$O,$B64,E$15),\"\")=\"\"),\"\",INDEX(全国版!$D:$O,$B64,E$15))","v":"岩手県"},{"$f":"IF(OR($D64=\"\",IFERROR(INDEX(全国版!$D:$O,$B64,F$15),\"\")=\"\"),\"\",INDEX(全国版!$D:$O,$B64,F$15))","v":"盛岡医療福祉スポーツ専門学校"},{"$f":"IF(OR($D64=\"\",IFERROR(INDEX(全国版!$D:$O,$B64,G$15),\"\")=\"\"),\"\",INDEX(全国版!$D:$O,$B64,G$15))","v":"教育・社会福祉専門課程　心理福祉学科"},{"$f":"IF(OR($D64=\"\",IFERROR(INDEX(全国版!$D:$O,$B64,H$15),\"\")=\"\"),\"\",INDEX(全国版!$D:$O,$B64,H$15))","v":"2020-04-01"},{"$f":"IF(OR($D64=\"\",IFERROR(INDEX(全国版!$D:$O,$B64,I$15),\"\")=\"\"),\"\",INDEX(全国版!$D:$O,$B64,I$15))","v":"～"},{"$f":"IF(OR($D64=\"\",IFERROR(INDEX(全国版!$D:$O,$B64,J$15),\"\")=\"\"),\"\",INDEX(全国版!$D:$O,$B64,J$15))","v":""},{"$f":"IF(OR($D64=\"\",IFERROR(INDEX(全国版!$D:$O,$B64,K$15),\"\")=\"\"),\"\",INDEX(全国版!$D:$O,$B64,K$15))","v":"2021-02-24"},{"$f":"IF(OR($D64=\"\",IFERROR(INDEX(全国版!$D:$O,$B64,L$15),\"\")=\"\"),\"\",INDEX(全国版!$D:$O,$B64,L$15))","v":""},{"$f":"IF(OR($D64=\"\",IFERROR(INDEX(全国版!$D:$O,$B64,M$15),\"\")=\"\"),\"\",INDEX(全国版!$D:$O,$B64,M$15))","v":""},{"$f":"IF(OR($D64=\"\",IFERROR(INDEX(全国版!$D:$O,$B64,N$15),\"\")=\"\"),\"\",INDEX(全国版!$D:$O,$B64,N$15))","v":""},{"$f":"IF(OR($D64=\"\",IFERROR(INDEX(全国版!$D:$O,$B64,O$15),\"\")=\"\"),\"\",INDEX(全国版!$D:$O,$B64,O$15))","v":""},{"$f":"IF(OR($D64=\"\",IFERROR(INDEX(全国版!$D:$O,$B64,P$15),\"\")=\"\"),\"\",INDEX(全国版!$D:$O,$B64,P$15))","v":""}]
["鹿児島県",{"$f":"MATCH(D65,全国版!C:C,0)","v":50},null,47,{"$f":"IF(OR($D65=\"\",IFERROR(INDEX(全国版!$D:$O,$B65,E$15),\"\")=\"\"),\"\",INDEX(全国版!$D:$O,$B65,E$15))","v":"岩手県"},{"$f":"IF(OR($D65=\"\",IFERROR(INDEX(全国版!$D:$O,$B65,F$15),\"\")=\"\"),\"\",INDEX(全国版!$D:$O,$B65,F$15))","v":"盛岡医療福祉専門学校"},{"$f":"IF(OR($D65=\"\",IFERROR(INDEX(全国版!$D:$O,$B65,G$15),\"\")=\"\"),\"\",INDEX(全国版!$D:$O,$B65,G$15))","v":"教育・社会福祉専門課程　心理福祉学科"},{"$f":"IF(OR($D65=\"\",IFERROR(INDEX(全国版!$D:$O,$B65,H$15),\"\")=\"\"),\"\",INDEX(全国版!$D:$O,$B65,H$15))","v":"2010-11-29"},{"$f":"IF(OR($D65=\"\",IFERROR(INDEX(全国版!$D:$O,$B65,I$15),\"\")=\"\"),\"\",INDEX(全国版!$D:$O,$B65,I$15))","v":"～"},{"$f":"IF(OR($D65=\"\",IFERROR(INDEX(全国版!$D:$O,$B65,J$15),\"\")=\"\"),\"\",INDEX(全国版!$D:$O,$B65,J$15))","v":"2020-03-31"},{"$f":"IF(OR($D65=\"\",IFERROR(INDEX(全国版!$D:$O,$B65,K$15),\"\")=\"\"),\"\",INDEX(全国版!$D:$O,$B65,K$15))","v":"2010-11-29"},{"$f":"IF(OR($D65=\"\",IFERROR(INDEX(全国版!$D:$O,$B65,L$15),\"\")=\"\"),\"\",INDEX(全国版!$D:$O,$B65,L$15))","v":"名称変更"},{"$f":"IF(OR($D65=\"\",IFERROR(INDEX(全国版!$D:$O,$B65,M$15),\"\")=\"\"),\"\",INDEX(全国版!$D:$O,$B65,M$15))","v":"盛岡医療福祉スポーツ専門学校"},{"$f":"IF(OR($D65=\"\",IFERROR(INDEX(全国版!$D:$O,$B65,N$15),\"\")=\"\"),\"\",INDEX(全国版!$D:$O,$B65,N$15))","v":"教育・社会福祉専門課程　心理福祉学科"},{"$f":"IF(OR($D65=\"\",IFERROR(INDEX(全国版!$D:$O,$B65,O$15),\"\")=\"\"),\"\",INDEX(全国版!$D:$O,$B65,O$15))","v":"2020-04-01"},{"$f":"IF(OR($D65=\"\",IFERROR(INDEX(全国版!$D:$O,$B65,P$15),\"\")=\"\"),\"\",INDEX(全国版!$D:$O,$B65,P$15))","v":"2021-02-24"}]
["沖縄県",{"$f":"MATCH(D66,全国版!C:C,0)","v":51},null,48,{"$f":"IF(OR($D66=\"\",IFERROR(INDEX(全国版!$D:$O,$B66,E$15),\"\")=\"\"),\"\",INDEX(全国版!$D:$O,$B66,E$15))","v":"岩手県"},{"$f":"IF(OR($D66=\"\",IFERROR(INDEX(全国版!$D:$O,$B66,F$15),\"\")=\"\"),\"\",INDEX(全国版!$D:$O,$B66,F$15))","v":"盛岡情報ビジネス＆デザイン専門学校"},{"$f":"IF(OR($D66=\"\",IFERROR(INDEX(全国版!$D:$O,$B66,G$15),\"\")=\"\"),\"\",INDEX(全国版!$D:$O,$B66,G$15))","v":"工業専門課程　ＩＴエキスパート科"},{"$f":"IF(OR($D66=\"\",IFERROR(INDEX(全国版!$D:$O,$B66,H$15),\"\")=\"\"),\"\",INDEX(全国版!$D:$O,$B66,H$15))","v":"2020-04-01"},{"$f":"IF(OR($D66=\"\",IFERROR(INDEX(全国版!$D:$O,$B66,I$15),\"\")=\"\"),\"\",INDEX(全国版!$D:$O,$B66,I$15))","v":"～"},{"$f":"IF(OR($D66=\"\",IFERROR(INDEX(全国版!$D:$O,$B66,J$15),\"\")=\"\"),\"\",INDEX(全国版!$D:$O,$B66,J$15))","v":"2021-03-31"},{"$f":"IF(OR($D66=\"\",IFERROR(INDEX(全国版!$D:$O,$B66,K$15),\"\")=\"\"),\"\",INDEX(全国版!$D:$O,$B66,K$15))","v":"2021-02-24"},{"$f":"IF(OR($D66=\"\",IFERROR(INDEX(全国版!$D:$O,$B66,L$15),\"\")=\"\"),\"\",INDEX(全国版!$D:$O,$B66,L$15))","v":"名称変更"},{"$f":"IF(OR($D66=\"\",IFERROR(INDEX(全国版!$D:$O,$B66,M$15),\"\")=\"\"),\"\",INDEX(全国版!$D:$O,$B66,M$15))","v":"盛岡情報ビジネス＆デザイン専門学校"},{"$f":"IF(OR($D66=\"\",IFERROR(INDEX(全国版!$D:$O,$B66,N$15),\"\")=\"\"),\"\",INDEX(全国版!$D:$O,$B66,N$15))","v":"工業専門課程　高度情報工学科"},{"$f":"IF(OR($D66=\"\",IFERROR(INDEX(全国版!$D:$O,$B66,O$15),\"\")=\"\"),\"\",INDEX(全国版!$D:$O,$B66,O$15))","v":"2021-04-01"},{"$f":"IF(OR($D66=\"\",IFERROR(INDEX(全国版!$D:$O,$B66,P$15),\"\")=\"\"),\"\",INDEX(全国版!$D:$O,$B66,P$15))","v":"2022-03-04"}]
[null,{"$f":"MATCH(D67,全国版!C:C,0)","v":52},null,49,{"$f":"IF(OR($D67=\"\",IFERROR(INDEX(全国版!$D:$O,$B67,E$15),\"\")=\"\"),\"\",INDEX(全国版!$D:$O,$B67,E$15))","v":"岩手県"},{"$f":"IF(OR($D67=\"\",IFERROR(INDEX(全国版!$D:$O,$B67,F$15),\"\")=\"\"),\"\",INDEX(全国版!$D:$O,$B67,F$15))","v":"盛岡情報ビジネス＆デザイン専門学校"},{"$f":"IF(OR($D67=\"\",IFERROR(INDEX(全国版!$D:$O,$B67,G$15),\"\")=\"\"),\"\",INDEX(全国版!$D:$O,$B67,G$15))","v":"工業専門課程　高度情報工学科"},{"$f":"IF(OR($D67=\"\",IFERROR(INDEX(全国版!$D:$O,$B67,H$15),\"\")=\"\"),\"\",INDEX(全国版!$D:$O,$B67,H$15))","v":"2021-04-01"},{"$f":"IF(OR($D67=\"\",IFERROR(INDEX(全国版!$D:$O,$B67,I$15),\"\")=\"\"),\"\",INDEX(全国版!$D:$O,$B67,I$15))","v":"～"},{"$f":"IF(OR($D67=\"\",IFERROR(INDEX(全国版!$D:$O,$B67,J$15),\"\")=\"\"),\"\",INDEX(全国版!$D:$O,$B67,J$15))","v":""},{"$f":"IF(OR($D67=\"\",IFERROR(INDEX(全国版!$D:$O,$B67,K$15),\"\")=\"\"),\"\",INDEX(全国版!$D:$O,$B67,K$15))","v":"2022-03-04"},{"$f":"IF(OR($D67=\"\",IFERROR(INDEX(全国版!$D:$O,$B67,L$15),\"\")=\"\"),\"\",INDEX(全国版!$D:$O,$B67,L$15))","v":""},{"$f":"IF(OR($D67=\"\",IFERROR(INDEX(全国版!$D:$O,$B67,M$15),\"\")=\"\"),\"\",INDEX(全国版!$D:$O,$B67,M$15))","v":""},{"$f":"IF(OR($D67=\"\",IFERROR(INDEX(全国版!$D:$O,$B67,N$15),\"\")=\"\"),\"\",INDEX(全国版!$D:$O,$B67,N$15))","v":""},{"$f":"IF(OR($D67=\"\",IFERROR(INDEX(全国版!$D:$O,$B67,O$15),\"\")=\"\"),\"\",INDEX(全国版!$D:$O,$B67,O$15))","v":""},{"$f":"IF(OR($D67=\"\",IFERROR(INDEX(全国版!$D:$O,$B67,P$15),\"\")=\"\"),\"\",INDEX(全国版!$D:$O,$B67,P$15))","v":""}]
[null,{"$f":"MATCH(D68,全国版!C:C,0)","v":53},null,50,{"$f":"IF(OR($D68=\"\",IFERROR(INDEX(全国版!$D:$O,$B68,E$15),\"\")=\"\"),\"\",INDEX(全国版!$D:$O,$B68,E$15))","v":"岩手県"},{"$f":"IF(OR($D68=\"\",IFERROR(INDEX(全国版!$D:$O,$B68,F$15),\"\")=\"\"),\"\",INDEX(全国版!$D:$O,$B68,F$15))","v":"盛岡情報ビジネス専門学校"},{"$f":"IF(OR($D68=\"\",IFERROR(INDEX(全国版!$D:$O,$B68,G$15),\"\")=\"\"),\"\",INDEX(全国版!$D:$O,$B68,G$15))","v":"工業専門課程　ＩＴエキスパート科"},{"$f":"IF(OR($D68=\"\",IFERROR(INDEX(全国版!$D:$O,$B68,H$15),\"\")=\"\"),\"\",INDEX(全国版!$D:$O,$B68,H$15))","v":"2010-02-26"},{"$f":"IF(OR($D68=\"\",IFERROR(INDEX(全国版!$D:$O,$B68,I$15),\"\")=\"\"),\"\",INDEX(全国版!$D:$O,$B68,I$15))","v":"～"},{"$f":"IF(OR($D68=\"\",IFERROR(INDEX(全国版!$D:$O,$B68,J$15),\"\")=\"\"),\"\",INDEX(全国版!$D:$O,$B68,J$15))","v":"2020-03-31"},{"$f":"IF(OR($D68=\"\",IFERROR(INDEX(全国版!$D:$O,$B68,K$15),\"\")=\"\"),\"\",INDEX(全国版!$D:$O,$B68,K$15))","v":"2010-02-26"},{"$f":"IF(OR($D68=\"\",IFERROR(INDEX(全国版!$D:$O,$B68,L$15),\"\")=\"\"),\"\",INDEX(全国版!$D:$O,$B68,L$15))","v":"名称変更"},{"$f":"IF(OR($D68=\"\",IFERROR(INDEX(全国版!$D:$O,$B68,M$15),\"\")=\"\"),\"\",INDEX(全国版!$D:$O,$B68,M$15))","v":"盛岡情報ビジネス＆デザイン専門学校"},{"$f":"IF(OR($D68=\"\",IFERROR(INDEX(全国版!$D:$O,$B68,N$15),\"\")=\"\"),\"\",INDEX(全国版!$D:$O,$B68,N$15))","v":"工業専門課程　ＩＴエキスパート科"},{"$f":"IF(OR($D68=\"\",IFERROR(INDEX(全国版!$D:$O,$B68,O$15),\"\")=\"\"),\"\",INDEX(全国版!$D:$O,$B68,O$15))","v":"2020-04-01"},{"$f":"IF(OR($D68=\"\",IFERROR(INDEX(全国版!$D:$O,$B68,P$15),\"\")=\"\"),\"\",INDEX(全国版!$D:$O,$B68,P$15))","v":"2021-02-24"}]
[null,{"$f":"MATCH(D69,全国版!C:C,0)","v":54},null,51,{"$f":"IF(OR($D69=\"\",IFERROR(INDEX(全国版!$D:$O,$B69,E$15),\"\")=\"\"),\"\",INDEX(全国版!$D:$O,$B69,E$15))","v":"宮城県"},{"$f":"IF(OR($D69=\"\",IFERROR(INDEX(全国版!$D:$O,$B69,F$15),\"\")=\"\"),\"\",INDEX(全国版!$D:$O,$B69,F$15))","v":"仙台医健・スポーツ＆こども専門学校"},{"$f":"IF(OR($D69=\"\",IFERROR(INDEX(全国版!$D:$O,$B69,G$15),\"\")=\"\"),\"\",INDEX(全国版!$D:$O,$B69,G$15))","v":"医療専門課程　理学療法科Ⅰ部"},{"$f":"IF(OR($D69=\"\",IFERROR(INDEX(全国版!$D:$O,$B69,H$15),\"\")=\"\"),\"\",INDEX(全国版!$D:$O,$B69,H$15))","v":"2018-04-01"},{"$f":"IF(OR($D69=\"\",IFERROR(INDEX(全国版!$D:$O,$B69,I$15),\"\")=\"\"),\"\",INDEX(全国版!$D:$O,$B69,I$15))","v":"～"},{"$f":"IF(OR($D69=\"\",IFERROR(INDEX(全国版!$D:$O,$B69,J$15),\"\")=\"\"),\"\",INDEX(全国版!$D:$O,$B69,J$15))","v":"2021-03-31"},{"$f":"IF(OR($D69=\"\",IFERROR(INDEX(全国版!$D:$O,$B69,K$15),\"\")=\"\"),\"\",INDEX(全国版!$D:$O,$B69,K$15))","v":"2019-01-25"},{"$f":"IF(OR($D69=\"\",IFERROR(INDEX(全国版!$D:$O,$B69,L$15),\"\")=\"\"),\"\",INDEX(全国版!$D:$O,$B69,L$15))","v":"名称変更"},{"$f":"IF(OR($D69=\"\",IFERROR(INDEX(全国版!$D:$O,$B69,M$15),\"\")=\"\"),\"\",INDEX(全国版!$D:$O,$B69,M$15))","v":"仙台医健・スポーツ専門学校"},{"$f":"IF(OR($D69=\"\",IFERROR(INDEX(全国版!$D:$O,$B69,N$15),\"\")=\"\"),\"\",INDEX(全国版!$D:$O,$B69,N$15))","v":"医療専門課程　理学療法科Ⅰ部"},{"$f":"IF(OR($D69=\"\",IFERROR(INDEX(全国版!$D:$O,$B69,O$15),\"\")=\"\"),\"\",INDEX(全国版!$D:$O,$B69,O$15))","v":"2021-04-01"},{"$f":"IF(OR($D69=\"\",IFERROR(INDEX(全国版!$D:$O,$B69,P$15),\"\")=\"\"),\"\",INDEX(全国版!$D:$O,$B69,P$15))","v":"2022-03-04"}]
[null,{"$f":"MATCH(D70,全国版!C:C,0)","v":55},null,52,{"$f":"IF(OR($D70=\"\",IFERROR(INDEX(全国版!$D:$O,$B70,E$15),\"\")=\"\"),\"\",INDEX(全国版!$D:$O,$B70,E$15))","v":"宮城県"},{"$f":"IF(OR($D70=\"\",IFERROR(INDEX(全国版!$D:$O,$B70,F$15),\"\")=\"\"),\"\",INDEX(全国版!$D:$O,$B70,F$15))","v":"仙台医健・スポーツ＆こども専門学校"},{"$f":"IF(OR($D70=\"\",IFERROR(INDEX(全国版!$D:$O,$B70,G$15),\"\")=\"\"),\"\",INDEX(全国版!$D:$O,$B70,G$15))","v":"医療専門課程　理学療法科Ⅱ部"},{"$f":"IF(OR($D70=\"\",IFERROR(INDEX(全国版!$D:$O,$B70,H$15),\"\")=\"\"),\"\",INDEX(全国版!$D:$O,$B70,H$15))","v":"2018-04-01"},{"$f":"IF(OR($D70=\"\",IFERROR(INDEX(全国版!$D:$O,$B70,I$15),\"\")=\"\"),\"\",INDEX(全国版!$D:$O,$B70,I$15))","v":"～"},{"$f":"IF(OR($D70=\"\",IFERROR(INDEX(全国版!$D:$O,$B70,J$15),\"\")=\"\"),\"\",INDEX(全国版!$D:$O,$B70,J$15))","v":"2021-03-31"},{"$f":"IF(OR($D70=\"\",IFERROR(INDEX(全国版!$D:$O,$B70,K$15),\"\")=\"\"),\"\",INDEX(全国版!$D:$O,$B70,K$15))","v":"2019-01-25"},{"$f":"IF(OR($D70=\"\",IFERROR(INDEX(全国版!$D:$O,$B70,L$15),\"\")=\"\"),\"\",INDEX(全国版!$D:$O,$B70,L$15))","v":"廃止"},{"$f":"IF(OR($D70=\"\",IFERROR(INDEX(全国版!$D:$O,$B70,M$15),\"\")=\"\"),\"\",INDEX(全国版!$D:$O,$B70,M$15))","v":""},{"$f":"IF(OR($D70=\"\",IFERROR(INDEX(全国版!$D:$O,$B70,N$15),\"\")=\"\"),\"\",INDEX(全国版!$D:$O,$B70,N$15))","v":""},{"$f":"IF(OR($D70=\"\",IFERROR(INDEX(全国版!$D:$O,$B70,O$15),\"\")=\"\"),\"\",INDEX(全国版!$D:$O,$B70,O$15))","v":"2021-03-31"},{"$f":"IF(OR($D70=\"\",IFERROR(INDEX(全国版!$D:$O,$B70,P$15),\"\")=\"\"),\"\",INDEX(全国版!$D:$O,$B70,P$15))","v":"2022-03-04"}]
[null,{"$f":"MATCH(D71,全国版!C:C,0)","v":56},null,53,{"$f":"IF(OR($D71=\"\",IFERROR(INDEX(全国版!$D:$O,$B71,E$15),\"\")=\"\"),\"\",INDEX(全国版!$D:$O,$B71,E$15))","v":"宮城県"},{"$f":"IF(OR($D71=\"\",IFERROR(INDEX(全国版!$D:$O,$B71,F$15),\"\")=\"\"),\"\",INDEX(全国版!$D:$O,$B71,F$15))","v":"仙台医健・スポーツ専門学校"},{"$f":"IF(OR($D71=\"\",IFERROR(INDEX(全国版!$D:$O,$B71,G$15),\"\")=\"\"),\"\",INDEX(全国版!$D:$O,$B71,G$15))","v":"医療専門課程　理学療法科Ⅰ部"},{"$f":"IF(OR($D71=\"\",IFERROR(INDEX(全国版!$D:$O,$B71,H$15),\"\")=\"\"),\"\",INDEX(全国版!$D:$O,$B71,H$15))","v":"2021-04-01"},{"$f":"IF(OR($D71=\"\",IFERROR(INDEX(全国版!$D:$O,$B71,I$15),\"\")=\"\"),\"\",INDEX(全国版!$D:$O,$B71,I$15))","v":"～"},{"$f":"IF(OR($D71=\"\",IFERROR(INDEX(全国版!$D:$O,$B71,J$15),\"\")=\"\"),\"\",INDEX(全国版!$D:$O,$B71,J$15))","v":""},{"$f":"IF(OR($D71=\"\",IFERROR(INDEX(全国版!$D:$O,$B71,K$15),\"\")=\"\"),\"\",INDEX(全国版!$D:$O,$B71,K$15))","v":"2022-03-04"},{"$f":"IF(OR($D71=\"\",IFERROR(INDEX(全国版!$D:$O,$B71,L$15),\"\")=\"\"),\"\",INDEX(全国版!$D:$O,$B71,L$15))","v":""},{"$f":"IF(OR($D71=\"\",IFERROR(INDEX(全国版!$D:$O,$B71,M$15),\"\")=\"\"),\"\",INDEX(全国版!$D:$O,$B71,M$15))","v":""},{"$f":"IF(OR($D71=\"\",IFERROR(INDEX(全国版!$D:$O,$B71,N$15),\"\")=\"\"),\"\",INDEX(全国版!$D:$O,$B71,N$15))","v":""},{"$f":"IF(OR($D71=\"\",IFERROR(INDEX(全国版!$D:$O,$B71,O$15),\"\")=\"\"),\"\",INDEX(全国版!$D:$O,$B71,O$15))","v":""},{"$f":"IF(OR($D71=\"\",IFERROR(INDEX(全国版!$D:$O,$B71,P$15),\"\")=\"\"),\"\",INDEX(全国版!$D:$O,$B71,P$15))","v":""}]
[null,{"$f":"MATCH(D72,全国版!C:C,0)","v":57},null,54,{"$f":"IF(OR($D72=\"\",IFERROR(INDEX(全国版!$D:$O,$B72,E$15),\"\")=\"\"),\"\",INDEX(全国版!$D:$O,$B72,E$15))","v":"宮城県"},{"$f":"IF(OR($D72=\"\",IFERROR(INDEX(全国版!$D:$O,$B72,F$15),\"\")=\"\"),\"\",INDEX(全国版!$D:$O,$B72,F$15))","v":"仙台医健専門学校"},{"$f":"IF(OR($D72=\"\",IFERROR(INDEX(全国版!$D:$O,$B72,G$15),\"\")=\"\"),\"\",INDEX(全国版!$D:$O,$B72,G$15))","v":"医療専門課程　理学療法科Ⅰ部"},{"$f":"IF(OR($D72=\"\",IFERROR(INDEX(全国版!$D:$O,$B72,H$15),\"\")=\"\"),\"\",INDEX(全国版!$D:$O,$B72,H$15))","v":"2010-11-29"},{"$f":"IF(OR($D72=\"\",IFERROR(INDEX(全国版!$D:$O,$B72,I$15),\"\")=\"\"),\"\",INDEX(全国版!$D:$O,$B72,I$15))","v":"～"},{"$f":"IF(OR($D72=\"\",IFERROR(INDEX(全国版!$D:$O,$B72,J$15),\"\")=\"\"),\"\",INDEX(全国版!$D:$O,$B72,J$15))","v":"2018-03-31"},{"$f":"IF(OR($D72=\"\",IFERROR(INDEX(全国版!$D:$O,$B72,K$15),\"\")=\"\"),\"\",INDEX(全国版!$D:$O,$B72,K$15))","v":"2010-11-29"},{"$f":"IF(OR($D72=\"\",IFERROR(INDEX(全国版!$D:$O,$B72,L$15),\"\")=\"\"),\"\",INDEX(全国版!$D:$O,$B72,L$15))","v":"名称変更"},{"$f":"IF(OR($D72=\"\",IFERROR(INDEX(全国版!$D:$O,$B72,M$15),\"\")=\"\"),\"\",INDEX(全国版!$D:$O,$B72,M$15))","v":"仙台医健・スポーツ＆こども専門学校"},{"$f":"IF(OR($D72=\"\",IFERROR(INDEX(全国版!$D:$O,$B72,N$15),\"\")=\"\"),\"\",INDEX(全国版!$D:$O,$B72,N$15))","v":"医療専門課程　理学療法科Ⅰ部"},{"$f":"IF(OR($D72=\"\",IFERROR(INDEX(全国版!$D:$O,$B72,O$15),\"\")=\"\"),\"\",INDEX(全国版!$D:$O,$B72,O$15))","v":"2018-04-01"},{"$f":"IF(OR($D72=\"\",IFERROR(INDEX(全国版!$D:$O,$B72,P$15),\"\")=\"\"),\"\",INDEX(全国版!$D:$O,$B72,P$15))","v":"2019-01-25"}]
[null,{"$f":"MATCH(D73,全国版!C:C,0)","v":58},null,55,{"$f":"IF(OR($D73=\"\",IFERROR(INDEX(全国版!$D:$O,$B73,E$15),\"\")=\"\"),\"\",INDEX(全国版!$D:$O,$B73,E$15))","v":"宮城県"},{"$f":"IF(OR($D73=\"\",IFERROR(INDEX(全国版!$D:$O,$B73,F$15),\"\")=\"\"),\"\",INDEX(全国版!$D:$O,$B73,F$15))","v":"仙台医健専門学校"},{"$f":"IF(OR($D73=\"\",IFERROR(INDEX(全国版!$D:$O,$B73,G$15),\"\")=\"\"),\"\",INDEX(全国版!$D:$O,$B73,G$15))","v":"医療専門課程　理学療法科Ⅱ部"},{"$f":"IF(OR($D73=\"\",IFERROR(INDEX(全国版!$D:$O,$B73,H$15),\"\")=\"\"),\"\",INDEX(全国版!$D:$O,$B73,H$15))","v":"2010-11-29"},{"$f":"IF(OR($D73=\"\",IFERROR(INDEX(全国版!$D:$O,$B73,I$15),\"\")=\"\"),\"\",INDEX(全国版!$D:$O,$B73,I$15))","v":"～"},{"$f":"IF(OR($D73=\"\",IFERROR(INDEX(全国版!$D:$O,$B73,J$15),\"\")=\"\"),\"\",INDEX(全国版!$D:$O,$B73,J$15))","v":"2018-03-31"},{"$f":"IF(OR($D73=\"\",IFERROR(INDEX(全国版!$D:$O,$B73,K$15),\"\")=\"\"),\"\",INDEX(全国版!$D:$O,$B73,K$15))","v":"2010-11-29"},{"$f":"IF(OR($D73=\"\",IFERROR(INDEX(全国版!$D:$O,$B73,L$15),\"\")=\"\"),\"\",INDEX(全国版!$D:$O,$B73,L$15))","v":"名称変更"},{"$f":"IF(OR($D73=\"\",IFERROR(INDEX(全国版!$D:$O,$B73,M$15),\"\")=\"\"),\"\",INDEX(全国版!$D:$O,$B73,M$15))","v":"仙台医健・スポーツ＆こども専門学校"},{"$f":"IF(OR($D73=\"\",IFERROR(INDEX(全国版!$D:$O,$B73,N$15),\"\")=\"\"),\"\",INDEX(全国版!$D:$O,$B73,N$15))","v":"医療専門課程　理学療法科Ⅱ部"},{"$f":"IF(OR($D73=\"\",IFERROR(INDEX(全国版!$D:$O,$B73,O$15),\"\")=\"\"),\"\",INDEX(全国版!$D:$O,$B73,O$15))","v":"2018-04-01"},{"$f":"IF(OR($D73=\"\",IFERROR(INDEX(全国版!$D:$O,$B73,P$15),\"\")=\"\"),\"\",INDEX(全国版!$D:$O,$B73,P$15))","v":"2019-01-25"}]
[null,{"$f":"MATCH(D74,全国版!C:C,0)","v":59},null,56,{"$f":"IF(OR($D74=\"\",IFERROR(INDEX(全国版!$D:$O,$B74,E$15),\"\")=\"\"),\"\",INDEX(全国版!$D:$O,$B74,E$15))","v":"宮城県"},{"$f":"IF(OR($D74=\"\",IFERROR(INDEX(全国版!$D:$O,$B74,F$15),\"\")=\"\"),\"\",INDEX(全国版!$D:$O,$B74,F$15))","v":"仙台医療技術専門学校"},{"$f":"IF(OR($D74=\"\",IFERROR(INDEX(全国版!$D:$O,$B74,G$15),\"\")=\"\"),\"\",INDEX(全国版!$D:$O,$B74,G$15))","v":"医療専門課程　理学療法学科Ⅱ部"},{"$f":"IF(OR($D74=\"\",IFERROR(INDEX(全国版!$D:$O,$B74,H$15),\"\")=\"\"),\"\",INDEX(全国版!$D:$O,$B74,H$15))","v":"2005-12-09"},{"$f":"IF(OR($D74=\"\",IFERROR(INDEX(全国版!$D:$O,$B74,I$15),\"\")=\"\"),\"\",INDEX(全国版!$D:$O,$B74,I$15))","v":"～"},{"$f":"IF(OR($D74=\"\",IFERROR(INDEX(全国版!$D:$O,$B74,J$15),\"\")=\"\"),\"\",INDEX(全国版!$D:$O,$B74,J$15))","v":"2007-02-27"},{"$f":"IF(OR($D74=\"\",IFERROR(INDEX(全国版!$D:$O,$B74,K$15),\"\")=\"\"),\"\",INDEX(全国版!$D:$O,$B74,K$15))","v":"2005-12-09"},{"$f":"IF(OR($D74=\"\",IFERROR(INDEX(全国版!$D:$O,$B74,L$15),\"\")=\"\"),\"\",INDEX(全国版!$D:$O,$B74,L$15))","v":"不適合"},{"$f":"IF(OR($D74=\"\",IFERROR(INDEX(全国版!$D:$O,$B74,M$15),\"\")=\"\"),\"\",INDEX(全国版!$D:$O,$B74,M$15))","v":""},{"$f":"IF(OR($D74=\"\",IFERROR(INDEX(全国版!$D:$O,$B74,N$15),\"\")=\"\"),\"\",INDEX(全国版!$D:$O,$B74,N$15))","v":""},{"$f":"IF(OR($D74=\"\",IFERROR(INDEX(全国版!$D:$O,$B74,O$15),\"\")=\"\"),\"\",INDEX(全国版!$D:$O,$B74,O$15))","v":"2007-02-28"},{"$f":"IF(OR($D74=\"\",IFERROR(INDEX(全国版!$D:$O,$B74,P$15),\"\")=\"\"),\"\",INDEX(全国版!$D:$O,$B74,P$15))","v":"2007-02-28"}]
[null,{"$f":"MATCH(D75,全国版!C:C,0)","v":60},null,57,{"$f":"IF(OR($D75=\"\",IFERROR(INDEX(全国版!$D:$O,$B75,E$15),\"\")=\"\"),\"\",INDEX(全国版!$D:$O,$B75,E$15))","v":"宮城県"},{"$f":"IF(OR($D75=\"\",IFERROR(INDEX(全国版!$D:$O,$B75,F$15),\"\")=\"\"),\"\",INDEX(全国版!$D:$O,$B75,F$15))","v":"仙台大原簿記公務員専門学校"},{"$f":"IF(OR($D75=\"\",IFERROR(INDEX(全国版!$D:$O,$B75,G$15),\"\")=\"\"),\"\",INDEX(全国版!$D:$O,$B75,G$15))","v":"商業実務専門課程　税理士会計学科（４年課程）"},{"$f":"IF(OR($D75=\"\",IFERROR(INDEX(全国版!$D:$O,$B75,H$15),\"\")=\"\"),\"\",INDEX(全国版!$D:$O,$B75,H$15))","v":"2010-02-26"},{"$f":"IF(OR($D75=\"\",IFERROR(INDEX(全国版!$D:$O,$B75,I$15),\"\")=\"\"),\"\",INDEX(全国版!$D:$O,$B75,I$15))","v":"～"},{"$f":"IF(OR($D75=\"\",IFERROR(INDEX(全国版!$D:$O,$B75,J$15),\"\")=\"\"),\"\",INDEX(全国版!$D:$O,$B75,J$15))","v":"2011-03-31"},{"$f":"IF(OR($D75=\"\",IFERROR(INDEX(全国版!$D:$O,$B75,K$15),\"\")=\"\"),\"\",INDEX(全国版!$D:$O,$B75,K$15))","v":"2010-02-26"},{"$f":"IF(OR($D75=\"\",IFERROR(INDEX(全国版!$D:$O,$B75,L$15),\"\")=\"\"),\"\",INDEX(全国版!$D:$O,$B75,L$15))","v":"名称変更"},{"$f":"IF(OR($D75=\"\",IFERROR(INDEX(全国版!$D:$O,$B75,M$15),\"\")=\"\"),\"\",INDEX(全国版!$D:$O,$B75,M$15))","v":"仙台大原簿記情報公務員専門学校"},{"$f":"IF(OR($D75=\"\",IFERROR(INDEX(全国版!$D:$O,$B75,N$15),\"\")=\"\"),\"\",INDEX(全国版!$D:$O,$B75,N$15))","v":"商業実務専門課程　税理士会計士学科（４年課程）"},{"$f":"IF(OR($D75=\"\",IFERROR(INDEX(全国版!$D:$O,$B75,O$15),\"\")=\"\"),\"\",INDEX(全国版!$D:$O,$B75,O$15))","v":"2011-04-01"},{"$f":"IF(OR($D75=\"\",IFERROR(INDEX(全国版!$D:$O,$B75,P$15),\"\")=\"\"),\"\",INDEX(全国版!$D:$O,$B75,P$15))","v":"2011-12-22"}]
[null,{"$f":"MATCH(D76,全国版!C:C,0)","v":61},null,58,{"$f":"IF(OR($D76=\"\",IFERROR(INDEX(全国版!$D:$O,$B76,E$15),\"\")=\"\"),\"\",INDEX(全国版!$D:$O,$B76,E$15))","v":"宮城県"},{"$f":"IF(OR($D76=\"\",IFERROR(INDEX(全国版!$D:$O,$B76,F$15),\"\")=\"\"),\"\",INDEX(全国版!$D:$O,$B76,F$15))","v":"仙台大原簿記情報公務員専門学校"},{"$f":"IF(OR($D76=\"\",IFERROR(INDEX(全国版!$D:$O,$B76,G$15),\"\")=\"\"),\"\",INDEX(全国版!$D:$O,$B76,G$15))","v":"商業実務専門課程　情報システム学科（４年課程）"},{"$f":"IF(OR($D76=\"\",IFERROR(INDEX(全国版!$D:$O,$B76,H$15),\"\")=\"\"),\"\",INDEX(全国版!$D:$O,$B76,H$15))","v":"2019-01-25"},{"$f":"IF(OR($D76=\"\",IFERROR(INDEX(全国版!$D:$O,$B76,I$15),\"\")=\"\"),\"\",INDEX(全国版!$D:$O,$B76,I$15))","v":"～"},{"$f":"IF(OR($D76=\"\",IFERROR(INDEX(全国版!$D:$O,$B76,J$15),\"\")=\"\"),\"\",INDEX(全国版!$D:$O,$B76,J$15))","v":""},{"$f":"IF(OR($D76=\"\",IFERROR(INDEX(全国版!$D:$O,$B76,K$15),\"\")=\"\"),\"\",INDEX(全国版!$D:$O,$B76,K$15))","v":"2019-01-25"},{"$f":"IF(OR($D76=\"\",IFERROR(INDEX(全国版!$D:$O,$B76,L$15),\"\")=\"\"),\"\",INDEX(全国版!$D:$O,$B76,L$15))","v":""},{"$f":"IF(OR($D76=\"\",IFERROR(INDEX(全国版!$D:$O,$B76,M$15),\"\")=\"\"),\"\",INDEX(全国版!$D:$O,$B76,M$15))","v":""},{"$f":"IF(OR($D76=\"\",IFERROR(INDEX(全国版!$D:$O,$B76,N$15),\"\")=\"\"),\"\",INDEX(全国版!$D:$O,$B76,N$15))","v":""},{"$f":"IF(OR($D76=\"\",IFERROR(INDEX(全国版!$D:$O,$B76,O$15),\"\")=\"\"),\"\",INDEX(全国版!$D:$O,$B76,O$15))","v":""},{"$f":"IF(OR($D76=\"\",IFERROR(INDEX(全国版!$D:$O,$B76,P$15),\"\")=\"\"),\"\",INDEX(全国版!$D:$O,$B76,P$15))","v":""}]
[null,{"$f":"MATCH(D77,全国版!C:C,0)","v":62},null,59,{"$f":"IF(OR($D77=\"\",IFERROR(INDEX(全国版!$D:$O,$B77,E$15),\"\")=\"\"),\"\",INDEX(全国版!$D:$O,$B77,E$15))","v":"宮城県"},{"$f":"IF(OR($D77=\"\",IFERROR(INDEX(全国版!$D:$O,$B77,F$15),\"\")=\"\"),\"\",INDEX(全国版!$D:$O,$B77,F$15))","v":"仙台大原簿記情報公務員専門学校"},{"$f":"IF(OR($D77=\"\",IFERROR(INDEX(全国版!$D:$O,$B77,G$15),\"\")=\"\"),\"\",INDEX(全国版!$D:$O,$B77,G$15))","v":"商業実務専門課程　税理士会計士学科（４年課程）"},{"$f":"IF(OR($D77=\"\",IFERROR(INDEX(全国版!$D:$O,$B77,H$15),\"\")=\"\"),\"\",INDEX(全国版!$D:$O,$B77,H$15))","v":"2011-04-01"},{"$f":"IF(OR($D77=\"\",IFERROR(INDEX(全国版!$D:$O,$B77,I$15),\"\")=\"\"),\"\",INDEX(全国版!$D:$O,$B77,I$15))","v":"～"},{"$f":"IF(OR($D77=\"\",IFERROR(INDEX(全国版!$D:$O,$B77,J$15),\"\")=\"\"),\"\",INDEX(全国版!$D:$O,$B77,J$15))","v":""},{"$f":"IF(OR($D77=\"\",IFERROR(INDEX(全国版!$D:$O,$B77,K$15),\"\")=\"\"),\"\",INDEX(全国版!$D:$O,$B77,K$15))","v":"2011-12-22"},{"$f":"IF(OR($D77=\"\",IFERROR(INDEX(全国版!$D:$O,$B77,L$15),\"\")=\"\"),\"\",INDEX(全国版!$D:$O,$B77,L$15))","v":""},{"$f":"IF(OR($D77=\"\",IFERROR(INDEX(全国版!$D:$O,$B77,M$15),\"\")=\"\"),\"\",INDEX(全国版!$D:$O,$B77,M$15))","v":""},{"$f":"IF(OR($D77=\"\",IFERROR(INDEX(全国版!$D:$O,$B77,N$15),\"\")=\"\"),\"\",INDEX(全国版!$D:$O,$B77,N$15))","v":""},{"$f":"IF(OR($D77=\"\",IFERROR(INDEX(全国版!$D:$O,$B77,O$15),\"\")=\"\"),\"\",INDEX(全国版!$D:$O,$B77,O$15))","v":""},{"$f":"IF(OR($D77=\"\",IFERROR(INDEX(全国版!$D:$O,$B77,P$15),\"\")=\"\"),\"\",INDEX(全国版!$D:$O,$B77,P$15))","v":""}]
[null,{"$f":"MATCH(D78,全国版!C:C,0)","v":63},null,60,{"$f":"IF(OR($D78=\"\",IFERROR(INDEX(全国版!$D:$O,$B78,E$15),\"\")=\"\"),\"\",INDEX(全国版!$D:$O,$B78,E$15))","v":"宮城県"},{"$f":"IF(OR($D78=\"\",IFERROR(INDEX(全国版!$D:$O,$B78,F$15),\"\")=\"\"),\"\",INDEX(全国版!$D:$O,$B78,F$15))","v":"仙台保健福祉専門学校"},{"$f":"IF(OR($D78=\"\",IFERROR(INDEX(全国版!$D:$O,$B78,G$15),\"\")=\"\"),\"\",INDEX(全国版!$D:$O,$B78,G$15))","v":"医療専門課程　作業療法科"},{"$f":"IF(OR($D78=\"\",IFERROR(INDEX(全国版!$D:$O,$B78,H$15),\"\")=\"\"),\"\",INDEX(全国版!$D:$O,$B78,H$15))","v":"2010-11-29"},{"$f":"IF(OR($D78=\"\",IFERROR(INDEX(全国版!$D:$O,$B78,I$15),\"\")=\"\"),\"\",INDEX(全国版!$D:$O,$B78,I$15))","v":"～"},{"$f":"IF(OR($D78=\"\",IFERROR(INDEX(全国版!$D:$O,$B78,J$15),\"\")=\"\"),\"\",INDEX(全国版!$D:$O,$B78,J$15))","v":""},{"$f":"IF(OR($D78=\"\",IFERROR(INDEX(全国版!$D:$O,$B78,K$15),\"\")=\"\"),\"\",INDEX(全国版!$D:$O,$B78,K$15))","v":"2010-11-29"},{"$f":"IF(OR($D78=\"\",IFERROR(INDEX(全国版!$D:$O,$B78,L$15),\"\")=\"\"),\"\",INDEX(全国版!$D:$O,$B78,L$15))","v":""},{"$f":"IF(OR($D78=\"\",IFERROR(INDEX(全国版!$D:$O,$B78,M$15),\"\")=\"\"),\"\",INDEX(全国版!$D:$O,$B78,M$15))","v":""},{"$f":"IF(OR($D78=\"\",IFERROR(INDEX(全国版!$D:$O,$B78,N$15),\"\")=\"\"),\"\",INDEX(全国版!$D:$O,$B78,N$15))","v":""},{"$f":"IF(OR($D78=\"\",IFERROR(INDEX(全国版!$D:$O,$B78,O$15),\"\")=\"\"),\"\",INDEX(全国版!$D:$O,$B78,O$15))","v":""},{"$f":"IF(OR($D78=\"\",IFERROR(INDEX(全国版!$D:$O,$B78,P$15),\"\")=\"\"),\"\",INDEX(全国版!$D:$O,$B78,P$15))","v":""}]
[null,{"$f":"MATCH(D79,全国版!C:C,0)","v":64},null,61,{"$f":"IF(OR($D79=\"\",IFERROR(INDEX(全国版!$D:$O,$B79,E$15),\"\")=\"\"),\"\",INDEX(全国版!$D:$O,$B79,E$15))","v":"宮城県"},{"$f":"IF(OR($D79=\"\",IFERROR(INDEX(全国版!$D:$O,$B79,F$15),\"\")=\"\"),\"\",INDEX(全国版!$D:$O,$B79,F$15))","v":"仙台保健福祉専門学校"},{"$f":"IF(OR($D79=\"\",IFERROR(INDEX(全国版!$D:$O,$B79,G$15),\"\")=\"\"),\"\",INDEX(全国版!$D:$O,$B79,G$15))","v":"医療専門課程　理学療法科"},{"$f":"IF(OR($D79=\"\",IFERROR(INDEX(全国版!$D:$O,$B79,H$15),\"\")=\"\"),\"\",INDEX(全国版!$D:$O,$B79,H$15))","v":"2010-11-29"},{"$f":"IF(OR($D79=\"\",IFERROR(INDEX(全国版!$D:$O,$B79,I$15),\"\")=\"\"),\"\",INDEX(全国版!$D:$O,$B79,I$15))","v":"～"},{"$f":"IF(OR($D79=\"\",IFERROR(INDEX(全国版!$D:$O,$B79,J$15),\"\")=\"\"),\"\",INDEX(全国版!$D:$O,$B79,J$15))","v":""},{"$f":"IF(OR($D79=\"\",IFERROR(INDEX(全国版!$D:$O,$B79,K$15),\"\")=\"\"),\"\",INDEX(全国版!$D:$O,$B79,K$15))","v":"2010-11-29"},{"$f":"IF(OR($D79=\"\",IFERROR(INDEX(全国版!$D:$O,$B79,L$15),\"\")=\"\"),\"\",INDEX(全国版!$D:$O,$B79,L$15))","v":""},{"$f":"IF(OR($D79=\"\",IFERROR(INDEX(全国版!$D:$O,$B79,M$15),\"\")=\"\"),\"\",INDEX(全国版!$D:$O,$B79,M$15))","v":""},{"$f":"IF(OR($D79=\"\",IFERROR(INDEX(全国版!$D:$O,$B79,N$15),\"\")=\"\"),\"\",INDEX(全国版!$D:$O,$B79,N$15))","v":""},{"$f":"IF(OR($D79=\"\",IFERROR(INDEX(全国版!$D:$O,$B79,O$15),\"\")=\"\"),\"\",INDEX(全国版!$D:$O,$B79,O$15))","v":""},{"$f":"IF(OR($D79=\"\",IFERROR(INDEX(全国版!$D:$O,$B79,P$15),\"\")=\"\"),\"\",INDEX(全国版!$D:$O,$B79,P$15))","v":""}]
[null,{"$f":"MATCH(D80,全国版!C:C,0)","v":65},null,62,{"$f":"IF(OR($D80=\"\",IFERROR(INDEX(全国版!$D:$O,$B80,E$15),\"\")=\"\"),\"\",INDEX(全国版!$D:$O,$B80,E$15))","v":"宮城県"},{"$f":"IF(OR($D80=\"\",IFERROR(INDEX(全国版!$D:$O,$B80,F$15),\"\")=\"\"),\"\",INDEX(全国版!$D:$O,$B80,F$15))","v":"仙台保健福祉専門学校"},{"$f":"IF(OR($D80=\"\",IFERROR(INDEX(全国版!$D:$O,$B80,G$15),\"\")=\"\"),\"\",INDEX(全国版!$D:$O,$B80,G$15))","v":"教育社会福祉専門課程　保健福祉科"},{"$f":"IF(OR($D80=\"\",IFERROR(INDEX(全国版!$D:$O,$B80,H$15),\"\")=\"\"),\"\",INDEX(全国版!$D:$O,$B80,H$15))","v":"2010-11-29"},{"$f":"IF(OR($D80=\"\",IFERROR(INDEX(全国版!$D:$O,$B80,I$15),\"\")=\"\"),\"\",INDEX(全国版!$D:$O,$B80,I$15))","v":"～"},{"$f":"IF(OR($D80=\"\",IFERROR(INDEX(全国版!$D:$O,$B80,J$15),\"\")=\"\"),\"\",INDEX(全国版!$D:$O,$B80,J$15))","v":"2011-03-31"},{"$f":"IF(OR($D80=\"\",IFERROR(INDEX(全国版!$D:$O,$B80,K$15),\"\")=\"\"),\"\",INDEX(全国版!$D:$O,$B80,K$15))","v":"2010-11-29"},{"$f":"IF(OR($D80=\"\",IFERROR(INDEX(全国版!$D:$O,$B80,L$15),\"\")=\"\"),\"\",INDEX(全国版!$D:$O,$B80,L$15))","v":"廃止"},{"$f":"IF(OR($D80=\"\",IFERROR(INDEX(全国版!$D:$O,$B80,M$15),\"\")=\"\"),\"\",INDEX(全国版!$D:$O,$B80,M$15))","v":""},{"$f":"IF(OR($D80=\"\",IFERROR(INDEX(全国版!$D:$O,$B80,N$15),\"\")=\"\"),\"\",INDEX(全国版!$D:$O,$B80,N$15))","v":""},{"$f":"IF(OR($D80=\"\",IFERROR(INDEX(全国版!$D:$O,$B80,O$15),\"\")=\"\"),\"\",INDEX(全国版!$D:$O,$B80,O$15))","v":"2011-03-31"},{"$f":"IF(OR($D80=\"\",IFERROR(INDEX(全国版!$D:$O,$B80,P$15),\"\")=\"\"),\"\",INDEX(全国版!$D:$O,$B80,P$15))","v":"2011-12-22"}]
[null,{"$f":"MATCH(D81,全国版!C:C,0)","v":66},null,63,{"$f":"IF(OR($D81=\"\",IFERROR(INDEX(全国版!$D:$O,$B81,E$15),\"\")=\"\"),\"\",INDEX(全国版!$D:$O,$B81,E$15))","v":"宮城県"},{"$f":"IF(OR($D81=\"\",IFERROR(INDEX(全国版!$D:$O,$B81,F$15),\"\")=\"\"),\"\",INDEX(全国版!$D:$O,$B81,F$15))","v":"専門学校赤門自動車整備大学校"},{"$f":"IF(OR($D81=\"\",IFERROR(INDEX(全国版!$D:$O,$B81,G$15),\"\")=\"\"),\"\",INDEX(全国版!$D:$O,$B81,G$15))","v":"工業専門課程　一級自動車整備士科"},{"$f":"IF(OR($D81=\"\",IFERROR(INDEX(全国版!$D:$O,$B81,H$15),\"\")=\"\"),\"\",INDEX(全国版!$D:$O,$B81,H$15))","v":"2008-02-29"},{"$f":"IF(OR($D81=\"\",IFERROR(INDEX(全国版!$D:$O,$B81,I$15),\"\")=\"\"),\"\",INDEX(全国版!$D:$O,$B81,I$15))","v":"～"},{"$f":"IF(OR($D81=\"\",IFERROR(INDEX(全国版!$D:$O,$B81,J$15),\"\")=\"\"),\"\",INDEX(全国版!$D:$O,$B81,J$15))","v":""},{"$f":"IF(OR($D81=\"\",IFERROR(INDEX(全国版!$D:$O,$B81,K$15),\"\")=\"\"),\"\",INDEX(全国版!$D:$O,$B81,K$15))","v":"2008-02-29"},{"$f":"IF(OR($D81=\"\",IFERROR(INDEX(全国版!$D:$O,$B81,L$15),\"\")=\"\"),\"\",INDEX(全国版!$D:$O,$B81,L$15))","v":""},{"$f":"IF(OR($D81=\"\",IFERROR(INDEX(全国版!$D:$O,$B81,M$15),\"\")=\"\"),\"\",INDEX(全国版!$D:$O,$B81,M$15))","v":""},{"$f":"IF(OR($D81=\"\",IFERROR(INDEX(全国版!$D:$O,$B81,N$15),\"\")=\"\"),\"\",INDEX(全国版!$D:$O,$B81,N$15))","v":""},{"$f":"IF(OR($D81=\"\",IFERROR(INDEX(全国版!$D:$O,$B81,O$15),\"\")=\"\"),\"\",INDEX(全国版!$D:$O,$B81,O$15))","v":""},{"$f":"IF(OR($D81=\"\",IFERROR(INDEX(全国版!$D:$O,$B81,P$15),\"\")=\"\"),\"\",INDEX(全国版!$D:$O,$B81,P$15))","v":""}]
[null,{"$f":"MATCH(D82,全国版!C:C,0)","v":67},null,64,{"$f":"IF(OR($D82=\"\",IFERROR(INDEX(全国版!$D:$O,$B82,E$15),\"\")=\"\"),\"\",INDEX(全国版!$D:$O,$B82,E$15))","v":"宮城県"},{"$f":"IF(OR($D82=\"\",IFERROR(INDEX(全国版!$D:$O,$B82,F$15),\"\")=\"\"),\"\",INDEX(全国版!$D:$O,$B82,F$15))","v":"専門学校花壇自動車大学校"},{"$f":"IF(OR($D82=\"\",IFERROR(INDEX(全国版!$D:$O,$B82,G$15),\"\")=\"\"),\"\",INDEX(全国版!$D:$O,$B82,G$15))","v":"工業専門課程　一級自動車科"},{"$f":"IF(OR($D82=\"\",IFERROR(INDEX(全国版!$D:$O,$B82,H$15),\"\")=\"\"),\"\",INDEX(全国版!$D:$O,$B82,H$15))","v":"2015-02-19"},{"$f":"IF(OR($D82=\"\",IFERROR(INDEX(全国版!$D:$O,$B82,I$15),\"\")=\"\"),\"\",INDEX(全国版!$D:$O,$B82,I$15))","v":"～"},{"$f":"IF(OR($D82=\"\",IFERROR(INDEX(全国版!$D:$O,$B82,J$15),\"\")=\"\"),\"\",INDEX(全国版!$D:$O,$B82,J$15))","v":""},{"$f":"IF(OR($D82=\"\",IFERROR(INDEX(全国版!$D:$O,$B82,K$15),\"\")=\"\"),\"\",INDEX(全国版!$D:$O,$B82,K$15))","v":"2015-02-19"},{"$f":"IF(OR($D82=\"\",IFERROR(INDEX(全国版!$D:$O,$B82,L$15),\"\")=\"\"),\"\",INDEX(全国版!$D:$O,$B82,L$15))","v":""},{"$f":"IF(OR($D82=\"\",IFERROR(INDEX(全国版!$D:$O,$B82,M$15),\"\")=\"\"),\"\",INDEX(全国版!$D:$O,$B82,M$15))","v":""},{"$f":"IF(OR($D82=\"\",IFERROR(INDEX(全国版!$D:$O,$B82,N$15),\"\")=\"\"),\"\",INDEX(全国版!$D:$O,$B82,N$15))","v":""},{"$f":"IF(OR($D82=\"\",IFERROR(INDEX(全国版!$D:$O,$B82,O$15),\"\")=\"\"),\"\",INDEX(全国版!$D:$O,$B82,O$15))","v":""},{"$f":"IF(OR($D82=\"\",IFERROR(INDEX(全国版!$D:$O,$B82,P$15),\"\")=\"\"),\"\",INDEX(全国版!$D:$O,$B82,P$15))","v":""}]
[null,{"$f":"MATCH(D83,全国版!C:C,0)","v":68},null,65,{"$f":"IF(OR($D83=\"\",IFERROR(INDEX(全国版!$D:$O,$B83,E$15),\"\")=\"\"),\"\",INDEX(全国版!$D:$O,$B83,E$15))","v":"宮城県"},{"$f":"IF(OR($D83=\"\",IFERROR(INDEX(全国版!$D:$O,$B83,F$15),\"\")=\"\"),\"\",INDEX(全国版!$D:$O,$B83,F$15))","v":"東北外語観光専門学校"},{"$f":"IF(OR($D83=\"\",IFERROR(INDEX(全国版!$D:$O,$B83,G$15),\"\")=\"\"),\"\",INDEX(全国版!$D:$O,$B83,G$15))","v":"文化・教養専門課程　国際ビジネス科（国際マーケティングコース）"},{"$f":"IF(OR($D83=\"\",IFERROR(INDEX(全国版!$D:$O,$B83,H$15),\"\")=\"\"),\"\",INDEX(全国版!$D:$O,$B83,H$15))","v":"2010-11-29"},{"$f":"IF(OR($D83=\"\",IFERROR(INDEX(全国版!$D:$O,$B83,I$15),\"\")=\"\"),\"\",INDEX(全国版!$D:$O,$B83,I$15))","v":"～"},{"$f":"IF(OR($D83=\"\",IFERROR(INDEX(全国版!$D:$O,$B83,J$15),\"\")=\"\"),\"\",INDEX(全国版!$D:$O,$B83,J$15))","v":"2014-03-31"},{"$f":"IF(OR($D83=\"\",IFERROR(INDEX(全国版!$D:$O,$B83,K$15),\"\")=\"\"),\"\",INDEX(全国版!$D:$O,$B83,K$15))","v":"2010-11-29"},{"$f":"IF(OR($D83=\"\",IFERROR(INDEX(全国版!$D:$O,$B83,L$15),\"\")=\"\"),\"\",INDEX(全国版!$D:$O,$B83,L$15))","v":"廃止"},{"$f":"IF(OR($D83=\"\",IFERROR(INDEX(全国版!$D:$O,$B83,M$15),\"\")=\"\"),\"\",INDEX(全国版!$D:$O,$B83,M$15))","v":""},{"$f":"IF(OR($D83=\"\",IFERROR(INDEX(全国版!$D:$O,$B83,N$15),\"\")=\"\"),\"\",INDEX(全国版!$D:$O,$B83,N$15))","v":""},{"$f":"IF(OR($D83=\"\",IFERROR(INDEX(全国版!$D:$O,$B83,O$15),\"\")=\"\"),\"\",INDEX(全国版!$D:$O,$B83,O$15))","v":"2014-03-31"},{"$f":"IF(OR($D83=\"\",IFERROR(INDEX(全国版!$D:$O,$B83,P$15),\"\")=\"\"),\"\",INDEX(全国版!$D:$O,$B83,P$15))","v":"2016-02-29"}]
[null,{"$f":"MATCH(D84,全国版!C:C,0)","v":69},null,{"$f":"IF(OR(D83=\"\",$B$15=D83),\"\",D83+1)","v":66},{"$f":"IF(OR($D84=\"\",IFERROR(INDEX(全国版!$D:$O,$B84,E$15),\"\")=\"\"),\"\",INDEX(全国版!$D:$O,$B84,E$15))","v":"宮城県"},{"$f":"IF(OR($D84=\"\",IFERROR(INDEX(全国版!$D:$O,$B84,F$15),\"\")=\"\"),\"\",INDEX(全国版!$D:$O,$B84,F$15))","v":"東北電子専門学校"},{"$f":"IF(OR($D84=\"\",IFERROR(INDEX(全国版!$D:$O,$B84,G$15),\"\")=\"\"),\"\",INDEX(全国版!$D:$O,$B84,G$15))","v":"工業専門課程　高度ＩＴエンジニア科"},{"$f":"IF(OR($D84=\"\",IFERROR(INDEX(全国版!$D:$O,$B84,H$15),\"\")=\"\"),\"\",INDEX(全国版!$D:$O,$B84,H$15))","v":"2012-04-01"},{"$f":"IF(OR($D84=\"\",IFERROR(INDEX(全国版!$D:$O,$B84,I$15),\"\")=\"\"),\"\",INDEX(全国版!$D:$O,$B84,I$15))","v":"～"},{"$f":"IF(OR($D84=\"\",IFERROR(INDEX(全国版!$D:$O,$B84,J$15),\"\")=\"\"),\"\",INDEX(全国版!$D:$O,$B84,J$15))","v":""},{"$f":"IF(OR($D84=\"\",IFERROR(INDEX(全国版!$D:$O,$B84,K$15),\"\")=\"\"),\"\",INDEX(全国版!$D:$O,$B84,K$15))","v":"2013-01-29"},{"$f":"IF(OR($D84=\"\",IFERROR(INDEX(全国版!$D:$O,$B84,L$15),\"\")=\"\"),\"\",INDEX(全国版!$D:$O,$B84,L$15))","v":""},{"$f":"IF(OR($D84=\"\",IFERROR(INDEX(全国版!$D:$O,$B84,M$15),\"\")=\"\"),\"\",INDEX(全国版!$D:$O,$B84,M$15))","v":""},{"$f":"IF(OR($D84=\"\",IFERROR(INDEX(全国版!$D:$O,$B84,N$15),\"\")=\"\"),\"\",INDEX(全国版!$D:$O,$B84,N$15))","v":""},{"$f":"IF(OR($D84=\"\",IFERROR(INDEX(全国版!$D:$O,$B84,O$15),\"\")=\"\"),\"\",INDEX(全国版!$D:$O,$B84,O$15))","v":""},{"$f":"IF(OR($D84=\"\",IFERROR(INDEX(全国版!$D:$O,$B84,P$15),\"\")=\"\"),\"\",INDEX(全国版!$D:$O,$B84,P$15))","v":""}]
[null,{"$f":"MATCH(D85,全国版!C:C,0)","v":70},null,67,{"$f":"IF(OR($D85=\"\",IFERROR(INDEX(全国版!$D:$O,$B85,E$15),\"\")=\"\"),\"\",INDEX(全国版!$D:$O,$B85,E$15))","v":"宮城県"},{"$f":"IF(OR($D85=\"\",IFERROR(INDEX(全国版!$D:$O,$B85,F$15),\"\")=\"\"),\"\",INDEX(全国版!$D:$O,$B85,F$15))","v":"東北電子専門学校"},{"$f":"IF(OR($D85=\"\",IFERROR(INDEX(全国版!$D:$O,$B85,G$15),\"\")=\"\"),\"\",INDEX(全国版!$D:$O,$B85,G$15))","v":"工業専門課程　テクニカルエンジニア科"},{"$f":"IF(OR($D85=\"\",IFERROR(INDEX(全国版!$D:$O,$B85,H$15),\"\")=\"\"),\"\",INDEX(全国版!$D:$O,$B85,H$15))","v":"2008-02-29"},{"$f":"IF(OR($D85=\"\",IFERROR(INDEX(全国版!$D:$O,$B85,I$15),\"\")=\"\"),\"\",INDEX(全国版!$D:$O,$B85,I$15))","v":"～"},{"$f":"IF(OR($D85=\"\",IFERROR(INDEX(全国版!$D:$O,$B85,J$15),\"\")=\"\"),\"\",INDEX(全国版!$D:$O,$B85,J$15))","v":"2012-03-31"},{"$f":"IF(OR($D85=\"\",IFERROR(INDEX(全国版!$D:$O,$B85,K$15),\"\")=\"\"),\"\",INDEX(全国版!$D:$O,$B85,K$15))","v":"2008-02-29"},{"$f":"IF(OR($D85=\"\",IFERROR(INDEX(全国版!$D:$O,$B85,L$15),\"\")=\"\"),\"\",INDEX(全国版!$D:$O,$B85,L$15))","v":"名称変更"},{"$f":"IF(OR($D85=\"\",IFERROR(INDEX(全国版!$D:$O,$B85,M$15),\"\")=\"\"),\"\",INDEX(全国版!$D:$O,$B85,M$15))","v":"東北電子専門学校"},{"$f":"IF(OR($D85=\"\",IFERROR(INDEX(全国版!$D:$O,$B85,N$15),\"\")=\"\"),\"\",INDEX(全国版!$D:$O,$B85,N$15))","v":"工業専門課程　高度ＩＴエンジニア科"},{"$f":"IF(OR($D85=\"\",IFERROR(INDEX(全国版!$D:$O,$B85,O$15),\"\")=\"\"),\"\",INDEX(全国版!$D:$O,$B85,O$15))","v":"2012-04-01"},{"$f":"IF(OR($D85=\"\",IFERROR(INDEX(全国版!$D:$O,$B85,P$15),\"\")=\"\"),\"\",INDEX(全国版!$D:$O,$B85,P$15))","v":"2013-01-29"}]
[null,{"$f":"MATCH(D86,全国版!C:C,0)","v":71},null,68,{"$f":"IF(OR($D86=\"\",IFERROR(INDEX(全国版!$D:$O,$B86,E$15),\"\")=\"\"),\"\",INDEX(全国版!$D:$O,$B86,E$15))","v":"宮城県"},{"$f":"IF(OR($D86=\"\",IFERROR(INDEX(全国版!$D:$O,$B86,F$15),\"\")=\"\"),\"\",INDEX(全国版!$D:$O,$B86,F$15))","v":"東北文化学園専門学校"},{"$f":"IF(OR($D86=\"\",IFERROR(INDEX(全国版!$D:$O,$B86,G$15),\"\")=\"\"),\"\",INDEX(全国版!$D:$O,$B86,G$15))","v":"教育・社会福祉専門課程　社会福祉科"},{"$f":"IF(OR($D86=\"\",IFERROR(INDEX(全国版!$D:$O,$B86,H$15),\"\")=\"\"),\"\",INDEX(全国版!$D:$O,$B86,H$15))","v":"2005-12-09"},{"$f":"IF(OR($D86=\"\",IFERROR(INDEX(全国版!$D:$O,$B86,I$15),\"\")=\"\"),\"\",INDEX(全国版!$D:$O,$B86,I$15))","v":"～"},{"$f":"IF(OR($D86=\"\",IFERROR(INDEX(全国版!$D:$O,$B86,J$15),\"\")=\"\"),\"\",INDEX(全国版!$D:$O,$B86,J$15))","v":"2008-03-31"},{"$f":"IF(OR($D86=\"\",IFERROR(INDEX(全国版!$D:$O,$B86,K$15),\"\")=\"\"),\"\",INDEX(全国版!$D:$O,$B86,K$15))","v":"2005-12-09"},{"$f":"IF(OR($D86=\"\",IFERROR(INDEX(全国版!$D:$O,$B86,L$15),\"\")=\"\"),\"\",INDEX(全国版!$D:$O,$B86,L$15))","v":"廃止"},{"$f":"IF(OR($D86=\"\",IFERROR(INDEX(全国版!$D:$O,$B86,M$15),\"\")=\"\"),\"\",INDEX(全国版!$D:$O,$B86,M$15))","v":""},{"$f":"IF(OR($D86=\"\",IFERROR(INDEX(全国版!$D:$O,$B86,N$15),\"\")=\"\"),\"\",INDEX(全国版!$D:$O,$B86,N$15))","v":""},{"$f":"IF(OR($D86=\"\",IFERROR(INDEX(全国版!$D:$O,$B86,O$15),\"\")=\"\"),\"\",INDEX(全国版!$D:$O,$B86,O$15))","v":"2008-03-31"},{"$f":"IF(OR($D86=\"\",IFERROR(INDEX(全国版!$D:$O,$B86,P$15),\"\")=\"\"),\"\",INDEX(全国版!$D:$O,$B86,P$15))","v":"2009-02-27"}]
[null,{"$f":"MATCH(D87,全国版!C:C,0)","v":72},null,69,{"$f":"IF(OR($D87=\"\",IFERROR(INDEX(全国版!$D:$O,$B87,E$15),\"\")=\"\"),\"\",INDEX(全国版!$D:$O,$B87,E$15))","v":"宮城県"},{"$f":"IF(OR($D87=\"\",IFERROR(INDEX(全国版!$D:$O,$B87,F$15),\"\")=\"\"),\"\",INDEX(全国版!$D:$O,$B87,F$15))","v":"東北文化学園専門学校"},{"$f":"IF(OR($D87=\"\",IFERROR(INDEX(全国版!$D:$O,$B87,G$15),\"\")=\"\"),\"\",INDEX(全国版!$D:$O,$B87,G$15))","v":"教育・社会福祉専門課程　社会福祉心理科"},{"$f":"IF(OR($D87=\"\",IFERROR(INDEX(全国版!$D:$O,$B87,H$15),\"\")=\"\"),\"\",INDEX(全国版!$D:$O,$B87,H$15))","v":"2009-02-27"},{"$f":"IF(OR($D87=\"\",IFERROR(INDEX(全国版!$D:$O,$B87,I$15),\"\")=\"\"),\"\",INDEX(全国版!$D:$O,$B87,I$15))","v":"～"},{"$f":"IF(OR($D87=\"\",IFERROR(INDEX(全国版!$D:$O,$B87,J$15),\"\")=\"\"),\"\",INDEX(全国版!$D:$O,$B87,J$15))","v":"2012-03-31"},{"$f":"IF(OR($D87=\"\",IFERROR(INDEX(全国版!$D:$O,$B87,K$15),\"\")=\"\"),\"\",INDEX(全国版!$D:$O,$B87,K$15))","v":"2009-02-27"},{"$f":"IF(OR($D87=\"\",IFERROR(INDEX(全国版!$D:$O,$B87,L$15),\"\")=\"\"),\"\",INDEX(全国版!$D:$O,$B87,L$15))","v":"廃止"},{"$f":"IF(OR($D87=\"\",IFERROR(INDEX(全国版!$D:$O,$B87,M$15),\"\")=\"\"),\"\",INDEX(全国版!$D:$O,$B87,M$15))","v":""},{"$f":"IF(OR($D87=\"\",IFERROR(INDEX(全国版!$D:$O,$B87,N$15),\"\")=\"\"),\"\",INDEX(全国版!$D:$O,$B87,N$15))","v":""},{"$f":"IF(OR($D87=\"\",IFERROR(INDEX(全国版!$D:$O,$B87,O$15),\"\")=\"\"),\"\",INDEX(全国版!$D:$O,$B87,O$15))","v":"2012-03-31"},{"$f":"IF(OR($D87=\"\",IFERROR(INDEX(全国版!$D:$O,$B87,P$15),\"\")=\"\"),\"\",INDEX(全国版!$D:$O,$B87,P$15))","v":"2013-01-29"}]
[null,{"$f":"MATCH(D88,全国版!C:C,0)","v":73},null,70,{"$f":"IF(OR($D88=\"\",IFERROR(INDEX(全国版!$D:$O,$B88,E$15),\"\")=\"\"),\"\",INDEX(全国版!$D:$O,$B88,E$15))","v":"宮城県"},{"$f":"IF(OR($D88=\"\",IFERROR(INDEX(全国版!$D:$O,$B88,F$15),\"\")=\"\"),\"\",INDEX(全国版!$D:$O,$B88,F$15))","v":"東北文化学園専門学校"},{"$f":"IF(OR($D88=\"\",IFERROR(INDEX(全国版!$D:$O,$B88,G$15),\"\")=\"\"),\"\",INDEX(全国版!$D:$O,$B88,G$15))","v":"教育・社会福祉専門課程　福祉心理科"},{"$f":"IF(OR($D88=\"\",IFERROR(INDEX(全国版!$D:$O,$B88,H$15),\"\")=\"\"),\"\",INDEX(全国版!$D:$O,$B88,H$15))","v":"2008-02-29"},{"$f":"IF(OR($D88=\"\",IFERROR(INDEX(全国版!$D:$O,$B88,I$15),\"\")=\"\"),\"\",INDEX(全国版!$D:$O,$B88,I$15))","v":"～"},{"$f":"IF(OR($D88=\"\",IFERROR(INDEX(全国版!$D:$O,$B88,J$15),\"\")=\"\"),\"\",INDEX(全国版!$D:$O,$B88,J$15))","v":"2008-03-31"},{"$f":"IF(OR($D88=\"\",IFERROR(INDEX(全国版!$D:$O,$B88,K$15),\"\")=\"\"),\"\",INDEX(全国版!$D:$O,$B88,K$15))","v":"2008-02-29"},{"$f":"IF(OR($D88=\"\",IFERROR(INDEX(全国版!$D:$O,$B88,L$15),\"\")=\"\"),\"\",INDEX(全国版!$D:$O,$B88,L$15))","v":"廃止"},{"$f":"IF(OR($D88=\"\",IFERROR(INDEX(全国版!$D:$O,$B88,M$15),\"\")=\"\"),\"\",INDEX(全国版!$D:$O,$B88,M$15))","v":""},{"$f":"IF(OR($D88=\"\",IFERROR(INDEX(全国版!$D:$O,$B88,N$15),\"\")=\"\"),\"\",INDEX(全国版!$D:$O,$B88,N$15))","v":""},{"$f":"IF(OR($D88=\"\",IFERROR(INDEX(全国版!$D:$O,$B88,O$15),\"\")=\"\"),\"\",INDEX(全国版!$D:$O,$B88,O$15))","v":"2008-03-31"},{"$f":"IF(OR($D88=\"\",IFERROR(INDEX(全国版!$D:$O,$B88,P$15),\"\")=\"\"),\"\",INDEX(全国版!$D:$O,$B88,P$15))","v":"2009-02-27"}]
[null,{"$f":"MATCH(D89,全国版!C:C,0)","v":74},null,71,{"$f":"IF(OR($D89=\"\",IFERROR(INDEX(全国版!$D:$O,$B89,E$15),\"\")=\"\"),\"\",INDEX(全国版!$D:$O,$B89,E$15))","v":"宮城県"},{"$f":"IF(OR($D89=\"\",IFERROR(INDEX(全国版!$D:$O,$B89,F$15),\"\")=\"\"),\"\",INDEX(全国版!$D:$O,$B89,F$15))","v":"東北文化学園専門学校"},{"$f":"IF(OR($D89=\"\",IFERROR(INDEX(全国版!$D:$O,$B89,G$15),\"\")=\"\"),\"\",INDEX(全国版!$D:$O,$B89,G$15))","v":"商業実務専門課程　医療福祉経営科"},{"$f":"IF(OR($D89=\"\",IFERROR(INDEX(全国版!$D:$O,$B89,H$15),\"\")=\"\"),\"\",INDEX(全国版!$D:$O,$B89,H$15))","v":"2005-12-09"},{"$f":"IF(OR($D89=\"\",IFERROR(INDEX(全国版!$D:$O,$B89,I$15),\"\")=\"\"),\"\",INDEX(全国版!$D:$O,$B89,I$15))","v":"～"},{"$f":"IF(OR($D89=\"\",IFERROR(INDEX(全国版!$D:$O,$B89,J$15),\"\")=\"\"),\"\",INDEX(全国版!$D:$O,$B89,J$15))","v":"2006-03-31"},{"$f":"IF(OR($D89=\"\",IFERROR(INDEX(全国版!$D:$O,$B89,K$15),\"\")=\"\"),\"\",INDEX(全国版!$D:$O,$B89,K$15))","v":"2005-12-09"},{"$f":"IF(OR($D89=\"\",IFERROR(INDEX(全国版!$D:$O,$B89,L$15),\"\")=\"\"),\"\",INDEX(全国版!$D:$O,$B89,L$15))","v":"廃止"},{"$f":"IF(OR($D89=\"\",IFERROR(INDEX(全国版!$D:$O,$B89,M$15),\"\")=\"\"),\"\",INDEX(全国版!$D:$O,$B89,M$15))","v":""},{"$f":"IF(OR($D89=\"\",IFERROR(INDEX(全国版!$D:$O,$B89,N$15),\"\")=\"\"),\"\",INDEX(全国版!$D:$O,$B89,N$15))","v":""},{"$f":"IF(OR($D89=\"\",IFERROR(INDEX(全国版!$D:$O,$B89,O$15),\"\")=\"\"),\"\",INDEX(全国版!$D:$O,$B89,O$15))","v":"2006-03-31"},{"$f":"IF(OR($D89=\"\",IFERROR(INDEX(全国版!$D:$O,$B89,P$15),\"\")=\"\"),\"\",INDEX(全国版!$D:$O,$B89,P$15))","v":"2007-02-28"}]
[null,{"$f":"MATCH(D90,全国版!C:C,0)","v":75},null,72,{"$f":"IF(OR($D90=\"\",IFERROR(INDEX(全国版!$D:$O,$B90,E$15),\"\")=\"\"),\"\",INDEX(全国版!$D:$O,$B90,E$15))","v":"秋田県"},{"$f":"IF(OR($D90=\"\",IFERROR(INDEX(全国版!$D:$O,$B90,F$15),\"\")=\"\"),\"\",INDEX(全国版!$D:$O,$B90,F$15))","v":"秋田情報ビジネス専門学校"},{"$f":"IF(OR($D90=\"\",IFERROR(INDEX(全国版!$D:$O,$B90,G$15),\"\")=\"\"),\"\",INDEX(全国版!$D:$O,$B90,G$15))","v":"工業専門課程　経営情報科"},{"$f":"IF(OR($D90=\"\",IFERROR(INDEX(全国版!$D:$O,$B90,H$15),\"\")=\"\"),\"\",INDEX(全国版!$D:$O,$B90,H$15))","v":"2005-12-09"},{"$f":"IF(OR($D90=\"\",IFERROR(INDEX(全国版!$D:$O,$B90,I$15),\"\")=\"\"),\"\",INDEX(全国版!$D:$O,$B90,I$15))","v":"～"},{"$f":"IF(OR($D90=\"\",IFERROR(INDEX(全国版!$D:$O,$B90,J$15),\"\")=\"\"),\"\",INDEX(全国版!$D:$O,$B90,J$15))","v":"2009-02-26"},{"$f":"IF(OR($D90=\"\",IFERROR(INDEX(全国版!$D:$O,$B90,K$15),\"\")=\"\"),\"\",INDEX(全国版!$D:$O,$B90,K$15))","v":"2005-12-09"},{"$f":"IF(OR($D90=\"\",IFERROR(INDEX(全国版!$D:$O,$B90,L$15),\"\")=\"\"),\"\",INDEX(全国版!$D:$O,$B90,L$15))","v":"不適合"},{"$f":"IF(OR($D90=\"\",IFERROR(INDEX(全国版!$D:$O,$B90,M$15),\"\")=\"\"),\"\",INDEX(全国版!$D:$O,$B90,M$15))","v":""},{"$f":"IF(OR($D90=\"\",IFERROR(INDEX(全国版!$D:$O,$B90,N$15),\"\")=\"\"),\"\",INDEX(全国版!$D:$O,$B90,N$15))","v":""},{"$f":"IF(OR($D90=\"\",IFERROR(INDEX(全国版!$D:$O,$B90,O$15),\"\")=\"\"),\"\",INDEX(全国版!$D:$O,$B90,O$15))","v":"2009-02-27"},{"$f":"IF(OR($D90=\"\",IFERROR(INDEX(全国版!$D:$O,$B90,P$15),\"\")=\"\"),\"\",INDEX(全国版!$D:$O,$B90,P$15))","v":"2009-02-27"}]
[null,{"$f":"MATCH(D91,全国版!C:C,0)","v":76},null,73,{"$f":"IF(OR($D91=\"\",IFERROR(INDEX(全国版!$D:$O,$B91,E$15),\"\")=\"\"),\"\",INDEX(全国版!$D:$O,$B91,E$15))","v":"秋田県"},{"$f":"IF(OR($D91=\"\",IFERROR(INDEX(全国版!$D:$O,$B91,F$15),\"\")=\"\"),\"\",INDEX(全国版!$D:$O,$B91,F$15))","v":"秋田リハビリテーション学院"},{"$f":"IF(OR($D91=\"\",IFERROR(INDEX(全国版!$D:$O,$B91,G$15),\"\")=\"\"),\"\",INDEX(全国版!$D:$O,$B91,G$15))","v":"医療専門課程　理学療法学科"},{"$f":"IF(OR($D91=\"\",IFERROR(INDEX(全国版!$D:$O,$B91,H$15),\"\")=\"\"),\"\",INDEX(全国版!$D:$O,$B91,H$15))","v":"2016-02-29"},{"$f":"IF(OR($D91=\"\",IFERROR(INDEX(全国版!$D:$O,$B91,I$15),\"\")=\"\"),\"\",INDEX(全国版!$D:$O,$B91,I$15))","v":"～"},{"$f":"IF(OR($D91=\"\",IFERROR(INDEX(全国版!$D:$O,$B91,J$15),\"\")=\"\"),\"\",INDEX(全国版!$D:$O,$B91,J$15))","v":""},{"$f":"IF(OR($D91=\"\",IFERROR(INDEX(全国版!$D:$O,$B91,K$15),\"\")=\"\"),\"\",INDEX(全国版!$D:$O,$B91,K$15))","v":"2016-02-29"},{"$f":"IF(OR($D91=\"\",IFERROR(INDEX(全国版!$D:$O,$B91,L$15),\"\")=\"\"),\"\",INDEX(全国版!$D:$O,$B91,L$15))","v":""},{"$f":"IF(OR($D91=\"\",IFERROR(INDEX(全国版!$D:$O,$B91,M$15),\"\")=\"\"),\"\",INDEX(全国版!$D:$O,$B91,M$15))","v":""},{"$f":"IF(OR($D91=\"\",IFERROR(INDEX(全国版!$D:$O,$B91,N$15),\"\")=\"\"),\"\",INDEX(全国版!$D:$O,$B91,N$15))","v":""},{"$f":"IF(OR($D91=\"\",IFERROR(INDEX(全国版!$D:$O,$B91,O$15),\"\")=\"\"),\"\",INDEX(全国版!$D:$O,$B91,O$15))","v":""},{"$f":"IF(OR($D91=\"\",IFERROR(INDEX(全国版!$D:$O,$B91,P$15),\"\")=\"\"),\"\",INDEX(全国版!$D:$O,$B91,P$15))","v":""}]
[null,{"$f":"MATCH(D92,全国版!C:C,0)","v":77},null,74,{"$f":"IF(OR($D92=\"\",IFERROR(INDEX(全国版!$D:$O,$B92,E$15),\"\")=\"\"),\"\",INDEX(全国版!$D:$O,$B92,E$15))","v":"山形県"},{"$f":"IF(OR($D92=\"\",IFERROR(INDEX(全国版!$D:$O,$B92,F$15),\"\")=\"\"),\"\",INDEX(全国版!$D:$O,$B92,F$15))","v":"山形医療技術専門学校"},{"$f":"IF(OR($D92=\"\",IFERROR(INDEX(全国版!$D:$O,$B92,G$15),\"\")=\"\"),\"\",INDEX(全国版!$D:$O,$B92,G$15))","v":"医療専門課程　作業療法学科"},{"$f":"IF(OR($D92=\"\",IFERROR(INDEX(全国版!$D:$O,$B92,H$15),\"\")=\"\"),\"\",INDEX(全国版!$D:$O,$B92,H$15))","v":"2005-12-09"},{"$f":"IF(OR($D92=\"\",IFERROR(INDEX(全国版!$D:$O,$B92,I$15),\"\")=\"\"),\"\",INDEX(全国版!$D:$O,$B92,I$15))","v":"～"},{"$f":"IF(OR($D92=\"\",IFERROR(INDEX(全国版!$D:$O,$B92,J$15),\"\")=\"\"),\"\",INDEX(全国版!$D:$O,$B92,J$15))","v":""},{"$f":"IF(OR($D92=\"\",IFERROR(INDEX(全国版!$D:$O,$B92,K$15),\"\")=\"\"),\"\",INDEX(全国版!$D:$O,$B92,K$15))","v":"2005-12-09"},{"$f":"IF(OR($D92=\"\",IFERROR(INDEX(全国版!$D:$O,$B92,L$15),\"\")=\"\"),\"\",INDEX(全国版!$D:$O,$B92,L$15))","v":""},{"$f":"IF(OR($D92=\"\",IFERROR(INDEX(全国版!$D:$O,$B92,M$15),\"\")=\"\"),\"\",INDEX(全国版!$D:$O,$B92,M$15))","v":""},{"$f":"IF(OR($D92=\"\",IFERROR(INDEX(全国版!$D:$O,$B92,N$15),\"\")=\"\"),\"\",INDEX(全国版!$D:$O,$B92,N$15))","v":""},{"$f":"IF(OR($D92=\"\",IFERROR(INDEX(全国版!$D:$O,$B92,O$15),\"\")=\"\"),\"\",INDEX(全国版!$D:$O,$B92,O$15))","v":""},{"$f":"IF(OR($D92=\"\",IFERROR(INDEX(全国版!$D:$O,$B92,P$15),\"\")=\"\"),\"\",INDEX(全国版!$D:$O,$B92,P$15))","v":""}]
[null,{"$f":"MATCH(D93,全国版!C:C,0)","v":78},null,75,{"$f":"IF(OR($D93=\"\",IFERROR(INDEX(全国版!$D:$O,$B93,E$15),\"\")=\"\"),\"\",INDEX(全国版!$D:$O,$B93,E$15))","v":"山形県"},{"$f":"IF(OR($D93=\"\",IFERROR(INDEX(全国版!$D:$O,$B93,F$15),\"\")=\"\"),\"\",INDEX(全国版!$D:$O,$B93,F$15))","v":"山形医療技術専門学校"},{"$f":"IF(OR($D93=\"\",IFERROR(INDEX(全国版!$D:$O,$B93,G$15),\"\")=\"\"),\"\",INDEX(全国版!$D:$O,$B93,G$15))","v":"医療専門課程　理学療法学科"},{"$f":"IF(OR($D93=\"\",IFERROR(INDEX(全国版!$D:$O,$B93,H$15),\"\")=\"\"),\"\",INDEX(全国版!$D:$O,$B93,H$15))","v":"2005-12-09"},{"$f":"IF(OR($D93=\"\",IFERROR(INDEX(全国版!$D:$O,$B93,I$15),\"\")=\"\"),\"\",INDEX(全国版!$D:$O,$B93,I$15))","v":"～"},{"$f":"IF(OR($D93=\"\",IFERROR(INDEX(全国版!$D:$O,$B93,J$15),\"\")=\"\"),\"\",INDEX(全国版!$D:$O,$B93,J$15))","v":""},{"$f":"IF(OR($D93=\"\",IFERROR(INDEX(全国版!$D:$O,$B93,K$15),\"\")=\"\"),\"\",INDEX(全国版!$D:$O,$B93,K$15))","v":"2005-12-09"},{"$f":"IF(OR($D93=\"\",IFERROR(INDEX(全国版!$D:$O,$B93,L$15),\"\")=\"\"),\"\",INDEX(全国版!$D:$O,$B93,L$15))","v":""},{"$f":"IF(OR($D93=\"\",IFERROR(INDEX(全国版!$D:$O,$B93,M$15),\"\")=\"\"),\"\",INDEX(全国版!$D:$O,$B93,M$15))","v":""},{"$f":"IF(OR($D93=\"\",IFERROR(INDEX(全国版!$D:$O,$B93,N$15),\"\")=\"\"),\"\",INDEX(全国版!$D:$O,$B93,N$15))","v":""},{"$f":"IF(OR($D93=\"\",IFERROR(INDEX(全国版!$D:$O,$B93,O$15),\"\")=\"\"),\"\",INDEX(全国版!$D:$O,$B93,O$15))","v":""},{"$f":"IF(OR($D93=\"\",IFERROR(INDEX(全国版!$D:$O,$B93,P$15),\"\")=\"\"),\"\",INDEX(全国版!$D:$O,$B93,P$15))","v":""}]
[null,{"$f":"MATCH(D94,全国版!C:C,0)","v":79},null,76,{"$f":"IF(OR($D94=\"\",IFERROR(INDEX(全国版!$D:$O,$B94,E$15),\"\")=\"\"),\"\",INDEX(全国版!$D:$O,$B94,E$15))","v":"福島県"},{"$f":"IF(OR($D94=\"\",IFERROR(INDEX(全国版!$D:$O,$B94,F$15),\"\")=\"\"),\"\",INDEX(全国版!$D:$O,$B94,F$15))","v":"今泉女子専門学校"},{"$f":"IF(OR($D94=\"\",IFERROR(INDEX(全国版!$D:$O,$B94,G$15),\"\")=\"\"),\"\",INDEX(全国版!$D:$O,$B94,G$15))","v":"家政専門課程　プロフェッショナル科"},{"$f":"IF(OR($D94=\"\",IFERROR(INDEX(全国版!$D:$O,$B94,H$15),\"\")=\"\"),\"\",INDEX(全国版!$D:$O,$B94,H$15))","v":"2010-02-26"},{"$f":"IF(OR($D94=\"\",IFERROR(INDEX(全国版!$D:$O,$B94,I$15),\"\")=\"\"),\"\",INDEX(全国版!$D:$O,$B94,I$15))","v":"～"},{"$f":"IF(OR($D94=\"\",IFERROR(INDEX(全国版!$D:$O,$B94,J$15),\"\")=\"\"),\"\",INDEX(全国版!$D:$O,$B94,J$15))","v":"2023-03-31"},{"$f":"IF(OR($D94=\"\",IFERROR(INDEX(全国版!$D:$O,$B94,K$15),\"\")=\"\"),\"\",INDEX(全国版!$D:$O,$B94,K$15))","v":"2010-02-26"},{"$f":"IF(OR($D94=\"\",IFERROR(INDEX(全国版!$D:$O,$B94,L$15),\"\")=\"\"),\"\",INDEX(全国版!$D:$O,$B94,L$15))","v":"名称変更"},{"$f":"IF(OR($D94=\"\",IFERROR(INDEX(全国版!$D:$O,$B94,M$15),\"\")=\"\"),\"\",INDEX(全国版!$D:$O,$B94,M$15))","v":"今泉服飾専門学校"},{"$f":"IF(OR($D94=\"\",IFERROR(INDEX(全国版!$D:$O,$B94,N$15),\"\")=\"\"),\"\",INDEX(全国版!$D:$O,$B94,N$15))","v":"専門課程　プロフェッショナル科"},{"$f":"IF(OR($D94=\"\",IFERROR(INDEX(全国版!$D:$O,$B94,O$15),\"\")=\"\"),\"\",INDEX(全国版!$D:$O,$B94,O$15))","v":"2023-04-01"},{"$f":"IF(OR($D94=\"\",IFERROR(INDEX(全国版!$D:$O,$B94,P$15),\"\")=\"\"),\"\",INDEX(全国版!$D:$O,$B94,P$15))","v":"2024-01-17"}]
[null,{"$f":"MATCH(D95,全国版!C:C,0)","v":80},null,77,{"$f":"IF(OR($D95=\"\",IFERROR(INDEX(全国版!$D:$O,$B95,E$15),\"\")=\"\"),\"\",INDEX(全国版!$D:$O,$B95,E$15))","v":"福島県"},{"$f":"IF(OR($D95=\"\",IFERROR(INDEX(全国版!$D:$O,$B95,F$15),\"\")=\"\"),\"\",INDEX(全国版!$D:$O,$B95,F$15))","v":"今泉服飾専門学校"},{"$f":"IF(OR($D95=\"\",IFERROR(INDEX(全国版!$D:$O,$B95,G$15),\"\")=\"\"),\"\",INDEX(全国版!$D:$O,$B95,G$15))","v":"専門課程　プロフェッショナル科"},{"$f":"IF(OR($D95=\"\",IFERROR(INDEX(全国版!$D:$O,$B95,H$15),\"\")=\"\"),\"\",INDEX(全国版!$D:$O,$B95,H$15))","v":"2023-04-01"},{"$f":"IF(OR($D95=\"\",IFERROR(INDEX(全国版!$D:$O,$B95,I$15),\"\")=\"\"),\"\",INDEX(全国版!$D:$O,$B95,I$15))","v":"～"},{"$f":"IF(OR($D95=\"\",IFERROR(INDEX(全国版!$D:$O,$B95,J$15),\"\")=\"\"),\"\",INDEX(全国版!$D:$O,$B95,J$15))","v":""},{"$f":"IF(OR($D95=\"\",IFERROR(INDEX(全国版!$D:$O,$B95,K$15),\"\")=\"\"),\"\",INDEX(全国版!$D:$O,$B95,K$15))","v":"2024-01-17"},{"$f":"IF(OR($D95=\"\",IFERROR(INDEX(全国版!$D:$O,$B95,L$15),\"\")=\"\"),\"\",INDEX(全国版!$D:$O,$B95,L$15))","v":""},{"$f":"IF(OR($D95=\"\",IFERROR(INDEX(全国版!$D:$O,$B95,M$15),\"\")=\"\"),\"\",INDEX(全国版!$D:$O,$B95,M$15))","v":""},{"$f":"IF(OR($D95=\"\",IFERROR(INDEX(全国版!$D:$O,$B95,N$15),\"\")=\"\"),\"\",INDEX(全国版!$D:$O,$B95,N$15))","v":""},{"$f":"IF(OR($D95=\"\",IFERROR(INDEX(全国版!$D:$O,$B95,O$15),\"\")=\"\"),\"\",INDEX(全国版!$D:$O,$B95,O$15))","v":""},{"$f":"IF(OR($D95=\"\",IFERROR(INDEX(全国版!$D:$O,$B95,P$15),\"\")=\"\"),\"\",INDEX(全国版!$D:$O,$B95,P$15))","v":""}]
[null,{"$f":"MATCH(D96,全国版!C:C,0)","v":81},null,78,{"$f":"IF(OR($D96=\"\",IFERROR(INDEX(全国版!$D:$O,$B96,E$15),\"\")=\"\"),\"\",INDEX(全国版!$D:$O,$B96,E$15))","v":"福島県"},{"$f":"IF(OR($D96=\"\",IFERROR(INDEX(全国版!$D:$O,$B96,F$15),\"\")=\"\"),\"\",INDEX(全国版!$D:$O,$B96,F$15))","v":"郡山健康科学専門学校"},{"$f":"IF(OR($D96=\"\",IFERROR(INDEX(全国版!$D:$O,$B96,G$15),\"\")=\"\"),\"\",INDEX(全国版!$D:$O,$B96,G$15))","v":"医療専門課程　作業療法学科"},{"$f":"IF(OR($D96=\"\",IFERROR(INDEX(全国版!$D:$O,$B96,H$15),\"\")=\"\"),\"\",INDEX(全国版!$D:$O,$B96,H$15))","v":"2005-12-09"},{"$f":"IF(OR($D96=\"\",IFERROR(INDEX(全国版!$D:$O,$B96,I$15),\"\")=\"\"),\"\",INDEX(全国版!$D:$O,$B96,I$15))","v":"～"},{"$f":"IF(OR($D96=\"\",IFERROR(INDEX(全国版!$D:$O,$B96,J$15),\"\")=\"\"),\"\",INDEX(全国版!$D:$O,$B96,J$15))","v":""},{"$f":"IF(OR($D96=\"\",IFERROR(INDEX(全国版!$D:$O,$B96,K$15),\"\")=\"\"),\"\",INDEX(全国版!$D:$O,$B96,K$15))","v":"2005-12-09"},{"$f":"IF(OR($D96=\"\",IFERROR(INDEX(全国版!$D:$O,$B96,L$15),\"\")=\"\"),\"\",INDEX(全国版!$D:$O,$B96,L$15))","v":""},{"$f":"IF(OR($D96=\"\",IFERROR(INDEX(全国版!$D:$O,$B96,M$15),\"\")=\"\"),\"\",INDEX(全国版!$D:$O,$B96,M$15))","v":""},{"$f":"IF(OR($D96=\"\",IFERROR(INDEX(全国版!$D:$O,$B96,N$15),\"\")=\"\"),\"\",INDEX(全国版!$D:$O,$B96,N$15))","v":""},{"$f":"IF(OR($D96=\"\",IFERROR(INDEX(全国版!$D:$O,$B96,O$15),\"\")=\"\"),\"\",INDEX(全国版!$D:$O,$B96,O$15))","v":""},{"$f":"IF(OR($D96=\"\",IFERROR(INDEX(全国版!$D:$O,$B96,P$15),\"\")=\"\"),\"\",INDEX(全国版!$D:$O,$B96,P$15))","v":""}]
[null,{"$f":"MATCH(D97,全国版!C:C,0)","v":82},null,79,{"$f":"IF(OR($D97=\"\",IFERROR(INDEX(全国版!$D:$O,$B97,E$15),\"\")=\"\"),\"\",INDEX(全国版!$D:$O,$B97,E$15))","v":"福島県"},{"$f":"IF(OR($D97=\"\",IFERROR(INDEX(全国版!$D:$O,$B97,F$15),\"\")=\"\"),\"\",INDEX(全国版!$D:$O,$B97,F$15))","v":"郡山健康科学専門学校"},{"$f":"IF(OR($D97=\"\",IFERROR(INDEX(全国版!$D:$O,$B97,G$15),\"\")=\"\"),\"\",INDEX(全国版!$D:$O,$B97,G$15))","v":"医療専門課程　理学療法学科"},{"$f":"IF(OR($D97=\"\",IFERROR(INDEX(全国版!$D:$O,$B97,H$15),\"\")=\"\"),\"\",INDEX(全国版!$D:$O,$B97,H$15))","v":"2005-12-09"},{"$f":"IF(OR($D97=\"\",IFERROR(INDEX(全国版!$D:$O,$B97,I$15),\"\")=\"\"),\"\",INDEX(全国版!$D:$O,$B97,I$15))","v":"～"},{"$f":"IF(OR($D97=\"\",IFERROR(INDEX(全国版!$D:$O,$B97,J$15),\"\")=\"\"),\"\",INDEX(全国版!$D:$O,$B97,J$15))","v":""},{"$f":"IF(OR($D97=\"\",IFERROR(INDEX(全国版!$D:$O,$B97,K$15),\"\")=\"\"),\"\",INDEX(全国版!$D:$O,$B97,K$15))","v":"2005-12-09"},{"$f":"IF(OR($D97=\"\",IFERROR(INDEX(全国版!$D:$O,$B97,L$15),\"\")=\"\"),\"\",INDEX(全国版!$D:$O,$B97,L$15))","v":""},{"$f":"IF(OR($D97=\"\",IFERROR(INDEX(全国版!$D:$O,$B97,M$15),\"\")=\"\"),\"\",INDEX(全国版!$D:$O,$B97,M$15))","v":""},{"$f":"IF(OR($D97=\"\",IFERROR(INDEX(全国版!$D:$O,$B97,N$15),\"\")=\"\"),\"\",INDEX(全国版!$D:$O,$B97,N$15))","v":""},{"$f":"IF(OR($D97=\"\",IFERROR(INDEX(全国版!$D:$O,$B97,O$15),\"\")=\"\"),\"\",INDEX(全国版!$D:$O,$B97,O$15))","v":""},{"$f":"IF(OR($D97=\"\",IFERROR(INDEX(全国版!$D:$O,$B97,P$15),\"\")=\"\"),\"\",INDEX(全国版!$D:$O,$B97,P$15))","v":""}]
[null,{"$f":"MATCH(D98,全国版!C:C,0)","v":83},null,80,{"$f":"IF(OR($D98=\"\",IFERROR(INDEX(全国版!$D:$O,$B98,E$15),\"\")=\"\"),\"\",INDEX(全国版!$D:$O,$B98,E$15))","v":"福島県"},{"$f":"IF(OR($D98=\"\",IFERROR(INDEX(全国版!$D:$O,$B98,F$15),\"\")=\"\"),\"\",INDEX(全国版!$D:$O,$B98,F$15))","v":"国際医療看護福祉大学校"},{"$f":"IF(OR($D98=\"\",IFERROR(INDEX(全国版!$D:$O,$B98,G$15),\"\")=\"\"),\"\",INDEX(全国版!$D:$O,$B98,G$15))","v":"医療専門課程　看護学科"},{"$f":"IF(OR($D98=\"\",IFERROR(INDEX(全国版!$D:$O,$B98,H$15),\"\")=\"\"),\"\",INDEX(全国版!$D:$O,$B98,H$15))","v":"2017-04-01"},{"$f":"IF(OR($D98=\"\",IFERROR(INDEX(全国版!$D:$O,$B98,I$15),\"\")=\"\"),\"\",INDEX(全国版!$D:$O,$B98,I$15))","v":"～"},{"$f":"IF(OR($D98=\"\",IFERROR(INDEX(全国版!$D:$O,$B98,J$15),\"\")=\"\"),\"\",INDEX(全国版!$D:$O,$B98,J$15))","v":"2021-03-31"},{"$f":"IF(OR($D98=\"\",IFERROR(INDEX(全国版!$D:$O,$B98,K$15),\"\")=\"\"),\"\",INDEX(全国版!$D:$O,$B98,K$15))","v":"2018-02-28"},{"$f":"IF(OR($D98=\"\",IFERROR(INDEX(全国版!$D:$O,$B98,L$15),\"\")=\"\"),\"\",INDEX(全国版!$D:$O,$B98,L$15))","v":"不適合"},{"$f":"IF(OR($D98=\"\",IFERROR(INDEX(全国版!$D:$O,$B98,M$15),\"\")=\"\"),\"\",INDEX(全国版!$D:$O,$B98,M$15))","v":""},{"$f":"IF(OR($D98=\"\",IFERROR(INDEX(全国版!$D:$O,$B98,N$15),\"\")=\"\"),\"\",INDEX(全国版!$D:$O,$B98,N$15))","v":""},{"$f":"IF(OR($D98=\"\",IFERROR(INDEX(全国版!$D:$O,$B98,O$15),\"\")=\"\"),\"\",INDEX(全国版!$D:$O,$B98,O$15))","v":"2021-04-01"},{"$f":"IF(OR($D98=\"\",IFERROR(INDEX(全国版!$D:$O,$B98,P$15),\"\")=\"\"),\"\",INDEX(全国版!$D:$O,$B98,P$15))","v":"2022-03-04"}]
[null,{"$f":"MATCH(D99,全国版!C:C,0)","v":84},null,81,{"$f":"IF(OR($D99=\"\",IFERROR(INDEX(全国版!$D:$O,$B99,E$15),\"\")=\"\"),\"\",INDEX(全国版!$D:$O,$B99,E$15))","v":"福島県"},{"$f":"IF(OR($D99=\"\",IFERROR(INDEX(全国版!$D:$O,$B99,F$15),\"\")=\"\"),\"\",INDEX(全国版!$D:$O,$B99,F$15))","v":"国際情報工科自動車大学校"},{"$f":"IF(OR($D99=\"\",IFERROR(INDEX(全国版!$D:$O,$B99,G$15),\"\")=\"\"),\"\",INDEX(全国版!$D:$O,$B99,G$15))","v":"工業専門課程　１級自動車工学科"},{"$f":"IF(OR($D99=\"\",IFERROR(INDEX(全国版!$D:$O,$B99,H$15),\"\")=\"\"),\"\",INDEX(全国版!$D:$O,$B99,H$15))","v":"2017-04-01"},{"$f":"IF(OR($D99=\"\",IFERROR(INDEX(全国版!$D:$O,$B99,I$15),\"\")=\"\"),\"\",INDEX(全国版!$D:$O,$B99,I$15))","v":"～"},{"$f":"IF(OR($D99=\"\",IFERROR(INDEX(全国版!$D:$O,$B99,J$15),\"\")=\"\"),\"\",INDEX(全国版!$D:$O,$B99,J$15))","v":""},{"$f":"IF(OR($D99=\"\",IFERROR(INDEX(全国版!$D:$O,$B99,K$15),\"\")=\"\"),\"\",INDEX(全国版!$D:$O,$B99,K$15))","v":"2018-02-28"},{"$f":"IF(OR($D99=\"\",IFERROR(INDEX(全国版!$D:$O,$B99,L$15),\"\")=\"\"),\"\",INDEX(全国版!$D:$O,$B99,L$15))","v":""},{"$f":"IF(OR($D99=\"\",IFERROR(INDEX(全国版!$D:$O,$B99,M$15),\"\")=\"\"),\"\",INDEX(全国版!$D:$O,$B99,M$15))","v":""},{"$f":"IF(OR($D99=\"\",IFERROR(INDEX(全国版!$D:$O,$B99,N$15),\"\")=\"\"),\"\",INDEX(全国版!$D:$O,$B99,N$15))","v":""},{"$f":"IF(OR($D99=\"\",IFERROR(INDEX(全国版!$D:$O,$B99,O$15),\"\")=\"\"),\"\",INDEX(全国版!$D:$O,$B99,O$15))","v":""},{"$f":"IF(OR($D99=\"\",IFERROR(INDEX(全国版!$D:$O,$B99,P$15),\"\")=\"\"),\"\",INDEX(全国版!$D:$O,$B99,P$15))","v":""}]
[null,{"$f":"MATCH(D100,全国版!C:C,0)","v":85},null,82,{"$f":"IF(OR($D100=\"\",IFERROR(INDEX(全国版!$D:$O,$B100,E$15),\"\")=\"\"),\"\",INDEX(全国版!$D:$O,$B100,E$15))","v":"福島県"},{"$f":"IF(OR($D100=\"\",IFERROR(INDEX(全国版!$D:$O,$B100,F$15),\"\")=\"\"),\"\",INDEX(全国版!$D:$O,$B100,F$15))","v":"国際情報工科自動車大学校"},{"$f":"IF(OR($D100=\"\",IFERROR(INDEX(全国版!$D:$O,$B100,G$15),\"\")=\"\"),\"\",INDEX(全国版!$D:$O,$B100,G$15))","v":"工業専門課程　ゲーム開発マスター科"},{"$f":"IF(OR($D100=\"\",IFERROR(INDEX(全国版!$D:$O,$B100,H$15),\"\")=\"\"),\"\",INDEX(全国版!$D:$O,$B100,H$15))","v":"2024-01-17"},{"$f":"IF(OR($D100=\"\",IFERROR(INDEX(全国版!$D:$O,$B100,I$15),\"\")=\"\"),\"\",INDEX(全国版!$D:$O,$B100,I$15))","v":""},{"$f":"IF(OR($D100=\"\",IFERROR(INDEX(全国版!$D:$O,$B100,J$15),\"\")=\"\"),\"\",INDEX(全国版!$D:$O,$B100,J$15))","v":""},{"$f":"IF(OR($D100=\"\",IFERROR(INDEX(全国版!$D:$O,$B100,K$15),\"\")=\"\"),\"\",INDEX(全国版!$D:$O,$B100,K$15))","v":"2024-01-17"},{"$f":"IF(OR($D100=\"\",IFERROR(INDEX(全国版!$D:$O,$B100,L$15),\"\")=\"\"),\"\",INDEX(全国版!$D:$O,$B100,L$15))","v":""},{"$f":"IF(OR($D100=\"\",IFERROR(INDEX(全国版!$D:$O,$B100,M$15),\"\")=\"\"),\"\",INDEX(全国版!$D:$O,$B100,M$15))","v":""},{"$f":"IF(OR($D100=\"\",IFERROR(INDEX(全国版!$D:$O,$B100,N$15),\"\")=\"\"),\"\",INDEX(全国版!$D:$O,$B100,N$15))","v":""},{"$f":"IF(OR($D100=\"\",IFERROR(INDEX(全国版!$D:$O,$B100,O$15),\"\")=\"\"),\"\",INDEX(全国版!$D:$O,$B100,O$15))","v":""},{"$f":"IF(OR($D100=\"\",IFERROR(INDEX(全国版!$D:$O,$B100,P$15),\"\")=\"\"),\"\",INDEX(全国版!$D:$O,$B100,P$15))","v":""}]
[null,{"$f":"MATCH(D101,全国版!C:C,0)","v":86},null,83,{"$f":"IF(OR($D101=\"\",IFERROR(INDEX(全国版!$D:$O,$B101,E$15),\"\")=\"\"),\"\",INDEX(全国版!$D:$O,$B101,E$15))","v":"福島県"},{"$f":"IF(OR($D101=\"\",IFERROR(INDEX(全国版!$D:$O,$B101,F$15),\"\")=\"\"),\"\",INDEX(全国版!$D:$O,$B101,F$15))","v":"国際情報工科自動車大学校"},{"$f":"IF(OR($D101=\"\",IFERROR(INDEX(全国版!$D:$O,$B101,G$15),\"\")=\"\"),\"\",INDEX(全国版!$D:$O,$B101,G$15))","v":"工業専門課程　高度情報工学科"},{"$f":"IF(OR($D101=\"\",IFERROR(INDEX(全国版!$D:$O,$B101,H$15),\"\")=\"\"),\"\",INDEX(全国版!$D:$O,$B101,H$15))","v":"2017-04-01"},{"$f":"IF(OR($D101=\"\",IFERROR(INDEX(全国版!$D:$O,$B101,I$15),\"\")=\"\"),\"\",INDEX(全国版!$D:$O,$B101,I$15))","v":"～"},{"$f":"IF(OR($D101=\"\",IFERROR(INDEX(全国版!$D:$O,$B101,J$15),\"\")=\"\"),\"\",INDEX(全国版!$D:$O,$B101,J$15))","v":""},{"$f":"IF(OR($D101=\"\",IFERROR(INDEX(全国版!$D:$O,$B101,K$15),\"\")=\"\"),\"\",INDEX(全国版!$D:$O,$B101,K$15))","v":"2018-02-28"},{"$f":"IF(OR($D101=\"\",IFERROR(INDEX(全国版!$D:$O,$B101,L$15),\"\")=\"\"),\"\",INDEX(全国版!$D:$O,$B101,L$15))","v":""},{"$f":"IF(OR($D101=\"\",IFERROR(INDEX(全国版!$D:$O,$B101,M$15),\"\")=\"\"),\"\",INDEX(全国版!$D:$O,$B101,M$15))","v":""},{"$f":"IF(OR($D101=\"\",IFERROR(INDEX(全国版!$D:$O,$B101,N$15),\"\")=\"\"),\"\",INDEX(全国版!$D:$O,$B101,N$15))","v":""},{"$f":"IF(OR($D101=\"\",IFERROR(INDEX(全国版!$D:$O,$B101,O$15),\"\")=\"\"),\"\",INDEX(全国版!$D:$O,$B101,O$15))","v":""},{"$f":"IF(OR($D101=\"\",IFERROR(INDEX(全国版!$D:$O,$B101,P$15),\"\")=\"\"),\"\",INDEX(全国版!$D:$O,$B101,P$15))","v":""}]
[null,{"$f":"MATCH(D102,全国版!C:C,0)","v":87},null,84,{"$f":"IF(OR($D102=\"\",IFERROR(INDEX(全国版!$D:$O,$B102,E$15),\"\")=\"\"),\"\",INDEX(全国版!$D:$O,$B102,E$15))","v":"福島県"},{"$f":"IF(OR($D102=\"\",IFERROR(INDEX(全国版!$D:$O,$B102,F$15),\"\")=\"\"),\"\",INDEX(全国版!$D:$O,$B102,F$15))","v":"国際情報工科専門学校"},{"$f":"IF(OR($D102=\"\",IFERROR(INDEX(全国版!$D:$O,$B102,G$15),\"\")=\"\"),\"\",INDEX(全国版!$D:$O,$B102,G$15))","v":"工業専門課程　１級自動車工学科"},{"$f":"IF(OR($D102=\"\",IFERROR(INDEX(全国版!$D:$O,$B102,H$15),\"\")=\"\"),\"\",INDEX(全国版!$D:$O,$B102,H$15))","v":"2008-02-29"},{"$f":"IF(OR($D102=\"\",IFERROR(INDEX(全国版!$D:$O,$B102,I$15),\"\")=\"\"),\"\",INDEX(全国版!$D:$O,$B102,I$15))","v":"～"},{"$f":"IF(OR($D102=\"\",IFERROR(INDEX(全国版!$D:$O,$B102,J$15),\"\")=\"\"),\"\",INDEX(全国版!$D:$O,$B102,J$15))","v":"2009-03-31"},{"$f":"IF(OR($D102=\"\",IFERROR(INDEX(全国版!$D:$O,$B102,K$15),\"\")=\"\"),\"\",INDEX(全国版!$D:$O,$B102,K$15))","v":"2008-02-29"},{"$f":"IF(OR($D102=\"\",IFERROR(INDEX(全国版!$D:$O,$B102,L$15),\"\")=\"\"),\"\",INDEX(全国版!$D:$O,$B102,L$15))","v":"名称変更"},{"$f":"IF(OR($D102=\"\",IFERROR(INDEX(全国版!$D:$O,$B102,M$15),\"\")=\"\"),\"\",INDEX(全国版!$D:$O,$B102,M$15))","v":"専門学校国際情報工科大学校"},{"$f":"IF(OR($D102=\"\",IFERROR(INDEX(全国版!$D:$O,$B102,N$15),\"\")=\"\"),\"\",INDEX(全国版!$D:$O,$B102,N$15))","v":"工業専門課程　１級自動車工学科"},{"$f":"IF(OR($D102=\"\",IFERROR(INDEX(全国版!$D:$O,$B102,O$15),\"\")=\"\"),\"\",INDEX(全国版!$D:$O,$B102,O$15))","v":"2009-04-01"},{"$f":"IF(OR($D102=\"\",IFERROR(INDEX(全国版!$D:$O,$B102,P$15),\"\")=\"\"),\"\",INDEX(全国版!$D:$O,$B102,P$15))","v":"2010-02-26"}]
[null,{"$f":"MATCH(D103,全国版!C:C,0)","v":88},null,85,{"$f":"IF(OR($D103=\"\",IFERROR(INDEX(全国版!$D:$O,$B103,E$15),\"\")=\"\"),\"\",INDEX(全国版!$D:$O,$B103,E$15))","v":"福島県"},{"$f":"IF(OR($D103=\"\",IFERROR(INDEX(全国版!$D:$O,$B103,F$15),\"\")=\"\"),\"\",INDEX(全国版!$D:$O,$B103,F$15))","v":"国際メディカルテクノロジー専門学校"},{"$f":"IF(OR($D103=\"\",IFERROR(INDEX(全国版!$D:$O,$B103,G$15),\"\")=\"\"),\"\",INDEX(全国版!$D:$O,$B103,G$15))","v":"医療専門課程　看護学科"},{"$f":"IF(OR($D103=\"\",IFERROR(INDEX(全国版!$D:$O,$B103,H$15),\"\")=\"\"),\"\",INDEX(全国版!$D:$O,$B103,H$15))","v":"2011-12-22"},{"$f":"IF(OR($D103=\"\",IFERROR(INDEX(全国版!$D:$O,$B103,I$15),\"\")=\"\"),\"\",INDEX(全国版!$D:$O,$B103,I$15))","v":"～"},{"$f":"IF(OR($D103=\"\",IFERROR(INDEX(全国版!$D:$O,$B103,J$15),\"\")=\"\"),\"\",INDEX(全国版!$D:$O,$B103,J$15))","v":"2017-03-31"},{"$f":"IF(OR($D103=\"\",IFERROR(INDEX(全国版!$D:$O,$B103,K$15),\"\")=\"\"),\"\",INDEX(全国版!$D:$O,$B103,K$15))","v":"2011-12-22"},{"$f":"IF(OR($D103=\"\",IFERROR(INDEX(全国版!$D:$O,$B103,L$15),\"\")=\"\"),\"\",INDEX(全国版!$D:$O,$B103,L$15))","v":"名称変更"},{"$f":"IF(OR($D103=\"\",IFERROR(INDEX(全国版!$D:$O,$B103,M$15),\"\")=\"\"),\"\",INDEX(全国版!$D:$O,$B103,M$15))","v":"国際医療看護福祉大学校"},{"$f":"IF(OR($D103=\"\",IFERROR(INDEX(全国版!$D:$O,$B103,N$15),\"\")=\"\"),\"\",INDEX(全国版!$D:$O,$B103,N$15))","v":"医療専門課程　看護学科"},{"$f":"IF(OR($D103=\"\",IFERROR(INDEX(全国版!$D:$O,$B103,O$15),\"\")=\"\"),\"\",INDEX(全国版!$D:$O,$B103,O$15))","v":"2017-04-01"},{"$f":"IF(OR($D103=\"\",IFERROR(INDEX(全国版!$D:$O,$B103,P$15),\"\")=\"\"),\"\",INDEX(全国版!$D:$O,$B103,P$15))","v":"2018-02-28"}]
[null,{"$f":"MATCH(D104,全国版!C:C,0)","v":89},null,86,{"$f":"IF(OR($D104=\"\",IFERROR(INDEX(全国版!$D:$O,$B104,E$15),\"\")=\"\"),\"\",INDEX(全国版!$D:$O,$B104,E$15))","v":"福島県"},{"$f":"IF(OR($D104=\"\",IFERROR(INDEX(全国版!$D:$O,$B104,F$15),\"\")=\"\"),\"\",INDEX(全国版!$D:$O,$B104,F$15))","v":"専門学校国際情報工科大学校"},{"$f":"IF(OR($D104=\"\",IFERROR(INDEX(全国版!$D:$O,$B104,G$15),\"\")=\"\"),\"\",INDEX(全国版!$D:$O,$B104,G$15))","v":"工業専門課程　高度情報工学科"},{"$f":"IF(OR($D104=\"\",IFERROR(INDEX(全国版!$D:$O,$B104,H$15),\"\")=\"\"),\"\",INDEX(全国版!$D:$O,$B104,H$15))","v":"2016-02-29"},{"$f":"IF(OR($D104=\"\",IFERROR(INDEX(全国版!$D:$O,$B104,I$15),\"\")=\"\"),\"\",INDEX(全国版!$D:$O,$B104,I$15))","v":"～"},{"$f":"IF(OR($D104=\"\",IFERROR(INDEX(全国版!$D:$O,$B104,J$15),\"\")=\"\"),\"\",INDEX(全国版!$D:$O,$B104,J$15))","v":"2017-03-31"},{"$f":"IF(OR($D104=\"\",IFERROR(INDEX(全国版!$D:$O,$B104,K$15),\"\")=\"\"),\"\",INDEX(全国版!$D:$O,$B104,K$15))","v":"2016-02-29"},{"$f":"IF(OR($D104=\"\",IFERROR(INDEX(全国版!$D:$O,$B104,L$15),\"\")=\"\"),\"\",INDEX(全国版!$D:$O,$B104,L$15))","v":"名称変更"},{"$f":"IF(OR($D104=\"\",IFERROR(INDEX(全国版!$D:$O,$B104,M$15),\"\")=\"\"),\"\",INDEX(全国版!$D:$O,$B104,M$15))","v":"国際情報工科自動車大学校"},{"$f":"IF(OR($D104=\"\",IFERROR(INDEX(全国版!$D:$O,$B104,N$15),\"\")=\"\"),\"\",INDEX(全国版!$D:$O,$B104,N$15))","v":"工業専門課程　高度情報工学科"},{"$f":"IF(OR($D104=\"\",IFERROR(INDEX(全国版!$D:$O,$B104,O$15),\"\")=\"\"),\"\",INDEX(全国版!$D:$O,$B104,O$15))","v":"2017-04-01"},{"$f":"IF(OR($D104=\"\",IFERROR(INDEX(全国版!$D:$O,$B104,P$15),\"\")=\"\"),\"\",INDEX(全国版!$D:$O,$B104,P$15))","v":"2018-02-28"}]
[null,{"$f":"MATCH(D105,全国版!C:C,0)","v":90},null,87,{"$f":"IF(OR($D105=\"\",IFERROR(INDEX(全国版!$D:$O,$B105,E$15),\"\")=\"\"),\"\",INDEX(全国版!$D:$O,$B105,E$15))","v":"福島県"},{"$f":"IF(OR($D105=\"\",IFERROR(INDEX(全国版!$D:$O,$B105,F$15),\"\")=\"\"),\"\",INDEX(全国版!$D:$O,$B105,F$15))","v":"専門学校国際情報工科大学校"},{"$f":"IF(OR($D105=\"\",IFERROR(INDEX(全国版!$D:$O,$B105,G$15),\"\")=\"\"),\"\",INDEX(全国版!$D:$O,$B105,G$15))","v":"工業専門課程　１級自動車工学科"},{"$f":"IF(OR($D105=\"\",IFERROR(INDEX(全国版!$D:$O,$B105,H$15),\"\")=\"\"),\"\",INDEX(全国版!$D:$O,$B105,H$15))","v":"2009-04-01"},{"$f":"IF(OR($D105=\"\",IFERROR(INDEX(全国版!$D:$O,$B105,I$15),\"\")=\"\"),\"\",INDEX(全国版!$D:$O,$B105,I$15))","v":"～"},{"$f":"IF(OR($D105=\"\",IFERROR(INDEX(全国版!$D:$O,$B105,J$15),\"\")=\"\"),\"\",INDEX(全国版!$D:$O,$B105,J$15))","v":"2017-03-31"},{"$f":"IF(OR($D105=\"\",IFERROR(INDEX(全国版!$D:$O,$B105,K$15),\"\")=\"\"),\"\",INDEX(全国版!$D:$O,$B105,K$15))","v":"2010-02-26"},{"$f":"IF(OR($D105=\"\",IFERROR(INDEX(全国版!$D:$O,$B105,L$15),\"\")=\"\"),\"\",INDEX(全国版!$D:$O,$B105,L$15))","v":"名称変更"},{"$f":"IF(OR($D105=\"\",IFERROR(INDEX(全国版!$D:$O,$B105,M$15),\"\")=\"\"),\"\",INDEX(全国版!$D:$O,$B105,M$15))","v":"国際情報工科自動車大学校"},{"$f":"IF(OR($D105=\"\",IFERROR(INDEX(全国版!$D:$O,$B105,N$15),\"\")=\"\"),\"\",INDEX(全国版!$D:$O,$B105,N$15))","v":"工業専門課程　１級自動車工学科"},{"$f":"IF(OR($D105=\"\",IFERROR(INDEX(全国版!$D:$O,$B105,O$15),\"\")=\"\"),\"\",INDEX(全国版!$D:$O,$B105,O$15))","v":"2017-04-01"},{"$f":"IF(OR($D105=\"\",IFERROR(INDEX(全国版!$D:$O,$B105,P$15),\"\")=\"\"),\"\",INDEX(全国版!$D:$O,$B105,P$15))","v":"2018-02-28"}]
[null,{"$f":"MATCH(D106,全国版!C:C,0)","v":91},null,88,{"$f":"IF(OR($D106=\"\",IFERROR(INDEX(全国版!$D:$O,$B106,E$15),\"\")=\"\"),\"\",INDEX(全国版!$D:$O,$B106,E$15))","v":"福島県"},{"$f":"IF(OR($D106=\"\",IFERROR(INDEX(全国版!$D:$O,$B106,F$15),\"\")=\"\"),\"\",INDEX(全国版!$D:$O,$B106,F$15))","v":"ポラリス保健看護学院"},{"$f":"IF(OR($D106=\"\",IFERROR(INDEX(全国版!$D:$O,$B106,G$15),\"\")=\"\"),\"\",INDEX(全国版!$D:$O,$B106,G$15))","v":"医療専門課程　保健看護学科"},{"$f":"IF(OR($D106=\"\",IFERROR(INDEX(全国版!$D:$O,$B106,H$15),\"\")=\"\"),\"\",INDEX(全国版!$D:$O,$B106,H$15))","v":"2005-12-09"},{"$f":"IF(OR($D106=\"\",IFERROR(INDEX(全国版!$D:$O,$B106,I$15),\"\")=\"\"),\"\",INDEX(全国版!$D:$O,$B106,I$15))","v":"～"},{"$f":"IF(OR($D106=\"\",IFERROR(INDEX(全国版!$D:$O,$B106,J$15),\"\")=\"\"),\"\",INDEX(全国版!$D:$O,$B106,J$15))","v":""},{"$f":"IF(OR($D106=\"\",IFERROR(INDEX(全国版!$D:$O,$B106,K$15),\"\")=\"\"),\"\",INDEX(全国版!$D:$O,$B106,K$15))","v":"2005-12-09"},{"$f":"IF(OR($D106=\"\",IFERROR(INDEX(全国版!$D:$O,$B106,L$15),\"\")=\"\"),\"\",INDEX(全国版!$D:$O,$B106,L$15))","v":""},{"$f":"IF(OR($D106=\"\",IFERROR(INDEX(全国版!$D:$O,$B106,M$15),\"\")=\"\"),\"\",INDEX(全国版!$D:$O,$B106,M$15))","v":""},{"$f":"IF(OR($D106=\"\",IFERROR(INDEX(全国版!$D:$O,$B106,N$15),\"\")=\"\"),\"\",INDEX(全国版!$D:$O,$B106,N$15))","v":""},{"$f":"IF(OR($D106=\"\",IFERROR(INDEX(全国版!$D:$O,$B106,O$15),\"\")=\"\"),\"\",INDEX(全国版!$D:$O,$B106,O$15))","v":""},{"$f":"IF(OR($D106=\"\",IFERROR(INDEX(全国版!$D:$O,$B106,P$15),\"\")=\"\"),\"\",INDEX(全国版!$D:$O,$B106,P$15))","v":""}]
[null,{"$f":"MATCH(D107,全国版!C:C,0)","v":92},null,89,{"$f":"IF(OR($D107=\"\",IFERROR(INDEX(全国版!$D:$O,$B107,E$15),\"\")=\"\"),\"\",INDEX(全国版!$D:$O,$B107,E$15))","v":"茨城県"},{"$f":"IF(OR($D107=\"\",IFERROR(INDEX(全国版!$D:$O,$B107,F$15),\"\")=\"\"),\"\",INDEX(全国版!$D:$O,$B107,F$15))","v":"アール医療福祉専門学校"},{"$f":"IF(OR($D107=\"\",IFERROR(INDEX(全国版!$D:$O,$B107,G$15),\"\")=\"\"),\"\",INDEX(全国版!$D:$O,$B107,G$15))","v":"医療専門課程　作業療法学科"},{"$f":"IF(OR($D107=\"\",IFERROR(INDEX(全国版!$D:$O,$B107,H$15),\"\")=\"\"),\"\",INDEX(全国版!$D:$O,$B107,H$15))","v":"2005-12-09"},{"$f":"IF(OR($D107=\"\",IFERROR(INDEX(全国版!$D:$O,$B107,I$15),\"\")=\"\"),\"\",INDEX(全国版!$D:$O,$B107,I$15))","v":"～"},{"$f":"IF(OR($D107=\"\",IFERROR(INDEX(全国版!$D:$O,$B107,J$15),\"\")=\"\"),\"\",INDEX(全国版!$D:$O,$B107,J$15))","v":""},{"$f":"IF(OR($D107=\"\",IFERROR(INDEX(全国版!$D:$O,$B107,K$15),\"\")=\"\"),\"\",INDEX(全国版!$D:$O,$B107,K$15))","v":"2005-12-09"},{"$f":"IF(OR($D107=\"\",IFERROR(INDEX(全国版!$D:$O,$B107,L$15),\"\")=\"\"),\"\",INDEX(全国版!$D:$O,$B107,L$15))","v":""},{"$f":"IF(OR($D107=\"\",IFERROR(INDEX(全国版!$D:$O,$B107,M$15),\"\")=\"\"),\"\",INDEX(全国版!$D:$O,$B107,M$15))","v":""},{"$f":"IF(OR($D107=\"\",IFERROR(INDEX(全国版!$D:$O,$B107,N$15),\"\")=\"\"),\"\",INDEX(全国版!$D:$O,$B107,N$15))","v":""},{"$f":"IF(OR($D107=\"\",IFERROR(INDEX(全国版!$D:$O,$B107,O$15),\"\")=\"\"),\"\",INDEX(全国版!$D:$O,$B107,O$15))","v":""},{"$f":"IF(OR($D107=\"\",IFERROR(INDEX(全国版!$D:$O,$B107,P$15),\"\")=\"\"),\"\",INDEX(全国版!$D:$O,$B107,P$15))","v":""}]
[null,{"$f":"MATCH(D108,全国版!C:C,0)","v":93},null,90,{"$f":"IF(OR($D108=\"\",IFERROR(INDEX(全国版!$D:$O,$B108,E$15),\"\")=\"\"),\"\",INDEX(全国版!$D:$O,$B108,E$15))","v":"茨城県"},{"$f":"IF(OR($D108=\"\",IFERROR(INDEX(全国版!$D:$O,$B108,F$15),\"\")=\"\"),\"\",INDEX(全国版!$D:$O,$B108,F$15))","v":"アール医療福祉専門学校"},{"$f":"IF(OR($D108=\"\",IFERROR(INDEX(全国版!$D:$O,$B108,G$15),\"\")=\"\"),\"\",INDEX(全国版!$D:$O,$B108,G$15))","v":"医療専門課程　理学療法学科"},{"$f":"IF(OR($D108=\"\",IFERROR(INDEX(全国版!$D:$O,$B108,H$15),\"\")=\"\"),\"\",INDEX(全国版!$D:$O,$B108,H$15))","v":"2005-12-09"},{"$f":"IF(OR($D108=\"\",IFERROR(INDEX(全国版!$D:$O,$B108,I$15),\"\")=\"\"),\"\",INDEX(全国版!$D:$O,$B108,I$15))","v":"～"},{"$f":"IF(OR($D108=\"\",IFERROR(INDEX(全国版!$D:$O,$B108,J$15),\"\")=\"\"),\"\",INDEX(全国版!$D:$O,$B108,J$15))","v":""},{"$f":"IF(OR($D108=\"\",IFERROR(INDEX(全国版!$D:$O,$B108,K$15),\"\")=\"\"),\"\",INDEX(全国版!$D:$O,$B108,K$15))","v":"2005-12-09"},{"$f":"IF(OR($D108=\"\",IFERROR(INDEX(全国版!$D:$O,$B108,L$15),\"\")=\"\"),\"\",INDEX(全国版!$D:$O,$B108,L$15))","v":""},{"$f":"IF(OR($D108=\"\",IFERROR(INDEX(全国版!$D:$O,$B108,M$15),\"\")=\"\"),\"\",INDEX(全国版!$D:$O,$B108,M$15))","v":""},{"$f":"IF(OR($D108=\"\",IFERROR(INDEX(全国版!$D:$O,$B108,N$15),\"\")=\"\"),\"\",INDEX(全国版!$D:$O,$B108,N$15))","v":""},{"$f":"IF(OR($D108=\"\",IFERROR(INDEX(全国版!$D:$O,$B108,O$15),\"\")=\"\"),\"\",INDEX(全国版!$D:$O,$B108,O$15))","v":""},{"$f":"IF(OR($D108=\"\",IFERROR(INDEX(全国版!$D:$O,$B108,P$15),\"\")=\"\"),\"\",INDEX(全国版!$D:$O,$B108,P$15))","v":""}]
[null,{"$f":"MATCH(D109,全国版!C:C,0)","v":94},null,91,{"$f":"IF(OR($D109=\"\",IFERROR(INDEX(全国版!$D:$O,$B109,E$15),\"\")=\"\"),\"\",INDEX(全国版!$D:$O,$B109,E$15))","v":"茨城県"},{"$f":"IF(OR($D109=\"\",IFERROR(INDEX(全国版!$D:$O,$B109,F$15),\"\")=\"\"),\"\",INDEX(全国版!$D:$O,$B109,F$15))","v":"晃陽看護栄養専門学校"},{"$f":"IF(OR($D109=\"\",IFERROR(INDEX(全国版!$D:$O,$B109,G$15),\"\")=\"\"),\"\",INDEX(全国版!$D:$O,$B109,G$15))","v":"専門課程　管理栄養士学科"},{"$f":"IF(OR($D109=\"\",IFERROR(INDEX(全国版!$D:$O,$B109,H$15),\"\")=\"\"),\"\",INDEX(全国版!$D:$O,$B109,H$15))","v":"2020-02-29"},{"$f":"IF(OR($D109=\"\",IFERROR(INDEX(全国版!$D:$O,$B109,I$15),\"\")=\"\"),\"\",INDEX(全国版!$D:$O,$B109,I$15))","v":"～"},{"$f":"IF(OR($D109=\"\",IFERROR(INDEX(全国版!$D:$O,$B109,J$15),\"\")=\"\"),\"\",INDEX(全国版!$D:$O,$B109,J$15))","v":""},{"$f":"IF(OR($D109=\"\",IFERROR(INDEX(全国版!$D:$O,$B109,K$15),\"\")=\"\"),\"\",INDEX(全国版!$D:$O,$B109,K$15))","v":"2020-02-29"},{"$f":"IF(OR($D109=\"\",IFERROR(INDEX(全国版!$D:$O,$B109,L$15),\"\")=\"\"),\"\",INDEX(全国版!$D:$O,$B109,L$15))","v":""},{"$f":"IF(OR($D109=\"\",IFERROR(INDEX(全国版!$D:$O,$B109,M$15),\"\")=\"\"),\"\",INDEX(全国版!$D:$O,$B109,M$15))","v":""},{"$f":"IF(OR($D109=\"\",IFERROR(INDEX(全国版!$D:$O,$B109,N$15),\"\")=\"\"),\"\",INDEX(全国版!$D:$O,$B109,N$15))","v":""},{"$f":"IF(OR($D109=\"\",IFERROR(INDEX(全国版!$D:$O,$B109,O$15),\"\")=\"\"),\"\",INDEX(全国版!$D:$O,$B109,O$15))","v":""},{"$f":"IF(OR($D109=\"\",IFERROR(INDEX(全国版!$D:$O,$B109,P$15),\"\")=\"\"),\"\",INDEX(全国版!$D:$O,$B109,P$15))","v":""}]
[null,{"$f":"MATCH(D110,全国版!C:C,0)","v":95},null,92,{"$f":"IF(OR($D110=\"\",IFERROR(INDEX(全国版!$D:$O,$B110,E$15),\"\")=\"\"),\"\",INDEX(全国版!$D:$O,$B110,E$15))","v":"茨城県"},{"$f":"IF(OR($D110=\"\",IFERROR(INDEX(全国版!$D:$O,$B110,F$15),\"\")=\"\"),\"\",INDEX(全国版!$D:$O,$B110,F$15))","v":"鯉淵学園農業栄養専門学校"},{"$f":"IF(OR($D110=\"\",IFERROR(INDEX(全国版!$D:$O,$B110,G$15),\"\")=\"\"),\"\",INDEX(全国版!$D:$O,$B110,G$15))","v":"専門課程　生活栄養科学科"},{"$f":"IF(OR($D110=\"\",IFERROR(INDEX(全国版!$D:$O,$B110,H$15),\"\")=\"\"),\"\",INDEX(全国版!$D:$O,$B110,H$15))","v":"2005-12-09"},{"$f":"IF(OR($D110=\"\",IFERROR(INDEX(全国版!$D:$O,$B110,I$15),\"\")=\"\"),\"\",INDEX(全国版!$D:$O,$B110,I$15))","v":"～"},{"$f":"IF(OR($D110=\"\",IFERROR(INDEX(全国版!$D:$O,$B110,J$15),\"\")=\"\"),\"\",INDEX(全国版!$D:$O,$B110,J$15))","v":"2012-03-31"},{"$f":"IF(OR($D110=\"\",IFERROR(INDEX(全国版!$D:$O,$B110,K$15),\"\")=\"\"),\"\",INDEX(全国版!$D:$O,$B110,K$15))","v":"2005-12-09"},{"$f":"IF(OR($D110=\"\",IFERROR(INDEX(全国版!$D:$O,$B110,L$15),\"\")=\"\"),\"\",INDEX(全国版!$D:$O,$B110,L$15))","v":"廃止"},{"$f":"IF(OR($D110=\"\",IFERROR(INDEX(全国版!$D:$O,$B110,M$15),\"\")=\"\"),\"\",INDEX(全国版!$D:$O,$B110,M$15))","v":""},{"$f":"IF(OR($D110=\"\",IFERROR(INDEX(全国版!$D:$O,$B110,N$15),\"\")=\"\"),\"\",INDEX(全国版!$D:$O,$B110,N$15))","v":""},{"$f":"IF(OR($D110=\"\",IFERROR(INDEX(全国版!$D:$O,$B110,O$15),\"\")=\"\"),\"\",INDEX(全国版!$D:$O,$B110,O$15))","v":"2012-03-31"},{"$f":"IF(OR($D110=\"\",IFERROR(INDEX(全国版!$D:$O,$B110,P$15),\"\")=\"\"),\"\",INDEX(全国版!$D:$O,$B110,P$15))","v":"2013-01-29"}]
[null,{"$f":"MATCH(D111,全国版!C:C,0)","v":96},null,93,{"$f":"IF(OR($D111=\"\",IFERROR(INDEX(全国版!$D:$O,$B111,E$15),\"\")=\"\"),\"\",INDEX(全国版!$D:$O,$B111,E$15))","v":"茨城県"},{"$f":"IF(OR($D111=\"\",IFERROR(INDEX(全国版!$D:$O,$B111,F$15),\"\")=\"\"),\"\",INDEX(全国版!$D:$O,$B111,F$15))","v":"鯉淵学園農業栄養専門学校"},{"$f":"IF(OR($D111=\"\",IFERROR(INDEX(全国版!$D:$O,$B111,G$15),\"\")=\"\"),\"\",INDEX(全国版!$D:$O,$B111,G$15))","v":"専門課程　農業経営科学科"},{"$f":"IF(OR($D111=\"\",IFERROR(INDEX(全国版!$D:$O,$B111,H$15),\"\")=\"\"),\"\",INDEX(全国版!$D:$O,$B111,H$15))","v":"2005-12-09"},{"$f":"IF(OR($D111=\"\",IFERROR(INDEX(全国版!$D:$O,$B111,I$15),\"\")=\"\"),\"\",INDEX(全国版!$D:$O,$B111,I$15))","v":"～"},{"$f":"IF(OR($D111=\"\",IFERROR(INDEX(全国版!$D:$O,$B111,J$15),\"\")=\"\"),\"\",INDEX(全国版!$D:$O,$B111,J$15))","v":"2012-03-31"},{"$f":"IF(OR($D111=\"\",IFERROR(INDEX(全国版!$D:$O,$B111,K$15),\"\")=\"\"),\"\",INDEX(全国版!$D:$O,$B111,K$15))","v":"2005-12-09"},{"$f":"IF(OR($D111=\"\",IFERROR(INDEX(全国版!$D:$O,$B111,L$15),\"\")=\"\"),\"\",INDEX(全国版!$D:$O,$B111,L$15))","v":"廃止"},{"$f":"IF(OR($D111=\"\",IFERROR(INDEX(全国版!$D:$O,$B111,M$15),\"\")=\"\"),\"\",INDEX(全国版!$D:$O,$B111,M$15))","v":""},{"$f":"IF(OR($D111=\"\",IFERROR(INDEX(全国版!$D:$O,$B111,N$15),\"\")=\"\"),\"\",INDEX(全国版!$D:$O,$B111,N$15))","v":""},{"$f":"IF(OR($D111=\"\",IFERROR(INDEX(全国版!$D:$O,$B111,O$15),\"\")=\"\"),\"\",INDEX(全国版!$D:$O,$B111,O$15))","v":"2012-03-31"},{"$f":"IF(OR($D111=\"\",IFERROR(INDEX(全国版!$D:$O,$B111,P$15),\"\")=\"\"),\"\",INDEX(全国版!$D:$O,$B111,P$15))","v":"2013-01-29"}]
[null,{"$f":"MATCH(D112,全国版!C:C,0)","v":97},null,94,{"$f":"IF(OR($D112=\"\",IFERROR(INDEX(全国版!$D:$O,$B112,E$15),\"\")=\"\"),\"\",INDEX(全国版!$D:$O,$B112,E$15))","v":"茨城県"},{"$f":"IF(OR($D112=\"\",IFERROR(INDEX(全国版!$D:$O,$B112,F$15),\"\")=\"\"),\"\",INDEX(全国版!$D:$O,$B112,F$15))","v":"専門学校ＥＩＫＡInternationalCollege"},{"$f":"IF(OR($D112=\"\",IFERROR(INDEX(全国版!$D:$O,$B112,G$15),\"\")=\"\"),\"\",INDEX(全国版!$D:$O,$B112,G$15))","v":"国際交流専門課程　国際交流学科"},{"$f":"IF(OR($D112=\"\",IFERROR(INDEX(全国版!$D:$O,$B112,H$15),\"\")=\"\"),\"\",INDEX(全国版!$D:$O,$B112,H$15))","v":"2019-04-01"},{"$f":"IF(OR($D112=\"\",IFERROR(INDEX(全国版!$D:$O,$B112,I$15),\"\")=\"\"),\"\",INDEX(全国版!$D:$O,$B112,I$15))","v":"～"},{"$f":"IF(OR($D112=\"\",IFERROR(INDEX(全国版!$D:$O,$B112,J$15),\"\")=\"\"),\"\",INDEX(全国版!$D:$O,$B112,J$15))","v":""},{"$f":"IF(OR($D112=\"\",IFERROR(INDEX(全国版!$D:$O,$B112,K$15),\"\")=\"\"),\"\",INDEX(全国版!$D:$O,$B112,K$15))","v":"2020-02-29"},{"$f":"IF(OR($D112=\"\",IFERROR(INDEX(全国版!$D:$O,$B112,L$15),\"\")=\"\"),\"\",INDEX(全国版!$D:$O,$B112,L$15))","v":""},{"$f":"IF(OR($D112=\"\",IFERROR(INDEX(全国版!$D:$O,$B112,M$15),\"\")=\"\"),\"\",INDEX(全国版!$D:$O,$B112,M$15))","v":""},{"$f":"IF(OR($D112=\"\",IFERROR(INDEX(全国版!$D:$O,$B112,N$15),\"\")=\"\"),\"\",INDEX(全国版!$D:$O,$B112,N$15))","v":""},{"$f":"IF(OR($D112=\"\",IFERROR(INDEX(全国版!$D:$O,$B112,O$15),\"\")=\"\"),\"\",INDEX(全国版!$D:$O,$B112,O$15))","v":""},{"$f":"IF(OR($D112=\"\",IFERROR(INDEX(全国版!$D:$O,$B112,P$15),\"\")=\"\"),\"\",INDEX(全国版!$D:$O,$B112,P$15))","v":""}]
[null,{"$f":"MATCH(D113,全国版!C:C,0)","v":98},null,95,{"$f":"IF(OR($D113=\"\",IFERROR(INDEX(全国版!$D:$O,$B113,E$15),\"\")=\"\"),\"\",INDEX(全国版!$D:$O,$B113,E$15))","v":"茨城県"},{"$f":"IF(OR($D113=\"\",IFERROR(INDEX(全国版!$D:$O,$B113,F$15),\"\")=\"\"),\"\",INDEX(全国版!$D:$O,$B113,F$15))","v":"専門学校つくば自動車大学校"},{"$f":"IF(OR($D113=\"\",IFERROR(INDEX(全国版!$D:$O,$B113,G$15),\"\")=\"\"),\"\",INDEX(全国版!$D:$O,$B113,G$15))","v":"工業専門課程　一級自動車整備士科"},{"$f":"IF(OR($D113=\"\",IFERROR(INDEX(全国版!$D:$O,$B113,H$15),\"\")=\"\"),\"\",INDEX(全国版!$D:$O,$B113,H$15))","v":"2018-04-01"},{"$f":"IF(OR($D113=\"\",IFERROR(INDEX(全国版!$D:$O,$B113,I$15),\"\")=\"\"),\"\",INDEX(全国版!$D:$O,$B113,I$15))","v":"～"},{"$f":"IF(OR($D113=\"\",IFERROR(INDEX(全国版!$D:$O,$B113,J$15),\"\")=\"\"),\"\",INDEX(全国版!$D:$O,$B113,J$15))","v":""},{"$f":"IF(OR($D113=\"\",IFERROR(INDEX(全国版!$D:$O,$B113,K$15),\"\")=\"\"),\"\",INDEX(全国版!$D:$O,$B113,K$15))","v":"2019-01-25"},{"$f":"IF(OR($D113=\"\",IFERROR(INDEX(全国版!$D:$O,$B113,L$15),\"\")=\"\"),\"\",INDEX(全国版!$D:$O,$B113,L$15))","v":""},{"$f":"IF(OR($D113=\"\",IFERROR(INDEX(全国版!$D:$O,$B113,M$15),\"\")=\"\"),\"\",INDEX(全国版!$D:$O,$B113,M$15))","v":""},{"$f":"IF(OR($D113=\"\",IFERROR(INDEX(全国版!$D:$O,$B113,N$15),\"\")=\"\"),\"\",INDEX(全国版!$D:$O,$B113,N$15))","v":""},{"$f":"IF(OR($D113=\"\",IFERROR(INDEX(全国版!$D:$O,$B113,O$15),\"\")=\"\"),\"\",INDEX(全国版!$D:$O,$B113,O$15))","v":""},{"$f":"IF(OR($D113=\"\",IFERROR(INDEX(全国版!$D:$O,$B113,P$15),\"\")=\"\"),\"\",INDEX(全国版!$D:$O,$B113,P$15))","v":""}]
[null,{"$f":"MATCH(D114,全国版!C:C,0)","v":99},null,96,{"$f":"IF(OR($D114=\"\",IFERROR(INDEX(全国版!$D:$O,$B114,E$15),\"\")=\"\"),\"\",INDEX(全国版!$D:$O,$B114,E$15))","v":"茨城県"},{"$f":"IF(OR($D114=\"\",IFERROR(INDEX(全国版!$D:$O,$B114,F$15),\"\")=\"\"),\"\",INDEX(全国版!$D:$O,$B114,F$15))","v":"専門学校水戸自動車大学校"},{"$f":"IF(OR($D114=\"\",IFERROR(INDEX(全国版!$D:$O,$B114,G$15),\"\")=\"\"),\"\",INDEX(全国版!$D:$O,$B114,G$15))","v":"工業専門課程　一級自動車整備学科"},{"$f":"IF(OR($D114=\"\",IFERROR(INDEX(全国版!$D:$O,$B114,H$15),\"\")=\"\"),\"\",INDEX(全国版!$D:$O,$B114,H$15))","v":"2008-02-29"},{"$f":"IF(OR($D114=\"\",IFERROR(INDEX(全国版!$D:$O,$B114,I$15),\"\")=\"\"),\"\",INDEX(全国版!$D:$O,$B114,I$15))","v":"～"},{"$f":"IF(OR($D114=\"\",IFERROR(INDEX(全国版!$D:$O,$B114,J$15),\"\")=\"\"),\"\",INDEX(全国版!$D:$O,$B114,J$15))","v":""},{"$f":"IF(OR($D114=\"\",IFERROR(INDEX(全国版!$D:$O,$B114,K$15),\"\")=\"\"),\"\",INDEX(全国版!$D:$O,$B114,K$15))","v":"2008-02-29"},{"$f":"IF(OR($D114=\"\",IFERROR(INDEX(全国版!$D:$O,$B114,L$15),\"\")=\"\"),\"\",INDEX(全国版!$D:$O,$B114,L$15))","v":""},{"$f":"IF(OR($D114=\"\",IFERROR(INDEX(全国版!$D:$O,$B114,M$15),\"\")=\"\"),\"\",INDEX(全国版!$D:$O,$B114,M$15))","v":""},{"$f":"IF(OR($D114=\"\",IFERROR(INDEX(全国版!$D:$O,$B114,N$15),\"\")=\"\"),\"\",INDEX(全国版!$D:$O,$B114,N$15))","v":""},{"$f":"IF(OR($D114=\"\",IFERROR(INDEX(全国版!$D:$O,$B114,O$15),\"\")=\"\"),\"\",INDEX(全国版!$D:$O,$B114,O$15))","v":""},{"$f":"IF(OR($D114=\"\",IFERROR(INDEX(全国版!$D:$O,$B114,P$15),\"\")=\"\"),\"\",INDEX(全国版!$D:$O,$B114,P$15))","v":""}]
[null,{"$f":"MATCH(D115,全国版!C:C,0)","v":100},null,97,{"$f":"IF(OR($D115=\"\",IFERROR(INDEX(全国版!$D:$O,$B115,E$15),\"\")=\"\"),\"\",INDEX(全国版!$D:$O,$B115,E$15))","v":"茨城県"},{"$f":"IF(OR($D115=\"\",IFERROR(INDEX(全国版!$D:$O,$B115,F$15),\"\")=\"\"),\"\",INDEX(全国版!$D:$O,$B115,F$15))","v":"筑波研究学園専門学校"},{"$f":"IF(OR($D115=\"\",IFERROR(INDEX(全国版!$D:$O,$B115,G$15),\"\")=\"\"),\"\",INDEX(全国版!$D:$O,$B115,G$15))","v":"教育・社会福祉専門課程　こども未来学科児童教育コース"},{"$f":"IF(OR($D115=\"\",IFERROR(INDEX(全国版!$D:$O,$B115,H$15),\"\")=\"\"),\"\",INDEX(全国版!$D:$O,$B115,H$15))","v":"2018-02-28"},{"$f":"IF(OR($D115=\"\",IFERROR(INDEX(全国版!$D:$O,$B115,I$15),\"\")=\"\"),\"\",INDEX(全国版!$D:$O,$B115,I$15))","v":"～"},{"$f":"IF(OR($D115=\"\",IFERROR(INDEX(全国版!$D:$O,$B115,J$15),\"\")=\"\"),\"\",INDEX(全国版!$D:$O,$B115,J$15))","v":"2021-03-31"},{"$f":"IF(OR($D115=\"\",IFERROR(INDEX(全国版!$D:$O,$B115,K$15),\"\")=\"\"),\"\",INDEX(全国版!$D:$O,$B115,K$15))","v":"2018-02-28"},{"$f":"IF(OR($D115=\"\",IFERROR(INDEX(全国版!$D:$O,$B115,L$15),\"\")=\"\"),\"\",INDEX(全国版!$D:$O,$B115,L$15))","v":"廃止"},{"$f":"IF(OR($D115=\"\",IFERROR(INDEX(全国版!$D:$O,$B115,M$15),\"\")=\"\"),\"\",INDEX(全国版!$D:$O,$B115,M$15))","v":""},{"$f":"IF(OR($D115=\"\",IFERROR(INDEX(全国版!$D:$O,$B115,N$15),\"\")=\"\"),\"\",INDEX(全国版!$D:$O,$B115,N$15))","v":""},{"$f":"IF(OR($D115=\"\",IFERROR(INDEX(全国版!$D:$O,$B115,O$15),\"\")=\"\"),\"\",INDEX(全国版!$D:$O,$B115,O$15))","v":"2021-03-31"},{"$f":"IF(OR($D115=\"\",IFERROR(INDEX(全国版!$D:$O,$B115,P$15),\"\")=\"\"),\"\",INDEX(全国版!$D:$O,$B115,P$15))","v":"2022-03-04"}]
[null,{"$f":"MATCH(D116,全国版!C:C,0)","v":101},null,98,{"$f":"IF(OR($D116=\"\",IFERROR(INDEX(全国版!$D:$O,$B116,E$15),\"\")=\"\"),\"\",INDEX(全国版!$D:$O,$B116,E$15))","v":"茨城県"},{"$f":"IF(OR($D116=\"\",IFERROR(INDEX(全国版!$D:$O,$B116,F$15),\"\")=\"\"),\"\",INDEX(全国版!$D:$O,$B116,F$15))","v":"筑波研究学園専門学校"},{"$f":"IF(OR($D116=\"\",IFERROR(INDEX(全国版!$D:$O,$B116,G$15),\"\")=\"\"),\"\",INDEX(全国版!$D:$O,$B116,G$15))","v":"工業専門課程　自動車整備工学科一級整備士コース"},{"$f":"IF(OR($D116=\"\",IFERROR(INDEX(全国版!$D:$O,$B116,H$15),\"\")=\"\"),\"\",INDEX(全国版!$D:$O,$B116,H$15))","v":"2011-04-01"},{"$f":"IF(OR($D116=\"\",IFERROR(INDEX(全国版!$D:$O,$B116,I$15),\"\")=\"\"),\"\",INDEX(全国版!$D:$O,$B116,I$15))","v":"～"},{"$f":"IF(OR($D116=\"\",IFERROR(INDEX(全国版!$D:$O,$B116,J$15),\"\")=\"\"),\"\",INDEX(全国版!$D:$O,$B116,J$15))","v":"2022-03-31"},{"$f":"IF(OR($D116=\"\",IFERROR(INDEX(全国版!$D:$O,$B116,K$15),\"\")=\"\"),\"\",INDEX(全国版!$D:$O,$B116,K$15))","v":"2011-12-22"},{"$f":"IF(OR($D116=\"\",IFERROR(INDEX(全国版!$D:$O,$B116,L$15),\"\")=\"\"),\"\",INDEX(全国版!$D:$O,$B116,L$15))","v":"廃止"},{"$f":"IF(OR($D116=\"\",IFERROR(INDEX(全国版!$D:$O,$B116,M$15),\"\")=\"\"),\"\",INDEX(全国版!$D:$O,$B116,M$15))","v":""},{"$f":"IF(OR($D116=\"\",IFERROR(INDEX(全国版!$D:$O,$B116,N$15),\"\")=\"\"),\"\",INDEX(全国版!$D:$O,$B116,N$15))","v":""},{"$f":"IF(OR($D116=\"\",IFERROR(INDEX(全国版!$D:$O,$B116,O$15),\"\")=\"\"),\"\",INDEX(全国版!$D:$O,$B116,O$15))","v":"2022-03-31"},{"$f":"IF(OR($D116=\"\",IFERROR(INDEX(全国版!$D:$O,$B116,P$15),\"\")=\"\"),\"\",INDEX(全国版!$D:$O,$B116,P$15))","v":"2023-01-27"}]
[null,{"$f":"MATCH(D117,全国版!C:C,0)","v":102},null,99,{"$f":"IF(OR($D117=\"\",IFERROR(INDEX(全国版!$D:$O,$B117,E$15),\"\")=\"\"),\"\",INDEX(全国版!$D:$O,$B117,E$15))","v":"茨城県"},{"$f":"IF(OR($D117=\"\",IFERROR(INDEX(全国版!$D:$O,$B117,F$15),\"\")=\"\"),\"\",INDEX(全国版!$D:$O,$B117,F$15))","v":"筑波研究学園専門学校"},{"$f":"IF(OR($D117=\"\",IFERROR(INDEX(全国版!$D:$O,$B117,G$15),\"\")=\"\"),\"\",INDEX(全国版!$D:$O,$B117,G$15))","v":"工業専門課程　一級自動車整備工学科"},{"$f":"IF(OR($D117=\"\",IFERROR(INDEX(全国版!$D:$O,$B117,H$15),\"\")=\"\"),\"\",INDEX(全国版!$D:$O,$B117,H$15))","v":"2008-02-29"},{"$f":"IF(OR($D117=\"\",IFERROR(INDEX(全国版!$D:$O,$B117,I$15),\"\")=\"\"),\"\",INDEX(全国版!$D:$O,$B117,I$15))","v":"～"},{"$f":"IF(OR($D117=\"\",IFERROR(INDEX(全国版!$D:$O,$B117,J$15),\"\")=\"\"),\"\",INDEX(全国版!$D:$O,$B117,J$15))","v":"2011-03-31"},{"$f":"IF(OR($D117=\"\",IFERROR(INDEX(全国版!$D:$O,$B117,K$15),\"\")=\"\"),\"\",INDEX(全国版!$D:$O,$B117,K$15))","v":"2008-02-29"},{"$f":"IF(OR($D117=\"\",IFERROR(INDEX(全国版!$D:$O,$B117,L$15),\"\")=\"\"),\"\",INDEX(全国版!$D:$O,$B117,L$15))","v":"名称変更"},{"$f":"IF(OR($D117=\"\",IFERROR(INDEX(全国版!$D:$O,$B117,M$15),\"\")=\"\"),\"\",INDEX(全国版!$D:$O,$B117,M$15))","v":"筑波研究学園専門学校"},{"$f":"IF(OR($D117=\"\",IFERROR(INDEX(全国版!$D:$O,$B117,N$15),\"\")=\"\"),\"\",INDEX(全国版!$D:$O,$B117,N$15))","v":"工業専門課程　自動車整備工学科一級整備士コース"},{"$f":"IF(OR($D117=\"\",IFERROR(INDEX(全国版!$D:$O,$B117,O$15),\"\")=\"\"),\"\",INDEX(全国版!$D:$O,$B117,O$15))","v":"2011-04-01"},{"$f":"IF(OR($D117=\"\",IFERROR(INDEX(全国版!$D:$O,$B117,P$15),\"\")=\"\"),\"\",INDEX(全国版!$D:$O,$B117,P$15))","v":"2011-12-22"}]
[null,{"$f":"MATCH(D118,全国版!C:C,0)","v":103},null,100,{"$f":"IF(OR($D118=\"\",IFERROR(INDEX(全国版!$D:$O,$B118,E$15),\"\")=\"\"),\"\",INDEX(全国版!$D:$O,$B118,E$15))","v":"茨城県"},{"$f":"IF(OR($D118=\"\",IFERROR(INDEX(全国版!$D:$O,$B118,F$15),\"\")=\"\"),\"\",INDEX(全国版!$D:$O,$B118,F$15))","v":"つくば自動車整備専門学校"},{"$f":"IF(OR($D118=\"\",IFERROR(INDEX(全国版!$D:$O,$B118,G$15),\"\")=\"\"),\"\",INDEX(全国版!$D:$O,$B118,G$15))","v":"工業専門課程　一級自動車整備士科"},{"$f":"IF(OR($D118=\"\",IFERROR(INDEX(全国版!$D:$O,$B118,H$15),\"\")=\"\"),\"\",INDEX(全国版!$D:$O,$B118,H$15))","v":"2010-11-29"},{"$f":"IF(OR($D118=\"\",IFERROR(INDEX(全国版!$D:$O,$B118,I$15),\"\")=\"\"),\"\",INDEX(全国版!$D:$O,$B118,I$15))","v":"～"},{"$f":"IF(OR($D118=\"\",IFERROR(INDEX(全国版!$D:$O,$B118,J$15),\"\")=\"\"),\"\",INDEX(全国版!$D:$O,$B118,J$15))","v":"2018-03-31"},{"$f":"IF(OR($D118=\"\",IFERROR(INDEX(全国版!$D:$O,$B118,K$15),\"\")=\"\"),\"\",INDEX(全国版!$D:$O,$B118,K$15))","v":"2010-11-29"},{"$f":"IF(OR($D118=\"\",IFERROR(INDEX(全国版!$D:$O,$B118,L$15),\"\")=\"\"),\"\",INDEX(全国版!$D:$O,$B118,L$15))","v":"名称変更"},{"$f":"IF(OR($D118=\"\",IFERROR(INDEX(全国版!$D:$O,$B118,M$15),\"\")=\"\"),\"\",INDEX(全国版!$D:$O,$B118,M$15))","v":"専門学校つくば自動車大学校"},{"$f":"IF(OR($D118=\"\",IFERROR(INDEX(全国版!$D:$O,$B118,N$15),\"\")=\"\"),\"\",INDEX(全国版!$D:$O,$B118,N$15))","v":"工業専門課程　一級自動車整備士科"},{"$f":"IF(OR($D118=\"\",IFERROR(INDEX(全国版!$D:$O,$B118,O$15),\"\")=\"\"),\"\",INDEX(全国版!$D:$O,$B118,O$15))","v":"2018-04-01"},{"$f":"IF(OR($D118=\"\",IFERROR(INDEX(全国版!$D:$O,$B118,P$15),\"\")=\"\"),\"\",INDEX(全国版!$D:$O,$B118,P$15))","v":"2019-01-25"}]

{"sheet":"全国版","index":1,"n_rows":1085,"n_cols":15,"rows_kept":1085,"cut":false,"hidden":true,"merged":[[1,2,2,2],[1,1,2,1],[1,0,2,0],[1,10,2,10],[1,9,2,9],[1,6,2,8],[1,5,2,5],[1,4,2,4],[0,13,0,14],[1,14,2,14],[1,13,2,13],[1,11,1,12],[1,3,2,3]]}
[null,null,null,"修了者が高度専門士と称することができる専修学校専門課程の一覧",null,null,null,null,null,null,null,null,null,"(令和6年3月現在)"]
["手続き","検索条件","検索番号","位 置","専　修　学　校　名","課　程　名","適用年月日",null,null,"告示年月日","手続き","名称変更後",null,"変更、廃止、不適合\n年月日","変更、廃止、不適合\n告示年月日"]
[null,null,null,null,null,null,null,null,null,null,null,"変更後","変更後"]
[{"$f":"IF(OR(検索シート!$F$9=\"\",検索シート!$F$9=\"（指定なし）\",検索シート!$F$9=全国版!K4,AND(検索シート!$F$9=\"変更等なし\",全国版!K4=\"\")),1,0)","v":1},{"$f":"IF(A4=0,\"\",IFERROR(IF(OR(検索シート!$F$5=\"\",検索シート!$F$5=\"（指定なし）\"),1,FIND(ASC(検索シート!$F$5),ASC(全国版!D4)))+FIND(ASC(検索シート!$F$6),ASC(全国版!E4))+FIND(ASC(検索シート!$F$7),ASC(全国版!F4)),\"\"))","v":3},{"$f":"IF(B4=\"\",\"-\",COUNT(B$4:$B4))","v":1},"北海道","大原簿記情報専門学校札幌校","商業実務専門課程　会計システム４年制学科","2008-02-29","～",null,"2008-02-29"]
[{"$f":"IF(OR(検索シート!$F$9=\"\",検索シート!$F$9=\"（指定なし）\",検索シート!$F$9=全国版!K5,AND(検索シート!$F$9=\"変更等なし\",全国版!K5=\"\")),1,0)","v":1},{"$f":"IF(A5=0,\"\",IFERROR(IF(OR(検索シート!$F$5=\"\",検索シート!$F$5=\"（指定なし）\"),1,FIND(ASC(検索シート!$F$5),ASC(全国版!D5)))+FIND(ASC(検索シート!$F$6),ASC(全国版!E5))+FIND(ASC(検索シート!$F$7),ASC(全国版!F5)),\"\"))","v":3},{"$f":"IF(B5=\"\",\"-\",COUNT(B$4:$B5))","v":2},"北海道","札幌医学技術福祉歯科専門学校","医療専門課程　理学療法士科","2012-04-01","～","2019-03-30","2013-01-29","不適合",null,null,"2019-03-31","2020-02-29"]
[{"$f":"IF(OR(検索シート!$F$9=\"\",検索シート!$F$9=\"（指定なし）\",検索シート!$F$9=全国版!K6,AND(検索シート!$F$9=\"変更等なし\",全国版!K6=\"\")),1,0)","v":1},{"$f":"IF(A6=0,\"\",IFERROR(IF(OR(検索シート!$F$5=\"\",検索シート!$F$5=\"（指定なし）\"),1,FIND(ASC(検索シート!$F$5),ASC(全国版!D6)))+FIND(ASC(検索シート!$F$6),ASC(全国版!E6))+FIND(ASC(検索シート!$F$7),ASC(全国版!F6)),\"\"))","v":3},{"$f":"IF(B6=\"\",\"-\",COUNT(B$4:$B6))","v":3},"北海道","札幌医学技術福祉専門学校","医療専門課程　理学療法士科","2010-02-26","～","2012-03-31","2010-02-26","名称変更","札幌医学技術福祉歯科専門学校","医療専門課程　理学療法士科","2012-04-01","2013-01-29"]
[{"$f":"IF(OR(検索シート!$F$9=\"\",検索シート!$F$9=\"（指定なし）\",検索シート!$F$9=全国版!K7,AND(検索シート!$F$9=\"変更等なし\",全国版!K7=\"\")),1,0)","v":1},{"$f":"IF(A7=0,\"\",IFERROR(IF(OR(検索シート!$F$5=\"\",検索シート!$F$5=\"（指定なし）\"),1,FIND(ASC(検索シート!$F$5),ASC(全国版!D7)))+FIND(ASC(検索シート!$F$6),ASC(全国版!E7))+FIND(ASC(検索シート!$F$7),ASC(全国版!F7)),\"\"))","v":3},{"$f":"IF(B7=\"\",\"-\",COUNT(B$4:$B7))","v":4},"北海道","札幌デザイン＆テクノロジー専門学校","文化・教養専門課程　ＡＩ＆テクノロジー科昼間Ⅱ部","2024-01-17",null,null,"2024-01-17"]
[{"$f":"IF(OR(検索シート!$F$9=\"\",検索シート!$F$9=\"（指定なし）\",検索シート!$F$9=全国版!K8,AND(検索シート!$F$9=\"変更等なし\",全国版!K8=\"\")),1,0)","v":1},{"$f":"IF(A8=0,\"\",IFERROR(IF(OR(検索シート!$F$5=\"\",検索シート!$F$5=\"（指定なし）\"),1,FIND(ASC(検索シート!$F$5),ASC(全国版!D8)))+FIND(ASC(検索シート!$F$6),ASC(全国版!E8))+FIND(ASC(検索シート!$F$7),ASC(全国版!F8)),\"\"))","v":3},{"$f":"IF(B8=\"\",\"-\",COUNT(B$4:$B8))","v":5},"北海道","札幌ミュージック＆ダンス・放送専門学校","文化・教養専門課程　スーパーｅエンターテイメント科昼間Ⅱ部","2023-01-27","～",null,"2023-01-27"]
[{"$f":"IF(OR(検索シート!$F$9=\"\",検索シート!$F$9=\"（指定なし）\",検索シート!$F$9=全国版!K9,AND(検索シート!$F$9=\"変更等なし\",全国版!K9=\"\")),1,0)","v":1},{"$f":"IF(A9=0,\"\",IFERROR(IF(OR(検索シート!$F$5=\"\",検索シート!$F$5=\"（指定なし）\"),1,FIND(ASC(検索シート!$F$5),ASC(全国版!D9)))+FIND(ASC(検索シート!$F$6),ASC(全国版!E9))+FIND(ASC(検索シート!$F$7),ASC(全国版!F9)),\"\"))","v":3},{"$f":"IF(B9=\"\",\"-\",COUNT(B$4:$B9))","v":6},"北海道","札幌リハビリテーション専門学校","医療専門課程　作業療法士科","2005-12-09","～",null,"2005-12-09"]
[{"$f":"IF(OR(検索シート!$F$9=\"\",検索シート!$F$9=\"（指定なし）\",検索シート!$F$9=全国版!K10,AND(検索シート!$F$9=\"変更等なし\",全国版!K10=\"\")),1,0)","v":1},{"$f":"IF(A10=0,\"\",IFERROR(IF(OR(検索シート!$F$5=\"\",検索シート!$F$5=\"（指定なし）\"),1,FIND(ASC(検索シート!$F$5),ASC(全国版!D10)))+FIND(ASC(検索シート!$F$6),ASC(全国版!E10))+FIND(ASC(検索シート!$F$7),ASC(全国版!F10)),\"\"))","v":3},{"$f":"IF(B10=\"\",\"-\",COUNT(B$4:$B10))","v":7},"北海道","札幌リハビリテーション専門学校","医療専門課程　理学療法士科","2005-12-09","～",null,"2005-12-09"]
[{"$f":"IF(OR(検索シート!$F$9=\"\",検索シート!$F$9=\"（指定なし）\",検索シート!$F$9=全国版!K11,AND(検索シート!$F$9=\"変更等なし\",全国版!K11=\"\")),1,0)","v":1},{"$f":"IF(A11=0,\"\",IFERROR(IF(OR(検索シート!$F$5=\"\",検索シート!$F$5=\"（指定なし）\"),1,FIND(ASC(検索シート!$F$5),ASC(全国版!D11)))+FIND(ASC(検索シート!$F$6),ASC(全国版!E11))+FIND(ASC(検索シート!$F$7),ASC(全国版!F11)),\"\"))","v":3},{"$f":"IF(B11=\"\",\"-\",COUNT(B$4:$B11))","v":8},"北海道","専修学校ファーイースタンステイトユニバーシティ函館校","文化・教養専門課程　ロシア地域学科","2005-12-09","～","2007-03-31","2005-12-09","名称変更","専修学校ロシア極東大函館校","文化・教養専門課程　ロシア地域学科","2007-04-01","2008-02-29"]
[{"$f":"IF(OR(検索シート!$F$9=\"\",検索シート!$F$9=\"（指定なし）\",検索シート!$F$9=全国版!K12,AND(検索シート!$F$9=\"変更等なし\",全国版!K12=\"\")),1,0)","v":1},{"$f":"IF(A12=0,\"\",IFERROR(IF(OR(検索シート!$F$5=\"\",検索シート!$F$5=\"（指定なし）\"),1,FIND(ASC(検索シート!$F$5),ASC(全国版!D12)))+FIND(ASC(検索シート!$F$6),ASC(全国版!E12))+FIND(ASC(検索シート!$F$7),ASC(全国版!F12)),\"\"))","v":3},{"$f":"IF(B12=\"\",\"-\",COUNT(B$4:$B12))","v":9},"北海道","専修学校ロシア極東大函館校","文化・教養専門課程　ロシア地域学科","2007-04-01","～",null,"2008-02-29"]
[{"$f":"IF(OR(検索シート!$F$9=\"\",検索シート!$F$9=\"（指定なし）\",検索シート!$F$9=全国版!K13,AND(検索シート!$F$9=\"変更等なし\",全国版!K13=\"\")),1,0)","v":1},{"$f":"IF(A13=0,\"\",IFERROR(IF(OR(検索シート!$F$5=\"\",検索シート!$F$5=\"（指定なし）\"),1,FIND(ASC(検索シート!$F$5),ASC(全国版!D13)))+FIND(ASC(検索シート!$F$6),ASC(全国版!E13))+FIND(ASC(検索シート!$F$7),ASC(全国版!F13)),\"\"))","v":3},{"$f":"IF(B13=\"\",\"-\",COUNT(B$4:$B13))","v":10},"北海道","専門学校北日本自動車大学校","工業専門課程　自動車整備科（一級整備士コース）","2010-02-26","～","2020-03-31","2010-02-26","名称変更","専門学校北日本自動車大学校","工業専門課程　自動車工学科","2020-04-01","2023-01-27"]
[{"$f":"IF(OR(検索シート!$F$9=\"\",検索シート!$F$9=\"（指定なし）\",検索シート!$F$9=全国版!K14,AND(検索シート!$F$9=\"変更等なし\",全国版!K14=\"\")),1,0)","v":1},{"$f":"IF(A14=0,\"\",IFERROR(IF(OR(検索シート!$F$5=\"\",検索シート!$F$5=\"（指定なし）\"),1,FIND(ASC(検索シート!$F$5),ASC(全国版!D14)))+FIND(ASC(検索シート!$F$6),ASC(全国版!E14))+FIND(ASC(検索シート!$F$7),ASC(全国版!F14)),\"\"))","v":3},{"$f":"IF(B14=\"\",\"-\",COUNT(B$4:$B14))","v":11},"北海道","専門学校北日本自動車大学校","工業専門課程　自動車工学科","2020-04-01","～",null,"2023-01-27"]
[{"$f":"IF(OR(検索シート!$F$9=\"\",検索シート!$F$9=\"（指定なし）\",検索シート!$F$9=全国版!K15,AND(検索シート!$F$9=\"変更等なし\",全国版!K15=\"\")),1,0)","v":1},{"$f":"IF(A15=0,\"\",IFERROR(IF(OR(検索シート!$F$5=\"\",検索シート!$F$5=\"（指定なし）\"),1,FIND(ASC(検索シート!$F$5),ASC(全国版!D15)))+FIND(ASC(検索シート!$F$6),ASC(全国版!E15))+FIND(ASC(検索シート!$F$7),ASC(全国版!F15)),\"\"))","v":3},{"$f":"IF(B15=\"\",\"-\",COUNT(B$4:$B15))","v":12},"北海道","専門学校日本航空大学校北海道","工業専門課程　航空工学科","2022-03-04","～",null,"2022-03-04"]
[{"$f":"IF(OR(検索シート!$F$9=\"\",検索シート!$F$9=\"（指定なし）\",検索シート!$F$9=全国版!K16,AND(検索シート!$F$9=\"変更等なし\",全国版!K16=\"\")),1,0)","v":1},{"$f":"IF(A16=0,\"\",IFERROR(IF(OR(検索シート!$F$5=\"\",検索シート!$F$5=\"（指定なし）\"),1,FIND(ASC(検索シート!$F$5),ASC(全国版!D16)))+FIND(ASC(検索シート!$F$6),ASC(全国版!E16))+FIND(ASC(検索シート!$F$7),ASC(全国版!F16)),\"\"))","v":3},{"$f":"IF(B16=\"\",\"-\",COUNT(B$4:$B16))","v":13},"北海道","専門学校日本福祉看護・診療放射線学院","医療専門課程　看護学科","2009-04-01","～","2017-03-31","2010-02-26","廃止",null,null,"2017-03-31","2018-02-28"]
[{"$f":"IF(OR(検索シート!$F$9=\"\",検索シート!$F$9=\"（指定なし）\",検索シート!$F$9=全国版!K17,AND(検索シート!$F$9=\"変更等なし\",全国版!K17=\"\")),1,0)","v":1},{"$f":"IF(A17=0,\"\",IFERROR(IF(OR(検索シート!$F$5=\"\",検索シート!$F$5=\"（指定なし）\"),1,FIND(ASC(検索シート!$F$5),ASC(全国版!D17)))+FIND(ASC(検索シート!$F$6),ASC(全国版!E17))+FIND(ASC(検索シート!$F$7),ASC(全国版!F17)),\"\"))","v":3},{"$f":"IF(B17=\"\",\"-\",COUNT(B$4:$B17))","v":14},"北海道","専門学校日本福祉看護・診療放射線学院","医療専門課程　診療放射線学科","2010-02-26","～","2019-03-31","2010-02-26","廃止",null,null,"2019-03-31","2020-02-29"]
[{"$f":"IF(OR(検索シート!$F$9=\"\",検索シート!$F$9=\"（指定なし）\",検索シート!$F$9=全国版!K18,AND(検索シート!$F$9=\"変更等なし\",全国版!K18=\"\")),1,0)","v":1},{"$f":"IF(A18=0,\"\",IFERROR(IF(OR(検索シート!$F$5=\"\",検索シート!$F$5=\"（指定なし）\"),1,FIND(ASC(検索シート!$F$5),ASC(全国版!D18)))+FIND(ASC(検索シート!$F$6),ASC(全国版!E18))+FIND(ASC(検索シート!$F$7),ASC(全国版!F18)),\"\"))","v":3},{"$f":"IF(B18=\"\",\"-\",COUNT(B$4:$B18))","v":15},"北海道","専門学校日本福祉看護学院","医療専門課程　看護学科","2005-12-09","～","2009-03-31","2005-12-09","名称変更","専門学校日本福祉看護・診療放射線学院","医療専門課程　看護学科","2009-04-01","2010-02-26"]
[{"$f":"IF(OR(検索シート!$F$9=\"\",検索シート!$F$9=\"（指定なし）\",検索シート!$F$9=全国版!K19,AND(検索シート!$F$9=\"変更等なし\",全国版!K19=\"\")),1,0)","v":1},{"$f":"IF(A19=0,\"\",IFERROR(IF(OR(検索シート!$F$5=\"\",検索シート!$F$5=\"（指定なし）\"),1,FIND(ASC(検索シート!$F$5),ASC(全国版!D19)))+FIND(ASC(検索シート!$F$6),ASC(全国版!E19))+FIND(ASC(検索シート!$F$7),ASC(全国版!F19)),\"\"))","v":3},{"$f":"IF(B19=\"\",\"-\",COUNT(B$4:$B19))","v":16},"北海道","専門学校日本福祉リハビリテーション学院","医療専門課程　言語聴覚学科","2007-02-28","～",null,"2007-02-28"]
[{"$f":"IF(OR(検索シート!$F$9=\"\",検索シート!$F$9=\"（指定なし）\",検索シート!$F$9=全国版!K20,AND(検索シート!$F$9=\"変更等なし\",全国版!K20=\"\")),1,0)","v":1},{"$f":"IF(A20=0,\"\",IFERROR(IF(OR(検索シート!$F$5=\"\",検索シート!$F$5=\"（指定なし）\"),1,FIND(ASC(検索シート!$F$5),ASC(全国版!D20)))+FIND(ASC(検索シート!$F$6),ASC(全国版!E20))+FIND(ASC(検索シート!$F$7),ASC(全国版!F20)),\"\"))","v":3},{"$f":"IF(B20=\"\",\"-\",COUNT(B$4:$B20))","v":17},"北海道","専門学校日本福祉リハビリテーション学院","医療専門課程　作業療法学科","2005-12-09","～",null,"2005-12-09"]
[{"$f":"IF(OR(検索シート!$F$9=\"\",検索シート!$F$9=\"（指定なし）\",検索シート!$F$9=全国版!K21,AND(検索シート!$F$9=\"変更等なし\",全国版!K21=\"\")),1,0)","v":1},{"$f":"IF(A21=0,\"\",IFERROR(IF(OR(検索シート!$F$5=\"\",検索シート!$F$5=\"（指定なし）\"),1,FIND(ASC(検索シート!$F$5),ASC(全国版!D21)))+FIND(ASC(検索シート!$F$6),ASC(全国版!E21))+FIND(ASC(検索シート!$F$7),ASC(全国版!F21)),\"\"))","v":3},{"$f":"IF(B21=\"\",\"-\",COUNT(B$4:$B21))","v":18},"北海道","専門学校日本福祉リハビリテーション学院","医療専門課程　診療放射線学科","2007-02-28","～","2009-03-31","2007-02-28","廃止",null,null,"2009-03-31","2010-02-26"]
[{"$f":"IF(OR(検索シート!$F$9=\"\",検索シート!$F$9=\"（指定なし）\",検索シート!$F$9=全国版!K22,AND(検索シート!$F$9=\"変更等なし\",全国版!K22=\"\")),1,0)","v":1},{"$f":"IF(A22=0,\"\",IFERROR(IF(OR(検索シート!$F$5=\"\",検索シート!$F$5=\"（指定なし）\"),1,FIND(ASC(検索シート!$F$5),ASC(全国版!D22)))+FIND(ASC(検索シート!$F$6),ASC(全国版!E22))+FIND(ASC(検索シート!$F$7),ASC(全国版!F22)),\"\"))","v":3},{"$f":"IF(B22=\"\",\"-\",COUNT(B$4:$B22))","v":19},"北海道","専門学校日本福祉リハビリテーション学院","医療専門課程　理学療法学科","2005-12-09","～",null,"2005-12-09"]
[{"$f":"IF(OR(検索シート!$F$9=\"\",検索シート!$F$9=\"（指定なし）\",検索シート!$F$9=全国版!K23,AND(検索シート!$F$9=\"変更等なし\",全国版!K23=\"\")),1,0)","v":1},{"$f":"IF(A23=0,\"\",IFERROR(IF(OR(検索シート!$F$5=\"\",検索シート!$F$5=\"（指定なし）\"),1,FIND(ASC(検索シート!$F$5),ASC(全国版!D23)))+FIND(ASC(検索シート!$F$6),ASC(全国版!E23))+FIND(ASC(検索シート!$F$7),ASC(全国版!F23)),\"\"))","v":3},{"$f":"IF(B23=\"\",\"-\",COUNT(B$4:$B23))","v":20},"北海道","専門学校北海道自動車整備大学校","工業専門課程　一級自動車整備学科","2006-06-30","～",null,"2006-06-30"]
[{"$f":"IF(OR(検索シート!$F$9=\"\",検索シート!$F$9=\"（指定なし）\",検索シート!$F$9=全国版!K24,AND(検索シート!$F$9=\"変更等なし\",全国版!K24=\"\")),1,0)","v":1},{"$f":"IF(A24=0,\"\",IFERROR(IF(OR(検索シート!$F$5=\"\",検索シート!$F$5=\"（指定なし）\"),1,FIND(ASC(検索シート!$F$5),ASC(全国版!D24)))+FIND(ASC(検索シート!$F$6),ASC(全国版!E24))+FIND(ASC(検索シート!$F$7),ASC(全国版!F24)),\"\"))","v":3},{"$f":"IF(B24=\"\",\"-\",COUNT(B$4:$B24))","v":21},"北海道","専門学校北海道体育大学校","文化・教養専門課程　スポーツ未来学科","2008-02-29","～","2017-03-31","2008-02-29","名称変更","北海道スポーツ専門学校","文化・教養専門課程　スポーツ未来学科","2017-04-01","2018-02-28"]
[{"$f":"IF(OR(検索シート!$F$9=\"\",検索シート!$F$9=\"（指定なし）\",検索シート!$F$9=全国版!K25,AND(検索シート!$F$9=\"変更等なし\",全国版!K25=\"\")),1,0)","v":1},{"$f":"IF(A25=0,\"\",IFERROR(IF(OR(検索シート!$F$5=\"\",検索シート!$F$5=\"（指定なし）\"),1,FIND(ASC(検索シート!$F$5),ASC(全国版!D25)))+FIND(ASC(検索シート!$F$6),ASC(全国版!E25))+FIND(ASC(検索シート!$F$7),ASC(全国版!F25)),\"\"))","v":3},{"$f":"IF(B25=\"\",\"-\",COUNT(B$4:$B25))","v":22},"北海道","専門学校北海道福祉・保育大学校","教育・社会福祉専門課程　社会福祉学科","2019-04-01","～",null,"2020-02-29"]
[{"$f":"IF(OR(検索シート!$F$9=\"\",検索シート!$F$9=\"（指定なし）\",検索シート!$F$9=全国版!K26,AND(検索シート!$F$9=\"変更等なし\",全国版!K26=\"\")),1,0)","v":1},{"$f":"IF(A26=0,\"\",IFERROR(IF(OR(検索シート!$F$5=\"\",検索シート!$F$5=\"（指定なし）\"),1,FIND(ASC(検索シート!$F$5),ASC(全国版!D26)))+FIND(ASC(検索シート!$F$6),ASC(全国版!E26))+FIND(ASC(検索シート!$F$7),ASC(全国版!F26)),\"\"))","v":3},{"$f":"IF(B26=\"\",\"-\",COUNT(B$4:$B26))","v":23},"北海道","専門学校北海道福祉大学校","教育・社会福祉専門課程　社会福祉学科","2009-02-27","～","2019-03-31","2009-02-27","名称変更","専門学校北海道福祉・保育大学校","教育・社会福祉専門課程　社会福祉学科","2019-04-01","2020-02-29"]
[{"$f":"IF(OR(検索シート!$F$9=\"\",検索シート!$F$9=\"（指定なし）\",検索シート!$F$9=全国版!K27,AND(検索シート!$F$9=\"変更等なし\",全国版!K27=\"\")),1,0)","v":1},{"$f":"IF(A27=0,\"\",IFERROR(IF(OR(検索シート!$F$5=\"\",検索シート!$F$5=\"（指定なし）\"),1,FIND(ASC(検索シート!$F$5),ASC(全国版!D27)))+FIND(ASC(検索シート!$F$6),ASC(全国版!E27))+FIND(ASC(検索シート!$F$7),ASC(全国版!F27)),\"\"))","v":3},{"$f":"IF(B27=\"\",\"-\",COUNT(B$4:$B27))","v":24},"北海道","専門学校北海道保健看護大学校","医療専門課程　保健看護学科","2006-04-01","～","2016-03-31","2007-02-28","廃止",null,null,"2016-03-31","2018-02-28"]
[{"$f":"IF(OR(検索シート!$F$9=\"\",検索シート!$F$9=\"（指定なし）\",検索シート!$F$9=全国版!K28,AND(検索シート!$F$9=\"変更等なし\",全国版!K28=\"\")),1,0)","v":1},{"$f":"IF(A28=0,\"\",IFERROR(IF(OR(検索シート!$F$5=\"\",検索シート!$F$5=\"（指定なし）\"),1,FIND(ASC(検索シート!$F$5),ASC(全国版!D28)))+FIND(ASC(検索シート!$F$6),ASC(全国版!E28))+FIND(ASC(検索シート!$F$7),ASC(全国版!F28)),\"\"))","v":3},{"$f":"IF(B28=\"\",\"-\",COUNT(B$4:$B28))","v":25},"北海道","専門学校北海道リハビリテーション大学校","医療専門課程　作業療法学科","2006-04-01","～",null,"2007-02-28"]
[{"$f":"IF(OR(検索シート!$F$9=\"\",検索シート!$F$9=\"（指定なし）\",検索シート!$F$9=全国版!K29,AND(検索シート!$F$9=\"変更等なし\",全国版!K29=\"\")),1,0)","v":1},{"$f":"IF(A29=0,\"\",IFERROR(IF(OR(検索シート!$F$5=\"\",検索シート!$F$5=\"（指定なし）\"),1,FIND(ASC(検索シート!$F$5),ASC(全国版!D29)))+FIND(ASC(検索シート!$F$6),ASC(全国版!E29))+FIND(ASC(検索シート!$F$7),ASC(全国版!F29)),\"\"))","v":3},{"$f":"IF(B29=\"\",\"-\",COUNT(B$4:$B29))","v":26},"北海道","専門学校北海道リハビリテーション大学校","医療専門課程　理学療法学科","2006-04-01","～",null,"2007-02-28"]
[{"$f":"IF(OR(検索シート!$F$9=\"\",検索シート!$F$9=\"（指定なし）\",検索シート!$F$9=全国版!K30,AND(検索シート!$F$9=\"変更等なし\",全国版!K30=\"\")),1,0)","v":1},{"$f":"IF(A30=0,\"\",IFERROR(IF(OR(検索シート!$F$5=\"\",検索シート!$F$5=\"（指定なし）\"),1,FIND(ASC(検索シート!$F$5),ASC(全国版!D30)))+FIND(ASC(検索シート!$F$6),ASC(全国版!E30))+FIND(ASC(検索シート!$F$7),ASC(全国版!F30)),\"\"))","v":3},{"$f":"IF(B30=\"\",\"-\",COUNT(B$4:$B30))","v":27},"北海道","ディーズファッション専門学校","文化・教養専門課程　ＡＩ＆テクノロジー科","2022-03-04","～",null,"2022-03-04"]
[{"$f":"IF(OR(検索シート!$F$9=\"\",検索シート!$F$9=\"（指定なし）\",検索シート!$F$9=全国版!K31,AND(検索シート!$F$9=\"変更等なし\",全国版!K31=\"\")),1,0)","v":1},{"$f":"IF(A31=0,\"\",IFERROR(IF(OR(検索シート!$F$5=\"\",検索シート!$F$5=\"（指定なし）\"),1,FIND(ASC(検索シート!$F$5),ASC(全国版!D31)))+FIND(ASC(検索シート!$F$6),ASC(全国版!E31))+FIND(ASC(検索シート!$F$7),ASC(全国版!F31)),\"\"))","v":3},{"$f":"IF(B31=\"\",\"-\",COUNT(B$4:$B31))","v":28},"北海道","日本工学院北海道専門学校","工業専門課程　ＩＴスペシャリスト科","2022-03-04","～",null,"2022-03-04"]
[{"$f":"IF(OR(検索シート!$F$9=\"\",検索シート!$F$9=\"（指定なし）\",検索シート!$F$9=全国版!K32,AND(検索シート!$F$9=\"変更等なし\",全国版!K32=\"\")),1,0)","v":1},{"$f":"IF(A32=0,\"\",IFERROR(IF(OR(検索シート!$F$5=\"\",検索シート!$F$5=\"（指定なし）\"),1,FIND(ASC(検索シート!$F$5),ASC(全国版!D32)))+FIND(ASC(検索シート!$F$6),ASC(全国版!E32))+FIND(ASC(検索シート!$F$7),ASC(全国版!F32)),\"\"))","v":3},{"$f":"IF(B32=\"\",\"-\",COUNT(B$4:$B32))","v":29},"北海道","北都保健福祉専門学校","医療専門課程　作業療法学科","2005-12-09","～",null,"2005-12-09"]
[{"$f":"IF(OR(検索シート!$F$9=\"\",検索シート!$F$9=\"（指定なし）\",検索シート!$F$9=全国版!K33,AND(検索シート!$F$9=\"変更等なし\",全国版!K33=\"\")),1,0)","v":1},{"$f":"IF(A33=0,\"\",IFERROR(IF(OR(検索シート!$F$5=\"\",検索シート!$F$5=\"（指定なし）\"),1,FIND(ASC(検索シート!$F$5),ASC(全国版!D33)))+FIND(ASC(検索シート!$F$6),ASC(全国版!E33))+FIND(ASC(検索シート!$F$7),ASC(全国版!F33)),\"\"))","v":3},{"$f":"IF(B33=\"\",\"-\",COUNT(B$4:$B33))","v":30},"北海道","北都保健福祉専門学校","医療専門課程　理学療法学科","2005-12-09","～",null,"2005-12-09"]
[{"$f":"IF(OR(検索シート!$F$9=\"\",検索シート!$F$9=\"（指定なし）\",検索シート!$F$9=全国版!K34,AND(検索シート!$F$9=\"変更等なし\",全国版!K34=\"\")),1,0)","v":1},{"$f":"IF(A34=0,\"\",IFERROR(IF(OR(検索シート!$F$5=\"\",検索シート!$F$5=\"（指定なし）\"),1,FIND(ASC(検索シート!$F$5),ASC(全国版!D34)))+FIND(ASC(検索シート!$F$6),ASC(全国版!E34))+FIND(ASC(検索シート!$F$7),ASC(全国版!F34)),\"\"))","v":3},{"$f":"IF(B34=\"\",\"-\",COUNT(B$4:$B34))","v":31},"北海道","北都保健福祉専門学校","教育・社会福祉専門課程　社会福祉学科","2011-12-22","～","2012-03-31","2011-12-22","廃止",null,null,"2012-03-31","2013-01-29"]
[{"$f":"IF(OR(検索シート!$F$9=\"\",検索シート!$F$9=\"（指定なし）\",検索シート!$F$9=全国版!K35,AND(検索シート!$F$9=\"変更等なし\",全国版!K35=\"\")),1,0)","v":1},{"$f":"IF(A35=0,\"\",IFERROR(IF(OR(検索シート!$F$5=\"\",検索シート!$F$5=\"（指定なし）\"),1,FIND(ASC(検索シート!$F$5),ASC(全国版!D35)))+FIND(ASC(検索シート!$F$6),ASC(全国版!E35))+FIND(ASC(検索シート!$F$7),ASC(全国版!F35)),\"\"))","v":3},{"$f":"IF(B35=\"\",\"-\",COUNT(B$4:$B35))","v":32},"北海道","北海道エコ・動物自然専門学校","商業実務専門課程　動物医療飼育学科","2024-01-17",null,null,"2024-01-17"]
[{"$f":"IF(OR(検索シート!$F$9=\"\",検索シート!$F$9=\"（指定なし）\",検索シート!$F$9=全国版!K36,AND(検索シート!$F$9=\"変更等なし\",全国版!K36=\"\")),1,0)","v":1},{"$f":"IF(A36=0,\"\",IFERROR(IF(OR(検索シート!$F$5=\"\",検索シート!$F$5=\"（指定なし）\"),1,FIND(ASC(検索シート!$F$5),ASC(全国版!D36)))+FIND(ASC(検索シート!$F$6),ASC(全国版!E36))+FIND(ASC(検索シート!$F$7),ASC(全国版!F36)),\"\"))","v":3},{"$f":"IF(B36=\"\",\"-\",COUNT(B$4:$B36))","v":33},"北海道","北海道情報専門学校","工業専門課程　情報大学併学科","2010-04-01","～","2018-03-31","2010-11-29","名称変更","北海道情報専門学校","工業専門課程　大学併修科","2018-04-01","2022-03-04"]
[{"$f":"IF(OR(検索シート!$F$9=\"\",検索シート!$F$9=\"（指定なし）\",検索シート!$F$9=全国版!K37,AND(検索シート!$F$9=\"変更等なし\",全国版!K37=\"\")),1,0)","v":1},{"$f":"IF(A37=0,\"\",IFERROR(IF(OR(検索シート!$F$5=\"\",検索シート!$F$5=\"（指定なし）\"),1,FIND(ASC(検索シート!$F$5),ASC(全国版!D37)))+FIND(ASC(検索シート!$F$6),ASC(全国版!E37))+FIND(ASC(検索シート!$F$7),ASC(全国版!F37)),\"\"))","v":3},{"$f":"IF(B37=\"\",\"-\",COUNT(B$4:$B37))","v":34},"北海道","北海道情報専門学校","工業専門課程　大学併修科","2018-04-01","～",null,"2022-03-04"]
[{"$f":"IF(OR(検索シート!$F$9=\"\",検索シート!$F$9=\"（指定なし）\",検索シート!$F$9=全国版!K38,AND(検索シート!$F$9=\"変更等なし\",全国版!K38=\"\")),1,0)","v":1},{"$f":"IF(A38=0,\"\",IFERROR(IF(OR(検索シート!$F$5=\"\",検索シート!$F$5=\"（指定なし）\"),1,FIND(ASC(検索シート!$F$5),ASC(全国版!D38)))+FIND(ASC(検索シート!$F$6),ASC(全国版!E38))+FIND(ASC(検索シート!$F$7),ASC(全国版!F38)),\"\"))","v":3},{"$f":"IF(B38=\"\",\"-\",COUNT(B$4:$B38))","v":35},"北海道","北海道情報専門学校","工業専門課程　情報システム研究科","2005-12-09","～","2010-03-31","2005-12-09","名称変更","北海道情報専門学校","工業専門課程　情報大学併学科","2010-04-01","2010-11-29"]
[{"$f":"IF(OR(検索シート!$F$9=\"\",検索シート!$F$9=\"（指定なし）\",検索シート!$F$9=全国版!K39,AND(検索シート!$F$9=\"変更等なし\",全国版!K39=\"\")),1,0)","v":1},{"$f":"IF(A39=0,\"\",IFERROR(IF(OR(検索シート!$F$5=\"\",検索シート!$F$5=\"（指定なし）\"),1,FIND(ASC(検索シート!$F$5),ASC(全国版!D39)))+FIND(ASC(検索シート!$F$6),ASC(全国版!E39))+FIND(ASC(検索シート!$F$7),ASC(全国版!F39)),\"\"))","v":3},{"$f":"IF(B39=\"\",\"-\",COUNT(B$4:$B39))","v":36},"北海道","北海道スポーツ専門学校","文化・教養専門課程　スポーツ未来学科","2017-04-01","～","2021-03-31","2018-02-28","廃止",null,null,"2021-03-31","2022-03-04"]
[{"$f":"IF(OR(検索シート!$F$9=\"\",検索シート!$F$9=\"（指定なし）\",検索シート!$F$9=全国版!K40,AND(検索シート!$F$9=\"変更等なし\",全国版!K40=\"\")),1,0)","v":1},{"$f":"IF(A40=0,\"\",IFERROR(IF(OR(検索シート!$F$5=\"\",検索シート!$F$5=\"（指定なし）\"),1,FIND(ASC(検索シート!$F$5),ASC(全国版!D40)))+FIND(ASC(検索シート!$F$6),ASC(全国版!E40))+FIND(ASC(検索シート!$F$7),ASC(全国版!F40)),\"\"))","v":3},{"$f":"IF(B40=\"\",\"-\",COUNT(B$4:$B40))","v":37},"北海道","北海道ハイテクノロジー専門学校","医療専門課程　バイオテクノロジー科（４年制）","2009-02-27","～","2009-03-31","2009-02-27","名称変更","北海道ハイテクノロジー専門学校","医療専門課程　バイオテクノロジー学科（４年制）","2009-04-01","2010-02-26"]
[{"$f":"IF(OR(検索シート!$F$9=\"\",検索シート!$F$9=\"（指定なし）\",検索シート!$F$9=全国版!K41,AND(検索シート!$F$9=\"変更等なし\",全国版!K41=\"\")),1,0)","v":1},{"$f":"IF(A41=0,\"\",IFERROR(IF(OR(検索シート!$F$5=\"\",検索シート!$F$5=\"（指定なし）\"),1,FIND(ASC(検索シート!$F$5),ASC(全国版!D41)))+FIND(ASC(検索シート!$F$6),ASC(全国版!E41))+FIND(ASC(検索シート!$F$7),ASC(全国版!F41)),\"\"))","v":3},{"$f":"IF(B41=\"\",\"-\",COUNT(B$4:$B41))","v":38},"北海道","北海道ハイテクノロジー専門学校","医療専門課程　バイオテクノロジー学科（４年制）","2009-04-01","～","2017-03-31","2010-02-26","廃止",null,null,"2017-03-31","2018-02-28"]
[{"$f":"IF(OR(検索シート!$F$9=\"\",検索シート!$F$9=\"（指定なし）\",検索シート!$F$9=全国版!K42,AND(検索シート!$F$9=\"変更等なし\",全国版!K42=\"\")),1,0)","v":1},{"$f":"IF(A42=0,\"\",IFERROR(IF(OR(検索シート!$F$5=\"\",検索シート!$F$5=\"（指定なし）\"),1,FIND(ASC(検索シート!$F$5),ASC(全国版!D42)))+FIND(ASC(検索シート!$F$6),ASC(全国版!E42))+FIND(ASC(検索シート!$F$7),ASC(全国版!F42)),\"\"))","v":3},{"$f":"IF(B42=\"\",\"-\",COUNT(B$4:$B42))","v":39},"北海道","吉田学園保健看護専門学校","医療専門課程　保健看護学科","2005-12-09","～","2006-03-31","2005-12-09","名称変更","専門学校北海道保健看護大学校","医療専門課程　保健看護学科","2006-04-01","2007-02-28"]
[{"$f":"IF(OR(検索シート!$F$9=\"\",検索シート!$F$9=\"（指定なし）\",検索シート!$F$9=全国版!K43,AND(検索シート!$F$9=\"変更等なし\",全国版!K43=\"\")),1,0)","v":1},{"$f":"IF(A43=0,\"\",IFERROR(IF(OR(検索シート!$F$5=\"\",検索シート!$F$5=\"（指定なし）\"),1,FIND(ASC(検索シート!$F$5),ASC(全国版!D43)))+FIND(ASC(検索シート!$F$6),ASC(全国版!E43))+FIND(ASC(検索シート!$F$7),ASC(全国版!F43)),\"\"))","v":3},{"$f":"IF(B43=\"\",\"-\",COUNT(B$4:$B43))","v":40},"北海道","吉田学園リハビリテーション専門学校","医療専門課程　作業療法学科","2005-12-09","～","2006-03-31","2005-12-09","名称変更","専門学校北海道リハビリテーション大学校","医療専門課程　作業療法学科","2006-04-01","2007-02-28"]
[{"$f":"IF(OR(検索シート!$F$9=\"\",検索シート!$F$9=\"（指定なし）\",検索シート!$F$9=全国版!K44,AND(検索シート!$F$9=\"変更等なし\",全国版!K44=\"\")),1,0)","v":1},{"$f":"IF(A44=0,\"\",IFERROR(IF(OR(検索シート!$F$5=\"\",検索シート!$F$5=\"（指定なし）\"),1,FIND(ASC(検索シート!$F$5),ASC(全国版!D44)))+FIND(ASC(検索シート!$F$6),ASC(全国版!E44))+FIND(ASC(検索シート!$F$7),ASC(全国版!F44)),\"\"))","v":3},{"$f":"IF(B44=\"\",\"-\",COUNT(B$4:$B44))","v":41},"北海道","吉田学園リハビリテーション専門学校","医療専門課程　理学療法学科","2005-12-09","～","2006-03-31","2005-12-09","名称変更","専門学校北海道リハビリテーション大学校","医療専門課程　理学療法学科","2006-04-01","2007-02-28"]
[{"$f":"IF(OR(検索シート!$F$9=\"\",検索シート!$F$9=\"（指定なし）\",検索シート!$F$9=全国版!K45,AND(検索シート!$F$9=\"変更等なし\",全国版!K45=\"\")),1,0)","v":1},{"$f":"IF(A45=0,\"\",IFERROR(IF(OR(検索シート!$F$5=\"\",検索シート!$F$5=\"（指定なし）\"),1,FIND(ASC(検索シート!$F$5),ASC(全国版!D45)))+FIND(ASC(検索シート!$F$6),ASC(全国版!E45))+FIND(ASC(検索シート!$F$7),ASC(全国版!F45)),\"\"))","v":3},{"$f":"IF(B45=\"\",\"-\",COUNT(B$4:$B45))","v":42},"青森県","東北メディカル学院","医療専門課程　作業療法学科","2006-06-30","～",null,"2006-06-30"]
[{"$f":"IF(OR(検索シート!$F$9=\"\",検索シート!$F$9=\"（指定なし）\",検索シート!$F$9=全国版!K46,AND(検索シート!$F$9=\"変更等なし\",全国版!K46=\"\")),1,0)","v":1},{"$f":"IF(A46=0,\"\",IFERROR(IF(OR(検索シート!$F$5=\"\",検索シート!$F$5=\"（指定なし）\"),1,FIND(ASC(検索シート!$F$5),ASC(全国版!D46)))+FIND(ASC(検索シート!$F$6),ASC(全国版!E46))+FIND(ASC(検索シート!$F$7),ASC(全国版!F46)),\"\"))","v":3},{"$f":"IF(B46=\"\",\"-\",COUNT(B$4:$B46))","v":43},"青森県","東北メディカル学院","医療専門課程　理学療法学科","2006-06-30","～",null,"2006-06-30"]
[{"$f":"IF(OR(検索シート!$F$9=\"\",検索シート!$F$9=\"（指定なし）\",検索シート!$F$9=全国版!K47,AND(検索シート!$F$9=\"変更等なし\",全国版!K47=\"\")),1,0)","v":1},{"$f":"IF(A47=0,\"\",IFERROR(IF(OR(検索シート!$F$5=\"\",検索シート!$F$5=\"（指定なし）\"),1,FIND(ASC(検索シート!$F$5),ASC(全国版!D47)))+FIND(ASC(検索シート!$F$6),ASC(全国版!E47))+FIND(ASC(検索シート!$F$7),ASC(全国版!F47)),\"\"))","v":3},{"$f":"IF(B47=\"\",\"-\",COUNT(B$4:$B47))","v":44},"岩手県","岩手リハビリテーション学院","医療専門課程　作業療法学科","2024-01-17",null,null,"2024-01-17"]
[{"$f":"IF(OR(検索シート!$F$9=\"\",検索シート!$F$9=\"（指定なし）\",検索シート!$F$9=全国版!K48,AND(検索シート!$F$9=\"変更等なし\",全国版!K48=\"\")),1,0)","v":1},{"$f":"IF(A48=0,\"\",IFERROR(IF(OR(検索シート!$F$5=\"\",検索シート!$F$5=\"（指定なし）\"),1,FIND(ASC(検索シート!$F$5),ASC(全国版!D48)))+FIND(ASC(検索シート!$F$6),ASC(全国版!E48))+FIND(ASC(検索シート!$F$7),ASC(全国版!F48)),\"\"))","v":3},{"$f":"IF(B48=\"\",\"-\",COUNT(B$4:$B48))","v":45},"岩手県","岩手リハビリテーション学院","医療専門課程　理学療法学科","2024-01-17",null,null,"2024-01-17"]
[{"$f":"IF(OR(検索シート!$F$9=\"\",検索シート!$F$9=\"（指定なし）\",検索シート!$F$9=全国版!K49,AND(検索シート!$F$9=\"変更等なし\",全国版!K49=\"\")),1,0)","v":1},{"$f":"IF(A49=0,\"\",IFERROR(IF(OR(検索シート!$F$5=\"\",検索シート!$F$5=\"（指定なし）\"),1,FIND(ASC(検索シート!$F$5),ASC(全国版!D49)))+FIND(ASC(検索シート!$F$6),ASC(全国版!E49))+FIND(ASC(検索シート!$F$7),ASC(全国版!F49)),\"\"))","v":3},{"$f":"IF(B49=\"\",\"-\",COUNT(B$4:$B49))","v":46},"岩手県","盛岡医療福祉スポーツ専門学校","教育・社会福祉専門課程　心理福祉学科","2020-04-01","～",null,"2021-02-24"]
[{"$f":"IF(OR(検索シート!$F$9=\"\",検索シート!$F$9=\"（指定なし）\",検索シート!$F$9=全国版!K50,AND(検索シート!$F$9=\"変更等なし\",全国版!K50=\"\")),1,0)","v":1},{"$f":"IF(A50=0,\"\",IFERROR(IF(OR(検索シート!$F$5=\"\",検索シート!$F$5=\"（指定なし）\"),1,FIND(ASC(検索シート!$F$5),ASC(全国版!D50)))+FIND(ASC(検索シート!$F$6),ASC(全国版!E50))+FIND(ASC(検索シート!$F$7),ASC(全国版!F50)),\"\"))","v":3},{"$f":"IF(B50=\"\",\"-\",COUNT(B$4:$B50))","v":47},"岩手県","盛岡医療福祉専門学校","教育・社会福祉専門課程　心理福祉学科","2010-11-29","～","2020-03-31","2010-11-29","名称変更","盛岡医療福祉スポーツ専門学校","教育・社会福祉専門課程　心理福祉学科","2020-04-01","2021-02-24"]
[{"$f":"IF(OR(検索シート!$F$9=\"\",検索シート!$F$9=\"（指定なし）\",検索シート!$F$9=全国版!K51,AND(検索シート!$F$9=\"変更等なし\",全国版!K51=\"\")),1,0)","v":1},{"$f":"IF(A51=0,\"\",IFERROR(IF(OR(検索シート!$F$5=\"\",検索シート!$F$5=\"（指定なし）\"),1,FIND(ASC(検索シート!$F$5),ASC(全国版!D51)))+FIND(ASC(検索シート!$F$6),ASC(全国版!E51))+FIND(ASC(検索シート!$F$7),ASC(全国版!F51)),\"\"))","v":3},{"$f":"IF(B51=\"\",\"-\",COUNT(B$4:$B51))","v":48},"岩手県","盛岡情報ビジネス＆デザイン専門学校","工業専門課程　ＩＴエキスパート科","2020-04-01","～","2021-03-31","2021-02-24","名称変更","盛岡情報ビジネス＆デザイン専門学校","工業専門課程　高度情報工学科","2021-04-01","2022-03-04"]
[{"$f":"IF(OR(検索シート!$F$9=\"\",検索シート!$F$9=\"（指定なし）\",検索シート!$F$9=全国版!K52,AND(検索シート!$F$9=\"変更等なし\",全国版!K52=\"\")),1,0)","v":1},{"$f":"IF(A52=0,\"\",IFERROR(IF(OR(検索シート!$F$5=\"\",検索シート!$F$5=\"（指定なし）\"),1,FIND(ASC(検索シート!$F$5),ASC(全国版!D52)))+FIND(ASC(検索シート!$F$6),ASC(全国版!E52))+FIND(ASC(検索シート!$F$7),ASC(全国版!F52)),\"\"))","v":3},{"$f":"IF(B52=\"\",\"-\",COUNT(B$4:$B52))","v":49},"岩手県","盛岡情報ビジネス＆デザイン専門学校","工業専門課程　高度情報工学科","2021-04-01","～",null,"2022-03-04"]
[{"$f":"IF(OR(検索シート!$F$9=\"\",検索シート!$F$9=\"（指定なし）\",検索シート!$F$9=全国版!K53,AND(検索シート!$F$9=\"変更等なし\",全国版!K53=\"\")),1,0)","v":1},{"$f":"IF(A53=0,\"\",IFERROR(IF(OR(検索シート!$F$5=\"\",検索シート!$F$5=\"（指定なし）\"),1,FIND(ASC(検索シート!$F$5),ASC(全国版!D53)))+FIND(ASC(検索シート!$F$6),ASC(全国版!E53))+FIND(ASC(検索シート!$F$7),ASC(全国版!F53)),\"\"))","v":3},{"$f":"IF(B53=\"\",\"-\",COUNT(B$4:$B53))","v":50},"岩手県","盛岡情報ビジネス専門学校","工業専門課程　ＩＴエキスパート科","2010-02-26","～","2020-03-31","2010-02-26","名称変更","盛岡情報ビジネス＆デザイン専門学校","工業専門課程　ＩＴエキスパート科","2020-04-01","2021-02-24"]
[{"$f":"IF(OR(検索シート!$F$9=\"\",検索シート!$F$9=\"（指定なし）\",検索シート!$F$9=全国版!K54,AND(検索シート!$F$9=\"変更等なし\",全国版!K54=\"\")),1,0)","v":1},{"$f":"IF(A54=0,\"\",IFERROR(IF(OR(検索シート!$F$5=\"\",検索シート!$F$5=\"（指定なし）\"),1,FIND(ASC(検索シート!$F$5),ASC(全国版!D54)))+FIND(ASC(検索シート!$F$6),ASC(全国版!E54))+FIND(ASC(検索シート!$F$7),ASC(全国版!F54)),\"\"))","v":3},{"$f":"IF(B54=\"\",\"-\",COUNT(B$4:$B54))","v":51},"宮城県","仙台医健・スポーツ＆こども専門学校","医療専門課程　理学療法科Ⅰ部","2018-04-01","～","2021-03-31","2019-01-25","名称変更","仙台医健・スポーツ専門学校","医療専門課程　理学療法科Ⅰ部","2021-04-01","2022-03-04"]
[{"$f":"IF(OR(検索シート!$F$9=\"\",検索シート!$F$9=\"（指定なし）\",検索シート!$F$9=全国版!K55,AND(検索シート!$F$9=\"変更等なし\",全国版!K55=\"\")),1,0)","v":1},{"$f":"IF(A55=0,\"\",IFERROR(IF(OR(検索シート!$F$5=\"\",検索シート!$F$5=\"（指定なし）\"),1,FIND(ASC(検索シート!$F$5),ASC(全国版!D55)))+FIND(ASC(検索シート!$F$6),ASC(全国版!E55))+FIND(ASC(検索シート!$F$7),ASC(全国版!F55)),\"\"))","v":3},{"$f":"IF(B55=\"\",\"-\",COUNT(B$4:$B55))","v":52},"宮城県","仙台医健・スポーツ＆こども専門学校","医療専門課程　理学療法科Ⅱ部","2018-04-01","～","2021-03-31","2019-01-25","廃止",null,null,"2021-03-31","2022-03-04"]
[{"$f":"IF(OR(検索シート!$F$9=\"\",検索シート!$F$9=\"（指定なし）\",検索シート!$F$9=全国版!K56,AND(検索シート!$F$9=\"変更等なし\",全国版!K56=\"\")),1,0)","v":1},{"$f":"IF(A56=0,\"\",IFERROR(IF(OR(検索シート!$F$5=\"\",検索シート!$F$5=\"（指定なし）\"),1,FIND(ASC(検索シート!$F$5),ASC(全国版!D56)))+FIND(ASC(検索シート!$F$6),ASC(全国版!E56))+FIND(ASC(検索シート!$F$7),ASC(全国版!F56)),\"\"))","v":3},{"$f":"IF(B56=\"\",\"-\",COUNT(B$4:$B56))","v":53},"宮城県","仙台医健・スポーツ専門学校","医療専門課程　理学療法科Ⅰ部","2021-04-01","～",null,"2022-03-04"]
[{"$f":"IF(OR(検索シート!$F$9=\"\",検索シート!$F$9=\"（指定なし）\",検索シート!$F$9=全国版!K57,AND(検索シート!$F$9=\"変更等なし\",全国版!K57=\"\")),1,0)","v":1},{"$f":"IF(A57=0,\"\",IFERROR(IF(OR(検索シート!$F$5=\"\",検索シート!$F$5=\"（指定なし）\"),1,FIND(ASC(検索シート!$F$5),ASC(全国版!D57)))+FIND(ASC(検索シート!$F$6),ASC(全国版!E57))+FIND(ASC(検索シート!$F$7),ASC(全国版!F57)),\"\"))","v":3},{"$f":"IF(B57=\"\",\"-\",COUNT(B$4:$B57))","v":54},"宮城県","仙台医健専門学校","医療専門課程　理学療法科Ⅰ部","2010-11-29","～","2018-03-31","2010-11-29","名称変更","仙台医健・スポーツ＆こども専門学校","医療専門課程　理学療法科Ⅰ部","2018-04-01","2019-01-25"]
[{"$f":"IF(OR(検索シート!$F$9=\"\",検索シート!$F$9=\"（指定なし）\",検索シート!$F$9=全国版!K58,AND(検索シート!$F$9=\"変更等なし\",全国版!K58=\"\")),1,0)","v":1},{"$f":"IF(A58=0,\"\",IFERROR(IF(OR(検索シート!$F$5=\"\",検索シート!$F$5=\"（指定なし）\"),1,FIND(ASC(検索シート!$F$5),ASC(全国版!D58)))+FIND(ASC(検索シート!$F$6),ASC(全国版!E58))+FIND(ASC(検索シート!$F$7),ASC(全国版!F58)),\"\"))","v":3},{"$f":"IF(B58=\"\",\"-\",COUNT(B$4:$B58))","v":55},"宮城県","仙台医健専門学校","医療専門課程　理学療法科Ⅱ部","2010-11-29","～","2018-03-31","2010-11-29","名称変更","仙台医健・スポーツ＆こども専門学校","医療専門課程　理学療法科Ⅱ部","2018-04-01","2019-01-25"]
[{"$f":"IF(OR(検索シート!$F$9=\"\",検索シート!$F$9=\"（指定なし）\",検索シート!$F$9=全国版!K59,AND(検索シート!$F$9=\"変更等なし\",全国版!K59=\"\")),1,0)","v":1},{"$f":"IF(A59=0,\"\",IFERROR(IF(OR(検索シート!$F$5=\"\",検索シート!$F$5=\"（指定なし）\"),1,FIND(ASC(検索シート!$F$5),ASC(全国版!D59)))+FIND(ASC(検索シート!$F$6),ASC(全国版!E59))+FIND(ASC(検索シート!$F$7),ASC(全国版!F59)),\"\"))","v":3},{"$f":"IF(B59=\"\",\"-\",COUNT(B$4:$B59))","v":56},"宮城県","仙台医療技術専門学校","医療専門課程　理学療法学科Ⅱ部","2005-12-09","～","2007-02-27","2005-12-09","不適合",null,null,"2007-02-28","2007-02-28"]
[{"$f":"IF(OR(検索シート!$F$9=\"\",検索シート!$F$9=\"（指定なし）\",検索シート!$F$9=全国版!K60,AND(検索シート!$F$9=\"変更等なし\",全国版!K60=\"\")),1,0)","v":1},{"$f":"IF(A60=0,\"\",IFERROR(IF(OR(検索シート!$F$5=\"\",検索シート!$F$5=\"（指定なし）\"),1,FIND(ASC(検索シート!$F$5),ASC(全国版!D60)))+FIND(ASC(検索シート!$F$6),ASC(全国版!E60))+FIND(ASC(検索シート!$F$7),ASC(全国版!F60)),\"\"))","v":3},{"$f":"IF(B60=\"\",\"-\",COUNT(B$4:$B60))","v":57},"宮城県","仙台大原簿記公務員専門学校","商業実務専門課程　税理士会計学科（４年課程）","2010-02-26","～","2011-03-31","2010-02-26","名称変更","仙台大原簿記情報公務員専門学校","商業実務専門課程　税理士会計士学科（４年課程）","2011-04-01","2011-12-22"]
[{"$f":"IF(OR(検索シート!$F$9=\"\",検索シート!$F$9=\"（指定なし）\",検索シート!$F$9=全国版!K61,AND(検索シート!$F$9=\"変更等なし\",全国版!K61=\"\")),1,0)","v":1},{"$f":"IF(A61=0,\"\",IFERROR(IF(OR(検索シート!$F$5=\"\",検索シート!$F$5=\"（指定なし）\"),1,FIND(ASC(検索シート!$F$5),ASC(全国版!D61)))+FIND(ASC(検索シート!$F$6),ASC(全国版!E61))+FIND(ASC(検索シート!$F$7),ASC(全国版!F61)),\"\"))","v":3},{"$f":"IF(B61=\"\",\"-\",COUNT(B$4:$B61))","v":58},"宮城県","仙台大原簿記情報公務員専門学校","商業実務専門課程　情報システム学科（４年課程）","2019-01-25","～",null,"2019-01-25"]
[{"$f":"IF(OR(検索シート!$F$9=\"\",検索シート!$F$9=\"（指定なし）\",検索シート!$F$9=全国版!K62,AND(検索シート!$F$9=\"変更等なし\",全国版!K62=\"\")),1,0)","v":1},{"$f":"IF(A62=0,\"\",IFERROR(IF(OR(検索シート!$F$5=\"\",検索シート!$F$5=\"（指定なし）\"),1,FIND(ASC(検索シート!$F$5),ASC(全国版!D62)))+FIND(ASC(検索シート!$F$6),ASC(全国版!E62))+FIND(ASC(検索シート!$F$7),ASC(全国版!F62)),\"\"))","v":3},{"$f":"IF(B62=\"\",\"-\",COUNT(B$4:$B62))","v":59},"宮城県","仙台大原簿記情報公務員専門学校","商業実務専門課程　税理士会計士学科（４年課程）","2011-04-01","～",null,"2011-12-22"]
[{"$f":"IF(OR(検索シート!$F$9=\"\",検索シート!$F$9=\"（指定なし）\",検索シート!$F$9=全国版!K63,AND(検索シート!$F$9=\"変更等なし\",全国版!K63=\"\")),1,0)","v":1},{"$f":"IF(A63=0,\"\",IFERROR(IF(OR(検索シート!$F$5=\"\",検索シート!$F$5=\"（指定なし）\"),1,FIND(ASC(検索シート!$F$5),ASC(全国版!D63)))+FIND(ASC(検索シート!$F$6),ASC(全国版!E63))+FIND(ASC(検索シート!$F$7),ASC(全国版!F63)),\"\"))","v":3},{"$f":"IF(B63=\"\",\"-\",COUNT(B$4:$B63))","v":60},"宮城県","仙台保健福祉専門学校","医療専門課程　作業療法科","2010-11-29","～",null,"2010-11-29"]
[{"$f":"IF(OR(検索シート!$F$9=\"\",検索シート!$F$9=\"（指定なし）\",検索シート!$F$9=全国版!K64,AND(検索シート!$F$9=\"変更等なし\",全国版!K64=\"\")),1,0)","v":1},{"$f":"IF(A64=0,\"\",IFERROR(IF(OR(検索シート!$F$5=\"\",検索シート!$F$5=\"（指定なし）\"),1,FIND(ASC(検索シート!$F$5),ASC(全国版!D64)))+FIND(ASC(検索シート!$F$6),ASC(全国版!E64))+FIND(ASC(検索シート!$F$7),ASC(全国版!F64)),\"\"))","v":3},{"$f":"IF(B64=\"\",\"-\",COUNT(B$4:$B64))","v":61},"宮城県","仙台保健福祉専門学校","医療専門課程　理学療法科","2010-11-29","～",null,"2010-11-29"]
[{"$f":"IF(OR(検索シート!$F$9=\"\",検索シート!$F$9=\"（指定なし）\",検索シート!$F$9=全国版!K65,AND(検索シート!$F$9=\"変更等なし\",全国版!K65=\"\")),1,0)","v":1},{"$f":"IF(A65=0,\"\",IFERROR(IF(OR(検索シート!$F$5=\"\",検索シート!$F$5=\"（指定なし）\"),1,FIND(ASC(検索シート!$F$5),ASC(全国版!D65)))+FIND(ASC(検索シート!$F$6),ASC(全国版!E65))+FIND(ASC(検索シート!$F$7),ASC(全国版!F65)),\"\"))","v":3},{"$f":"IF(B65=\"\",\"-\",COUNT(B$4:$B65))","v":62},"宮城県","仙台保健福祉専門学校","教育社会福祉専門課程　保健福祉科","2010-11-29","～","2011-03-31","2010-11-29","廃止",null,null,"2011-03-31","2011-12-22"]
[{"$f":"IF(OR(検索シート!$F$9=\"\",検索シート!$F$9=\"（指定なし）\",検索シート!$F$9=全国版!K66,AND(検索シート!$F$9=\"変更等なし\",全国版!K66=\"\")),1,0)","v":1},{"$f":"IF(A66=0,\"\",IFERROR(IF(OR(検索シート!$F$5=\"\",検索シート!$F$5=\"（指定なし）\"),1,FIND(ASC(検索シート!$F$5),ASC(全国版!D66)))+FIND(ASC(検索シート!$F$6),ASC(全国版!E66))+FIND(ASC(検索シート!$F$7),ASC(全国版!F66)),\"\"))","v":3},{"$f":"IF(B66=\"\",\"-\",COUNT(B$4:$B66))","v":63},"宮城県","専門学校赤門自動車整備大学校","工業専門課程　一級自動車整備士科","2008-02-29","～",null,"2008-02-29"]
[{"$f":"IF(OR(検索シート!$F$9=\"\",検索シート!$F$9=\"（指定なし）\",検索シート!$F$9=全国版!K67,AND(検索シート!$F$9=\"変更等なし\",全国版!K67=\"\")),1,0)","v":1},{"$f":"IF(A67=0,\"\",IFERROR(IF(OR(検索シート!$F$5=\"\",検索シート!$F$5=\"（指定なし）\"),1,FIND(ASC(検索シート!$F$5),ASC(全国版!D67)))+FIND(ASC(検索シート!$F$6),ASC(全国版!E67))+FIND(ASC(検索シート!$F$7),ASC(全国版!F67)),\"\"))","v":3},{"$f":"IF(B67=\"\",\"-\",COUNT(B$4:$B67))","v":64},"宮城県","専門学校花壇自動車大学校","工業専門課程　一級自動車科","2015-02-19","～",null,"2015-02-19"]
[{"$f":"IF(OR(検索シート!$F$9=\"\",検索シート!$F$9=\"（指定なし）\",検索シート!$F$9=全国版!K68,AND(検索シート!$F$9=\"変更等なし\",全国版!K68=\"\")),1,0)","v":1},{"$f":"IF(A68=0,\"\",IFERROR(IF(OR(検索シート!$F$5=\"\",検索シート!$F$5=\"（指定なし）\"),1,FIND(ASC(検索シート!$F$5),ASC(全国版!D68)))+FIND(ASC(検索シート!$F$6),ASC(全国版!E68))+FIND(ASC(検索シート!$F$7),ASC(全国版!F68)),\"\"))","v":3},{"$f":"IF(B68=\"\",\"-\",COUNT(B$4:$B68))","v":65},"宮城県","東北外語観光専門学校","文化・教養専門課程　国際ビジネス科（国際マーケティングコース）","2010-11-29","～","2014-03-31","2010-11-29","廃止",null,null,"2014-03-31","2016-02-29"]
[{"$f":"IF(OR(検索シート!$F$9=\"\",検索シート!$F$9=\"（指定なし）\",検索シート!$F$9=全国版!K69,AND(検索シート!$F$9=\"変更等なし\",全国版!K69=\"\")),1,0)","v":1},{"$f":"IF(A69=0,\"\",IFERROR(IF(OR(検索シート!$F$5=\"\",検索シート!$F$5=\"（指定なし）\"),1,FIND(ASC(検索シート!$F$5),ASC(全国版!D69)))+FIND(ASC(検索シート!$F$6),ASC(全国版!E69))+FIND(ASC(検索シート!$F$7),ASC(全国版!F69)),\"\"))","v":3},{"$f":"IF(B69=\"\",\"-\",COUNT(B$4:$B69))","v":66},"宮城県","東北電子専門学校","工業専門課程　高度ＩＴエンジニア科","2012-04-01","～",null,"2013-01-29"]
[{"$f":"IF(OR(検索シート!$F$9=\"\",検索シート!$F$9=\"（指定なし）\",検索シート!$F$9=全国版!K70,AND(検索シート!$F$9=\"変更等なし\",全国版!K70=\"\")),1,0)","v":1},{"$f":"IF(A70=0,\"\",IFERROR(IF(OR(検索シート!$F$5=\"\",検索シート!$F$5=\"（指定なし）\"),1,FIND(ASC(検索シート!$F$5),ASC(全国版!D70)))+FIND(ASC(検索シート!$F$6),ASC(全国版!E70))+FIND(ASC(検索シート!$F$7),ASC(全国版!F70)),\"\"))","v":3},{"$f":"IF(B70=\"\",\"-\",COUNT(B$4:$B70))","v":67},"宮城県","東北電子専門学校","工業専門課程　テクニカルエンジニア科","2008-02-29","～","2012-03-31","2008-02-29","名称変更","東北電子専門学校","工業専門課程　高度ＩＴエンジニア科","2012-04-01","2013-01-29"]
[{"$f":"IF(OR(検索シート!$F$9=\"\",検索シート!$F$9=\"（指定なし）\",検索シート!$F$9=全国版!K71,AND(検索シート!$F$9=\"変更等なし\",全国版!K71=\"\")),1,0)","v":1},{"$f":"IF(A71=0,\"\",IFERROR(IF(OR(検索シート!$F$5=\"\",検索シート!$F$5=\"（指定なし）\"),1,FIND(ASC(検索シート!$F$5),ASC(全国版!D71)))+FIND(ASC(検索シート!$F$6),ASC(全国版!E71))+FIND(ASC(検索シート!$F$7),ASC(全国版!F71)),\"\"))","v":3},{"$f":"IF(B71=\"\",\"-\",COUNT(B$4:$B71))","v":68},"宮城県","東北文化学園専門学校","教育・社会福祉専門課程　社会福祉科","2005-12-09","～","2008-03-31","2005-12-09","廃止",null,null,"2008-03-31","2009-02-27"]
[{"$f":"IF(OR(検索シート!$F$9=\"\",検索シート!$F$9=\"（指定なし）\",検索シート!$F$9=全国版!K72,AND(検索シート!$F$9=\"変更等なし\",全国版!K72=\"\")),1,0)","v":1},{"$f":"IF(A72=0,\"\",IFERROR(IF(OR(検索シート!$F$5=\"\",検索シート!$F$5=\"（指定なし）\"),1,FIND(ASC(検索シート!$F$5),ASC(全国版!D72)))+FIND(ASC(検索シート!$F$6),ASC(全国版!E72))+FIND(ASC(検索シート!$F$7),ASC(全国版!F72)),\"\"))","v":3},{"$f":"IF(B72=\"\",\"-\",COUNT(B$4:$B72))","v":69},"宮城県","東北文化学園専門学校","教育・社会福祉専門課程　社会福祉心理科","2009-02-27","～","2012-03-31","2009-02-27","廃止",null,null,"2012-03-31","2013-01-29"]
[{"$f":"IF(OR(検索シート!$F$9=\"\",検索シート!$F$9=\"（指定なし）\",検索シート!$F$9=全国版!K73,AND(検索シート!$F$9=\"変更等なし\",全国版!K73=\"\")),1,0)","v":1},{"$f":"IF(A73=0,\"\",IFERROR(IF(OR(検索シート!$F$5=\"\",検索シート!$F$5=\"（指定なし）\"),1,FIND(ASC(検索シート!$F$5),ASC(全国版!D73)))+FIND(ASC(検索シート!$F$6),ASC(全国版!E73))+FIND(ASC(検索シート!$F$7),ASC(全国版!F73)),\"\"))","v":3},{"$f":"IF(B73=\"\",\"-\",COUNT(B$4:$B73))","v":70},"宮城県","東北文化学園専門学校","教育・社会福祉専門課程　福祉心理科","2008-02-29","～","2008-03-31","2008-02-29","廃止",null,null,"2008-03-31","2009-02-27"]
[{"$f":"IF(OR(検索シート!$F$9=\"\",検索シート!$F$9=\"（指定なし）\",検索シート!$F$9=全国版!K74,AND(検索シート!$F$9=\"変更等なし\",全国版!K74=\"\")),1,0)","v":1},{"$f":"IF(A74=0,\"\",IFERROR(IF(OR(検索シート!$F$5=\"\",検索シート!$F$5=\"（指定なし）\"),1,FIND(ASC(検索シート!$F$5),ASC(全国版!D74)))+FIND(ASC(検索シート!$F$6),ASC(全国版!E74))+FIND(ASC(検索シート!$F$7),ASC(全国版!F74)),\"\"))","v":3},{"$f":"IF(B74=\"\",\"-\",COUNT(B$4:$B74))","v":71},"宮城県","東北文化学園専門学校","商業実務専門課程　医療福祉経営科","2005-12-09","～","2006-03-31","2005-12-09","廃止",null,null,"2006-03-31","2007-02-28"]
[{"$f":"IF(OR(検索シート!$F$9=\"\",検索シート!$F$9=\"（指定なし）\",検索シート!$F$9=全国版!K75,AND(検索シート!$F$9=\"変更等なし\",全国版!K75=\"\")),1,0)","v":1},{"$f":"IF(A75=0,\"\",IFERROR(IF(OR(検索シート!$F$5=\"\",検索シート!$F$5=\"（指定なし）\"),1,FIND(ASC(検索シート!$F$5),ASC(全国版!D75)))+FIND(ASC(検索シート!$F$6),ASC(全国版!E75))+FIND(ASC(検索シート!$F$7),ASC(全国版!F75)),\"\"))","v":3},{"$f":"IF(B75=\"\",\"-\",COUNT(B$4:$B75))","v":72},"秋田県","秋田情報ビジネス専門学校","工業専門課程　経営情報科","2005-12-09","～","2009-02-26","2005-12-09","不適合",null,null,"2009-02-27","2009-02-27"]
[{"$f":"IF(OR(検索シート!$F$9=\"\",検索シート!$F$9=\"（指定なし）\",検索シート!$F$9=全国版!K76,AND(検索シート!$F$9=\"変更等なし\",全国版!K76=\"\")),1,0)","v":1},{"$f":"IF(A76=0,\"\",IFERROR(IF(OR(検索シート!$F$5=\"\",検索シート!$F$5=\"（指定なし）\"),1,FIND(ASC(検索シート!$F$5),ASC(全国版!D76)))+FIND(ASC(検索シート!$F$6),ASC(全国版!E76))+FIND(ASC(検索シート!$F$7),ASC(全国版!F76)),\"\"))","v":3},{"$f":"IF(B76=\"\",\"-\",COUNT(B$4:$B76))","v":73},"秋田県","秋田リハビリテーション学院","医療専門課程　理学療法学科","2016-02-29","～",null,"2016-02-29"]
[{"$f":"IF(OR(検索シート!$F$9=\"\",検索シート!$F$9=\"（指定なし）\",検索シート!$F$9=全国版!K77,AND(検索シート!$F$9=\"変更等なし\",全国版!K77=\"\")),1,0)","v":1},{"$f":"IF(A77=0,\"\",IFERROR(IF(OR(検索シート!$F$5=\"\",検索シート!$F$5=\"（指定なし）\"),1,FIND(ASC(検索シート!$F$5),ASC(全国版!D77)))+FIND(ASC(検索シート!$F$6),ASC(全国版!E77))+FIND(ASC(検索シート!$F$7),ASC(全国版!F77)),\"\"))","v":3},{"$f":"IF(B77=\"\",\"-\",COUNT(B$4:$B77))","v":74},"山形県","山形医療技術専門学校","医療専門課程　作業療法学科","2005-12-09","～",null,"2005-12-09"]
[{"$f":"IF(OR(検索シート!$F$9=\"\",検索シート!$F$9=\"（指定なし）\",検索シート!$F$9=全国版!K78,AND(検索シート!$F$9=\"変更等なし\",全国版!K78=\"\")),1,0)","v":1},{"$f":"IF(A78=0,\"\",IFERROR(IF(OR(検索シート!$F$5=\"\",検索シート!$F$5=\"（指定なし）\"),1,FIND(ASC(検索シート!$F$5),ASC(全国版!D78)))+FIND(ASC(検索シート!$F$6),ASC(全国版!E78))+FIND(ASC(検索シート!$F$7),ASC(全国版!F78)),\"\"))","v":3},{"$f":"IF(B78=\"\",\"-\",COUNT(B$4:$B78))","v":75},"山形県","山形医療技術専門学校","医療専門課程　理学療法学科","2005-12-09","～",null,"2005-12-09"]
[{"$f":"IF(OR(検索シート!$F$9=\"\",検索シート!$F$9=\"（指定なし）\",検索シート!$F$9=全国版!K79,AND(検索シート!$F$9=\"変更等なし\",全国版!K79=\"\")),1,0)","v":1},{"$f":"IF(A79=0,\"\",IFERROR(IF(OR(検索シート!$F$5=\"\",検索シート!$F$5=\"（指定なし）\"),1,FIND(ASC(検索シート!$F$5),ASC(全国版!D79)))+FIND(ASC(検索シート!$F$6),ASC(全国版!E79))+FIND(ASC(検索シート!$F$7),ASC(全国版!F79)),\"\"))","v":3},{"$f":"IF(B79=\"\",\"-\",COUNT(B$4:$B79))","v":76},"福島県","今泉女子専門学校","家政専門課程　プロフェッショナル科","2010-02-26","～","2023-03-31","2010-02-26","名称変更","今泉服飾専門学校","専門課程　プロフェッショナル科","2023-04-01","2024-01-17"]
[{"$f":"IF(OR(検索シート!$F$9=\"\",検索シート!$F$9=\"（指定なし）\",検索シート!$F$9=全国版!K80,AND(検索シート!$F$9=\"変更等なし\",全国版!K80=\"\")),1,0)","v":1},{"$f":"IF(A80=0,\"\",IFERROR(IF(OR(検索シート!$F$5=\"\",検索シート!$F$5=\"（指定なし）\"),1,FIND(ASC(検索シート!$F$5),ASC(全国版!D80)))+FIND(ASC(検索シート!$F$6),ASC(全国版!E80))+FIND(ASC(検索シート!$F$7),ASC(全国版!F80)),\"\"))","v":3},{"$f":"IF(B80=\"\",\"-\",COUNT(B$4:$B80))","v":77},"福島県","今泉服飾専門学校","専門課程　プロフェッショナル科","2023-04-01","～",null,"2024-01-17"]
[{"$f":"IF(OR(検索シート!$F$9=\"\",検索シート!$F$9=\"（指定なし）\",検索シート!$F$9=全国版!K81,AND(検索シート!$F$9=\"変更等なし\",全国版!K81=\"\")),1,0)","v":1},{"$f":"IF(A81=0,\"\",IFERROR(IF(OR(検索シート!$F$5=\"\",検索シート!$F$5=\"（指定なし）\"),1,FIND(ASC(検索シート!$F$5),ASC(全国版!D81)))+FIND(ASC(検索シート!$F$6),ASC(全国版!E81))+FIND(ASC(検索シート!$F$7),ASC(全国版!F81)),\"\"))","v":3},{"$f":"IF(B81=\"\",\"-\",COUNT(B$4:$B81))","v":78},"福島県","郡山健康科学専門学校","医療専門課程　作業療法学科","2005-12-09","～",null,"2005-12-09"]
[{"$f":"IF(OR(検索シート!$F$9=\"\",検索シート!$F$9=\"（指定なし）\",検索シート!$F$9=全国版!K82,AND(検索シート!$F$9=\"変更等なし\",全国版!K82=\"\")),1,0)","v":1},{"$f":"IF(A82=0,\"\",IFERROR(IF(OR(検索シート!$F$5=\"\",検索シート!$F$5=\"（指定なし）\"),1,FIND(ASC(検索シート!$F$5),ASC(全国版!D82)))+FIND(ASC(検索シート!$F$6),ASC(全国版!E82))+FIND(ASC(検索シート!$F$7),ASC(全国版!F82)),\"\"))","v":3},{"$f":"IF(B82=\"\",\"-\",COUNT(B$4:$B82))","v":79},"福島県","郡山健康科学専門学校","医療専門課程　理学療法学科","2005-12-09","～",null,"2005-12-09"]
[{"$f":"IF(OR(検索シート!$F$9=\"\",検索シート!$F$9=\"（指定なし）\",検索シート!$F$9=全国版!K83,AND(検索シート!$F$9=\"変更等なし\",全国版!K83=\"\")),1,0)","v":1},{"$f":"IF(A83=0,\"\",IFERROR(IF(OR(検索シート!$F$5=\"\",検索シート!$F$5=\"（指定なし）\"),1,FIND(ASC(検索シート!$F$5),ASC(全国版!D83)))+FIND(ASC(検索シート!$F$6),ASC(全国版!E83))+FIND(ASC(検索シート!$F$7),ASC(全国版!F83)),\"\"))","v":3},{"$f":"IF(B83=\"\",\"-\",COUNT(B$4:$B83))","v":80},"福島県","国際医療看護福祉大学校","医療専門課程　看護学科","2017-04-01","～","2021-03-31","2018-02-28","不適合",null,null,"2021-04-01","2022-03-04"]
[{"$f":"IF(OR(検索シート!$F$9=\"\",検索シート!$F$9=\"（指定なし）\",検索シート!$F$9=全国版!K84,AND(検索シート!$F$9=\"変更等なし\",全国版!K84=\"\")),1,0)","v":1},{"$f":"IF(A84=0,\"\",IFERROR(IF(OR(検索シート!$F$5=\"\",検索シート!$F$5=\"（指定なし）\"),1,FIND(ASC(検索シート!$F$5),ASC(全国版!D84)))+FIND(ASC(検索シート!$F$6),ASC(全国版!E84))+FIND(ASC(検索シート!$F$7),ASC(全国版!F84)),\"\"))","v":3},{"$f":"IF(B84=\"\",\"-\",COUNT(B$4:$B84))","v":81},"福島県","国際情報工科自動車大学校","工業専門課程　１級自動車工学科","2017-04-01","～",null,"2018-02-28"]
[{"$f":"IF(OR(検索シート!$F$9=\"\",検索シート!$F$9=\"（指定なし）\",検索シート!$F$9=全国版!K85,AND(検索シート!$F$9=\"変更等なし\",全国版!K85=\"\")),1,0)","v":1},{"$f":"IF(A85=0,\"\",IFERROR(IF(OR(検索シート!$F$5=\"\",検索シート!$F$5=\"（指定なし）\"),1,FIND(ASC(検索シート!$F$5),ASC(全国版!D85)))+FIND(ASC(検索シート!$F$6),ASC(全国版!E85))+FIND(ASC(検索シート!$F$7),ASC(全国版!F85)),\"\"))","v":3},{"$f":"IF(B85=\"\",\"-\",COUNT(B$4:$B85))","v":82},"福島県","国際情報工科自動車大学校","工業専門課程　ゲーム開発マスター科","2024-01-17",null,null,"2024-01-17"]
[{"$f":"IF(OR(検索シート!$F$9=\"\",検索シート!$F$9=\"（指定なし）\",検索シート!$F$9=全国版!K86,AND(検索シート!$F$9=\"変更等なし\",全国版!K86=\"\")),1,0)","v":1},{"$f":"IF(A86=0,\"\",IFERROR(IF(OR(検索シート!$F$5=\"\",検索シート!$F$5=\"（指定なし）\"),1,FIND(ASC(検索シート!$F$5),ASC(全国版!D86)))+FIND(ASC(検索シート!$F$6),ASC(全国版!E86))+FIND(ASC(検索シート!$F$7),ASC(全国版!F86)),\"\"))","v":3},{"$f":"IF(B86=\"\",\"-\",COUNT(B$4:$B86))","v":83},"福島県","国際情報工科自動車大学校","工業専門課程　高度情報工学科","2017-04-01","～",null,"2018-02-28"]
[{"$f":"IF(OR(検索シート!$F$9=\"\",検索シート!$F$9=\"（指定なし）\",検索シート!$F$9=全国版!K87,AND(検索シート!$F$9=\"変更等なし\",全国版!K87=\"\")),1,0)","v":1},{"$f":"IF(A87=0,\"\",IFERROR(IF(OR(検索シート!$F$5=\"\",検索シート!$F$5=\"（指定なし）\"),1,FIND(ASC(検索シート!$F$5),ASC(全国版!D87)))+FIND(ASC(検索シート!$F$6),ASC(全国版!E87))+FIND(ASC(検索シート!$F$7),ASC(全国版!F87)),\"\"))","v":3},{"$f":"IF(B87=\"\",\"-\",COUNT(B$4:$B87))","v":84},"福島県","国際情報工科専門学校","工業専門課程　１級自動車工学科","2008-02-29","～","2009-03-31","2008-02-29","名称変更","専門学校国際情報工科大学校","工業専門課程　１級自動車工学科","2009-04-01","2010-02-26"]
[{"$f":"IF(OR(検索シート!$F$9=\"\",検索シート!$F$9=\"（指定なし）\",検索シート!$F$9=全国版!K88,AND(検索シート!$F$9=\"変更等なし\",全国版!K88=\"\")),1,0)","v":1},{"$f":"IF(A88=0,\"\",IFERROR(IF(OR(検索シート!$F$5=\"\",検索シート!$F$5=\"（指定なし）\"),1,FIND(ASC(検索シート!$F$5),ASC(全国版!D88)))+FIND(ASC(検索シート!$F$6),ASC(全国版!E88))+FIND(ASC(検索シート!$F$7),ASC(全国版!F88)),\"\"))","v":3},{"$f":"IF(B88=\"\",\"-\",COUNT(B$4:$B88))","v":85},"福島県","国際メディカルテクノロジー専門学校","医療専門課程　看護学科","2011-12-22","～","2017-03-31","2011-12-22","名称変更","国際医療看護福祉大学校","医療専門課程　看護学科","2017-04-01","2018-02-28"]
[{"$f":"IF(OR(検索シート!$F$9=\"\",検索シート!$F$9=\"（指定なし）\",検索シート!$F$9=全国版!K89,AND(検索シート!$F$9=\"変更等なし\",全国版!K89=\"\")),1,0)","v":1},{"$f":"IF(A89=0,\"\",IFERROR(IF(OR(検索シート!$F$5=\"\",検索シート!$F$5=\"（指定なし）\"),1,FIND(ASC(検索シート!$F$5),ASC(全国版!D89)))+FIND(ASC(検索シート!$F$6),ASC(全国版!E89))+FIND(ASC(検索シート!$F$7),ASC(全国版!F89)),\"\"))","v":3},{"$f":"IF(B89=\"\",\"-\",COUNT(B$4:$B89))","v":86},"福島県","専門学校国際情報工科大学校","工業専門課程　高度情報工学科","2016-02-29","～","2017-03-31","2016-02-29","名称変更","国際情報工科自動車大学校","工業専門課程　高度情報工学科","2017-04-01","2018-02-28"]
[{"$f":"IF(OR(検索シート!$F$9=\"\",検索シート!$F$9=\"（指定なし）\",検索シート!$F$9=全国版!K90,AND(検索シート!$F$9=\"変更等なし\",全国版!K90=\"\")),1,0)","v":1},{"$f":"IF(A90=0,\"\",IFERROR(IF(OR(検索シート!$F$5=\"\",検索シート!$F$5=\"（指定なし）\"),1,FIND(ASC(検索シート!$F$5),ASC(全国版!D90)))+FIND(ASC(検索シート!$F$6),ASC(全国版!E90))+FIND(ASC(検索シート!$F$7),ASC(全国版!F90)),\"\"))","v":3},{"$f":"IF(B90=\"\",\"-\",COUNT(B$4:$B90))","v":87},"福島県","専門学校国際情報工科大学校","工業専門課程　１級自動車工学科","2009-04-01","～","2017-03-31","2010-02-26","名称変更","国際情報工科自動車大学校","工業専門課程　１級自動車工学科","2017-04-01","2018-02-28"]
[{"$f":"IF(OR(検索シート!$F$9=\"\",検索シート!$F$9=\"（指定なし）\",検索シート!$F$9=全国版!K91,AND(検索シート!$F$9=\"変更等なし\",全国版!K91=\"\")),1,0)","v":1},{"$f":"IF(A91=0,\"\",IFERROR(IF(OR(検索シート!$F$5=\"\",検索シート!$F$5=\"（指定なし）\"),1,FIND(ASC(検索シート!$F$5),ASC(全国版!D91)))+FIND(ASC(検索シート!$F$6),ASC(全国版!E91))+FIND(ASC(検索シート!$F$7),ASC(全国版!F91)),\"\"))","v":3},{"$f":"IF(B91=\"\",\"-\",COUNT(B$4:$B91))","v":88},"福島県","ポラリス保健看護学院","医療専門課程　保健看護学科","2005-12-09","～",null,"2005-12-09"]
[{"$f":"IF(OR(検索シート!$F$9=\"\",検索シート!$F$9=\"（指定なし）\",検索シート!$F$9=全国版!K92,AND(検索シート!$F$9=\"変更等なし\",全国版!K92=\"\")),1,0)","v":1},{"$f":"IF(A92=0,\"\",IFERROR(IF(OR(検索シート!$F$5=\"\",検索シート!$F$5=\"（指定なし）\"),1,FIND(ASC(検索シート!$F$5),ASC(全国版!D92)))+FIND(ASC(検索シート!$F$6),ASC(全国版!E92))+FIND(ASC(検索シート!$F$7),ASC(全国版!F92)),\"\"))","v":3},{"$f":"IF(B92=\"\",\"-\",COUNT(B$4:$B92))","v":89},"茨城県","アール医療福祉専門学校","医療専門課程　作業療法学科","2005-12-09","～",null,"2005-12-09"]
[{"$f":"IF(OR(検索シート!$F$9=\"\",検索シート!$F$9=\"（指定なし）\",検索シート!$F$9=全国版!K93,AND(検索シート!$F$9=\"変更等なし\",全国版!K93=\"\")),1,0)","v":1},{"$f":"IF(A93=0,\"\",IFERROR(IF(OR(検索シート!$F$5=\"\",検索シート!$F$5=\"（指定なし）\"),1,FIND(ASC(検索シート!$F$5),ASC(全国版!D93)))+FIND(ASC(検索シート!$F$6),ASC(全国版!E93))+FIND(ASC(検索シート!$F$7),ASC(全国版!F93)),\"\"))","v":3},{"$f":"IF(B93=\"\",\"-\",COUNT(B$4:$B93))","v":90},"茨城県","アール医療福祉専門学校","医療専門課程　理学療法学科","2005-12-09","～",null,"2005-12-09"]
[{"$f":"IF(OR(検索シート!$F$9=\"\",検索シート!$F$9=\"（指定なし）\",検索シート!$F$9=全国版!K94,AND(検索シート!$F$9=\"変更等なし\",全国版!K94=\"\")),1,0)","v":1},{"$f":"IF(A94=0,\"\",IFERROR(IF(OR(検索シート!$F$5=\"\",検索シート!$F$5=\"（指定なし）\"),1,FIND(ASC(検索シート!$F$5),ASC(全国版!D94)))+FIND(ASC(検索シート!$F$6),ASC(全国版!E94))+FIND(ASC(検索シート!$F$7),ASC(全国版!F94)),\"\"))","v":3},{"$f":"IF(B94=\"\",\"-\",COUNT(B$4:$B94))","v":91},"茨城県","晃陽看護栄養専門学校","専門課程　管理栄養士学科","2020-02-29","～",null,"2020-02-29"]
[{"$f":"IF(OR(検索シート!$F$9=\"\",検索シート!$F$9=\"（指定なし）\",検索シート!$F$9=全国版!K95,AND(検索シート!$F$9=\"変更等なし\",全国版!K95=\"\")),1,0)","v":1},{"$f":"IF(A95=0,\"\",IFERROR(IF(OR(検索シート!$F$5=\"\",検索シート!$F$5=\"（指定なし）\"),1,FIND(ASC(検索シート!$F$5),ASC(全国版!D95)))+FIND(ASC(検索シート!$F$6),ASC(全国版!E95))+FIND(ASC(検索シート!$F$7),ASC(全国版!F95)),\"\"))","v":3},{"$f":"IF(B95=\"\",\"-\",COUNT(B$4:$B95))","v":92},"茨城県","鯉淵学園農業栄養専門学校","専門課程　生活栄養科学科","2005-12-09","～","2012-03-31","2005-12-09","廃止",null,null,"2012-03-31","2013-01-29"]
[{"$f":"IF(OR(検索シート!$F$9=\"\",検索シート!$F$9=\"（指定なし）\",検索シート!$F$9=全国版!K96,AND(検索シート!$F$9=\"変更等なし\",全国版!K96=\"\")),1,0)","v":1},{"$f":"IF(A96=0,\"\",IFERROR(IF(OR(検索シート!$F$5=\"\",検索シート!$F$5=\"（指定なし）\"),1,FIND(ASC(検索シート!$F$5),ASC(全国版!D96)))+FIND(ASC(検索シート!$F$6),ASC(全国版!E96))+FIND(ASC(検索シート!$F$7),ASC(全国版!F96)),\"\"))","v":3},{"$f":"IF(B96=\"\",\"-\",COUNT(B$4:$B96))","v":93},"茨城県","鯉淵学園農業栄養専門学校","専門課程　農業経営科学科","2005-12-09","～","2012-03-31","2005-12-09","廃止",null,null,"2012-03-31","2013-01-29"]
[{"$f":"IF(OR(検索シート!$F$9=\"\",検索シート!$F$9=\"（指定なし）\",検索シート!$F$9=全国版!K97,AND(検索シート!$F$9=\"変更等なし\",全国版!K97=\"\")),1,0)","v":1},{"$f":"IF(A97=0,\"\",IFERROR(IF(OR(検索シート!$F$5=\"\",検索シート!$F$5=\"（指定なし）\"),1,FIND(ASC(検索シート!$F$5),ASC(全国版!D97)))+FIND(ASC(検索シート!$F$6),ASC(全国版!E97))+FIND(ASC(検索シート!$F$7),ASC(全国版!F97)),\"\"))","v":3},{"$f":"IF(B97=\"\",\"-\",COUNT(B$4:$B97))","v":94},"茨城県","専門学校ＥＩＫＡInternationalCollege","国際交流専門課程　国際交流学科","2019-04-01","～",null,"2020-02-29"]
[{"$f":"IF(OR(検索シート!$F$9=\"\",検索シート!$F$9=\"（指定なし）\",検索シート!$F$9=全国版!K98,AND(検索シート!$F$9=\"変更等なし\",全国版!K98=\"\")),1,0)","v":1},{"$f":"IF(A98=0,\"\",IFERROR(IF(OR(検索シート!$F$5=\"\",検索シート!$F$5=\"（指定なし）\"),1,FIND(ASC(検索シート!$F$5),ASC(全国版!D98)))+FIND(ASC(検索シート!$F$6),ASC(全国版!E98))+FIND(ASC(検索シート!$F$7),ASC(全国版!F98)),\"\"))","v":3},{"$f":"IF(B98=\"\",\"-\",COUNT(B$4:$B98))","v":95},"茨城県","専門学校つくば自動車大学校","工業専門課程　一級自動車整備士科","2018-04-01","～",null,"2019-01-25"]
[{"$f":"IF(OR(検索シート!$F$9=\"\",検索シート!$F$9=\"（指定なし）\",検索シート!$F$9=全国版!K99,AND(検索シート!$F$9=\"変更等なし\",全国版!K99=\"\")),1,0)","v":1},{"$f":"IF(A99=0,\"\",IFERROR(IF(OR(検索シート!$F$5=\"\",検索シート!$F$5=\"（指定なし）\"),1,FIND(ASC(検索シート!$F$5),ASC(全国版!D99)))+FIND(ASC(検索シート!$F$6),ASC(全国版!E99))+FIND(ASC(検索シート!$F$7),ASC(全国版!F99)),\"\"))","v":3},{"$f":"IF(B99=\"\",\"-\",COUNT(B$4:$B99))","v":96},"茨城県","専門学校水戸自動車大学校","工業専門課程　一級自動車整備学科","2008-02-29","～",null,"2008-02-29"]
[{"$f":"IF(OR(検索シート!$F$9=\"\",検索シート!$F$9=\"（指定なし）\",検索シート!$F$9=全国版!K100,AND(検索シート!$F$9=\"変更等なし\",全国版!K100=\"\")),1,0)","v":1},{"$f":"IF(A100=0,\"\",IFERROR(IF(OR(検索シート!$F$5=\"\",検索シート!$F$5=\"（指定なし）\"),1,FIND(ASC(検索シート!$F$5),ASC(全国版!D100)))+FIND(ASC(検索シート!$F$6),ASC(全国版!E100))+FIND(ASC(検索シート!$F$7),ASC(全国版!F100)),\"\"))","v":3},{"$f":"IF(B100=\"\",\"-\",COUNT(B$4:$B100))","v":97},"茨城県","筑波研究学園専門学校","教育・社会福祉専門課程　こども未来学科児童教育コース","2018-02-28","～","2021-03-31","2018-02-28","廃止",null,null,"2021-03-31","2022-03-04"]
[{"$f":"IF(OR(検索シート!$F$9=\"\",検索シート!$F$9=\"（指定なし）\",検索シート!$F$9=全国版!K101,AND(検索シート!$F$9=\"変更等なし\",全国版!K101=\"\")),1,0)","v":1},{"$f":"IF(A101=0,\"\",IFERROR(IF(OR(検索シート!$F$5=\"\",検索シート!$F$5=\"（指定なし）\"),1,FIND(ASC(検索シート!$F$5),ASC(全国版!D101)))+FIND(ASC(検索シート!$F$6),ASC(全国版!E101))+FIND(ASC(検索シート!$F$7),ASC(全国版!F101)),\"\"))","v":3},{"$f":"IF(B101=\"\",\"-\",COUNT(B$4:$B101))","v":98},"茨城県","筑波研究学園専門学校","工業専門課程　自動車整備工学科一級整備士コース","2011-04-01","～","2022-03-31","2011-12-22","廃止",null,null,"2022-03-31","2023-01-27"]
[{"$f":"IF(OR(検索シート!$F$9=\"\",検索シート!$F$9=\"（指定なし）\",検索シート!$F$9=全国版!K102,AND(検索シート!$F$9=\"変更等なし\",全国版!K102=\"\")),1,0)","v":1},{"$f":"IF(A102=0,\"\",IFERROR(IF(OR(検索シート!$F$5=\"\",検索シート!$F$5=\"（指定なし）\"),1,FIND(ASC(検索シート!$F$5),ASC(全国版!D102)))+FIND(ASC(検索シート!$F$6),ASC(全国版!E102))+FIND(ASC(検索シート!$F$7),ASC(全国版!F102)),\"\"))","v":3},{"$f":"IF(B102=\"\",\"-\",COUNT(B$4:$B102))","v":99},"茨城県","筑波研究学園専門学校","工業専門課程　一級自動車整備工学科","2008-02-29","～","2011-03-31","2008-02-29","名称変更","筑波研究学園専門学校","工業専門課程　自動車整備工学科一級整備士コース","2011-04-01","2011-12-22"]
[{"$f":"IF(OR(検索シート!$F$9=\"\",検索シート!$F$9=\"（指定なし）\",検索シート!$F$9=全国版!K103,AND(検索シート!$F$9=\"変更等なし\",全国版!K103=\"\")),1,0)","v":1},{"$f":"IF(A103=0,\"\",IFERROR(IF(OR(検索シート!$F$5=\"\",検索シート!$F$5=\"（指定なし）\"),1,FIND(ASC(検索シート!$F$5),ASC(全国版!D103)))+FIND(ASC(検索シート!$F$6),ASC(全国版!E103))+FIND(ASC(検索シート!$F$7),ASC(全国版!F103)),\"\"))","v":3},{"$f":"IF(B103=\"\",\"-\",COUNT(B$4:$B103))","v":100},"茨城県","つくば自動車整備専門学校","工業専門課程　一級自動車整備士科","2010-11-29","～","2018-03-31","2010-11-29","名称変更","専門学校つくば自動車大学校","工業専門課程　一級自動車整備士科","2018-04-01","2019-01-25"]
[{"$f":"IF(OR(検索シート!$F$9=\"\",検索シート!$F$9=\"（指定なし）\",検索シート!$F$9=全国版!K104,AND(検索シート!$F$9=\"変更等なし\",全国版!K104=\"\")),1,0)","v":1},{"$f":"IF(A104=0,\"\",IFERROR(IF(OR(検索シート!$F$5=\"\",検索シート!$F$5=\"（指定なし）\"),1,FIND(ASC(検索シート!$F$5),ASC(全国版!D104)))+FIND(ASC(検索シート!$F$6),ASC(全国版!E104))+FIND(ASC(検索シート!$F$7),ASC(全国版!F104)),\"\"))","v":3},{"$f":"IF(B104=\"\",\"-\",COUNT(B$4:$B104))","v":101},"茨城県","日本危機管理専門学校","国際交流専門課程　国際交流学科","2019-01-25","～","2019-03-31","2019-01-25","名称変更","専門学校ＥＩＫＡInternationalCollege","国際交流専門課程　国際交流学科","2019-04-01","2020-02-29"]
[{"$f":"IF(OR(検索シート!$F$9=\"\",検索シート!$F$9=\"（指定なし）\",検索シート!$F$9=全国版!K105,AND(検索シート!$F$9=\"変更等なし\",全国版!K105=\"\")),1,0)","v":1},{"$f":"IF(A105=0,\"\",IFERROR(IF(OR(検索シート!$F$5=\"\",検索シート!$F$5=\"（指定なし）\"),1,FIND(ASC(検索シート!$F$5),ASC(全国版!D105)))+FIND(ASC(検索シート!$F$6),ASC(全国版!E105))+FIND(ASC(検索シート!$F$7),ASC(全国版!F105)),\"\"))","v":3},{"$f":"IF(B105=\"\",\"-\",COUNT(B$4:$B105))","v":102},"茨城県","水戸経理専門学校","商業実務専門課程　経営情報学科（４年制）","2005-12-09","～",null,"2005-12-09"]
[{"$f":"IF(OR(検索シート!$F$9=\"\",検索シート!$F$9=\"（指定なし）\",検索シート!$F$9=全国版!K106,AND(検索シート!$F$9=\"変更等なし\",全国版!K106=\"\")),1,0)","v":1},{"$f":"IF(A106=0,\"\",IFERROR(IF(OR(検索シート!$F$5=\"\",検索シート!$F$5=\"（指定なし）\"),1,FIND(ASC(検索シート!$F$5),ASC(全国版!D106)))+FIND(ASC(検索シート!$F$6),ASC(全国版!E106))+FIND(ASC(検索シート!$F$7),ASC(全国版!F106)),\"\"))","v":3},{"$f":"IF(B106=\"\",\"-\",COUNT(B$4:$B106))","v":103},"茨城県","水戸電子専門学校","工業専門課程　情報経営学科（４年制）","2005-12-09","～",null,"2005-12-09"]
[{"$f":"IF(OR(検索シート!$F$9=\"\",検索シート!$F$9=\"（指定なし）\",検索シート!$F$9=全国版!K107,AND(検索シート!$F$9=\"変更等なし\",全国版!K107=\"\")),1,0)","v":1},{"$f":"IF(A107=0,\"\",IFERROR(IF(OR(検索シート!$F$5=\"\",検索シート!$F$5=\"（指定なし）\"),1,FIND(ASC(検索シート!$F$5),ASC(全国版!D107)))+FIND(ASC(検索シート!$F$6),ASC(全国版!E107))+FIND(ASC(検索シート!$F$7),ASC(全国版!F107)),\"\"))","v":3},{"$f":"IF(B107=\"\",\"-\",COUNT(B$4:$B107))","v":104},"茨城県","リリーこども＆スポーツ専門学校","保育福祉専門課程　こども教育学科","2016-04-01","～","2018-03-31","2018-02-28","名称変更","リリーこども＆スポーツ専門学校","保育福祉専門課程　こども未来学科（４年制）","2018-04-01","2020-02-29"]
[{"$f":"IF(OR(検索シート!$F$9=\"\",検索シート!$F$9=\"（指定なし）\",検索シート!$F$9=全国版!K108,AND(検索シート!$F$9=\"変更等なし\",全国版!K108=\"\")),1,0)","v":1},{"$f":"IF(A108=0,\"\",IFERROR(IF(OR(検索シート!$F$5=\"\",検索シート!$F$5=\"（指定なし）\"),1,FIND(ASC(検索シート!$F$5),ASC(全国版!D108)))+FIND(ASC(検索シート!$F$6),ASC(全国版!E108))+FIND(ASC(検索シート!$F$7),ASC(全国版!F108)),\"\"))","v":3},{"$f":"IF(B108=\"\",\"-\",COUNT(B$4:$B108))","v":105},"茨城県","リリーこども＆スポーツ専門学校","保育福祉専門課程　こども未来学科（４年制）","2018-04-01","～",null,"2020-02-29"]
[{"$f":"IF(OR(検索シート!$F$9=\"\",検索シート!$F$9=\"（指定なし）\",検索シート!$F$9=全国版!K109,AND(検索シート!$F$9=\"変更等なし\",全国版!K109=\"\")),1,0)","v":1},{"$f":"IF(A109=0,\"\",IFERROR(IF(OR(検索シート!$F$5=\"\",検索シート!$F$5=\"（指定なし）\"),1,FIND(ASC(検索シート!$F$5),ASC(全国版!D109)))+FIND(ASC(検索シート!$F$6),ASC(全国版!E109))+FIND(ASC(検索シート!$F$7),ASC(全国版!F109)),\"\"))","v":3},{"$f":"IF(B109=\"\",\"-\",COUNT(B$4:$B109))","v":106},"茨城県","リリー保育福祉専門学校","保育福祉専門課程　こども教育学科","2013-01-29","～","2016-03-31","2013-01-29","名称変更","リリーこども＆スポーツ専門学校","保育福祉専門課程　こども教育学科","2016-04-01","2018-02-28"]
[{"$f":"IF(OR(検索シート!$F$9=\"\",検索シート!$F$9=\"（指定なし）\",検索シート!$F$9=全国版!K110,AND(検索シート!$F$9=\"変更等なし\",全国版!K110=\"\")),1,0)","v":1},{"$f":"IF(A110=0,\"\",IFERROR(IF(OR(検索シート!$F$5=\"\",検索シート!$F$5=\"（指定なし）\"),1,FIND(ASC(検索シート!$F$5),ASC(全国版!D110)))+FIND(ASC(検索シート!$F$6),ASC(全国版!E110))+FIND(ASC(検索シート!$F$7),ASC(全国版!F110)),\"\"))","v":3},{"$f":"IF(B110=\"\",\"-\",COUNT(B$4:$B110))","v":107},"栃木県","宇都宮ビジネス電子専門学校","商業実務専門課程　経営情報科","2005-12-09","～",null,"2005-12-09"]
[{"$f":"IF(OR(検索シート!$F$9=\"\",検索シート!$F$9=\"（指定なし）\",検索シート!$F$9=全国版!K111,AND(検索シート!$F$9=\"変更等なし\",全国版!K111=\"\")),1,0)","v":1},{"$f":"IF(A111=0,\"\",IFERROR(IF(OR(検索シート!$F$5=\"\",検索シート!$F$5=\"（指定なし）\"),1,FIND(ASC(検索シート!$F$5),ASC(全国版!D111)))+FIND(ASC(検索シート!$F$6),ASC(全国版!E111))+FIND(ASC(検索シート!$F$7),ASC(全国版!F111)),\"\"))","v":3},{"$f":"IF(B111=\"\",\"-\",COUNT(B$4:$B111))","v":108},"栃木県","国際情報ビジネス専門学校","工業専門課程　情報処理学科（４年制）","2009-02-27","～",null,"2009-02-27"]
[{"$f":"IF(OR(検索シート!$F$9=\"\",検索シート!$F$9=\"（指定なし）\",検索シート!$F$9=全国版!K112,AND(検索シート!$F$9=\"変更等なし\",全国版!K112=\"\")),1,0)","v":1},{"$f":"IF(A112=0,\"\",IFERROR(IF(OR(検索シート!$F$5=\"\",検索シート!$F$5=\"（指定なし）\"),1,FIND(ASC(検索シート!$F$5),ASC(全国版!D112)))+FIND(ASC(検索シート!$F$6),ASC(全国版!E112))+FIND(ASC(検索シート!$F$7),ASC(全国版!F112)),\"\"))","v":3},{"$f":"IF(B112=\"\",\"-\",COUNT(B$4:$B112))","v":109},"栃木県","国際情報ビジネス専門学校","商業実務専門課程　国際ＩＴビジネス学科（４年制）","2010-04-01","～",null,"2010-11-29"]
[{"$f":"IF(OR(検索シート!$F$9=\"\",検索シート!$F$9=\"（指定なし）\",検索シート!$F$9=全国版!K113,AND(検索シート!$F$9=\"変更等なし\",全国版!K113=\"\")),1,0)","v":1},{"$f":"IF(A113=0,\"\",IFERROR(IF(OR(検索シート!$F$5=\"\",検索シート!$F$5=\"（指定なし）\"),1,FIND(ASC(検索シート!$F$5),ASC(全国版!D113)))+FIND(ASC(検索シート!$F$6),ASC(全国版!E113))+FIND(ASC(検索シート!$F$7),ASC(全国版!F113)),\"\"))","v":3},{"$f":"IF(B113=\"\",\"-\",COUNT(B$4:$B113))","v":110},"栃木県","国際情報ビジネス専門学校","商業実務専門課程　国際ビジネス学科（４年制）","2009-02-27","～","2010-03-31","2009-02-27","名称変更","国際情報ビジネス専門学校","商業実務専門課程　国際ＩＴビジネス学科（４年制）","2010-04-01","2010-11-29"]
[{"$f":"IF(OR(検索シート!$F$9=\"\",検索シート!$F$9=\"（指定なし）\",検索シート!$F$9=全国版!K114,AND(検索シート!$F$9=\"変更等なし\",全国版!K114=\"\")),1,0)","v":1},{"$f":"IF(A114=0,\"\",IFERROR(IF(OR(検索シート!$F$5=\"\",検索シート!$F$5=\"（指定なし）\"),1,FIND(ASC(検索シート!$F$5),ASC(全国版!D114)))+FIND(ASC(検索シート!$F$6),ASC(全国版!E114))+FIND(ASC(検索シート!$F$7),ASC(全国版!F114)),\"\"))","v":3},{"$f":"IF(B114=\"\",\"-\",COUNT(B$4:$B114))","v":111},"栃木県","国際情報ビジネス専門学校","文化教養専門課程　デジタルクリエイター学科（４年制）","2024-01-17",null,null,"2024-01-17"]
[{"$f":"IF(OR(検索シート!$F$9=\"\",検索シート!$F$9=\"（指定なし）\",検索シート!$F$9=全国版!K115,AND(検索シート!$F$9=\"変更等なし\",全国版!K115=\"\")),1,0)","v":1},{"$f":"IF(A115=0,\"\",IFERROR(IF(OR(検索シート!$F$5=\"\",検索シート!$F$5=\"（指定なし）\"),1,FIND(ASC(検索シート!$F$5),ASC(全国版!D115)))+FIND(ASC(検索シート!$F$6),ASC(全国版!E115))+FIND(ASC(検索シート!$F$7),ASC(全国版!F115)),\"\"))","v":3},{"$f":"IF(B115=\"\",\"-\",COUNT(B$4:$B115))","v":112},"栃木県","国際情報ビジネス専門学校","文化教養専門課程　デジタルクリエイター学科（４年制）","2016-02-29","～","2017-03-31","2016-02-29","廃止",null,null,"2017-03-31","2018-02-28"]
[{"$f":"IF(OR(検索シート!$F$9=\"\",検索シート!$F$9=\"（指定なし）\",検索シート!$F$9=全国版!K116,AND(検索シート!$F$9=\"変更等なし\",全国版!K116=\"\")),1,0)","v":1},{"$f":"IF(A116=0,\"\",IFERROR(IF(OR(検索シート!$F$5=\"\",検索シート!$F$5=\"（指定なし）\"),1,FIND(ASC(検索シート!$F$5),ASC(全国版!D116)))+FIND(ASC(検索シート!$F$6),ASC(全国版!E116))+FIND(ASC(検索シート!$F$7),ASC(全国版!F116)),\"\"))","v":3},{"$f":"IF(B116=\"\",\"-\",COUNT(B$4:$B116))","v":113},"栃木県","国際テクニカルデザイン・自動車専門学校","工業専門課程　一級自動車整備士学科","2009-02-27","～",null,"2009-02-27"]
[{"$f":"IF(OR(検索シート!$F$9=\"\",検索シート!$F$9=\"（指定なし）\",検索シート!$F$9=全国版!K117,AND(検索シート!$F$9=\"変更等なし\",全国版!K117=\"\")),1,0)","v":1},{"$f":"IF(A117=0,\"\",IFERROR(IF(OR(検索シート!$F$5=\"\",検索シート!$F$5=\"（指定なし）\"),1,FIND(ASC(検索シート!$F$5),ASC(全国版!D117)))+FIND(ASC(検索シート!$F$6),ASC(全国版!E117))+FIND(ASC(検索シート!$F$7),ASC(全国版!F117)),\"\"))","v":3},{"$f":"IF(B117=\"\",\"-\",COUNT(B$4:$B117))","v":114},"栃木県","国際テクニカルデザイン・自動車専門学校","商業実務専門課程　国際ＩＴキャリア学科（４年）","2023-01-27","～",null,"2023-01-27"]
[{"$f":"IF(OR(検索シート!$F$9=\"\",検索シート!$F$9=\"（指定なし）\",検索シート!$F$9=全国版!K118,AND(検索シート!$F$9=\"変更等なし\",全国版!K118=\"\")),1,0)","v":1},{"$f":"IF(A118=0,\"\",IFERROR(IF(OR(検索シート!$F$5=\"\",検索シート!$F$5=\"（指定なし）\"),1,FIND(ASC(検索シート!$F$5),ASC(全国版!D118)))+FIND(ASC(検索シート!$F$6),ASC(全国版!E118))+FIND(ASC(検索シート!$F$7),ASC(全国版!F118)),\"\"))","v":3},{"$f":"IF(B118=\"\",\"-\",COUNT(B$4:$B118))","v":115},"栃木県","国際テクニカルデザイン・自動車専門学校","商業実務専門課程　国際コミュニケーション学科（４年課程）","2011-12-22","～","2014-03-31","2011-12-22","廃止",null,null,"2014-03-31","2015-02-19"]
[{"$f":"IF(OR(検索シート!$F$9=\"\",検索シート!$F$9=\"（指定なし）\",検索シート!$F$9=全国版!K119,AND(検索シート!$F$9=\"変更等なし\",全国版!K119=\"\")),1,0)","v":1},{"$f":"IF(A119=0,\"\",IFERROR(IF(OR(検索シート!$F$5=\"\",検索シート!$F$5=\"（指定なし）\"),1,FIND(ASC(検索シート!$F$5),ASC(全国版!D119)))+FIND(ASC(検索シート!$F$6),ASC(全国版!E119))+FIND(ASC(検索シート!$F$7),ASC(全国版!F119)),\"\"))","v":3},{"$f":"IF(B119=\"\",\"-\",COUNT(B$4:$B119))","v":116},"栃木県","専門学校日産栃木自動車大学校","工業専門課程　一級自動車工学科","2007-04-01","～",null,"2008-02-29"]
[{"$f":"IF(OR(検索シート!$F$9=\"\",検索シート!$F$9=\"（指定なし）\",検索シート!$F$9=全国版!K120,AND(検索シート!$F$9=\"変更等なし\",全国版!K120=\"\")),1,0)","v":1},{"$f":"IF(A120=0,\"\",IFERROR(IF(OR(検索シート!$F$5=\"\",検索シート!$F$5=\"（指定なし）\"),1,FIND(ASC(検索シート!$F$5),ASC(全国版!D120)))+FIND(ASC(検索シート!$F$6),ASC(全国版!E120))+FIND(ASC(検索シート!$F$7),ASC(全国版!F120)),\"\"))","v":3},{"$f":"IF(B120=\"\",\"-\",COUNT(B$4:$B120))","v":117},"栃木県","日産栃木整備専門学校","工業専門課程　一級自動車工学科","2006-06-30","～","2007-03-31","2006-06-30","名称変更","専門学校日産栃木自動車大学校","工業専門課程　一級自動車工学科","2007-04-01","2008-02-29"]
[{"$f":"IF(OR(検索シート!$F$9=\"\",検索シート!$F$9=\"（指定なし）\",検索シート!$F$9=全国版!K121,AND(検索シート!$F$9=\"変更等なし\",全国版!K121=\"\")),1,0)","v":1},{"$f":"IF(A121=0,\"\",IFERROR(IF(OR(検索シート!$F$5=\"\",検索シート!$F$5=\"（指定なし）\"),1,FIND(ASC(検索シート!$F$5),ASC(全国版!D121)))+FIND(ASC(検索シート!$F$6),ASC(全国版!E121))+FIND(ASC(検索シート!$F$7),ASC(全国版!F121)),\"\"))","v":3},{"$f":"IF(B121=\"\",\"-\",COUNT(B$4:$B121))","v":118},"栃木県","マロニエ医療福祉専門学校","医療専門課程　作業療法学科","2005-12-09","～",null,"2005-12-09"]
[{"$f":"IF(OR(検索シート!$F$9=\"\",検索シート!$F$9=\"（指定なし）\",検索シート!$F$9=全国版!K122,AND(検索シート!$F$9=\"変更等なし\",全国版!K122=\"\")),1,0)","v":1},{"$f":"IF(A122=0,\"\",IFERROR(IF(OR(検索シート!$F$5=\"\",検索シート!$F$5=\"（指定なし）\"),1,FIND(ASC(検索シート!$F$5),ASC(全国版!D122)))+FIND(ASC(検索シート!$F$6),ASC(全国版!E122))+FIND(ASC(検索シート!$F$7),ASC(全国版!F122)),\"\"))","v":3},{"$f":"IF(B122=\"\",\"-\",COUNT(B$4:$B122))","v":119},"栃木県","マロニエ医療福祉専門学校","医療専門課程　理学療法学科","2005-12-09","～",null,"2005-12-09"]
[{"$f":"IF(OR(検索シート!$F$9=\"\",検索シート!$F$9=\"（指定なし）\",検索シート!$F$9=全国版!K123,AND(検索シート!$F$9=\"変更等なし\",全国版!K123=\"\")),1,0)","v":1},{"$f":"IF(A123=0,\"\",IFERROR(IF(OR(検索シート!$F$5=\"\",検索シート!$F$5=\"（指定なし）\"),1,FIND(ASC(検索シート!$F$5),ASC(全国版!D123)))+FIND(ASC(検索シート!$F$6),ASC(全国版!E123))+FIND(ASC(検索シート!$F$7),ASC(全国版!F123)),\"\"))","v":3},{"$f":"IF(B123=\"\",\"-\",COUNT(B$4:$B123))","v":120},"栃木県","マロニエ医療福祉専門学校","教育・社会福祉専門課程　福祉心理学科","2010-02-26","～",null,"2010-02-26"]
[{"$f":"IF(OR(検索シート!$F$9=\"\",検索シート!$F$9=\"（指定なし）\",検索シート!$F$9=全国版!K124,AND(検索シート!$F$9=\"変更等なし\",全国版!K124=\"\")),1,0)","v":1},{"$f":"IF(A124=0,\"\",IFERROR(IF(OR(検索シート!$F$5=\"\",検索シート!$F$5=\"（指定なし）\"),1,FIND(ASC(検索シート!$F$5),ASC(全国版!D124)))+FIND(ASC(検索シート!$F$6),ASC(全国版!E124))+FIND(ASC(検索シート!$F$7),ASC(全国版!F124)),\"\"))","v":3},{"$f":"IF(B124=\"\",\"-\",COUNT(B$4:$B124))","v":121},"栃木県","ヤマトファッションビジネス専門学校","服飾・家政専門課程　デザイン科","2016-02-29","～","2018-03-31","2016-02-29","名称変更","ヤマトファッションビジネス専門学校","服飾・家政専門課程　ファッションデザイン科","2018-04-01","2022-03-04"]
[{"$f":"IF(OR(検索シート!$F$9=\"\",検索シート!$F$9=\"（指定なし）\",検索シート!$F$9=全国版!K125,AND(検索シート!$F$9=\"変更等なし\",全国版!K125=\"\")),1,0)","v":1},{"$f":"IF(A125=0,\"\",IFERROR(IF(OR(検索シート!$F$5=\"\",検索シート!$F$5=\"（指定なし）\"),1,FIND(ASC(検索シート!$F$5),ASC(全国版!D125)))+FIND(ASC(検索シート!$F$6),ASC(全国版!E125))+FIND(ASC(検索シート!$F$7),ASC(全国版!F125)),\"\"))","v":3},{"$f":"IF(B125=\"\",\"-\",COUNT(B$4:$B125))","v":122},"栃木県","ヤマトファッションビジネス専門学校","服飾・家政専門課程　ファッションデザイン科","2018-04-01","～",null,"2022-03-04"]
[{"$f":"IF(OR(検索シート!$F$9=\"\",検索シート!$F$9=\"（指定なし）\",検索シート!$F$9=全国版!K126,AND(検索シート!$F$9=\"変更等なし\",全国版!K126=\"\")),1,0)","v":1},{"$f":"IF(A126=0,\"\",IFERROR(IF(OR(検索シート!$F$5=\"\",検索シート!$F$5=\"（指定なし）\"),1,FIND(ASC(検索シート!$F$5),ASC(全国版!D126)))+FIND(ASC(検索シート!$F$6),ASC(全国版!E126))+FIND(ASC(検索シート!$F$7),ASC(全国版!F126)),\"\"))","v":3},{"$f":"IF(B126=\"\",\"-\",COUNT(B$4:$B126))","v":123},"群馬県","太田医療技術専門学校","医療専門課程　作業療法学科","2005-12-09","～",null,"2005-12-09"]
[{"$f":"IF(OR(検索シート!$F$9=\"\",検索シート!$F$9=\"（指定なし）\",検索シート!$F$9=全国版!K127,AND(検索シート!$F$9=\"変更等なし\",全国版!K127=\"\")),1,0)","v":1},{"$f":"IF(A127=0,\"\",IFERROR(IF(OR(検索シート!$F$5=\"\",検索シート!$F$5=\"（指定なし）\"),1,FIND(ASC(検索シート!$F$5),ASC(全国版!D127)))+FIND(ASC(検索シート!$F$6),ASC(全国版!E127))+FIND(ASC(検索シート!$F$7),ASC(全国版!F127)),\"\"))","v":3},{"$f":"IF(B127=\"\",\"-\",COUNT(B$4:$B127))","v":124},"群馬県","太田医療技術専門学校","医療専門課程　理学療法学科（昼間部）","2005-12-09","～",null,"2005-12-09"]
[{"$f":"IF(OR(検索シート!$F$9=\"\",検索シート!$F$9=\"（指定なし）\",検索シート!$F$9=全国版!K128,AND(検索シート!$F$9=\"変更等なし\",全国版!K128=\"\")),1,0)","v":1},{"$f":"IF(A128=0,\"\",IFERROR(IF(OR(検索シート!$F$5=\"\",検索シート!$F$5=\"（指定なし）\"),1,FIND(ASC(検索シート!$F$5),ASC(全国版!D128)))+FIND(ASC(検索シート!$F$6),ASC(全国版!E128))+FIND(ASC(検索シート!$F$7),ASC(全国版!F128)),\"\"))","v":3},{"$f":"IF(B128=\"\",\"-\",COUNT(B$4:$B128))","v":125},"群馬県","太田情報商科専門学校","教育・社会福祉専門課程　総合学科（４年制）","2016-04-01","～",null,"2017-02-28"]
[{"$f":"IF(OR(検索シート!$F$9=\"\",検索シート!$F$9=\"（指定なし）\",検索シート!$F$9=全国版!K129,AND(検索シート!$F$9=\"変更等なし\",全国版!K129=\"\")),1,0)","v":1},{"$f":"IF(A129=0,\"\",IFERROR(IF(OR(検索シート!$F$5=\"\",検索シート!$F$5=\"（指定なし）\"),1,FIND(ASC(検索シート!$F$5),ASC(全国版!D129)))+FIND(ASC(検索シート!$F$6),ASC(全国版!E129))+FIND(ASC(検索シート!$F$7),ASC(全国版!F129)),\"\"))","v":3},{"$f":"IF(B129=\"\",\"-\",COUNT(B$4:$B129))","v":126},"群馬県","太田情報商科専門学校","工業専門課程　ゲームクリエイタ学科（４年制）","2014-04-01","～",null,"2015-02-19"]
[{"$f":"IF(OR(検索シート!$F$9=\"\",検索シート!$F$9=\"（指定なし）\",検索シート!$F$9=全国版!K130,AND(検索シート!$F$9=\"変更等なし\",全国版!K130=\"\")),1,0)","v":1},{"$f":"IF(A130=0,\"\",IFERROR(IF(OR(検索シート!$F$5=\"\",検索シート!$F$5=\"（指定なし）\"),1,FIND(ASC(検索シート!$F$5),ASC(全国版!D130)))+FIND(ASC(検索シート!$F$6),ASC(全国版!E130))+FIND(ASC(検索シート!$F$7),ASC(全国版!F130)),\"\"))","v":3},{"$f":"IF(B130=\"\",\"-\",COUNT(B$4:$B130))","v":127},"群馬県","太田情報商科専門学校","工業専門課程　ゲームクリエイタ専攻学科（ゲームグラフィックス４年制コース）","2012-04-01","～","2014-03-31","2015-02-19","名称変更","太田情報商科専門学校","工業専門課程　ゲームクリエイタ学科（４年制）","2014-04-01","2015-02-19"]
[{"$f":"IF(OR(検索シート!$F$9=\"\",検索シート!$F$9=\"（指定なし）\",検索シート!$F$9=全国版!K131,AND(検索シート!$F$9=\"変更等なし\",全国版!K131=\"\")),1,0)","v":1},{"$f":"IF(A131=0,\"\",IFERROR(IF(OR(検索シート!$F$5=\"\",検索シート!$F$5=\"（指定なし）\"),1,FIND(ASC(検索シート!$F$5),ASC(全国版!D131)))+FIND(ASC(検索シート!$F$6),ASC(全国版!E131))+FIND(ASC(検索シート!$F$7),ASC(全国版!F131)),\"\"))","v":3},{"$f":"IF(B131=\"\",\"-\",COUNT(B$4:$B131))","v":128},"群馬県","太田情報商科専門学校","工業専門課程　ゲームクリエイタ専攻学科（ゲームプログラム４年制コース）","2012-04-01","～","2014-03-31","2015-02-19","名称変更","太田情報商科専門学校","工業専門課程　ゲームクリエイタ学科（４年制）","2014-04-01","2015-02-19"]
[{"$f":"IF(OR(検索シート!$F$9=\"\",検索シート!$F$9=\"（指定なし）\",検索シート!$F$9=全国版!K132,AND(検索シート!$F$9=\"変更等なし\",全国版!K132=\"\")),1,0)","v":1},{"$f":"IF(A132=0,\"\",IFERROR(IF(OR(検索シート!$F$5=\"\",検索シート!$F$5=\"（指定なし）\"),1,FIND(ASC(検索シート!$F$5),ASC(全国版!D132)))+FIND(ASC(検索シート!$F$6),ASC(全国版!E132))+FIND(ASC(検索シート!$F$7),ASC(全国版!F132)),\"\"))","v":3},{"$f":"IF(B132=\"\",\"-\",COUNT(B$4:$B132))","v":129},"群馬県","太田情報商科専門学校","工業専門課程　ゲームクリエイタ専攻学科ゲームスペシャリストコース","2010-11-29","～","2012-03-31","2010-11-29","名称変更","太田情報商科専門学校","工業専門課程　ゲームクリエイタ専攻学科（ゲームグラフィックス４年制コース）\n工業専門課程　ゲームクリエイタ専攻学科（ゲームプログラム４年制コース）","2012-04-01","2015-02-19"]
[{"$f":"IF(OR(検索シート!$F$9=\"\",検索シート!$F$9=\"（指定なし）\",検索シート!$F$9=全国版!K133,AND(検索シート!$F$9=\"変更等なし\",全国版!K133=\"\")),1,0)","v":1},{"$f":"IF(A133=0,\"\",IFERROR(IF(OR(検索シート!$F$5=\"\",検索シート!$F$5=\"（指定なし）\"),1,FIND(ASC(検索シート!$F$5),ASC(全国版!D133)))+FIND(ASC(検索シート!$F$6),ASC(全国版!E133))+FIND(ASC(検索シート!$F$7),ASC(全国版!F133)),\"\"))","v":3},{"$f":"IF(B133=\"\",\"-\",COUNT(B$4:$B133))","v":130},"群馬県","太田情報商科専門学校","商業実務専門課程　総合学科（４年制）","2014-04-01","～","2016-03-31","2015-02-19","名称変更","太田情報商科専門学校","教育・社会福祉専門課程　総合学科（４年制）","2016-04-01","2017-02-28"]
[{"$f":"IF(OR(検索シート!$F$9=\"\",検索シート!$F$9=\"（指定なし）\",検索シート!$F$9=全国版!K134,AND(検索シート!$F$9=\"変更等なし\",全国版!K134=\"\")),1,0)","v":1},{"$f":"IF(A134=0,\"\",IFERROR(IF(OR(検索シート!$F$5=\"\",検索シート!$F$5=\"（指定なし）\"),1,FIND(ASC(検索シート!$F$5),ASC(全国版!D134)))+FIND(ASC(検索シート!$F$6),ASC(全国版!E134))+FIND(ASC(検索シート!$F$7),ASC(全国版!F134)),\"\"))","v":3},{"$f":"IF(B134=\"\",\"-\",COUNT(B$4:$B134))","v":131},"群馬県","太田情報商科専門学校","商業実務専門課程　総合専攻学科（総合スペシャリストコース）","2006-06-30","～","2014-03-31","2006-06-30","名称変更","太田情報商科専門学校","商業実務専門課程　総合学科（４年制）","2014-04-01","2015-02-19"]
[{"$f":"IF(OR(検索シート!$F$9=\"\",検索シート!$F$9=\"（指定なし）\",検索シート!$F$9=全国版!K135,AND(検索シート!$F$9=\"変更等なし\",全国版!K135=\"\")),1,0)","v":1},{"$f":"IF(A135=0,\"\",IFERROR(IF(OR(検索シート!$F$5=\"\",検索シート!$F$5=\"（指定なし）\"),1,FIND(ASC(検索シート!$F$5),ASC(全国版!D135)))+FIND(ASC(検索シート!$F$6),ASC(全国版!E135))+FIND(ASC(検索シート!$F$7),ASC(全国版!F135)),\"\"))","v":3},{"$f":"IF(B135=\"\",\"-\",COUNT(B$4:$B135))","v":132},"群馬県","群馬医療福祉大学附属リハビリ専門学校","医療専門課程　作業療法学科","2010-04-01","～","2015-07-17","2010-11-29","廃止",null,null,"2015-07-17","2016-02-29"]
[{"$f":"IF(OR(検索シート!$F$9=\"\",検索シート!$F$9=\"（指定なし）\",検索シート!$F$9=全国版!K136,AND(検索シート!$F$9=\"変更等なし\",全国版!K136=\"\")),1,0)","v":1},{"$f":"IF(A136=0,\"\",IFERROR(IF(OR(検索シート!$F$5=\"\",検索シート!$F$5=\"（指定なし）\"),1,FIND(ASC(検索シート!$F$5),ASC(全国版!D136)))+FIND(ASC(検索シート!$F$6),ASC(全国版!E136))+FIND(ASC(検索シート!$F$7),ASC(全国版!F136)),\"\"))","v":3},{"$f":"IF(B136=\"\",\"-\",COUNT(B$4:$B136))","v":133},"群馬県","群馬医療福祉大学附属リハビリ専門学校","医療専門課程　理学療法学科","2010-04-01","～","2015-07-17","2010-11-29","廃止",null,null,"2015-07-17","2016-02-29"]
[{"$f":"IF(OR(検索シート!$F$9=\"\",検索シート!$F$9=\"（指定なし）\",検索シート!$F$9=全国版!K137,AND(検索シート!$F$9=\"変更等なし\",全国版!K137=\"\")),1,0)","v":1},{"$f":"IF(A137=0,\"\",IFERROR(IF(OR(検索シート!$F$5=\"\",検索シート!$F$5=\"（指定なし）\"),1,FIND(ASC(検索シート!$F$5),ASC(全国版!D137)))+FIND(ASC(検索シート!$F$6),ASC(全国版!E137))+FIND(ASC(検索シート!$F$7),ASC(全国版!F137)),\"\"))","v":3},{"$f":"IF(B137=\"\",\"-\",COUNT(B$4:$B137))","v":134},"群馬県","群馬社会福祉大学附属医療福祉専門学校","医療福祉専門課程　作業療法学科","2009-02-27","～","2010-03-31","2009-02-27","名称変更","群馬医療福祉大学附属リハビリ専門学校","医療専門課程　作業療法学科","2010-04-01","2010-11-29"]
[{"$f":"IF(OR(検索シート!$F$9=\"\",検索シート!$F$9=\"（指定なし）\",検索シート!$F$9=全国版!K138,AND(検索シート!$F$9=\"変更等なし\",全国版!K138=\"\")),1,0)","v":1},{"$f":"IF(A138=0,\"\",IFERROR(IF(OR(検索シート!$F$5=\"\",検索シート!$F$5=\"（指定なし）\"),1,FIND(ASC(検索シート!$F$5),ASC(全国版!D138)))+FIND(ASC(検索シート!$F$6),ASC(全国版!E138))+FIND(ASC(検索シート!$F$7),ASC(全国版!F138)),\"\"))","v":3},{"$f":"IF(B138=\"\",\"-\",COUNT(B$4:$B138))","v":135},"群馬県","群馬社会福祉大学附属医療福祉専門学校","医療福祉専門課程　理学療法学科","2009-02-27","～","2010-03-31","2009-02-27","名称変更","群馬医療福祉大学附属リハビリ専門学校","医療専門課程　理学療法学科","2010-04-01","2010-11-29"]
[{"$f":"IF(OR(検索シート!$F$9=\"\",検索シート!$F$9=\"（指定なし）\",検索シート!$F$9=全国版!K139,AND(検索シート!$F$9=\"変更等なし\",全国版!K139=\"\")),1,0)","v":1},{"$f":"IF(A139=0,\"\",IFERROR(IF(OR(検索シート!$F$5=\"\",検索シート!$F$5=\"（指定なし）\"),1,FIND(ASC(検索シート!$F$5),ASC(全国版!D139)))+FIND(ASC(検索シート!$F$6),ASC(全国版!E139))+FIND(ASC(検索シート!$F$7),ASC(全国版!F139)),\"\"))","v":3},{"$f":"IF(B139=\"\",\"-\",COUNT(B$4:$B139))","v":136},"群馬県","専修学校群馬自動車大学校","自動車整備専門課程　１級自動車整備科","2005-12-09","～","2007-03-31","2005-12-09","名称変更","専門学校群馬自動車大学校","自動車整備専門課程　一級自動車整備科","2007-04-01","2008-02-29"]
[{"$f":"IF(OR(検索シート!$F$9=\"\",検索シート!$F$9=\"（指定なし）\",検索シート!$F$9=全国版!K140,AND(検索シート!$F$9=\"変更等なし\",全国版!K140=\"\")),1,0)","v":1},{"$f":"IF(A140=0,\"\",IFERROR(IF(OR(検索シート!$F$5=\"\",検索シート!$F$5=\"（指定なし）\"),1,FIND(ASC(検索シート!$F$5),ASC(全国版!D140)))+FIND(ASC(検索シート!$F$6),ASC(全国版!E140))+FIND(ASC(検索シート!$F$7),ASC(全国版!F140)),\"\"))","v":3},{"$f":"IF(B140=\"\",\"-\",COUNT(B$4:$B140))","v":137},"群馬県","専門学校太田自動車大学校","工業専門課程　一級自動車整備学科","2010-11-29","～",null,"2010-11-29"]
[{"$f":"IF(OR(検索シート!$F$9=\"\",検索シート!$F$9=\"（指定なし）\",検索シート!$F$9=全国版!K141,AND(検索シート!$F$9=\"変更等なし\",全国版!K141=\"\")),1,0)","v":1},{"$f":"IF(A141=0,\"\",IFERROR(IF(OR(検索シート!$F$5=\"\",検索シート!$F$5=\"（指定なし）\"),1,FIND(ASC(検索シート!$F$5),ASC(全国版!D141)))+FIND(ASC(検索シート!$F$6),ASC(全国版!E141))+FIND(ASC(検索シート!$F$7),ASC(全国版!F141)),\"\"))","v":3},{"$f":"IF(B141=\"\",\"-\",COUNT(B$4:$B141))","v":138},"群馬県","専門学校群馬自動車大学校","自動車整備専門課程　一級自動車整備科","2007-04-01","～","2013-03-31","2008-02-29","廃止",null,null,"2013-03-31","2014-01-28"]
[{"$f":"IF(OR(検索シート!$F$9=\"\",検索シート!$F$9=\"（指定なし）\",検索シート!$F$9=全国版!K142,AND(検索シート!$F$9=\"変更等なし\",全国版!K142=\"\")),1,0)","v":1},{"$f":"IF(A142=0,\"\",IFERROR(IF(OR(検索シート!$F$5=\"\",検索シート!$F$5=\"（指定なし）\"),1,FIND(ASC(検索シート!$F$5),ASC(全国版!D142)))+FIND(ASC(検索シート!$F$6),ASC(全国版!E142))+FIND(ASC(検索シート!$F$7),ASC(全国版!F142)),\"\"))","v":3},{"$f":"IF(B142=\"\",\"-\",COUNT(B$4:$B142))","v":139},"群馬県","専門学校中央情報大学校","工業専門課程　高度ＩＣＴデザイン学科","2021-04-01","～",null,"2022-03-04"]
[{"$f":"IF(OR(検索シート!$F$9=\"\",検索シート!$F$9=\"（指定なし）\",検索シート!$F$9=全国版!K143,AND(検索シート!$F$9=\"変更等なし\",全国版!K143=\"\")),1,0)","v":1},{"$f":"IF(A143=0,\"\",IFERROR(IF(OR(検索シート!$F$5=\"\",検索シート!$F$5=\"（指定なし）\"),1,FIND(ASC(検索シート!$F$5),ASC(全国版!D143)))+FIND(ASC(検索シート!$F$6),ASC(全国版!E143))+FIND(ASC(検索シート!$F$7),ASC(全国版!F143)),\"\"))","v":3},{"$f":"IF(B143=\"\",\"-\",COUNT(B$4:$B143))","v":140},"群馬県","専門学校中央情報大学校","工業専門課程　高度情報システム学科","2018-04-01","～","2021-03-31","2019-01-25","名称変更","専門学校中央情報大学校","工業専門課程　高度ＩＣＴデザイン学科","2021-04-01","2022-03-04"]
[{"$f":"IF(OR(検索シート!$F$9=\"\",検索シート!$F$9=\"（指定なし）\",検索シート!$F$9=全国版!K144,AND(検索シート!$F$9=\"変更等なし\",全国版!K144=\"\")),1,0)","v":1},{"$f":"IF(A144=0,\"\",IFERROR(IF(OR(検索シート!$F$5=\"\",検索シート!$F$5=\"（指定なし）\"),1,FIND(ASC(検索シート!$F$5),ASC(全国版!D144)))+FIND(ASC(検索シート!$F$6),ASC(全国版!E144))+FIND(ASC(検索シート!$F$7),ASC(全国版!F144)),\"\"))","v":3},{"$f":"IF(B144=\"\",\"-\",COUNT(B$4:$B144))","v":141},"群馬県","専門学校中央農業大学校","農業専門課程　ファーム農業経営学科（４年制）","2022-03-04","～",null,"2022-03-04"]
[{"$f":"IF(OR(検索シート!$F$9=\"\",検索シート!$F$9=\"（指定なし）\",検索シート!$F$9=全国版!K145,AND(検索シート!$F$9=\"変更等なし\",全国版!K145=\"\")),1,0)","v":1},{"$f":"IF(A145=0,\"\",IFERROR(IF(OR(検索シート!$F$5=\"\",検索シート!$F$5=\"（指定なし）\"),1,FIND(ASC(検索シート!$F$5),ASC(全国版!D145)))+FIND(ASC(検索シート!$F$6),ASC(全国版!E145))+FIND(ASC(検索シート!$F$7),ASC(全国版!F145)),\"\"))","v":3},{"$f":"IF(B145=\"\",\"-\",COUNT(B$4:$B145))","v":142},"群馬県","高崎医療技術福祉専門学校","医療専門課程　作業療法学科","2010-02-26","～","2013-03-31","2010-02-26","廃止",null,null,"2013-03-31","2014-01-28"]
[{"$f":"IF(OR(検索シート!$F$9=\"\",検索シート!$F$9=\"（指定なし）\",検索シート!$F$9=全国版!K146,AND(検索シート!$F$9=\"変更等なし\",全国版!K146=\"\")),1,0)","v":1},{"$f":"IF(A146=0,\"\",IFERROR(IF(OR(検索シート!$F$5=\"\",検索シート!$F$5=\"（指定なし）\"),1,FIND(ASC(検索シート!$F$5),ASC(全国版!D146)))+FIND(ASC(検索シート!$F$6),ASC(全国版!E146))+FIND(ASC(検索シート!$F$7),ASC(全国版!F146)),\"\"))","v":3},{"$f":"IF(B146=\"\",\"-\",COUNT(B$4:$B146))","v":143},"群馬県","高崎医療技術福祉専門学校","医療専門課程　理学療法学科（１部）","2010-02-26","～","2013-03-31","2010-02-26","廃止",null,null,"2013-03-31","2014-01-28"]
[{"$f":"IF(OR(検索シート!$F$9=\"\",検索シート!$F$9=\"（指定なし）\",検索シート!$F$9=全国版!K147,AND(検索シート!$F$9=\"変更等なし\",全国版!K147=\"\")),1,0)","v":1},{"$f":"IF(A147=0,\"\",IFERROR(IF(OR(検索シート!$F$5=\"\",検索シート!$F$5=\"（指定なし）\"),1,FIND(ASC(検索シート!$F$5),ASC(全国版!D147)))+FIND(ASC(検索シート!$F$6),ASC(全国版!E147))+FIND(ASC(検索シート!$F$7),ASC(全国版!F147)),\"\"))","v":3},{"$f":"IF(B147=\"\",\"-\",COUNT(B$4:$B147))","v":144},"群馬県","高崎医療技術福祉専門学校","医療専門課程　理学療法学科（２部）","2010-02-26","～","2013-03-31","2010-02-26","廃止",null,null,"2013-03-31","2014-01-28"]
[{"$f":"IF(OR(検索シート!$F$9=\"\",検索シート!$F$9=\"（指定なし）\",検索シート!$F$9=全国版!K148,AND(検索シート!$F$9=\"変更等なし\",全国版!K148=\"\")),1,0)","v":1},{"$f":"IF(A148=0,\"\",IFERROR(IF(OR(検索シート!$F$5=\"\",検索シート!$F$5=\"（指定なし）\"),1,FIND(ASC(検索シート!$F$5),ASC(全国版!D148)))+FIND(ASC(検索シート!$F$6),ASC(全国版!E148))+FIND(ASC(検索シート!$F$7),ASC(全国版!F148)),\"\"))","v":3},{"$f":"IF(B148=\"\",\"-\",COUNT(B$4:$B148))","v":145},"群馬県","中央情報経理専門学校","商業実務専門課程　高度会計学科（４年制）","2019-04-01","～",null,"2020-02-29"]
[{"$f":"IF(OR(検索シート!$F$9=\"\",検索シート!$F$9=\"（指定なし）\",検索シート!$F$9=全国版!K149,AND(検索シート!$F$9=\"変更等なし\",全国版!K149=\"\")),1,0)","v":1},{"$f":"IF(A149=0,\"\",IFERROR(IF(OR(検索シート!$F$5=\"\",検索シート!$F$5=\"（指定なし）\"),1,FIND(ASC(検索シート!$F$5),ASC(全国版!D149)))+FIND(ASC(検索シート!$F$6),ASC(全国版!E149))+FIND(ASC(検索シート!$F$7),ASC(全国版!F149)),\"\"))","v":3},{"$f":"IF(B149=\"\",\"-\",COUNT(B$4:$B149))","v":146},"群馬県","中央情報経理専門学校","商業実務専門課程　税理士会計学科","2009-02-27","～","2019-03-31","2009-02-27","名称変更","中央情報経理専門学校","商業実務専門課程　高度会計学科（４年制）","2019-04-01","2020-02-29"]
[{"$f":"IF(OR(検索シート!$F$9=\"\",検索シート!$F$9=\"（指定なし）\",検索シート!$F$9=全国版!K150,AND(検索シート!$F$9=\"変更等なし\",全国版!K150=\"\")),1,0)","v":1},{"$f":"IF(A150=0,\"\",IFERROR(IF(OR(検索シート!$F$5=\"\",検索シート!$F$5=\"（指定なし）\"),1,FIND(ASC(検索シート!$F$5),ASC(全国版!D150)))+FIND(ASC(検索シート!$F$6),ASC(全国版!E150))+FIND(ASC(検索シート!$F$7),ASC(全国版!F150)),\"\"))","v":3},{"$f":"IF(B150=\"\",\"-\",COUNT(B$4:$B150))","v":147},"群馬県","中央情報経理専門学校高崎校","工業専門課程　高度情報システム学科","2010-11-29","～","2018-03-31","2010-11-29","名称変更","専門学校中央情報大学校","工業専門課程　高度情報システム学科","2018-04-01","2019-01-25"]
[{"$f":"IF(OR(検索シート!$F$9=\"\",検索シート!$F$9=\"（指定なし）\",検索シート!$F$9=全国版!K151,AND(検索シート!$F$9=\"変更等なし\",全国版!K151=\"\")),1,0)","v":1},{"$f":"IF(A151=0,\"\",IFERROR(IF(OR(検索シート!$F$5=\"\",検索シート!$F$5=\"（指定なし）\"),1,FIND(ASC(検索シート!$F$5),ASC(全国版!D151)))+FIND(ASC(検索シート!$F$6),ASC(全国版!E151))+FIND(ASC(検索シート!$F$7),ASC(全国版!F151)),\"\"))","v":3},{"$f":"IF(B151=\"\",\"-\",COUNT(B$4:$B151))","v":148},"群馬県","フェリカ家づくり専門学校","工業専門課程　家創り実践科","2022-04-01","～",null,"2023-01-27"]
[{"$f":"IF(OR(検索シート!$F$9=\"\",検索シート!$F$9=\"（指定なし）\",検索シート!$F$9=全国版!K152,AND(検索シート!$F$9=\"変更等なし\",全国版!K152=\"\")),1,0)","v":1},{"$f":"IF(A152=0,\"\",IFERROR(IF(OR(検索シート!$F$5=\"\",検索シート!$F$5=\"（指定なし）\"),1,FIND(ASC(検索シート!$F$5),ASC(全国版!D152)))+FIND(ASC(検索シート!$F$6),ASC(全国版!E152))+FIND(ASC(検索シート!$F$7),ASC(全国版!F152)),\"\"))","v":3},{"$f":"IF(B152=\"\",\"-\",COUNT(B$4:$B152))","v":149},"群馬県","フェリカ家づくり専門学校","工業専門課程　建築デザイン科","2022-04-01","～",null,"2023-01-27"]
[{"$f":"IF(OR(検索シート!$F$9=\"\",検索シート!$F$9=\"（指定なし）\",検索シート!$F$9=全国版!K153,AND(検索シート!$F$9=\"変更等なし\",全国版!K153=\"\")),1,0)","v":1},{"$f":"IF(A153=0,\"\",IFERROR(IF(OR(検索シート!$F$5=\"\",検索シート!$F$5=\"（指定なし）\"),1,FIND(ASC(検索シート!$F$5),ASC(全国版!D153)))+FIND(ASC(検索シート!$F$6),ASC(全国版!E153))+FIND(ASC(検索シート!$F$7),ASC(全国版!F153)),\"\"))","v":3},{"$f":"IF(B153=\"\",\"-\",COUNT(B$4:$B153))","v":150},"群馬県","フェリカ建築＆デザイン専門学校","工業専門課程　建築デザイン科","2017-02-28","～","2022-03-31","2017-02-28","名称変更","フェリカ家づくり専門学校","工業専門課程　建築デザイン科","2022-04-01","2023-01-27"]
[{"$f":"IF(OR(検索シート!$F$9=\"\",検索シート!$F$9=\"（指定なし）\",検索シート!$F$9=全国版!K154,AND(検索シート!$F$9=\"変更等なし\",全国版!K154=\"\")),1,0)","v":1},{"$f":"IF(A154=0,\"\",IFERROR(IF(OR(検索シート!$F$5=\"\",検索シート!$F$5=\"（指定なし）\"),1,FIND(ASC(検索シート!$F$5),ASC(全国版!D154)))+FIND(ASC(検索シート!$F$6),ASC(全国版!E154))+FIND(ASC(検索シート!$F$7),ASC(全国版!F154)),\"\"))","v":3},{"$f":"IF(B154=\"\",\"-\",COUNT(B$4:$B154))","v":151},"群馬県","フェリカ建築＆デザイン専門学校","工業専門課程　建築設計工学科","2005-12-09","～","2022-03-31","2005-12-09","名称変更","フェリカ家づくり専門学校","工業専門課程　家創り実践科","2022-04-01","2023-01-27"]
[{"$f":"IF(OR(検索シート!$F$9=\"\",検索シート!$F$9=\"（指定なし）\",検索シート!$F$9=全国版!K155,AND(検索シート!$F$9=\"変更等なし\",全国版!K155=\"\")),1,0)","v":1},{"$f":"IF(A155=0,\"\",IFERROR(IF(OR(検索シート!$F$5=\"\",検索シート!$F$5=\"（指定なし）\"),1,FIND(ASC(検索シート!$F$5),ASC(全国版!D155)))+FIND(ASC(検索シート!$F$6),ASC(全国版!E155))+FIND(ASC(検索シート!$F$7),ASC(全国版!F155)),\"\"))","v":3},{"$f":"IF(B155=\"\",\"-\",COUNT(B$4:$B155))","v":152},"群馬県","前橋医療福祉専門学校","医療専門課程　言語聴覚学科","2005-12-09","～","2013-03-31","2005-12-09","廃止",null,null,"2013-03-31","2014-01-28"]
[{"$f":"IF(OR(検索シート!$F$9=\"\",検索シート!$F$9=\"（指定なし）\",検索シート!$F$9=全国版!K156,AND(検索シート!$F$9=\"変更等なし\",全国版!K156=\"\")),1,0)","v":1},{"$f":"IF(A156=0,\"\",IFERROR(IF(OR(検索シート!$F$5=\"\",検索シート!$F$5=\"（指定なし）\"),1,FIND(ASC(検索シート!$F$5),ASC(全国版!D156)))+FIND(ASC(検索シート!$F$6),ASC(全国版!E156))+FIND(ASC(検索シート!$F$7),ASC(全国版!F156)),\"\"))","v":3},{"$f":"IF(B156=\"\",\"-\",COUNT(B$4:$B156))","v":153},"群馬県","前橋医療福祉専門学校","医療専門課程　作業療法学科","2005-12-09","～","2021-03-31","2005-12-09","不適合",null,null,"2021-04-01","2022-03-04"]
[{"$f":"IF(OR(検索シート!$F$9=\"\",検索シート!$F$9=\"（指定なし）\",検索シート!$F$9=全国版!K157,AND(検索シート!$F$9=\"変更等なし\",全国版!K157=\"\")),1,0)","v":1},{"$f":"IF(A157=0,\"\",IFERROR(IF(OR(検索シート!$F$5=\"\",検索シート!$F$5=\"（指定なし）\"),1,FIND(ASC(検索シート!$F$5),ASC(全国版!D157)))+FIND(ASC(検索シート!$F$6),ASC(全国版!E157))+FIND(ASC(検索シート!$F$7),ASC(全国版!F157)),\"\"))","v":3},{"$f":"IF(B157=\"\",\"-\",COUNT(B$4:$B157))","v":154},"群馬県","前橋医療福祉専門学校","医療専門課程　理学療法学科","2005-12-09","～","2021-03-31","2005-12-09","不適合",null,null,"2021-04-01","2022-03-04"]
[{"$f":"IF(OR(検索シート!$F$9=\"\",検索シート!$F$9=\"（指定なし）\",検索シート!$F$9=全国版!K158,AND(検索シート!$F$9=\"変更等なし\",全国版!K158=\"\")),1,0)","v":1},{"$f":"IF(A158=0,\"\",IFERROR(IF(OR(検索シート!$F$5=\"\",検索シート!$F$5=\"（指定なし）\"),1,FIND(ASC(検索シート!$F$5),ASC(全国版!D158)))+FIND(ASC(検索シート!$F$6),ASC(全国版!E158))+FIND(ASC(検索シート!$F$7),ASC(全国版!F158)),\"\"))","v":3},{"$f":"IF(B158=\"\",\"-\",COUNT(B$4:$B158))","v":155},"埼玉県","ＣＡＤ製図専門学校","工業専門課程　ＣＡＤビジネス高度専門士科午後部","2019-01-25","～",null,"2019-01-25"]
[{"$f":"IF(OR(検索シート!$F$9=\"\",検索シート!$F$9=\"（指定なし）\",検索シート!$F$9=全国版!K159,AND(検索シート!$F$9=\"変更等なし\",全国版!K159=\"\")),1,0)","v":1},{"$f":"IF(A159=0,\"\",IFERROR(IF(OR(検索シート!$F$5=\"\",検索シート!$F$5=\"（指定なし）\"),1,FIND(ASC(検索シート!$F$5),ASC(全国版!D159)))+FIND(ASC(検索シート!$F$6),ASC(全国版!E159))+FIND(ASC(検索シート!$F$7),ASC(全国版!F159)),\"\"))","v":3},{"$f":"IF(B159=\"\",\"-\",COUNT(B$4:$B159))","v":156},"埼玉県","ＣＡＤ製図専門学校","工業専門課程　ＣＡＤビジネス高度専門士科午前部","2019-01-25","～",null,"2019-01-25"]
[{"$f":"IF(OR(検索シート!$F$9=\"\",検索シート!$F$9=\"（指定なし）\",検索シート!$F$9=全国版!K160,AND(検索シート!$F$9=\"変更等なし\",全国版!K160=\"\")),1,0)","v":1},{"$f":"IF(A160=0,\"\",IFERROR(IF(OR(検索シート!$F$5=\"\",検索シート!$F$5=\"（指定なし）\"),1,FIND(ASC(検索シート!$F$5),ASC(全国版!D160)))+FIND(ASC(検索シート!$F$6),ASC(全国版!E160))+FIND(ASC(検索シート!$F$7),ASC(全国版!F160)),\"\"))","v":3},{"$f":"IF(B160=\"\",\"-\",COUNT(B$4:$B160))","v":157},"埼玉県","ＣＡＤ製図専門学校","工業専門課程　建築ＣＡＤ科","2013-01-29","～","2018-03-31","2013-01-29","廃止",null,null,"2018-03-31","2021-02-24"]
[{"$f":"IF(OR(検索シート!$F$9=\"\",検索シート!$F$9=\"（指定なし）\",検索シート!$F$9=全国版!K161,AND(検索シート!$F$9=\"変更等なし\",全国版!K161=\"\")),1,0)","v":1},{"$f":"IF(A161=0,\"\",IFERROR(IF(OR(検索シート!$F$5=\"\",検索シート!$F$5=\"（指定なし）\"),1,FIND(ASC(検索シート!$F$5),ASC(全国版!D161)))+FIND(ASC(検索シート!$F$6),ASC(全国版!E161))+FIND(ASC(検索シート!$F$7),ASC(全国版!F161)),\"\"))","v":3},{"$f":"IF(B161=\"\",\"-\",COUNT(B$4:$B161))","v":158},"埼玉県","医学アカデミー","医療専門課程　理学療法学科（４年制・昼間部）","2010-11-29","～","2015-03-31","2010-11-29","廃止",null,null,"2015-03-31","2016-02-29"]
[{"$f":"IF(OR(検索シート!$F$9=\"\",検索シート!$F$9=\"（指定なし）\",検索シート!$F$9=全国版!K162,AND(検索シート!$F$9=\"変更等なし\",全国版!K162=\"\")),1,0)","v":1},{"$f":"IF(A162=0,\"\",IFERROR(IF(OR(検索シート!$F$5=\"\",検索シート!$F$5=\"（指定なし）\"),1,FIND(ASC(検索シート!$F$5),ASC(全国版!D162)))+FIND(ASC(検索シート!$F$6),ASC(全国版!E162))+FIND(ASC(検索シート!$F$7),ASC(全国版!F162)),\"\"))","v":3},{"$f":"IF(B162=\"\",\"-\",COUNT(B$4:$B162))","v":159},"埼玉県","大原簿記医療秘書専門学校大宮校","商業実務専門課程　経理本科４年制","2005-12-09","～","2006-03-31","2005-12-09","名称変更","大原簿記専門学校大宮校","商業実務専門課程　経理本科４年制","2006-04-01","2007-02-28"]
[{"$f":"IF(OR(検索シート!$F$9=\"\",検索シート!$F$9=\"（指定なし）\",検索シート!$F$9=全国版!K163,AND(検索シート!$F$9=\"変更等なし\",全国版!K163=\"\")),1,0)","v":1},{"$f":"IF(A163=0,\"\",IFERROR(IF(OR(検索シート!$F$5=\"\",検索シート!$F$5=\"（指定なし）\"),1,FIND(ASC(検索シート!$F$5),ASC(全国版!D163)))+FIND(ASC(検索シート!$F$6),ASC(全国版!E163))+FIND(ASC(検索シート!$F$7),ASC(全国版!F163)),\"\"))","v":3},{"$f":"IF(B163=\"\",\"-\",COUNT(B$4:$B163))","v":160},"埼玉県","大原簿記専門学校大宮校","商業実務専門課程　経理本科４年制","2006-04-01","～","2012-03-31","2007-02-28","廃止",null,null,"2012-03-31","2013-01-29"]
[{"$f":"IF(OR(検索シート!$F$9=\"\",検索シート!$F$9=\"（指定なし）\",検索シート!$F$9=全国版!K164,AND(検索シート!$F$9=\"変更等なし\",全国版!K164=\"\")),1,0)","v":1},{"$f":"IF(A164=0,\"\",IFERROR(IF(OR(検索シート!$F$5=\"\",検索シート!$F$5=\"（指定なし）\"),1,FIND(ASC(検索シート!$F$5),ASC(全国版!D164)))+FIND(ASC(検索シート!$F$6),ASC(全国版!E164))+FIND(ASC(検索シート!$F$7),ASC(全国版!F164)),\"\"))","v":3},{"$f":"IF(B164=\"\",\"-\",COUNT(B$4:$B164))","v":161},"埼玉県","さいたまＩＴ・ＷＥＢ専門学校","工業専門課程　高度専門士情報技術科","2024-01-17",null,null,"2024-01-17"]
[{"$f":"IF(OR(検索シート!$F$9=\"\",検索シート!$F$9=\"（指定なし）\",検索シート!$F$9=全国版!K165,AND(検索シート!$F$9=\"変更等なし\",全国版!K165=\"\")),1,0)","v":1},{"$f":"IF(A165=0,\"\",IFERROR(IF(OR(検索シート!$F$5=\"\",検索シート!$F$5=\"（指定なし）\"),1,FIND(ASC(検索シート!$F$5),ASC(全国版!D165)))+FIND(ASC(検索シート!$F$6),ASC(全国版!E165))+FIND(ASC(検索シート!$F$7),ASC(全国版!F165)),\"\"))","v":3},{"$f":"IF(B165=\"\",\"-\",COUNT(B$4:$B165))","v":162},"埼玉県","埼玉医療福祉専門学校","医療専門課程　理学療法学科（昼間部）","2017-04-01","～",null,"2019-01-25"]
[{"$f":"IF(OR(検索シート!$F$9=\"\",検索シート!$F$9=\"（指定なし）\",検索シート!$F$9=全国版!K166,AND(検索シート!$F$9=\"変更等なし\",全国版!K166=\"\")),1,0)","v":1},{"$f":"IF(A166=0,\"\",IFERROR(IF(OR(検索シート!$F$5=\"\",検索シート!$F$5=\"（指定なし）\"),1,FIND(ASC(検索シート!$F$5),ASC(全国版!D166)))+FIND(ASC(検索シート!$F$6),ASC(全国版!E166))+FIND(ASC(検索シート!$F$7),ASC(全国版!F166)),\"\"))","v":3},{"$f":"IF(B166=\"\",\"-\",COUNT(B$4:$B166))","v":163},"埼玉県","埼玉医療福祉専門学校","医療専門課程　理学療法学科","2005-12-09","～","2017-03-31","2005-12-09","名称変更","埼玉医療福祉専門学校","医療専門課程　理学療法学科（昼間部）","2017-04-01","2019-01-25"]
[{"$f":"IF(OR(検索シート!$F$9=\"\",検索シート!$F$9=\"（指定なし）\",検索シート!$F$9=全国版!K167,AND(検索シート!$F$9=\"変更等なし\",全国版!K167=\"\")),1,0)","v":1},{"$f":"IF(A167=0,\"\",IFERROR(IF(OR(検索シート!$F$5=\"\",検索シート!$F$5=\"（指定なし）\"),1,FIND(ASC(検索シート!$F$5),ASC(全国版!D167)))+FIND(ASC(検索シート!$F$6),ASC(全国版!E167))+FIND(ASC(検索シート!$F$7),ASC(全国版!F167)),\"\"))","v":3},{"$f":"IF(B167=\"\",\"-\",COUNT(B$4:$B167))","v":164},"埼玉県","埼玉工業専門学校","工業専門課程　４年制一級自動車整備科","2008-02-29","～","2008-03-31","2008-02-29","名称変更","専門学校埼玉自動車大学校","工業専門課程　４年制一級自動車整備科","2008-04-01","2009-02-27"]
[{"$f":"IF(OR(検索シート!$F$9=\"\",検索シート!$F$9=\"（指定なし）\",検索シート!$F$9=全国版!K168,AND(検索シート!$F$9=\"変更等なし\",全国版!K168=\"\")),1,0)","v":1},{"$f":"IF(A168=0,\"\",IFERROR(IF(OR(検索シート!$F$5=\"\",検索シート!$F$5=\"（指定なし）\"),1,FIND(ASC(検索シート!$F$5),ASC(全国版!D168)))+FIND(ASC(検索シート!$F$6),ASC(全国版!E168))+FIND(ASC(検索シート!$F$7),ASC(全国版!F168)),\"\"))","v":3},{"$f":"IF(B168=\"\",\"-\",COUNT(B$4:$B168))","v":165},"埼玉県","専門学校関東工業自動車大学校","工業専門課程　一級自動車整備科","2014-01-28","～",null,"2014-01-28"]
[{"$f":"IF(OR(検索シート!$F$9=\"\",検索シート!$F$9=\"（指定なし）\",検索シート!$F$9=全国版!K169,AND(検索シート!$F$9=\"変更等なし\",全国版!K169=\"\")),1,0)","v":1},{"$f":"IF(A169=0,\"\",IFERROR(IF(OR(検索シート!$F$5=\"\",検索シート!$F$5=\"（指定なし）\"),1,FIND(ASC(検索シート!$F$5),ASC(全国版!D169)))+FIND(ASC(検索シート!$F$6),ASC(全国版!E169))+FIND(ASC(検索シート!$F$7),ASC(全国版!F169)),\"\"))","v":3},{"$f":"IF(B169=\"\",\"-\",COUNT(B$4:$B169))","v":166},"埼玉県","専門学校埼玉自動車大学校","工業専門課程　一級自動車整備科","2013-04-01","～",null,"2014-01-28"]
[{"$f":"IF(OR(検索シート!$F$9=\"\",検索シート!$F$9=\"（指定なし）\",検索シート!$F$9=全国版!K170,AND(検索シート!$F$9=\"変更等なし\",全国版!K170=\"\")),1,0)","v":1},{"$f":"IF(A170=0,\"\",IFERROR(IF(OR(検索シート!$F$5=\"\",検索シート!$F$5=\"（指定なし）\"),1,FIND(ASC(検索シート!$F$5),ASC(全国版!D170)))+FIND(ASC(検索シート!$F$6),ASC(全国版!E170))+FIND(ASC(検索シート!$F$7),ASC(全国版!F170)),\"\"))","v":3},{"$f":"IF(B170=\"\",\"-\",COUNT(B$4:$B170))","v":167},"埼玉県","専門学校埼玉自動車大学校","工業専門課程　４年制一級自動車整備科","2008-04-01","～","2013-03-31","2009-02-27","名称変更","専門学校埼玉自動車大学校","工業専門課程　一級自動車整備科","2013-04-01","2014-01-28"]
[{"$f":"IF(OR(検索シート!$F$9=\"\",検索シート!$F$9=\"（指定なし）\",検索シート!$F$9=全国版!K171,AND(検索シート!$F$9=\"変更等なし\",全国版!K171=\"\")),1,0)","v":1},{"$f":"IF(A171=0,\"\",IFERROR(IF(OR(検索シート!$F$5=\"\",検索シート!$F$5=\"（指定なし）\"),1,FIND(ASC(検索シート!$F$5),ASC(全国版!D171)))+FIND(ASC(検索シート!$F$6),ASC(全国版!E171))+FIND(ASC(検索シート!$F$7),ASC(全国版!F171)),\"\"))","v":3},{"$f":"IF(B171=\"\",\"-\",COUNT(B$4:$B171))","v":168},"埼玉県","中央情報専門学校","工業専門課程　ＩＣＴマネジメント学科","2018-04-01","～","2021-03-31","2019-01-25","廃止",null,null,"2021-03-31","2022-03-04"]
[{"$f":"IF(OR(検索シート!$F$9=\"\",検索シート!$F$9=\"（指定なし）\",検索シート!$F$9=全国版!K172,AND(検索シート!$F$9=\"変更等なし\",全国版!K172=\"\")),1,0)","v":1},{"$f":"IF(A172=0,\"\",IFERROR(IF(OR(検索シート!$F$5=\"\",検索シート!$F$5=\"（指定なし）\"),1,FIND(ASC(検索シート!$F$5),ASC(全国版!D172)))+FIND(ASC(検索シート!$F$6),ASC(全国版!E172))+FIND(ASC(検索シート!$F$7),ASC(全国版!F172)),\"\"))","v":3},{"$f":"IF(B172=\"\",\"-\",COUNT(B$4:$B172))","v":169},"埼玉県","中央情報専門学校","工業専門課程　ＩＴプロフェッショナル学科","2012-04-01","～","2018-03-31","2013-01-29","名称変更","中央情報専門学校","工業専門課程　ＩＣＴマネジメント学科","2018-04-01","2019-01-25"]
[{"$f":"IF(OR(検索シート!$F$9=\"\",検索シート!$F$9=\"（指定なし）\",検索シート!$F$9=全国版!K173,AND(検索シート!$F$9=\"変更等なし\",全国版!K173=\"\")),1,0)","v":1},{"$f":"IF(A173=0,\"\",IFERROR(IF(OR(検索シート!$F$5=\"\",検索シート!$F$5=\"（指定なし）\"),1,FIND(ASC(検索シート!$F$5),ASC(全国版!D173)))+FIND(ASC(検索シート!$F$6),ASC(全国版!E173))+FIND(ASC(検索シート!$F$7),ASC(全国版!F173)),\"\"))","v":3},{"$f":"IF(B173=\"\",\"-\",COUNT(B$4:$B173))","v":170},"埼玉県","中央情報専門学校","工業専門課程　高度情報技術者（国家資格）学科","2007-02-28","～","2012-03-31","2007-02-28","名称変更","中央情報専門学校","工業専門課程　ＩＴプロフェッショナル学科","2012-04-01","2013-01-29"]
[{"$f":"IF(OR(検索シート!$F$9=\"\",検索シート!$F$9=\"（指定なし）\",検索シート!$F$9=全国版!K174,AND(検索シート!$F$9=\"変更等なし\",全国版!K174=\"\")),1,0)","v":1},{"$f":"IF(A174=0,\"\",IFERROR(IF(OR(検索シート!$F$5=\"\",検索シート!$F$5=\"（指定なし）\"),1,FIND(ASC(検索シート!$F$5),ASC(全国版!D174)))+FIND(ASC(検索シート!$F$6),ASC(全国版!E174))+FIND(ASC(検索シート!$F$7),ASC(全国版!F174)),\"\"))","v":3},{"$f":"IF(B174=\"\",\"-\",COUNT(B$4:$B174))","v":171},"埼玉県","ホンダテクニカルカレッジ関東","工業専門課程　一級自動車研究開発学科","2018-04-01","～",null,"2019-01-25"]
[{"$f":"IF(OR(検索シート!$F$9=\"\",検索シート!$F$9=\"（指定なし）\",検索シート!$F$9=全国版!K175,AND(検索シート!$F$9=\"変更等なし\",全国版!K175=\"\")),1,0)","v":1},{"$f":"IF(A175=0,\"\",IFERROR(IF(OR(検索シート!$F$5=\"\",検索シート!$F$5=\"（指定なし）\"),1,FIND(ASC(検索シート!$F$5),ASC(全国版!D175)))+FIND(ASC(検索シート!$F$6),ASC(全国版!E175))+FIND(ASC(検索シート!$F$7),ASC(全国版!F175)),\"\"))","v":3},{"$f":"IF(B175=\"\",\"-\",COUNT(B$4:$B175))","v":172},"埼玉県","ホンダテクニカルカレッジ関東","工業専門課程　一級自動車整備研究科","2006-06-30","～","2018-03-31","2006-06-30","名称変更","ホンダテクニカルカレッジ関東","工業専門課程　一級自動車研究開発学科","2018-04-01","2019-01-25"]
[{"$f":"IF(OR(検索シート!$F$9=\"\",検索シート!$F$9=\"（指定なし）\",検索シート!$F$9=全国版!K176,AND(検索シート!$F$9=\"変更等なし\",全国版!K176=\"\")),1,0)","v":1},{"$f":"IF(A176=0,\"\",IFERROR(IF(OR(検索シート!$F$5=\"\",検索シート!$F$5=\"（指定なし）\"),1,FIND(ASC(検索シート!$F$5),ASC(全国版!D176)))+FIND(ASC(検索シート!$F$6),ASC(全国版!E176))+FIND(ASC(検索シート!$F$7),ASC(全国版!F176)),\"\"))","v":3},{"$f":"IF(B176=\"\",\"-\",COUNT(B$4:$B176))","v":173},"埼玉県","早稲田大学川口芸術学校","芸術専門課程　映像文化学科","2008-02-29","～","2015-03-31","2008-02-29","廃止",null,null,"2015-03-31","2016-02-29"]
[{"$f":"IF(OR(検索シート!$F$9=\"\",検索シート!$F$9=\"（指定なし）\",検索シート!$F$9=全国版!K177,AND(検索シート!$F$9=\"変更等なし\",全国版!K177=\"\")),1,0)","v":1},{"$f":"IF(A177=0,\"\",IFERROR(IF(OR(検索シート!$F$5=\"\",検索シート!$F$5=\"（指定なし）\"),1,FIND(ASC(検索シート!$F$5),ASC(全国版!D177)))+FIND(ASC(検索シート!$F$6),ASC(全国版!E177))+FIND(ASC(検索シート!$F$7),ASC(全国版!F177)),\"\"))","v":3},{"$f":"IF(B177=\"\",\"-\",COUNT(B$4:$B177))","v":174},"埼玉県","蕨戸田市医師会看護専門学校","専門課程　看護学科","2016-02-29","～",null,"2016-02-29"]
[{"$f":"IF(OR(検索シート!$F$9=\"\",検索シート!$F$9=\"（指定なし）\",検索シート!$F$9=全国版!K178,AND(検索シート!$F$9=\"変更等なし\",全国版!K178=\"\")),1,0)","v":1},{"$f":"IF(A178=0,\"\",IFERROR(IF(OR(検索シート!$F$5=\"\",検索シート!$F$5=\"（指定なし）\"),1,FIND(ASC(検索シート!$F$5),ASC(全国版!D178)))+FIND(ASC(検索シート!$F$6),ASC(全国版!E178))+FIND(ASC(検索シート!$F$7),ASC(全国版!F178)),\"\"))","v":3},{"$f":"IF(B178=\"\",\"-\",COUNT(B$4:$B178))","v":175},"千葉県","（専）中央自動車大学校","工業専門課程　一級自動車整備科","2006-06-30","～",null,"2006-06-30"]
[{"$f":"IF(OR(検索シート!$F$9=\"\",検索シート!$F$9=\"（指定なし）\",検索シート!$F$9=全国版!K179,AND(検索シート!$F$9=\"変更等なし\",全国版!K179=\"\")),1,0)","v":1},{"$f":"IF(A179=0,\"\",IFERROR(IF(OR(検索シート!$F$5=\"\",検索シート!$F$5=\"（指定なし）\"),1,FIND(ASC(検索シート!$F$5),ASC(全国版!D179)))+FIND(ASC(検索シート!$F$6),ASC(全国版!E179))+FIND(ASC(検索シート!$F$7),ASC(全国版!F179)),\"\"))","v":3},{"$f":"IF(B179=\"\",\"-\",COUNT(B$4:$B179))","v":176},"千葉県","明生情報ビジネス専門学校","商業実務専門課程　オフィススペシャリスト科国際情報ビジネスコース（４年課程）","2009-02-27","～","2014-03-31","2009-02-27","廃止",null,null,"2014-03-31","2015-02-19"]
[{"$f":"IF(OR(検索シート!$F$9=\"\",検索シート!$F$9=\"（指定なし）\",検索シート!$F$9=全国版!K180,AND(検索シート!$F$9=\"変更等なし\",全国版!K180=\"\")),1,0)","v":1},{"$f":"IF(A180=0,\"\",IFERROR(IF(OR(検索シート!$F$5=\"\",検索シート!$F$5=\"（指定なし）\"),1,FIND(ASC(検索シート!$F$5),ASC(全国版!D180)))+FIND(ASC(検索シート!$F$6),ASC(全国版!E180))+FIND(ASC(検索シート!$F$7),ASC(全国版!F180)),\"\"))","v":3},{"$f":"IF(B180=\"\",\"-\",COUNT(B$4:$B180))","v":177},"千葉県","沼南リハビリテーション学院","医療専門課程　作業療法科","2005-12-09","～","2006-03-31","2005-12-09","名称変更","千葉・柏リハビリテーション学院","医療専門課程　作業療法科","2006-04-01","2007-02-28"]
[{"$f":"IF(OR(検索シート!$F$9=\"\",検索シート!$F$9=\"（指定なし）\",検索シート!$F$9=全国版!K181,AND(検索シート!$F$9=\"変更等なし\",全国版!K181=\"\")),1,0)","v":1},{"$f":"IF(A181=0,\"\",IFERROR(IF(OR(検索シート!$F$5=\"\",検索シート!$F$5=\"（指定なし）\"),1,FIND(ASC(検索シート!$F$5),ASC(全国版!D181)))+FIND(ASC(検索シート!$F$6),ASC(全国版!E181))+FIND(ASC(検索シート!$F$7),ASC(全国版!F181)),\"\"))","v":3},{"$f":"IF(B181=\"\",\"-\",COUNT(B$4:$B181))","v":178},"千葉県","沼南リハビリテーション学院","医療専門課程　理学療法科","2005-12-09","～","2006-03-31","2005-12-09","名称変更","千葉・柏リハビリテーション学院","医療専門課程　理学療法科","2006-04-01","2007-02-28"]
[{"$f":"IF(OR(検索シート!$F$9=\"\",検索シート!$F$9=\"（指定なし）\",検索シート!$F$9=全国版!K182,AND(検索シート!$F$9=\"変更等なし\",全国版!K182=\"\")),1,0)","v":1},{"$f":"IF(A182=0,\"\",IFERROR(IF(OR(検索シート!$F$5=\"\",検索シート!$F$5=\"（指定なし）\"),1,FIND(ASC(検索シート!$F$5),ASC(全国版!D182)))+FIND(ASC(検索シート!$F$6),ASC(全国版!E182))+FIND(ASC(検索シート!$F$7),ASC(全国版!F182)),\"\"))","v":3},{"$f":"IF(B182=\"\",\"-\",COUNT(B$4:$B182))","v":179},"千葉県","専門学校三育学院カレッジ","キリスト教教養専門課程　神学科（神学専攻）４年制","2018-02-28","～",null,"2018-02-28"]
[{"$f":"IF(OR(検索シート!$F$9=\"\",検索シート!$F$9=\"（指定なし）\",検索シート!$F$9=全国版!K183,AND(検索シート!$F$9=\"変更等なし\",全国版!K183=\"\")),1,0)","v":1},{"$f":"IF(A183=0,\"\",IFERROR(IF(OR(検索シート!$F$5=\"\",検索シート!$F$5=\"（指定なし）\"),1,FIND(ASC(検索シート!$F$5),ASC(全国版!D183)))+FIND(ASC(検索シート!$F$6),ASC(全国版!E183))+FIND(ASC(検索シート!$F$7),ASC(全国版!F183)),\"\"))","v":3},{"$f":"IF(B183=\"\",\"-\",COUNT(B$4:$B183))","v":180},"千葉県","専門学校千葉県自動車総合大学校","自動車専門課程　１級自動車整備科","2006-06-30","～","2019-03-31","2006-06-30","廃止",null,null,"2019-03-31","2020-02-29"]
[{"$f":"IF(OR(検索シート!$F$9=\"\",検索シート!$F$9=\"（指定なし）\",検索シート!$F$9=全国版!K184,AND(検索シート!$F$9=\"変更等なし\",全国版!K184=\"\")),1,0)","v":1},{"$f":"IF(A184=0,\"\",IFERROR(IF(OR(検索シート!$F$5=\"\",検索シート!$F$5=\"（指定なし）\"),1,FIND(ASC(検索シート!$F$5),ASC(全国版!D184)))+FIND(ASC(検索シート!$F$6),ASC(全国版!E184))+FIND(ASC(検索シート!$F$7),ASC(全国版!F184)),\"\"))","v":3},{"$f":"IF(B184=\"\",\"-\",COUNT(B$4:$B184))","v":181},"千葉県","専門学校日本自動車大学校","自動車産業専門課程　自動車研究科","2006-06-30","～",null,"2006-06-30"]
[{"$f":"IF(OR(検索シート!$F$9=\"\",検索シート!$F$9=\"（指定なし）\",検索シート!$F$9=全国版!K185,AND(検索シート!$F$9=\"変更等なし\",全国版!K185=\"\")),1,0)","v":1},{"$f":"IF(A185=0,\"\",IFERROR(IF(OR(検索シート!$F$5=\"\",検索シート!$F$5=\"（指定なし）\"),1,FIND(ASC(検索シート!$F$5),ASC(全国版!D185)))+FIND(ASC(検索シート!$F$6),ASC(全国版!E185))+FIND(ASC(検索シート!$F$7),ASC(全国版!F185)),\"\"))","v":3},{"$f":"IF(B185=\"\",\"-\",COUNT(B$4:$B185))","v":182},"千葉県","専門学校藤リハビリテーション学院","医療専門課程　理学療法学科","2005-12-09","～",null,"2005-12-09"]
[{"$f":"IF(OR(検索シート!$F$9=\"\",検索シート!$F$9=\"（指定なし）\",検索シート!$F$9=全国版!K186,AND(検索シート!$F$9=\"変更等なし\",全国版!K186=\"\")),1,0)","v":1},{"$f":"IF(A186=0,\"\",IFERROR(IF(OR(検索シート!$F$5=\"\",検索シート!$F$5=\"（指定なし）\"),1,FIND(ASC(検索シート!$F$5),ASC(全国版!D186)))+FIND(ASC(検索シート!$F$6),ASC(全国版!E186))+FIND(ASC(検索シート!$F$7),ASC(全国版!F186)),\"\"))","v":3},{"$f":"IF(B186=\"\",\"-\",COUNT(B$4:$B186))","v":183},"千葉県","千葉・柏リハビリテ―ション学院","医療専門課程　理学療法学科","2012-04-01","～","2017-03-31","2018-02-28","廃止",null,null,"2017-03-31","2018-02-28"]
[{"$f":"IF(OR(検索シート!$F$9=\"\",検索シート!$F$9=\"（指定なし）\",検索シート!$F$9=全国版!K187,AND(検索シート!$F$9=\"変更等なし\",全国版!K187=\"\")),1,0)","v":1},{"$f":"IF(A187=0,\"\",IFERROR(IF(OR(検索シート!$F$5=\"\",検索シート!$F$5=\"（指定なし）\"),1,FIND(ASC(検索シート!$F$5),ASC(全国版!D187)))+FIND(ASC(検索シート!$F$6),ASC(全国版!E187))+FIND(ASC(検索シート!$F$7),ASC(全国版!F187)),\"\"))","v":3},{"$f":"IF(B187=\"\",\"-\",COUNT(B$4:$B187))","v":184},"千葉県","千葉・柏リハビリテーション学院","医療専門課程　作業療法科","2006-04-01","～","2012-03-31","2007-02-28","廃止",null,null,"2012-03-31","2013-01-29"]
[{"$f":"IF(OR(検索シート!$F$9=\"\",検索シート!$F$9=\"（指定なし）\",検索シート!$F$9=全国版!K188,AND(検索シート!$F$9=\"変更等なし\",全国版!K188=\"\")),1,0)","v":1},{"$f":"IF(A188=0,\"\",IFERROR(IF(OR(検索シート!$F$5=\"\",検索シート!$F$5=\"（指定なし）\"),1,FIND(ASC(検索シート!$F$5),ASC(全国版!D188)))+FIND(ASC(検索シート!$F$6),ASC(全国版!E188))+FIND(ASC(検索シート!$F$7),ASC(全国版!F188)),\"\"))","v":3},{"$f":"IF(B188=\"\",\"-\",COUNT(B$4:$B188))","v":185},"千葉県","千葉・柏リハビリテーション学院","医療専門課程　理学療法科","2006-04-01","～","2012-03-31","2007-02-28","名称変更","千葉・柏リハビリテ―ション学院","医療専門課程　理学療法学科","2012-04-01","2018-02-28"]
[{"$f":"IF(OR(検索シート!$F$9=\"\",検索シート!$F$9=\"（指定なし）\",検索シート!$F$9=全国版!K189,AND(検索シート!$F$9=\"変更等なし\",全国版!K189=\"\")),1,0)","v":1},{"$f":"IF(A189=0,\"\",IFERROR(IF(OR(検索シート!$F$5=\"\",検索シート!$F$5=\"（指定なし）\"),1,FIND(ASC(検索シート!$F$5),ASC(全国版!D189)))+FIND(ASC(検索シート!$F$6),ASC(全国版!E189))+FIND(ASC(検索シート!$F$7),ASC(全国版!F189)),\"\"))","v":3},{"$f":"IF(B189=\"\",\"-\",COUNT(B$4:$B189))","v":186},"千葉県","千葉医療福祉専門学校","医療専門課程　作業療法学科","2005-12-09","～",null,"2005-12-09"]
[{"$f":"IF(OR(検索シート!$F$9=\"\",検索シート!$F$9=\"（指定なし）\",検索シート!$F$9=全国版!K190,AND(検索シート!$F$9=\"変更等なし\",全国版!K190=\"\")),1,0)","v":1},{"$f":"IF(A190=0,\"\",IFERROR(IF(OR(検索シート!$F$5=\"\",検索シート!$F$5=\"（指定なし）\"),1,FIND(ASC(検索シート!$F$5),ASC(全国版!D190)))+FIND(ASC(検索シート!$F$6),ASC(全国版!E190))+FIND(ASC(検索シート!$F$7),ASC(全国版!F190)),\"\"))","v":3},{"$f":"IF(B190=\"\",\"-\",COUNT(B$4:$B190))","v":187},"千葉県","千葉医療福祉専門学校","医療専門課程　理学療法学科","2005-12-09","～",null,"2005-12-09"]
[{"$f":"IF(OR(検索シート!$F$9=\"\",検索シート!$F$9=\"（指定なし）\",検索シート!$F$9=全国版!K191,AND(検索シート!$F$9=\"変更等なし\",全国版!K191=\"\")),1,0)","v":1},{"$f":"IF(A191=0,\"\",IFERROR(IF(OR(検索シート!$F$5=\"\",検索シート!$F$5=\"（指定なし）\"),1,FIND(ASC(検索シート!$F$5),ASC(全国版!D191)))+FIND(ASC(検索シート!$F$6),ASC(全国版!E191))+FIND(ASC(検索シート!$F$7),ASC(全国版!F191)),\"\"))","v":3},{"$f":"IF(B191=\"\",\"-\",COUNT(B$4:$B191))","v":188},"千葉県","千葉県自動車整備商工組合立専門学校千葉県自動車大学校","自動車整備専門課程　一級自動車研究科","2007-02-28","～",null,"2007-02-28"]
[{"$f":"IF(OR(検索シート!$F$9=\"\",検索シート!$F$9=\"（指定なし）\",検索シート!$F$9=全国版!K192,AND(検索シート!$F$9=\"変更等なし\",全国版!K192=\"\")),1,0)","v":1},{"$f":"IF(A192=0,\"\",IFERROR(IF(OR(検索シート!$F$5=\"\",検索シート!$F$5=\"（指定なし）\"),1,FIND(ASC(検索シート!$F$5),ASC(全国版!D192)))+FIND(ASC(検索シート!$F$6),ASC(全国版!E192))+FIND(ASC(検索シート!$F$7),ASC(全国版!F192)),\"\"))","v":3},{"$f":"IF(B192=\"\",\"-\",COUNT(B$4:$B192))","v":189},"千葉県","二葉看護学院","保健・看護専門課程（統合カリキュラム）　保健看護学科","2005-12-09","～",null,"2005-12-09"]
[{"$f":"IF(OR(検索シート!$F$9=\"\",検索シート!$F$9=\"（指定なし）\",検索シート!$F$9=全国版!K193,AND(検索シート!$F$9=\"変更等なし\",全国版!K193=\"\")),1,0)","v":1},{"$f":"IF(A193=0,\"\",IFERROR(IF(OR(検索シート!$F$5=\"\",検索シート!$F$5=\"（指定なし）\"),1,FIND(ASC(検索シート!$F$5),ASC(全国版!D193)))+FIND(ASC(検索シート!$F$6),ASC(全国版!E193))+FIND(ASC(検索シート!$F$7),ASC(全国版!F193)),\"\"))","v":3},{"$f":"IF(B193=\"\",\"-\",COUNT(B$4:$B193))","v":190},"千葉県","船橋情報ビジネス専門学校","工業専門課程　ＩＴエンジニア科４年制","2020-02-29","～",null,"2020-02-29"]
[{"$f":"IF(OR(検索シート!$F$9=\"\",検索シート!$F$9=\"（指定なし）\",検索シート!$F$9=全国版!K194,AND(検索シート!$F$9=\"変更等なし\",全国版!K194=\"\")),1,0)","v":1},{"$f":"IF(A194=0,\"\",IFERROR(IF(OR(検索シート!$F$5=\"\",検索シート!$F$5=\"（指定なし）\"),1,FIND(ASC(検索シート!$F$5),ASC(全国版!D194)))+FIND(ASC(検索シート!$F$6),ASC(全国版!E194))+FIND(ASC(検索シート!$F$7),ASC(全国版!F194)),\"\"))","v":3},{"$f":"IF(B194=\"\",\"-\",COUNT(B$4:$B194))","v":191},"千葉県","明生情報ビジネス専門学校","工業専門課程　コンピュータエキスパート科マスターコース","2007-02-28","～","2008-03-31","2007-02-28","廃止",null,null,"2008-03-31","2009-02-27"]
[{"$f":"IF(OR(検索シート!$F$9=\"\",検索シート!$F$9=\"（指定なし）\",検索シート!$F$9=全国版!K195,AND(検索シート!$F$9=\"変更等なし\",全国版!K195=\"\")),1,0)","v":1},{"$f":"IF(A195=0,\"\",IFERROR(IF(OR(検索シート!$F$5=\"\",検索シート!$F$5=\"（指定なし）\"),1,FIND(ASC(検索シート!$F$5),ASC(全国版!D195)))+FIND(ASC(検索シート!$F$6),ASC(全国版!E195))+FIND(ASC(検索シート!$F$7),ASC(全国版!F195)),\"\"))","v":3},{"$f":"IF(B195=\"\",\"-\",COUNT(B$4:$B195))","v":192},"東京都","ＨＡＬ東京","テクノロジ専門課程　ＣＧデザイン学科","2010-02-26","～","2010-03-31","2010-02-26","名称変更","ＨＡＬ東京","デジタル専門課程　ＣＧデザイン学科","2010-04-01","2010-11-29"]
[{"$f":"IF(OR(検索シート!$F$9=\"\",検索シート!$F$9=\"（指定なし）\",検索シート!$F$9=全国版!K196,AND(検索シート!$F$9=\"変更等なし\",全国版!K196=\"\")),1,0)","v":1},{"$f":"IF(A196=0,\"\",IFERROR(IF(OR(検索シート!$F$5=\"\",検索シート!$F$5=\"（指定なし）\"),1,FIND(ASC(検索シート!$F$5),ASC(全国版!D196)))+FIND(ASC(検索シート!$F$6),ASC(全国版!E196))+FIND(ASC(検索シート!$F$7),ASC(全国版!F196)),\"\"))","v":3},{"$f":"IF(B196=\"\",\"-\",COUNT(B$4:$B196))","v":193},"東京都","ＨＡＬ東京","テクノロジ専門課程　ＷＥＢ開発学科","2010-02-26","～","2010-03-31","2010-02-26","名称変更","ＨＡＬ東京","デジタル専門課程　ＷＥＢ開発学科","2010-04-01","2010-11-29"]
[{"$f":"IF(OR(検索シート!$F$9=\"\",検索シート!$F$9=\"（指定なし）\",検索シート!$F$9=全国版!K197,AND(検索シート!$F$9=\"変更等なし\",全国版!K197=\"\")),1,0)","v":1},{"$f":"IF(A197=0,\"\",IFERROR(IF(OR(検索シート!$F$5=\"\",検索シート!$F$5=\"（指定なし）\"),1,FIND(ASC(検索シート!$F$5),ASC(全国版!D197)))+FIND(ASC(検索シート!$F$6),ASC(全国版!E197))+FIND(ASC(検索シート!$F$7),ASC(全国版!F197)),\"\"))","v":3},{"$f":"IF(B197=\"\",\"-\",COUNT(B$4:$B197))","v":194},"東京都","ＨＡＬ東京","テクノロジ専門課程　カーデザイン学科","2010-02-26","～","2010-03-31","2010-02-26","名称変更","ＨＡＬ東京","デジタル専門課程　カーデザイン学科","2010-04-01","2010-11-29"]
[{"$f":"IF(OR(検索シート!$F$9=\"\",検索シート!$F$9=\"（指定なし）\",検索シート!$F$9=全国版!K198,AND(検索シート!$F$9=\"変更等なし\",全国版!K198=\"\")),1,0)","v":1},{"$f":"IF(A198=0,\"\",IFERROR(IF(OR(検索シート!$F$5=\"\",検索シート!$F$5=\"（指定なし）\"),1,FIND(ASC(検索シート!$F$5),ASC(全国版!D198)))+FIND(ASC(検索シート!$F$6),ASC(全国版!E198))+FIND(ASC(検索シート!$F$7),ASC(全国版!F198)),\"\"))","v":3},{"$f":"IF(B198=\"\",\"-\",COUNT(B$4:$B198))","v":195},"東京都","ＨＡＬ東京","テクノロジ専門課程　ゲーム開発学科","2010-02-26","～","2010-03-31","2010-02-26","名称変更","ＨＡＬ東京","デジタル専門課程　ゲーム開発学科","2010-04-01","2010-11-29"]
[{"$f":"IF(OR(検索シート!$F$9=\"\",検索シート!$F$9=\"（指定なし）\",検索シート!$F$9=全国版!K199,AND(検索シート!$F$9=\"変更等なし\",全国版!K199=\"\")),1,0)","v":1},{"$f":"IF(A199=0,\"\",IFERROR(IF(OR(検索シート!$F$5=\"\",検索シート!$F$5=\"（指定なし）\"),1,FIND(ASC(検索シート!$F$5),ASC(全国版!D199)))+FIND(ASC(検索シート!$F$6),ASC(全国版!E199))+FIND(ASC(検索シート!$F$7),ASC(全国版!F199)),\"\"))","v":3},{"$f":"IF(B199=\"\",\"-\",COUNT(B$4:$B199))","v":196},"東京都","ＨＡＬ東京","テクノロジ専門課程　ゲーム制作学科","2010-02-26","～","2010-03-31","2010-02-26","名称変更","ＨＡＬ東京","デジタル専門課程　ゲーム制作学科","2010-04-01","2010-11-29"]
[{"$f":"IF(OR(検索シート!$F$9=\"\",検索シート!$F$9=\"（指定なし）\",検索シート!$F$9=全国版!K200,AND(検索シート!$F$9=\"変更等なし\",全国版!K200=\"\")),1,0)","v":1},{"$f":"IF(A200=0,\"\",IFERROR(IF(OR(検索シート!$F$5=\"\",検索シート!$F$5=\"（指定なし）\"),1,FIND(ASC(検索シート!$F$5),ASC(全国版!D200)))+FIND(ASC(検索シート!$F$6),ASC(全国版!E200))+FIND(ASC(検索シート!$F$7),ASC(全国版!F200)),\"\"))","v":3},{"$f":"IF(B200=\"\",\"-\",COUNT(B$4:$B200))","v":197},"東京都","ＨＡＬ東京","テクノロジ専門課程　ゲームデザイン学科","2010-02-26","～","2010-03-31","2010-02-26","名称変更","ＨＡＬ東京","デジタル専門課程　ゲームデザイン学科","2010-04-01","2010-11-29"]
[{"$f":"IF(OR(検索シート!$F$9=\"\",検索シート!$F$9=\"（指定なし）\",検索シート!$F$9=全国版!K201,AND(検索シート!$F$9=\"変更等なし\",全国版!K201=\"\")),1,0)","v":1},{"$f":"IF(A201=0,\"\",IFERROR(IF(OR(検索シート!$F$5=\"\",検索シート!$F$5=\"（指定なし）\"),1,FIND(ASC(検索シート!$F$5),ASC(全国版!D201)))+FIND(ASC(検索シート!$F$6),ASC(全国版!E201))+FIND(ASC(検索シート!$F$7),ASC(全国版!F201)),\"\"))","v":3},{"$f":"IF(B201=\"\",\"-\",COUNT(B$4:$B201))","v":198},"東京都","ＨＡＬ東京","テクノロジ専門課程　高度情報処理学科","2010-02-26","～","2010-03-31","2010-02-26","名称変更","ＨＡＬ東京","デジタル専門課程　高度情報処理学科","2010-04-01","2010-11-29"]
[{"$f":"IF(OR(検索シート!$F$9=\"\",検索シート!$F$9=\"（指定なし）\",検索シート!$F$9=全国版!K202,AND(検索シート!$F$9=\"変更等なし\",全国版!K202=\"\")),1,0)","v":1},{"$f":"IF(A202=0,\"\",IFERROR(IF(OR(検索シート!$F$5=\"\",検索シート!$F$5=\"（指定なし）\"),1,FIND(ASC(検索シート!$F$5),ASC(全国版!D202)))+FIND(ASC(検索シート!$F$6),ASC(全国版!E202))+FIND(ASC(検索シート!$F$7),ASC(全国版!F202)),\"\"))","v":3},{"$f":"IF(B202=\"\",\"-\",COUNT(B$4:$B202))","v":199},"東京都","ＨＡＬ東京","テクノロジ専門課程　情報セキュリティ学科","2010-02-26","～","2010-03-31","2010-02-26","名称変更","ＨＡＬ東京","デジタル専門課程　高度情報セキュリティ学科","2010-04-01","2010-11-29"]
[{"$f":"IF(OR(検索シート!$F$9=\"\",検索シート!$F$9=\"（指定なし）\",検索シート!$F$9=全国版!K203,AND(検索シート!$F$9=\"変更等なし\",全国版!K203=\"\")),1,0)","v":1},{"$f":"IF(A203=0,\"\",IFERROR(IF(OR(検索シート!$F$5=\"\",検索シート!$F$5=\"（指定なし）\"),1,FIND(ASC(検索シート!$F$5),ASC(全国版!D203)))+FIND(ASC(検索シート!$F$6),ASC(全国版!E203))+FIND(ASC(検索シート!$F$7),ASC(全国版!F203)),\"\"))","v":3},{"$f":"IF(B203=\"\",\"-\",COUNT(B$4:$B203))","v":200},"東京都","ＨＡＬ東京","テクノロジ専門課程　デジタル映像学科","2010-02-26","～","2010-03-31","2010-02-26","名称変更","ＨＡＬ東京","デジタル専門課程　デジタル映像学科","2010-04-01","2010-11-29"]
[{"$f":"IF(OR(検索シート!$F$9=\"\",検索シート!$F$9=\"（指定なし）\",検索シート!$F$9=全国版!K204,AND(検索シート!$F$9=\"変更等なし\",全国版!K204=\"\")),1,0)","v":1},{"$f":"IF(A204=0,\"\",IFERROR(IF(OR(検索シート!$F$5=\"\",検索シート!$F$5=\"（指定なし）\"),1,FIND(ASC(検索シート!$F$5),ASC(全国版!D204)))+FIND(ASC(検索シート!$F$6),ASC(全国版!E204))+FIND(ASC(検索シート!$F$7),ASC(全国版!F204)),\"\"))","v":3},{"$f":"IF(B204=\"\",\"-\",COUNT(B$4:$B204))","v":201},"東京都","ＨＡＬ東京","テクノロジ専門課程　ミュージック学科（４年制）","2010-02-26","～","2010-03-31","2010-02-26","名称変更","ＨＡＬ東京","デジタル専門課程　ミュージック学科（４年制）","2010-04-01","2010-11-29"]
[{"$f":"IF(OR(検索シート!$F$9=\"\",検索シート!$F$9=\"（指定なし）\",検索シート!$F$9=全国版!K205,AND(検索シート!$F$9=\"変更等なし\",全国版!K205=\"\")),1,0)","v":1},{"$f":"IF(A205=0,\"\",IFERROR(IF(OR(検索シート!$F$5=\"\",検索シート!$F$5=\"（指定なし）\"),1,FIND(ASC(検索シート!$F$5),ASC(全国版!D205)))+FIND(ASC(検索シート!$F$6),ASC(全国版!E205))+FIND(ASC(検索シート!$F$7),ASC(全国版!F205)),\"\"))","v":3},{"$f":"IF(B205=\"\",\"-\",COUNT(B$4:$B205))","v":202},"東京都","ＨＡＬ東京","テクノロジ専門課程　ロボティクス学科","2010-02-26","～","2010-03-31","2010-02-26","名称変更","ＨＡＬ東京","デジタル専門課程　ロボット開発学科","2010-04-01","2010-11-29"]
[{"$f":"IF(OR(検索シート!$F$9=\"\",検索シート!$F$9=\"（指定なし）\",検索シート!$F$9=全国版!K206,AND(検索シート!$F$9=\"変更等なし\",全国版!K206=\"\")),1,0)","v":1},{"$f":"IF(A206=0,\"\",IFERROR(IF(OR(検索シート!$F$5=\"\",検索シート!$F$5=\"（指定なし）\"),1,FIND(ASC(検索シート!$F$5),ASC(全国版!D206)))+FIND(ASC(検索シート!$F$6),ASC(全国版!E206))+FIND(ASC(検索シート!$F$7),ASC(全国版!F206)),\"\"))","v":3},{"$f":"IF(B206=\"\",\"-\",COUNT(B$4:$B206))","v":203},"東京都","ＨＡＬ東京","デジタル専門課程　ＣＧ・デザイン・アニメ４年制学科","2021-04-01","～",null,"2022-03-04"]
[{"$f":"IF(OR(検索シート!$F$9=\"\",検索シート!$F$9=\"（指定なし）\",検索シート!$F$9=全国版!K207,AND(検索シート!$F$9=\"変更等なし\",全国版!K207=\"\")),1,0)","v":1},{"$f":"IF(A207=0,\"\",IFERROR(IF(OR(検索シート!$F$5=\"\",検索シート!$F$5=\"（指定なし）\"),1,FIND(ASC(検索シート!$F$5),ASC(全国版!D207)))+FIND(ASC(検索シート!$F$6),ASC(全国版!E207))+FIND(ASC(検索シート!$F$7),ASC(全国版!F207)),\"\"))","v":3},{"$f":"IF(B207=\"\",\"-\",COUNT(B$4:$B207))","v":204},"東京都","ＨＡＬ東京","デジタル専門課程　ＣＧ映像アニメーション学科","2013-04-01","～","2014-03-31","2014-01-28","名称変更","ＨＡＬ東京","デジタル専門課程　ＣＧ映像学科（４年制・昼間部）","2014-04-01","2015-02-19"]
[{"$f":"IF(OR(検索シート!$F$9=\"\",検索シート!$F$9=\"（指定なし）\",検索シート!$F$9=全国版!K208,AND(検索シート!$F$9=\"変更等なし\",全国版!K208=\"\")),1,0)","v":1},{"$f":"IF(A208=0,\"\",IFERROR(IF(OR(検索シート!$F$5=\"\",検索シート!$F$5=\"（指定なし）\"),1,FIND(ASC(検索シート!$F$5),ASC(全国版!D208)))+FIND(ASC(検索シート!$F$6),ASC(全国版!E208))+FIND(ASC(検索シート!$F$7),ASC(全国版!F208)),\"\"))","v":3},{"$f":"IF(B208=\"\",\"-\",COUNT(B$4:$B208))","v":205},"東京都","ＨＡＬ東京","デジタル専門課程　ＣＧ映像学科（４年制・昼間部）","2014-04-01","～","2021-03-31","2015-02-19","名称変更","ＨＡＬ東京","デジタル専門課程　ＣＧ・デザイン・アニメ４年制学科","2021-04-01","2022-03-04"]
[{"$f":"IF(OR(検索シート!$F$9=\"\",検索シート!$F$9=\"（指定なし）\",検索シート!$F$9=全国版!K209,AND(検索シート!$F$9=\"変更等なし\",全国版!K209=\"\")),1,0)","v":1},{"$f":"IF(A209=0,\"\",IFERROR(IF(OR(検索シート!$F$5=\"\",検索シート!$F$5=\"（指定なし）\"),1,FIND(ASC(検索シート!$F$5),ASC(全国版!D209)))+FIND(ASC(検索シート!$F$6),ASC(全国版!E209))+FIND(ASC(検索シート!$F$7),ASC(全国版!F209)),\"\"))","v":3},{"$f":"IF(B209=\"\",\"-\",COUNT(B$4:$B209))","v":206},"東京都","ＨＡＬ東京","デジタル専門課程　ＣＧデザイン学科","2010-04-01","～","2015-03-31","2010-11-29","名称変更","ＨＡＬ東京","デジタル専門課程　グラフィックデザイン学科（４年制・昼間部）","2015-04-01","2016-02-29"]
[{"$f":"IF(OR(検索シート!$F$9=\"\",検索シート!$F$9=\"（指定なし）\",検索シート!$F$9=全国版!K210,AND(検索シート!$F$9=\"変更等なし\",全国版!K210=\"\")),1,0)","v":1},{"$f":"IF(A210=0,\"\",IFERROR(IF(OR(検索シート!$F$5=\"\",検索シート!$F$5=\"（指定なし）\"),1,FIND(ASC(検索シート!$F$5),ASC(全国版!D210)))+FIND(ASC(検索シート!$F$6),ASC(全国版!E210))+FIND(ASC(検索シート!$F$7),ASC(全国版!F210)),\"\"))","v":3},{"$f":"IF(B210=\"\",\"-\",COUNT(B$4:$B210))","v":207},"東京都","ＨＡＬ東京","デジタル専門課程　ＷＥＢ開発学科","2010-04-01","～","2022-03-31","2010-11-29","廃止",null,null,"2022-03-31","2023-01-27"]
[{"$f":"IF(OR(検索シート!$F$9=\"\",検索シート!$F$9=\"（指定なし）\",検索シート!$F$9=全国版!K211,AND(検索シート!$F$9=\"変更等なし\",全国版!K211=\"\")),1,0)","v":1},{"$f":"IF(A211=0,\"\",IFERROR(IF(OR(検索シート!$F$5=\"\",検索シート!$F$5=\"（指定なし）\"),1,FIND(ASC(検索シート!$F$5),ASC(全国版!D211)))+FIND(ASC(検索シート!$F$6),ASC(全国版!E211))+FIND(ASC(検索シート!$F$7),ASC(全国版!F211)),\"\"))","v":3},{"$f":"IF(B211=\"\",\"-\",COUNT(B$4:$B211))","v":208},"東京都","ＨＡＬ東京","デジタル専門課程　アニメ・イラスト学科","2015-02-19","～",null,"2015-02-19"]
[{"$f":"IF(OR(検索シート!$F$9=\"\",検索シート!$F$9=\"（指定なし）\",検索シート!$F$9=全国版!K212,AND(検索シート!$F$9=\"変更等なし\",全国版!K212=\"\")),1,0)","v":1},{"$f":"IF(A212=0,\"\",IFERROR(IF(OR(検索シート!$F$5=\"\",検索シート!$F$5=\"（指定なし）\"),1,FIND(ASC(検索シート!$F$5),ASC(全国版!D212)))+FIND(ASC(検索シート!$F$6),ASC(全国版!E212))+FIND(ASC(検索シート!$F$7),ASC(全国版!F212)),\"\"))","v":3},{"$f":"IF(B212=\"\",\"-\",COUNT(B$4:$B212))","v":209},"東京都","ＨＡＬ東京","デジタル専門課程　カーデザイン学科","2010-04-01","～",null,"2010-11-29"]
[{"$f":"IF(OR(検索シート!$F$9=\"\",検索シート!$F$9=\"（指定なし）\",検索シート!$F$9=全国版!K213,AND(検索シート!$F$9=\"変更等なし\",全国版!K213=\"\")),1,0)","v":1},{"$f":"IF(A213=0,\"\",IFERROR(IF(OR(検索シート!$F$5=\"\",検索シート!$F$5=\"（指定なし）\"),1,FIND(ASC(検索シート!$F$5),ASC(全国版!D213)))+FIND(ASC(検索シート!$F$6),ASC(全国版!E213))+FIND(ASC(検索シート!$F$7),ASC(全国版!F213)),\"\"))","v":3},{"$f":"IF(B213=\"\",\"-\",COUNT(B$4:$B213))","v":210},"東京都","ＨＡＬ東京","デジタル専門課程　グラフィックデザイン学科（４年制・昼間部）","2015-04-01","～",null,"2016-02-29"]
[{"$f":"IF(OR(検索シート!$F$9=\"\",検索シート!$F$9=\"（指定なし）\",検索シート!$F$9=全国版!K214,AND(検索シート!$F$9=\"変更等なし\",全国版!K214=\"\")),1,0)","v":1},{"$f":"IF(A214=0,\"\",IFERROR(IF(OR(検索シート!$F$5=\"\",検索シート!$F$5=\"（指定なし）\"),1,FIND(ASC(検索シート!$F$5),ASC(全国版!D214)))+FIND(ASC(検索シート!$F$6),ASC(全国版!E214))+FIND(ASC(検索シート!$F$7),ASC(全国版!F214)),\"\"))","v":3},{"$f":"IF(B214=\"\",\"-\",COUNT(B$4:$B214))","v":211},"東京都","ＨＡＬ東京","デジタル専門課程　ゲーム４年制学科","2019-04-01","～",null,"2020-02-29"]
[{"$f":"IF(OR(検索シート!$F$9=\"\",検索シート!$F$9=\"（指定なし）\",検索シート!$F$9=全国版!K215,AND(検索シート!$F$9=\"変更等なし\",全国版!K215=\"\")),1,0)","v":1},{"$f":"IF(A215=0,\"\",IFERROR(IF(OR(検索シート!$F$5=\"\",検索シート!$F$5=\"（指定なし）\"),1,FIND(ASC(検索シート!$F$5),ASC(全国版!D215)))+FIND(ASC(検索シート!$F$6),ASC(全国版!E215))+FIND(ASC(検索シート!$F$7),ASC(全国版!F215)),\"\"))","v":3},{"$f":"IF(B215=\"\",\"-\",COUNT(B$4:$B215))","v":212},"東京都","ＨＡＬ東京","デジタル専門課程　ゲーム開発学科","2010-04-01","～","2015-03-31","2010-11-29","名称変更","ＨＡＬ東京","デジタル専門課程　ゲーム企画学科","2015-04-01","2016-02-29"]
[{"$f":"IF(OR(検索シート!$F$9=\"\",検索シート!$F$9=\"（指定なし）\",検索シート!$F$9=全国版!K216,AND(検索シート!$F$9=\"変更等なし\",全国版!K216=\"\")),1,0)","v":1},{"$f":"IF(A216=0,\"\",IFERROR(IF(OR(検索シート!$F$5=\"\",検索シート!$F$5=\"（指定なし）\"),1,FIND(ASC(検索シート!$F$5),ASC(全国版!D216)))+FIND(ASC(検索シート!$F$6),ASC(全国版!E216))+FIND(ASC(検索シート!$F$7),ASC(全国版!F216)),\"\"))","v":3},{"$f":"IF(B216=\"\",\"-\",COUNT(B$4:$B216))","v":213},"東京都","ＨＡＬ東京","デジタル専門課程　ゲーム企画学科","2015-04-01","～","2022-03-31","2016-02-29","廃止",null,null,"2022-03-31","2023-01-27"]
[{"$f":"IF(OR(検索シート!$F$9=\"\",検索シート!$F$9=\"（指定なし）\",検索シート!$F$9=全国版!K217,AND(検索シート!$F$9=\"変更等なし\",全国版!K217=\"\")),1,0)","v":1},{"$f":"IF(A217=0,\"\",IFERROR(IF(OR(検索シート!$F$5=\"\",検索シート!$F$5=\"（指定なし）\"),1,FIND(ASC(検索シート!$F$5),ASC(全国版!D217)))+FIND(ASC(検索シート!$F$6),ASC(全国版!E217))+FIND(ASC(検索シート!$F$7),ASC(全国版!F217)),\"\"))","v":3},{"$f":"IF(B217=\"\",\"-\",COUNT(B$4:$B217))","v":214},"東京都","ＨＡＬ東京","デジタル専門課程　ゲーム制作学科","2010-04-01","～","2019-03-31","2010-11-29","名称変更","ＨＡＬ東京","デジタル専門課程　ゲーム４年制学科","2019-04-01","2020-02-29"]
[{"$f":"IF(OR(検索シート!$F$9=\"\",検索シート!$F$9=\"（指定なし）\",検索シート!$F$9=全国版!K218,AND(検索シート!$F$9=\"変更等なし\",全国版!K218=\"\")),1,0)","v":1},{"$f":"IF(A218=0,\"\",IFERROR(IF(OR(検索シート!$F$5=\"\",検索シート!$F$5=\"（指定なし）\"),1,FIND(ASC(検索シート!$F$5),ASC(全国版!D218)))+FIND(ASC(検索シート!$F$6),ASC(全国版!E218))+FIND(ASC(検索シート!$F$7),ASC(全国版!F218)),\"\"))","v":3},{"$f":"IF(B218=\"\",\"-\",COUNT(B$4:$B218))","v":215},"東京都","ＨＡＬ東京","デジタル専門課程　ゲームデザイン学科","2010-04-01","～","2022-03-31","2010-11-29","廃止",null,null,"2022-03-31","2023-01-27"]
[{"$f":"IF(OR(検索シート!$F$9=\"\",検索シート!$F$9=\"（指定なし）\",検索シート!$F$9=全国版!K219,AND(検索シート!$F$9=\"変更等なし\",全国版!K219=\"\")),1,0)","v":1},{"$f":"IF(A219=0,\"\",IFERROR(IF(OR(検索シート!$F$5=\"\",検索シート!$F$5=\"（指定なし）\"),1,FIND(ASC(検索シート!$F$5),ASC(全国版!D219)))+FIND(ASC(検索シート!$F$6),ASC(全国版!E219))+FIND(ASC(検索シート!$F$7),ASC(全国版!F219)),\"\"))","v":3},{"$f":"IF(B219=\"\",\"-\",COUNT(B$4:$B219))","v":216},"東京都","ＨＡＬ東京","デジタル専門課程　高度情報学科","2019-04-01","～",null,"2020-02-29"]
[{"$f":"IF(OR(検索シート!$F$9=\"\",検索シート!$F$9=\"（指定なし）\",検索シート!$F$9=全国版!K220,AND(検索シート!$F$9=\"変更等なし\",全国版!K220=\"\")),1,0)","v":1},{"$f":"IF(A220=0,\"\",IFERROR(IF(OR(検索シート!$F$5=\"\",検索シート!$F$5=\"（指定なし）\"),1,FIND(ASC(検索シート!$F$5),ASC(全国版!D220)))+FIND(ASC(検索シート!$F$6),ASC(全国版!E220))+FIND(ASC(検索シート!$F$7),ASC(全国版!F220)),\"\"))","v":3},{"$f":"IF(B220=\"\",\"-\",COUNT(B$4:$B220))","v":217},"東京都","ＨＡＬ東京","デジタル専門課程　高度情報処理学科","2010-04-01","～","2019-03-31","2010-11-29","名称変更","ＨＡＬ東京","デジタル専門課程　高度情報学科","2019-04-01","2020-02-29"]
[{"$f":"IF(OR(検索シート!$F$9=\"\",検索シート!$F$9=\"（指定なし）\",検索シート!$F$9=全国版!K221,AND(検索シート!$F$9=\"変更等なし\",全国版!K221=\"\")),1,0)","v":1},{"$f":"IF(A221=0,\"\",IFERROR(IF(OR(検索シート!$F$5=\"\",検索シート!$F$5=\"（指定なし）\"),1,FIND(ASC(検索シート!$F$5),ASC(全国版!D221)))+FIND(ASC(検索シート!$F$6),ASC(全国版!E221))+FIND(ASC(検索シート!$F$7),ASC(全国版!F221)),\"\"))","v":3},{"$f":"IF(B221=\"\",\"-\",COUNT(B$4:$B221))","v":218},"東京都","ＨＡＬ東京","デジタル専門課程　高度情報セキュリティ学科","2010-04-01","～","2017-03-31","2010-11-29","廃止",null,null,"2017-03-31","2018-02-28"]
[{"$f":"IF(OR(検索シート!$F$9=\"\",検索シート!$F$9=\"（指定なし）\",検索シート!$F$9=全国版!K222,AND(検索シート!$F$9=\"変更等なし\",全国版!K222=\"\")),1,0)","v":1},{"$f":"IF(A222=0,\"\",IFERROR(IF(OR(検索シート!$F$5=\"\",検索シート!$F$5=\"（指定なし）\"),1,FIND(ASC(検索シート!$F$5),ASC(全国版!D222)))+FIND(ASC(検索シート!$F$6),ASC(全国版!E222))+FIND(ASC(検索シート!$F$7),ASC(全国版!F222)),\"\"))","v":3},{"$f":"IF(B222=\"\",\"-\",COUNT(B$4:$B222))","v":219},"東京都","ＨＡＬ東京","デジタル専門課程　先端ロボット開発学科","2011-04-01","～","2023-03-31","2011-12-22","廃止",null,null,"2023-03-31"]
[{"$f":"IF(OR(検索シート!$F$9=\"\",検索シート!$F$9=\"（指定なし）\",検索シート!$F$9=全国版!K223,AND(検索シート!$F$9=\"変更等なし\",全国版!K223=\"\")),1,0)","v":1},{"$f":"IF(A223=0,\"\",IFERROR(IF(OR(検索シート!$F$5=\"\",検索シート!$F$5=\"（指定なし）\"),1,FIND(ASC(検索シート!$F$5),ASC(全国版!D223)))+FIND(ASC(検索シート!$F$6),ASC(全国版!E223))+FIND(ASC(検索シート!$F$7),ASC(全国版!F223)),\"\"))","v":3},{"$f":"IF(B223=\"\",\"-\",COUNT(B$4:$B223))","v":220},"東京都","ＨＡＬ東京","デジタル専門課程　デジタル映像学科","2010-04-01","～","2013-03-31","2010-11-29","名称変更","ＨＡＬ東京","デジタル専門課程　ＣＧ映像アニメーション学科","2013-04-01","2014-01-28"]
[{"$f":"IF(OR(検索シート!$F$9=\"\",検索シート!$F$9=\"（指定なし）\",検索シート!$F$9=全国版!K224,AND(検索シート!$F$9=\"変更等なし\",全国版!K224=\"\")),1,0)","v":1},{"$f":"IF(A224=0,\"\",IFERROR(IF(OR(検索シート!$F$5=\"\",検索シート!$F$5=\"（指定なし）\"),1,FIND(ASC(検索シート!$F$5),ASC(全国版!D224)))+FIND(ASC(検索シート!$F$6),ASC(全国版!E224))+FIND(ASC(検索シート!$F$7),ASC(全国版!F224)),\"\"))","v":3},{"$f":"IF(B224=\"\",\"-\",COUNT(B$4:$B224))","v":221},"東京都","ＨＡＬ東京","デジタル専門課程　ミュージック学科（４年制）","2010-04-01","～",null,"2010-11-29"]
[{"$f":"IF(OR(検索シート!$F$9=\"\",検索シート!$F$9=\"（指定なし）\",検索シート!$F$9=全国版!K225,AND(検索シート!$F$9=\"変更等なし\",全国版!K225=\"\")),1,0)","v":1},{"$f":"IF(A225=0,\"\",IFERROR(IF(OR(検索シート!$F$5=\"\",検索シート!$F$5=\"（指定なし）\"),1,FIND(ASC(検索シート!$F$5),ASC(全国版!D225)))+FIND(ASC(検索シート!$F$6),ASC(全国版!E225))+FIND(ASC(検索シート!$F$7),ASC(全国版!F225)),\"\"))","v":3},{"$f":"IF(B225=\"\",\"-\",COUNT(B$4:$B225))","v":222},"東京都","ＨＡＬ東京","デジタル専門課程　ロボット開発学科","2010-04-01","～","2011-03-31","2010-11-29","名称変更","ＨＡＬ東京","デジタル専門課程　先端ロボット開発学科","2011-04-01","2011-12-22"]
[{"$f":"IF(OR(検索シート!$F$9=\"\",検索シート!$F$9=\"（指定なし）\",検索シート!$F$9=全国版!K226,AND(検索シート!$F$9=\"変更等なし\",全国版!K226=\"\")),1,0)","v":1},{"$f":"IF(A226=0,\"\",IFERROR(IF(OR(検索シート!$F$5=\"\",検索シート!$F$5=\"（指定なし）\"),1,FIND(ASC(検索シート!$F$5),ASC(全国版!D226)))+FIND(ASC(検索シート!$F$6),ASC(全国版!E226))+FIND(ASC(検索シート!$F$7),ASC(全国版!F226)),\"\"))","v":3},{"$f":"IF(B226=\"\",\"-\",COUNT(B$4:$B226))","v":223},"東京都","ＴＣＡ東京ＥＣＯ動物海洋専門学校","文化・教養専門課程　エコ・イノベーション科","2024-01-17",null,null,"2024-01-17"]
[{"$f":"IF(OR(検索シート!$F$9=\"\",検索シート!$F$9=\"（指定なし）\",検索シート!$F$9=全国版!K227,AND(検索シート!$F$9=\"変更等なし\",全国版!K227=\"\")),1,0)","v":1},{"$f":"IF(A227=0,\"\",IFERROR(IF(OR(検索シート!$F$5=\"\",検索シート!$F$5=\"（指定なし）\"),1,FIND(ASC(検索シート!$F$5),ASC(全国版!D227)))+FIND(ASC(検索シート!$F$6),ASC(全国版!E227))+FIND(ASC(検索シート!$F$7),ASC(全国版!F227)),\"\"))","v":3},{"$f":"IF(B227=\"\",\"-\",COUNT(B$4:$B227))","v":224},"東京都","アクト情報スポーツ保育専門学校","商業実務専門課程　高度情報処理科","2008-02-29","～","2011-03-31","2008-02-29","廃止",null,null,"2011-03-31","2011-12-22"]
[{"$f":"IF(OR(検索シート!$F$9=\"\",検索シート!$F$9=\"（指定なし）\",検索シート!$F$9=全国版!K228,AND(検索シート!$F$9=\"変更等なし\",全国版!K228=\"\")),1,0)","v":1},{"$f":"IF(A228=0,\"\",IFERROR(IF(OR(検索シート!$F$5=\"\",検索シート!$F$5=\"（指定なし）\"),1,FIND(ASC(検索シート!$F$5),ASC(全国版!D228)))+FIND(ASC(検索シート!$F$6),ASC(全国版!E228))+FIND(ASC(検索シート!$F$7),ASC(全国版!F228)),\"\"))","v":3},{"$f":"IF(B228=\"\",\"-\",COUNT(B$4:$B228))","v":225},"東京都","江戸川医療専門学校","医療専門課程　作業療法学科","2008-02-29","～","2009-06-19","2008-02-29","名称変更","東京リハビリテーション専門学校","医療専門課程　作業療法学科","2009-06-20","2010-02-26"]
[{"$f":"IF(OR(検索シート!$F$9=\"\",検索シート!$F$9=\"（指定なし）\",検索シート!$F$9=全国版!K229,AND(検索シート!$F$9=\"変更等なし\",全国版!K229=\"\")),1,0)","v":1},{"$f":"IF(A229=0,\"\",IFERROR(IF(OR(検索シート!$F$5=\"\",検索シート!$F$5=\"（指定なし）\"),1,FIND(ASC(検索シート!$F$5),ASC(全国版!D229)))+FIND(ASC(検索シート!$F$6),ASC(全国版!E229))+FIND(ASC(検索シート!$F$7),ASC(全国版!F229)),\"\"))","v":3},{"$f":"IF(B229=\"\",\"-\",COUNT(B$4:$B229))","v":226},"東京都","江戸川医療専門学校","医療専門課程　理学療法学科","2008-02-29","～","2009-06-19","2008-02-29","名称変更","東京リハビリテーション専門学校","医療専門課程　理学療法学科","2009-06-20","2010-02-26"]
[{"$f":"IF(OR(検索シート!$F$9=\"\",検索シート!$F$9=\"（指定なし）\",検索シート!$F$9=全国版!K230,AND(検索シート!$F$9=\"変更等なし\",全国版!K230=\"\")),1,0)","v":1},{"$f":"IF(A230=0,\"\",IFERROR(IF(OR(検索シート!$F$5=\"\",検索シート!$F$5=\"（指定なし）\"),1,FIND(ASC(検索シート!$F$5),ASC(全国版!D230)))+FIND(ASC(検索シート!$F$6),ASC(全国版!E230))+FIND(ASC(検索シート!$F$7),ASC(全国版!F230)),\"\"))","v":3},{"$f":"IF(B230=\"\",\"-\",COUNT(B$4:$B230))","v":227},"東京都","大原簿記学校","商業実務専門課程　経理本科４年制学科","2005-12-09","～",null,"2005-12-09"]
[{"$f":"IF(OR(検索シート!$F$9=\"\",検索シート!$F$9=\"（指定なし）\",検索シート!$F$9=全国版!K231,AND(検索シート!$F$9=\"変更等なし\",全国版!K231=\"\")),1,0)","v":1},{"$f":"IF(A231=0,\"\",IFERROR(IF(OR(検索シート!$F$5=\"\",検索シート!$F$5=\"（指定なし）\"),1,FIND(ASC(検索シート!$F$5),ASC(全国版!D231)))+FIND(ASC(検索シート!$F$6),ASC(全国版!E231))+FIND(ASC(検索シート!$F$7),ASC(全国版!F231)),\"\"))","v":3},{"$f":"IF(B231=\"\",\"-\",COUNT(B$4:$B231))","v":228},"東京都","大森家政専門学校","家政専門課程　服飾デザイン科","2008-02-29","～","2022-03-31","2008-02-29","廃止",null,null,"2022-03-31","2023-01-27"]
[{"$f":"IF(OR(検索シート!$F$9=\"\",検索シート!$F$9=\"（指定なし）\",検索シート!$F$9=全国版!K232,AND(検索シート!$F$9=\"変更等なし\",全国版!K232=\"\")),1,0)","v":1},{"$f":"IF(A232=0,\"\",IFERROR(IF(OR(検索シート!$F$5=\"\",検索シート!$F$5=\"（指定なし）\"),1,FIND(ASC(検索シート!$F$5),ASC(全国版!D232)))+FIND(ASC(検索シート!$F$6),ASC(全国版!E232))+FIND(ASC(検索シート!$F$7),ASC(全国版!F232)),\"\"))","v":3},{"$f":"IF(B232=\"\",\"-\",COUNT(B$4:$B232))","v":229},"東京都","御茶の水美術専門学校","美術専門課程　高度イラストレーション科","2011-12-22","～","2021-03-31","2011-12-22","名称変更","御茶の水美術専門学校","美術専門課程　高度デザイン・アート科","2021-04-01","2022-03-04"]
[{"$f":"IF(OR(検索シート!$F$9=\"\",検索シート!$F$9=\"（指定なし）\",検索シート!$F$9=全国版!K233,AND(検索シート!$F$9=\"変更等なし\",全国版!K233=\"\")),1,0)","v":1},{"$f":"IF(A233=0,\"\",IFERROR(IF(OR(検索シート!$F$5=\"\",検索シート!$F$5=\"（指定なし）\"),1,FIND(ASC(検索シート!$F$5),ASC(全国版!D233)))+FIND(ASC(検索シート!$F$6),ASC(全国版!E233))+FIND(ASC(検索シート!$F$7),ASC(全国版!F233)),\"\"))","v":3},{"$f":"IF(B233=\"\",\"-\",COUNT(B$4:$B233))","v":230},"東京都","御茶の水美術専門学校","美術専門課程　高度デザイン・アート科","2021-04-01","～",null,"2022-03-04"]
[{"$f":"IF(OR(検索シート!$F$9=\"\",検索シート!$F$9=\"（指定なし）\",検索シート!$F$9=全国版!K234,AND(検索シート!$F$9=\"変更等なし\",全国版!K234=\"\")),1,0)","v":1},{"$f":"IF(A234=0,\"\",IFERROR(IF(OR(検索シート!$F$5=\"\",検索シート!$F$5=\"（指定なし）\"),1,FIND(ASC(検索シート!$F$5),ASC(全国版!D234)))+FIND(ASC(検索シート!$F$6),ASC(全国版!E234))+FIND(ASC(検索シート!$F$7),ASC(全国版!F234)),\"\"))","v":3},{"$f":"IF(B234=\"\",\"-\",COUNT(B$4:$B234))","v":231},"東京都","関東リハビリテーション専門学校","医療専門課程　理学療法学科（４年制）","2015-04-01","～","2020-03-31","2016-02-29","廃止",null,null,"2020-03-31","2022-03-04"]
[{"$f":"IF(OR(検索シート!$F$9=\"\",検索シート!$F$9=\"（指定なし）\",検索シート!$F$9=全国版!K235,AND(検索シート!$F$9=\"変更等なし\",全国版!K235=\"\")),1,0)","v":1},{"$f":"IF(A235=0,\"\",IFERROR(IF(OR(検索シート!$F$5=\"\",検索シート!$F$5=\"（指定なし）\"),1,FIND(ASC(検索シート!$F$5),ASC(全国版!D235)))+FIND(ASC(検索シート!$F$6),ASC(全国版!E235))+FIND(ASC(検索シート!$F$7),ASC(全国版!F235)),\"\"))","v":3},{"$f":"IF(B235=\"\",\"-\",COUNT(B$4:$B235))","v":232},"東京都","関東リハビリテーション専門学校","医療専門課程　理学療法学科","2005-12-09","～","2015-03-31","2005-12-09","名称変更","関東リハビリテーション専門学校","医療専門課程　理学療法学科（４年制）","2015-04-01","2016-02-29"]
[{"$f":"IF(OR(検索シート!$F$9=\"\",検索シート!$F$9=\"（指定なし）\",検索シート!$F$9=全国版!K236,AND(検索シート!$F$9=\"変更等なし\",全国版!K236=\"\")),1,0)","v":1},{"$f":"IF(A236=0,\"\",IFERROR(IF(OR(検索シート!$F$5=\"\",検索シート!$F$5=\"（指定なし）\"),1,FIND(ASC(検索シート!$F$5),ASC(全国版!D236)))+FIND(ASC(検索シート!$F$6),ASC(全国版!E236))+FIND(ASC(検索シート!$F$7),ASC(全国版!F236)),\"\"))","v":3},{"$f":"IF(B236=\"\",\"-\",COUNT(B$4:$B236))","v":233},"東京都","吉祥寺二葉栄養調理専門職学校","栄養専門課程　管理栄養士学科","2022-04-01","～",null,"2023-01-27"]
[{"$f":"IF(OR(検索シート!$F$9=\"\",検索シート!$F$9=\"（指定なし）\",検索シート!$F$9=全国版!K237,AND(検索シート!$F$9=\"変更等なし\",全国版!K237=\"\")),1,0)","v":1},{"$f":"IF(A237=0,\"\",IFERROR(IF(OR(検索シート!$F$5=\"\",検索シート!$F$5=\"（指定なし）\"),1,FIND(ASC(検索シート!$F$5),ASC(全国版!D237)))+FIND(ASC(検索シート!$F$6),ASC(全国版!E237))+FIND(ASC(検索シート!$F$7),ASC(全国版!F237)),\"\"))","v":3},{"$f":"IF(B237=\"\",\"-\",COUNT(B$4:$B237))","v":234},"東京都","首都医校","医療専門課程　高度看護保健学科","2019-04-01","～",null,"2020-02-29"]
[{"$f":"IF(OR(検索シート!$F$9=\"\",検索シート!$F$9=\"（指定なし）\",検索シート!$F$9=全国版!K238,AND(検索シート!$F$9=\"変更等なし\",全国版!K238=\"\")),1,0)","v":1},{"$f":"IF(A238=0,\"\",IFERROR(IF(OR(検索シート!$F$5=\"\",検索シート!$F$5=\"（指定なし）\"),1,FIND(ASC(検索シート!$F$5),ASC(全国版!D238)))+FIND(ASC(検索シート!$F$6),ASC(全国版!E238))+FIND(ASC(検索シート!$F$7),ASC(全国版!F238)),\"\"))","v":3},{"$f":"IF(B238=\"\",\"-\",COUNT(B$4:$B238))","v":235},"東京都","首都医校","医療専門課程　高度専門看護学科","2017-02-28","～","2021-03-31","2017-02-28","名称変更","首都医校","医療専門課程　高度専門士看護学科","2021-04-01","2022-03-04"]
[{"$f":"IF(OR(検索シート!$F$9=\"\",検索シート!$F$9=\"（指定なし）\",検索シート!$F$9=全国版!K239,AND(検索シート!$F$9=\"変更等なし\",全国版!K239=\"\")),1,0)","v":1},{"$f":"IF(A239=0,\"\",IFERROR(IF(OR(検索シート!$F$5=\"\",検索シート!$F$5=\"（指定なし）\"),1,FIND(ASC(検索シート!$F$5),ASC(全国版!D239)))+FIND(ASC(検索シート!$F$6),ASC(全国版!E239))+FIND(ASC(検索シート!$F$7),ASC(全国版!F239)),\"\"))","v":3},{"$f":"IF(B239=\"\",\"-\",COUNT(B$4:$B239))","v":236},"東京都","首都医校","医療専門課程　高度専門士看護学科","2021-04-01","～",null,"2022-03-04"]
[{"$f":"IF(OR(検索シート!$F$9=\"\",検索シート!$F$9=\"（指定なし）\",検索シート!$F$9=全国版!K240,AND(検索シート!$F$9=\"変更等なし\",全国版!K240=\"\")),1,0)","v":1},{"$f":"IF(A240=0,\"\",IFERROR(IF(OR(検索シート!$F$5=\"\",検索シート!$F$5=\"（指定なし）\"),1,FIND(ASC(検索シート!$F$5),ASC(全国版!D240)))+FIND(ASC(検索シート!$F$6),ASC(全国版!E240))+FIND(ASC(検索シート!$F$7),ASC(全国版!F240)),\"\"))","v":3},{"$f":"IF(B240=\"\",\"-\",COUNT(B$4:$B240))","v":237},"東京都","首都医校","医療専門課程　柔道整復学科","2013-01-29","～","2018-02-27","2013-01-29","不適合",null,null,"2018-02-28","2018-02-28"]
[{"$f":"IF(OR(検索シート!$F$9=\"\",検索シート!$F$9=\"（指定なし）\",検索シート!$F$9=全国版!K241,AND(検索シート!$F$9=\"変更等なし\",全国版!K241=\"\")),1,0)","v":1},{"$f":"IF(A241=0,\"\",IFERROR(IF(OR(検索シート!$F$5=\"\",検索シート!$F$5=\"（指定なし）\"),1,FIND(ASC(検索シート!$F$5),ASC(全国版!D241)))+FIND(ASC(検索シート!$F$6),ASC(全国版!E241))+FIND(ASC(検索シート!$F$7),ASC(全国版!F241)),\"\"))","v":3},{"$f":"IF(B241=\"\",\"-\",COUNT(B$4:$B241))","v":238},"東京都","首都医校","医療専門課程　鍼灸学科","2013-01-29","～","2018-02-27","2013-01-29","不適合",null,null,"2018-02-28","2018-02-28"]
[{"$f":"IF(OR(検索シート!$F$9=\"\",検索シート!$F$9=\"（指定なし）\",検索シート!$F$9=全国版!K242,AND(検索シート!$F$9=\"変更等なし\",全国版!K242=\"\")),1,0)","v":1},{"$f":"IF(A242=0,\"\",IFERROR(IF(OR(検索シート!$F$5=\"\",検索シート!$F$5=\"（指定なし）\"),1,FIND(ASC(検索シート!$F$5),ASC(全国版!D242)))+FIND(ASC(検索シート!$F$6),ASC(全国版!E242))+FIND(ASC(検索シート!$F$7),ASC(全国版!F242)),\"\"))","v":3},{"$f":"IF(B242=\"\",\"-\",COUNT(B$4:$B242))","v":239},"東京都","首都医校","医療専門課程　看護保健学科","2010-02-26","～","2019-03-31","2010-02-26","名称変更","首都医校","医療専門課程　高度看護保健学科","2019-04-01","2020-02-29"]
[{"$f":"IF(OR(検索シート!$F$9=\"\",検索シート!$F$9=\"（指定なし）\",検索シート!$F$9=全国版!K243,AND(検索シート!$F$9=\"変更等なし\",全国版!K243=\"\")),1,0)","v":1},{"$f":"IF(A243=0,\"\",IFERROR(IF(OR(検索シート!$F$5=\"\",検索シート!$F$5=\"（指定なし）\"),1,FIND(ASC(検索シート!$F$5),ASC(全国版!D243)))+FIND(ASC(検索シート!$F$6),ASC(全国版!E243))+FIND(ASC(検索シート!$F$7),ASC(全国版!F243)),\"\"))","v":3},{"$f":"IF(B243=\"\",\"-\",COUNT(B$4:$B243))","v":240},"東京都","首都医校","医療専門課程　作業療法学科（昼間課程）","2010-02-26","～",null,"2010-02-26"]
[{"$f":"IF(OR(検索シート!$F$9=\"\",検索シート!$F$9=\"（指定なし）\",検索シート!$F$9=全国版!K244,AND(検索シート!$F$9=\"変更等なし\",全国版!K244=\"\")),1,0)","v":1},{"$f":"IF(A244=0,\"\",IFERROR(IF(OR(検索シート!$F$5=\"\",検索シート!$F$5=\"（指定なし）\"),1,FIND(ASC(検索シート!$F$5),ASC(全国版!D244)))+FIND(ASC(検索シート!$F$6),ASC(全国版!E244))+FIND(ASC(検索シート!$F$7),ASC(全国版!F244)),\"\"))","v":3},{"$f":"IF(B244=\"\",\"-\",COUNT(B$4:$B244))","v":241},"東京都","首都医校","医療専門課程　作業療法学科（夜間部４年制）","2024-01-17",null,null,"2024-01-17"]
[{"$f":"IF(OR(検索シート!$F$9=\"\",検索シート!$F$9=\"（指定なし）\",検索シート!$F$9=全国版!K245,AND(検索シート!$F$9=\"変更等なし\",全国版!K245=\"\")),1,0)","v":1},{"$f":"IF(A245=0,\"\",IFERROR(IF(OR(検索シート!$F$5=\"\",検索シート!$F$5=\"（指定なし）\"),1,FIND(ASC(検索シート!$F$5),ASC(全国版!D245)))+FIND(ASC(検索シート!$F$6),ASC(全国版!E245))+FIND(ASC(検索シート!$F$7),ASC(全国版!F245)),\"\"))","v":3},{"$f":"IF(B245=\"\",\"-\",COUNT(B$4:$B245))","v":242},"東京都","首都医校","医療専門課程　視能療法学科（昼間課程）","2010-02-26","～","2016-03-31","2010-02-26","廃止",null,null,"2016-03-31","2017-02-28"]
[{"$f":"IF(OR(検索シート!$F$9=\"\",検索シート!$F$9=\"（指定なし）\",検索シート!$F$9=全国版!K246,AND(検索シート!$F$9=\"変更等なし\",全国版!K246=\"\")),1,0)","v":1},{"$f":"IF(A246=0,\"\",IFERROR(IF(OR(検索シート!$F$5=\"\",検索シート!$F$5=\"（指定なし）\"),1,FIND(ASC(検索シート!$F$5),ASC(全国版!D246)))+FIND(ASC(検索シート!$F$6),ASC(全国版!E246))+FIND(ASC(検索シート!$F$7),ASC(全国版!F246)),\"\"))","v":3},{"$f":"IF(B246=\"\",\"-\",COUNT(B$4:$B246))","v":243},"東京都","首都医校","医療専門課程　柔道整復学科（昼間課程）","2010-02-26","～","2011-12-21","2010-02-26","不適合",null,null,"2011-12-22","2011-12-22"]
[{"$f":"IF(OR(検索シート!$F$9=\"\",検索シート!$F$9=\"（指定なし）\",検索シート!$F$9=全国版!K247,AND(検索シート!$F$9=\"変更等なし\",全国版!K247=\"\")),1,0)","v":1},{"$f":"IF(A247=0,\"\",IFERROR(IF(OR(検索シート!$F$5=\"\",検索シート!$F$5=\"（指定なし）\"),1,FIND(ASC(検索シート!$F$5),ASC(全国版!D247)))+FIND(ASC(検索シート!$F$6),ASC(全国版!E247))+FIND(ASC(検索シート!$F$7),ASC(全国版!F247)),\"\"))","v":3},{"$f":"IF(B247=\"\",\"-\",COUNT(B$4:$B247))","v":244},"東京都","首都医校","医療専門課程　鍼灸学科（昼間課程）","2010-02-26","～","2011-12-21","2010-02-26","不適合",null,null,"2011-12-22","2011-12-22"]
[{"$f":"IF(OR(検索シート!$F$9=\"\",検索シート!$F$9=\"（指定なし）\",検索シート!$F$9=全国版!K248,AND(検索シート!$F$9=\"変更等なし\",全国版!K248=\"\")),1,0)","v":1},{"$f":"IF(A248=0,\"\",IFERROR(IF(OR(検索シート!$F$5=\"\",検索シート!$F$5=\"（指定なし）\"),1,FIND(ASC(検索シート!$F$5),ASC(全国版!D248)))+FIND(ASC(検索シート!$F$6),ASC(全国版!E248))+FIND(ASC(検索シート!$F$7),ASC(全国版!F248)),\"\"))","v":3},{"$f":"IF(B248=\"\",\"-\",COUNT(B$4:$B248))","v":245},"東京都","首都医校","医療専門課程　理学療法学科（昼間課程）","2010-02-26","～",null,"2010-02-26"]
[{"$f":"IF(OR(検索シート!$F$9=\"\",検索シート!$F$9=\"（指定なし）\",検索シート!$F$9=全国版!K249,AND(検索シート!$F$9=\"変更等なし\",全国版!K249=\"\")),1,0)","v":1},{"$f":"IF(A249=0,\"\",IFERROR(IF(OR(検索シート!$F$5=\"\",検索シート!$F$5=\"（指定なし）\"),1,FIND(ASC(検索シート!$F$5),ASC(全国版!D249)))+FIND(ASC(検索シート!$F$6),ASC(全国版!E249))+FIND(ASC(検索シート!$F$7),ASC(全国版!F249)),\"\"))","v":3},{"$f":"IF(B249=\"\",\"-\",COUNT(B$4:$B249))","v":246},"東京都","首都医校","医療専門課程　臨床工学学科（昼間課程）","2010-02-26","～",null,"2010-02-26"]
[{"$f":"IF(OR(検索シート!$F$9=\"\",検索シート!$F$9=\"（指定なし）\",検索シート!$F$9=全国版!K250,AND(検索シート!$F$9=\"変更等なし\",全国版!K250=\"\")),1,0)","v":1},{"$f":"IF(A250=0,\"\",IFERROR(IF(OR(検索シート!$F$5=\"\",検索シート!$F$5=\"（指定なし）\"),1,FIND(ASC(検索シート!$F$5),ASC(全国版!D250)))+FIND(ASC(検索シート!$F$6),ASC(全国版!E250))+FIND(ASC(検索シート!$F$7),ASC(全国版!F250)),\"\"))","v":3},{"$f":"IF(B250=\"\",\"-\",COUNT(B$4:$B250))","v":247},"東京都","新宿情報ビジネス専門学校","情報ビジネス専門課程　マルチメディア学科昼一部","2005-12-09","～","2023-04-24","2005-12-09","廃止",null,null,"2023-04-24"]
[{"$f":"IF(OR(検索シート!$F$9=\"\",検索シート!$F$9=\"（指定なし）\",検索シート!$F$9=全国版!K251,AND(検索シート!$F$9=\"変更等なし\",全国版!K251=\"\")),1,0)","v":1},{"$f":"IF(A251=0,\"\",IFERROR(IF(OR(検索シート!$F$5=\"\",検索シート!$F$5=\"（指定なし）\"),1,FIND(ASC(検索シート!$F$5),ASC(全国版!D251)))+FIND(ASC(検索シート!$F$6),ASC(全国版!E251))+FIND(ASC(検索シート!$F$7),ASC(全国版!F251)),\"\"))","v":3},{"$f":"IF(B251=\"\",\"-\",COUNT(B$4:$B251))","v":248},"東京都","新宿情報ビジネス専門学校","情報ビジネス専門課程　マルチメディア学科昼二部","2005-12-09","～","2023-04-24","2005-12-09","廃止",null,null,"2023-04-24"]
[{"$f":"IF(OR(検索シート!$F$9=\"\",検索シート!$F$9=\"（指定なし）\",検索シート!$F$9=全国版!K252,AND(検索シート!$F$9=\"変更等なし\",全国版!K252=\"\")),1,0)","v":1},{"$f":"IF(A252=0,\"\",IFERROR(IF(OR(検索シート!$F$5=\"\",検索シート!$F$5=\"（指定なし）\"),1,FIND(ASC(検索シート!$F$5),ASC(全国版!D252)))+FIND(ASC(検索シート!$F$6),ASC(全国版!E252))+FIND(ASC(検索シート!$F$7),ASC(全国版!F252)),\"\"))","v":3},{"$f":"IF(B252=\"\",\"-\",COUNT(B$4:$B252))","v":249},"東京都","専修学校東京自動車大学校","自動車整備専門課程（工業課程）　自動車整備科１級整備士コース","2005-12-09","～","2006-03-31","2005-12-09","名称変更","専門学校東京自動車大学校","自動車整備専門課程（工業専門課程）　自動車整備科１級整備士コース","2006-04-01","2007-02-28"]
[{"$f":"IF(OR(検索シート!$F$9=\"\",検索シート!$F$9=\"（指定なし）\",検索シート!$F$9=全国版!K253,AND(検索シート!$F$9=\"変更等なし\",全国版!K253=\"\")),1,0)","v":1},{"$f":"IF(A253=0,\"\",IFERROR(IF(OR(検索シート!$F$5=\"\",検索シート!$F$5=\"（指定なし）\"),1,FIND(ASC(検索シート!$F$5),ASC(全国版!D253)))+FIND(ASC(検索シート!$F$6),ASC(全国版!E253))+FIND(ASC(検索シート!$F$7),ASC(全国版!F253)),\"\"))","v":3},{"$f":"IF(B253=\"\",\"-\",COUNT(B$4:$B253))","v":250},"東京都","専門学校東京医療学院","医療専門課程　作業療法学科（昼間部）","2010-02-26","～","2014-03-31","2010-02-26","廃止",null,null,"2014-03-31","2017-02-28"]
[{"$f":"IF(OR(検索シート!$F$9=\"\",検索シート!$F$9=\"（指定なし）\",検索シート!$F$9=全国版!K254,AND(検索シート!$F$9=\"変更等なし\",全国版!K254=\"\")),1,0)","v":1},{"$f":"IF(A254=0,\"\",IFERROR(IF(OR(検索シート!$F$5=\"\",検索シート!$F$5=\"（指定なし）\"),1,FIND(ASC(検索シート!$F$5),ASC(全国版!D254)))+FIND(ASC(検索シート!$F$6),ASC(全国版!E254))+FIND(ASC(検索シート!$F$7),ASC(全国版!F254)),\"\"))","v":3},{"$f":"IF(B254=\"\",\"-\",COUNT(B$4:$B254))","v":251},"東京都","専門学校東京医療学院","医療専門課程　理学療法学科（昼間部）","2010-02-26","～","2016-03-31","2010-02-26","不適合",null,null,"2016-04-01","2017-02-28"]
[{"$f":"IF(OR(検索シート!$F$9=\"\",検索シート!$F$9=\"（指定なし）\",検索シート!$F$9=全国版!K255,AND(検索シート!$F$9=\"変更等なし\",全国版!K255=\"\")),1,0)","v":1},{"$f":"IF(A255=0,\"\",IFERROR(IF(OR(検索シート!$F$5=\"\",検索シート!$F$5=\"（指定なし）\"),1,FIND(ASC(検索シート!$F$5),ASC(全国版!D255)))+FIND(ASC(検索シート!$F$6),ASC(全国版!E255))+FIND(ASC(検索シート!$F$7),ASC(全国版!F255)),\"\"))","v":3},{"$f":"IF(B255=\"\",\"-\",COUNT(B$4:$B255))","v":252},"東京都","専門学校東京工科自動車大学校","工業専門課程　１級自動車整備科","2010-04-01","～",null,"2010-11-29"]
[{"$f":"IF(OR(検索シート!$F$9=\"\",検索シート!$F$9=\"（指定なし）\",検索シート!$F$9=全国版!K256,AND(検索シート!$F$9=\"変更等なし\",全国版!K256=\"\")),1,0)","v":1},{"$f":"IF(A256=0,\"\",IFERROR(IF(OR(検索シート!$F$5=\"\",検索シート!$F$5=\"（指定なし）\"),1,FIND(ASC(検索シート!$F$5),ASC(全国版!D256)))+FIND(ASC(検索シート!$F$6),ASC(全国版!E256))+FIND(ASC(検索シート!$F$7),ASC(全国版!F256)),\"\"))","v":3},{"$f":"IF(B256=\"\",\"-\",COUNT(B$4:$B256))","v":253},"東京都","専門学校東京工科自動車大学校品川校","工業専門課程　１級自動車整備科","2017-02-28","～",null,"2017-02-28"]
[{"$f":"IF(OR(検索シート!$F$9=\"\",検索シート!$F$9=\"（指定なし）\",検索シート!$F$9=全国版!K257,AND(検索シート!$F$9=\"変更等なし\",全国版!K257=\"\")),1,0)","v":1},{"$f":"IF(A257=0,\"\",IFERROR(IF(OR(検索シート!$F$5=\"\",検索シート!$F$5=\"（指定なし）\"),1,FIND(ASC(検索シート!$F$5),ASC(全国版!D257)))+FIND(ASC(検索シート!$F$6),ASC(全国版!E257))+FIND(ASC(検索シート!$F$7),ASC(全国版!F257)),\"\"))","v":3},{"$f":"IF(B257=\"\",\"-\",COUNT(B$4:$B257))","v":254},"東京都","専門学校東京工科自動車大学校世田谷校","工業専門課程　１級自動車エンジニア科","2008-02-29","～",null,"2008-02-29"]
[{"$f":"IF(OR(検索シート!$F$9=\"\",検索シート!$F$9=\"（指定なし）\",検索シート!$F$9=全国版!K258,AND(検索シート!$F$9=\"変更等なし\",全国版!K258=\"\")),1,0)","v":1},{"$f":"IF(A258=0,\"\",IFERROR(IF(OR(検索シート!$F$5=\"\",検索シート!$F$5=\"（指定なし）\"),1,FIND(ASC(検索シート!$F$5),ASC(全国版!D258)))+FIND(ASC(検索シート!$F$6),ASC(全国版!E258))+FIND(ASC(検索シート!$F$7),ASC(全国版!F258)),\"\"))","v":3},{"$f":"IF(B258=\"\",\"-\",COUNT(B$4:$B258))","v":255},"東京都","専門学校東京自動車大学校","自動車整備専門課程（工業専門課程）　自動車整備科１級整備士コース","2006-04-01","～","2015-03-31","2007-02-28","不適合",null,null,"2015-04-01","2016-02-29"]
[{"$f":"IF(OR(検索シート!$F$9=\"\",検索シート!$F$9=\"（指定なし）\",検索シート!$F$9=全国版!K259,AND(検索シート!$F$9=\"変更等なし\",全国版!K259=\"\")),1,0)","v":1},{"$f":"IF(A259=0,\"\",IFERROR(IF(OR(検索シート!$F$5=\"\",検索シート!$F$5=\"（指定なし）\"),1,FIND(ASC(検索シート!$F$5),ASC(全国版!D259)))+FIND(ASC(検索シート!$F$6),ASC(全国版!E259))+FIND(ASC(検索シート!$F$7),ASC(全国版!F259)),\"\"))","v":3},{"$f":"IF(B259=\"\",\"-\",COUNT(B$4:$B259))","v":256},"東京都","専門学校東京スクール･オブ･ビジネス","ビジネス専門課程　ペットビジネス総合学科","2011-12-22","～","2022-03-31","2011-12-22","廃止",null,null,"2022-03-31","2023-01-27"]
[{"$f":"IF(OR(検索シート!$F$9=\"\",検索シート!$F$9=\"（指定なし）\",検索シート!$F$9=全国版!K260,AND(検索シート!$F$9=\"変更等なし\",全国版!K260=\"\")),1,0)","v":1},{"$f":"IF(A260=0,\"\",IFERROR(IF(OR(検索シート!$F$5=\"\",検索シート!$F$5=\"（指定なし）\"),1,FIND(ASC(検索シート!$F$5),ASC(全国版!D260)))+FIND(ASC(検索シート!$F$6),ASC(全国版!E260))+FIND(ASC(検索シート!$F$7),ASC(全国版!F260)),\"\"))","v":3},{"$f":"IF(B260=\"\",\"-\",COUNT(B$4:$B260))","v":257},"東京都","専門学校東京スクール・オブ・ビジネス","ビジネス専門課程　経営総合学科","2009-02-27","～","2020-03-31","2009-02-27","廃止",null,null,"2020-04-01","2021-02-24"]
[{"$f":"IF(OR(検索シート!$F$9=\"\",検索シート!$F$9=\"（指定なし）\",検索シート!$F$9=全国版!K261,AND(検索シート!$F$9=\"変更等なし\",全国版!K261=\"\")),1,0)","v":1},{"$f":"IF(A261=0,\"\",IFERROR(IF(OR(検索シート!$F$5=\"\",検索シート!$F$5=\"（指定なし）\"),1,FIND(ASC(検索シート!$F$5),ASC(全国版!D261)))+FIND(ASC(検索シート!$F$6),ASC(全国版!E261))+FIND(ASC(検索シート!$F$7),ASC(全国版!F261)),\"\"))","v":3},{"$f":"IF(B261=\"\",\"-\",COUNT(B$4:$B261))","v":258},"東京都","専門学校東京テクニカルカレッジ","工業専門課程　建築監督科","2011-12-22","～",null,"2011-12-22"]
[{"$f":"IF(OR(検索シート!$F$9=\"\",検索シート!$F$9=\"（指定なし）\",検索シート!$F$9=全国版!K262,AND(検索シート!$F$9=\"変更等なし\",全国版!K262=\"\")),1,0)","v":1},{"$f":"IF(A262=0,\"\",IFERROR(IF(OR(検索シート!$F$5=\"\",検索シート!$F$5=\"（指定なし）\"),1,FIND(ASC(検索シート!$F$5),ASC(全国版!D262)))+FIND(ASC(検索シート!$F$6),ASC(全国版!E262))+FIND(ASC(検索シート!$F$7),ASC(全国版!F262)),\"\"))","v":3},{"$f":"IF(B262=\"\",\"-\",COUNT(B$4:$B262))","v":259},"東京都","専門学校東京ミュージックアンドメディアアーツ尚美","音楽専門課程　音楽総合アカデミー学科","2008-02-29","～","2010-03-31","2008-02-29","名称変更","尚美ミュージックカレッジ専門学校","音楽専門課程　音楽総合アカデミー学科","2010-04-01","2010-11-29"]
[{"$f":"IF(OR(検索シート!$F$9=\"\",検索シート!$F$9=\"（指定なし）\",検索シート!$F$9=全国版!K263,AND(検索シート!$F$9=\"変更等なし\",全国版!K263=\"\")),1,0)","v":1},{"$f":"IF(A263=0,\"\",IFERROR(IF(OR(検索シート!$F$5=\"\",検索シート!$F$5=\"（指定なし）\"),1,FIND(ASC(検索シート!$F$5),ASC(全国版!D263)))+FIND(ASC(検索シート!$F$6),ASC(全国版!E263))+FIND(ASC(検索シート!$F$7),ASC(全国版!F263)),\"\"))","v":3},{"$f":"IF(B263=\"\",\"-\",COUNT(B$4:$B263))","v":260},"東京都","専門学校東都リハビリテーション学院","医療専門課程　理学療法学科","2022-04-01","～",null,"2023-01-27"]
[{"$f":"IF(OR(検索シート!$F$9=\"\",検索シート!$F$9=\"（指定なし）\",検索シート!$F$9=全国版!K264,AND(検索シート!$F$9=\"変更等なし\",全国版!K264=\"\")),1,0)","v":1},{"$f":"IF(A264=0,\"\",IFERROR(IF(OR(検索シート!$F$5=\"\",検索シート!$F$5=\"（指定なし）\"),1,FIND(ASC(検索シート!$F$5),ASC(全国版!D264)))+FIND(ASC(検索シート!$F$6),ASC(全国版!E264))+FIND(ASC(検索シート!$F$7),ASC(全国版!F264)),\"\"))","v":3},{"$f":"IF(B264=\"\",\"-\",COUNT(B$4:$B264))","v":261},"東京都","専門学校東都リハビリテーション学院","医療専門課程　理学療法学科１部","2006-04-01","～","2022-03-31","2008-02-29","名称変更","専門学校東都リハビリテーション学院","医療専門課程　理学療法学科","2022-04-01","2023-01-27"]
[{"$f":"IF(OR(検索シート!$F$9=\"\",検索シート!$F$9=\"（指定なし）\",検索シート!$F$9=全国版!K265,AND(検索シート!$F$9=\"変更等なし\",全国版!K265=\"\")),1,0)","v":1},{"$f":"IF(A265=0,\"\",IFERROR(IF(OR(検索シート!$F$5=\"\",検索シート!$F$5=\"（指定なし）\"),1,FIND(ASC(検索シート!$F$5),ASC(全国版!D265)))+FIND(ASC(検索シート!$F$6),ASC(全国版!E265))+FIND(ASC(検索シート!$F$7),ASC(全国版!F265)),\"\"))","v":3},{"$f":"IF(B265=\"\",\"-\",COUNT(B$4:$B265))","v":262},"東京都","専門学校トヨタ東京自動車大学校","工業専門課程　１級自動車科","2007-04-01","～",null,"2008-02-29"]
[{"$f":"IF(OR(検索シート!$F$9=\"\",検索シート!$F$9=\"（指定なし）\",検索シート!$F$9=全国版!K266,AND(検索シート!$F$9=\"変更等なし\",全国版!K266=\"\")),1,0)","v":1},{"$f":"IF(A266=0,\"\",IFERROR(IF(OR(検索シート!$F$5=\"\",検索シート!$F$5=\"（指定なし）\"),1,FIND(ASC(検索シート!$F$5),ASC(全国版!D266)))+FIND(ASC(検索シート!$F$6),ASC(全国版!E266))+FIND(ASC(検索シート!$F$7),ASC(全国版!F266)),\"\"))","v":3},{"$f":"IF(B266=\"\",\"-\",COUNT(B$4:$B266))","v":263},"東京都","専門学校中野スクール・オブ・ビジネス","商業実務専門課程　英語ビジネス科","2008-02-29","～","2011-03-31","2008-02-29","廃止",null,null,"2011-03-31","2011-12-22"]
[{"$f":"IF(OR(検索シート!$F$9=\"\",検索シート!$F$9=\"（指定なし）\",検索シート!$F$9=全国版!K267,AND(検索シート!$F$9=\"変更等なし\",全国版!K267=\"\")),1,0)","v":1},{"$f":"IF(A267=0,\"\",IFERROR(IF(OR(検索シート!$F$5=\"\",検索シート!$F$5=\"（指定なし）\"),1,FIND(ASC(検索シート!$F$5),ASC(全国版!D267)))+FIND(ASC(検索シート!$F$6),ASC(全国版!E267))+FIND(ASC(検索シート!$F$7),ASC(全国版!F267)),\"\"))","v":3},{"$f":"IF(B267=\"\",\"-\",COUNT(B$4:$B267))","v":264},"東京都","専門学校中野スクール・オブ・ビジネス","商業実務専門課程　経営情報ビジネス科","2008-02-29","～",null,"2008-02-29"]
[{"$f":"IF(OR(検索シート!$F$9=\"\",検索シート!$F$9=\"（指定なし）\",検索シート!$F$9=全国版!K268,AND(検索シート!$F$9=\"変更等なし\",全国版!K268=\"\")),1,0)","v":1},{"$f":"IF(A268=0,\"\",IFERROR(IF(OR(検索シート!$F$5=\"\",検索シート!$F$5=\"（指定なし）\"),1,FIND(ASC(検索シート!$F$5),ASC(全国版!D268)))+FIND(ASC(検索シート!$F$6),ASC(全国版!E268))+FIND(ASC(検索シート!$F$7),ASC(全国版!F268)),\"\"))","v":3},{"$f":"IF(B268=\"\",\"-\",COUNT(B$4:$B268))","v":265},"東京都","専門学校中野スクール・オブ・ビジネス","商業実務専門課程　国際ビジネス科","2005-12-09","～",null,"2005-12-09"]
[{"$f":"IF(OR(検索シート!$F$9=\"\",検索シート!$F$9=\"（指定なし）\",検索シート!$F$9=全国版!K269,AND(検索シート!$F$9=\"変更等なし\",全国版!K269=\"\")),1,0)","v":1},{"$f":"IF(A269=0,\"\",IFERROR(IF(OR(検索シート!$F$5=\"\",検索シート!$F$5=\"（指定なし）\"),1,FIND(ASC(検索シート!$F$5),ASC(全国版!D269)))+FIND(ASC(検索シート!$F$6),ASC(全国版!E269))+FIND(ASC(検索シート!$F$7),ASC(全国版!F269)),\"\"))","v":3},{"$f":"IF(B269=\"\",\"-\",COUNT(B$4:$B269))","v":266},"東京都","専門学校東都リハビリテーション学院","リハビリテーション専門課程　理学療法学科１部","2005-12-09","～","2006-03-31","2005-12-09","名称変更","専門学校東都リハビリテーション学院","医療専門課程　理学療法学科１部","2006-04-01","2008-02-29"]
[{"$f":"IF(OR(検索シート!$F$9=\"\",検索シート!$F$9=\"（指定なし）\",検索シート!$F$9=全国版!K270,AND(検索シート!$F$9=\"変更等なし\",全国版!K270=\"\")),1,0)","v":1},{"$f":"IF(A270=0,\"\",IFERROR(IF(OR(検索シート!$F$5=\"\",検索シート!$F$5=\"（指定なし）\"),1,FIND(ASC(検索シート!$F$5),ASC(全国版!D270)))+FIND(ASC(検索シート!$F$6),ASC(全国版!E270))+FIND(ASC(検索シート!$F$7),ASC(全国版!F270)),\"\"))","v":3},{"$f":"IF(B270=\"\",\"-\",COUNT(B$4:$B270))","v":267},"東京都","専門学校ヒコ・みづのジュエリーカレッジ","宝石専門課程（文化教養）　ジュエリーデザイン科アドバンスドジュエリーコース","2015-04-01","～",null,"2016-02-29"]
[{"$f":"IF(OR(検索シート!$F$9=\"\",検索シート!$F$9=\"（指定なし）\",検索シート!$F$9=全国版!K271,AND(検索シート!$F$9=\"変更等なし\",全国版!K271=\"\")),1,0)","v":1},{"$f":"IF(A271=0,\"\",IFERROR(IF(OR(検索シート!$F$5=\"\",検索シート!$F$5=\"（指定なし）\"),1,FIND(ASC(検索シート!$F$5),ASC(全国版!D271)))+FIND(ASC(検索シート!$F$6),ASC(全国版!E271))+FIND(ASC(検索シート!$F$7),ASC(全国版!F271)),\"\"))","v":3},{"$f":"IF(B271=\"\",\"-\",COUNT(B$4:$B271))","v":268},"東京都","専門学校ヒコ・みづのジュエリーカレッジ","宝石専門課程（文化教養）　ジュエリーデザイン科ジュエリー研究院コース","2006-06-30","～","2015-03-31","2006-06-30","名称変更","専門学校ヒコ・みづのジュエリーカレッジ","宝石専門課程（文化教養）　ジュエリーデザイン科アドバンスドジュエリーコース","2015-04-01","2016-02-29"]
[{"$f":"IF(OR(検索シート!$F$9=\"\",検索シート!$F$9=\"（指定なし）\",検索シート!$F$9=全国版!K272,AND(検索シート!$F$9=\"変更等なし\",全国版!K272=\"\")),1,0)","v":1},{"$f":"IF(A272=0,\"\",IFERROR(IF(OR(検索シート!$F$5=\"\",検索シート!$F$5=\"（指定なし）\"),1,FIND(ASC(検索シート!$F$5),ASC(全国版!D272)))+FIND(ASC(検索シート!$F$6),ASC(全国版!E272))+FIND(ASC(検索シート!$F$7),ASC(全国版!F272)),\"\"))","v":3},{"$f":"IF(B272=\"\",\"-\",COUNT(B$4:$B272))","v":269},"東京都","専門学校読売自動車大学校","工業専門課程　１級整備学科","2012-04-01","～",null,"2013-01-29"]
[{"$f":"IF(OR(検索シート!$F$9=\"\",検索シート!$F$9=\"（指定なし）\",検索シート!$F$9=全国版!K273,AND(検索シート!$F$9=\"変更等なし\",全国版!K273=\"\")),1,0)","v":1},{"$f":"IF(A273=0,\"\",IFERROR(IF(OR(検索シート!$F$5=\"\",検索シート!$F$5=\"（指定なし）\"),1,FIND(ASC(検索シート!$F$5),ASC(全国版!D273)))+FIND(ASC(検索シート!$F$6),ASC(全国版!E273))+FIND(ASC(検索シート!$F$7),ASC(全国版!F273)),\"\"))","v":3},{"$f":"IF(B273=\"\",\"-\",COUNT(B$4:$B273))","v":270},"東京都","専門学校読売自動車大学校","工業専門課程　１級整備研究科","2011-04-01","～","2012-03-31","2011-12-22","名称変更","専門学校読売自動車大学校","工業専門課程　１級整備学科","2012-04-01","2013-01-29"]
[{"$f":"IF(OR(検索シート!$F$9=\"\",検索シート!$F$9=\"（指定なし）\",検索シート!$F$9=全国版!K274,AND(検索シート!$F$9=\"変更等なし\",全国版!K274=\"\")),1,0)","v":1},{"$f":"IF(A274=0,\"\",IFERROR(IF(OR(検索シート!$F$5=\"\",検索シート!$F$5=\"（指定なし）\"),1,FIND(ASC(検索シート!$F$5),ASC(全国版!D274)))+FIND(ASC(検索シート!$F$6),ASC(全国版!E274))+FIND(ASC(検索シート!$F$7),ASC(全国版!F274)),\"\"))","v":3},{"$f":"IF(B274=\"\",\"-\",COUNT(B$4:$B274))","v":271},"東京都","専門学校読売自動車大学校","工業専門課程　自動車整備研究科","2006-04-01","～","2011-03-31","2007-02-28","名称変更","専門学校読売自動車大学校","工業専門課程　１級整備研究科","2011-04-01","2011-12-22"]
[{"$f":"IF(OR(検索シート!$F$9=\"\",検索シート!$F$9=\"（指定なし）\",検索シート!$F$9=全国版!K275,AND(検索シート!$F$9=\"変更等なし\",全国版!K275=\"\")),1,0)","v":1},{"$f":"IF(A275=0,\"\",IFERROR(IF(OR(検索シート!$F$5=\"\",検索シート!$F$5=\"（指定なし）\"),1,FIND(ASC(検索シート!$F$5),ASC(全国版!D275)))+FIND(ASC(検索シート!$F$6),ASC(全国版!E275))+FIND(ASC(検索シート!$F$7),ASC(全国版!F275)),\"\"))","v":3},{"$f":"IF(B275=\"\",\"-\",COUNT(B$4:$B275))","v":272},"東京都","中央工学校","工業専門課程　インテリアクリエイト学科","2008-02-29","～","2014-03-31","2008-02-29","廃止",null,null,"2014-03-31","2015-02-19"]
[{"$f":"IF(OR(検索シート!$F$9=\"\",検索シート!$F$9=\"（指定なし）\",検索シート!$F$9=全国版!K276,AND(検索シート!$F$9=\"変更等なし\",全国版!K276=\"\")),1,0)","v":1},{"$f":"IF(A276=0,\"\",IFERROR(IF(OR(検索シート!$F$5=\"\",検索シート!$F$5=\"（指定なし）\"),1,FIND(ASC(検索シート!$F$5),ASC(全国版!D276)))+FIND(ASC(検索シート!$F$6),ASC(全国版!E276))+FIND(ASC(検索シート!$F$7),ASC(全国版!F276)),\"\"))","v":3},{"$f":"IF(B276=\"\",\"-\",COUNT(B$4:$B276))","v":273},"東京都","中央工学校","工業専門課程　機械学科","2008-02-29","～",null,"2008-02-29"]
[{"$f":"IF(OR(検索シート!$F$9=\"\",検索シート!$F$9=\"（指定なし）\",検索シート!$F$9=全国版!K277,AND(検索シート!$F$9=\"変更等なし\",全国版!K277=\"\")),1,0)","v":1},{"$f":"IF(A277=0,\"\",IFERROR(IF(OR(検索シート!$F$5=\"\",検索シート!$F$5=\"（指定なし）\"),1,FIND(ASC(検索シート!$F$5),ASC(全国版!D277)))+FIND(ASC(検索シート!$F$6),ASC(全国版!E277))+FIND(ASC(検索シート!$F$7),ASC(全国版!F277)),\"\"))","v":3},{"$f":"IF(B277=\"\",\"-\",COUNT(B$4:$B277))","v":274},"東京都","中央工学校","工業専門課程　建築学科","2008-02-29","～",null,"2008-02-29"]
[{"$f":"IF(OR(検索シート!$F$9=\"\",検索シート!$F$9=\"（指定なし）\",検索シート!$F$9=全国版!K278,AND(検索シート!$F$9=\"変更等なし\",全国版!K278=\"\")),1,0)","v":1},{"$f":"IF(A278=0,\"\",IFERROR(IF(OR(検索シート!$F$5=\"\",検索シート!$F$5=\"（指定なし）\"),1,FIND(ASC(検索シート!$F$5),ASC(全国版!D278)))+FIND(ASC(検索シート!$F$6),ASC(全国版!E278))+FIND(ASC(検索シート!$F$7),ASC(全国版!F278)),\"\"))","v":3},{"$f":"IF(B278=\"\",\"-\",COUNT(B$4:$B278))","v":275},"東京都","中央工学校","工業専門課程　都市環境学科","2008-02-29","～","2020-03-31","2008-02-29","廃止",null,null,"2020-03-31","2021-02-24"]
[{"$f":"IF(OR(検索シート!$F$9=\"\",検索シート!$F$9=\"（指定なし）\",検索シート!$F$9=全国版!K279,AND(検索シート!$F$9=\"変更等なし\",全国版!K279=\"\")),1,0)","v":1},{"$f":"IF(A279=0,\"\",IFERROR(IF(OR(検索シート!$F$5=\"\",検索シート!$F$5=\"（指定なし）\"),1,FIND(ASC(検索シート!$F$5),ASC(全国版!D279)))+FIND(ASC(検索シート!$F$6),ASC(全国版!E279))+FIND(ASC(検索シート!$F$7),ASC(全国版!F279)),\"\"))","v":3},{"$f":"IF(B279=\"\",\"-\",COUNT(B$4:$B279))","v":276},"東京都","中央動物専門学校","動物管理専門課程　動物共生総合科","2008-02-29","～",null,"2008-02-29"]
[{"$f":"IF(OR(検索シート!$F$9=\"\",検索シート!$F$9=\"（指定なし）\",検索シート!$F$9=全国版!K280,AND(検索シート!$F$9=\"変更等なし\",全国版!K280=\"\")),1,0)","v":1},{"$f":"IF(A280=0,\"\",IFERROR(IF(OR(検索シート!$F$5=\"\",検索シート!$F$5=\"（指定なし）\"),1,FIND(ASC(検索シート!$F$5),ASC(全国版!D280)))+FIND(ASC(検索シート!$F$6),ASC(全国版!E280))+FIND(ASC(検索シート!$F$7),ASC(全国版!F280)),\"\"))","v":3},{"$f":"IF(B280=\"\",\"-\",COUNT(B$4:$B280))","v":277},"東京都","東京ＩＴ会計専門学校","ビジネス専門課程　高度会計学科","2010-11-29","～",null,"2010-11-29"]
[{"$f":"IF(OR(検索シート!$F$9=\"\",検索シート!$F$9=\"（指定なし）\",検索シート!$F$9=全国版!K281,AND(検索シート!$F$9=\"変更等なし\",全国版!K281=\"\")),1,0)","v":1},{"$f":"IF(A281=0,\"\",IFERROR(IF(OR(検索シート!$F$5=\"\",検索シート!$F$5=\"（指定なし）\"),1,FIND(ASC(検索シート!$F$5),ASC(全国版!D281)))+FIND(ASC(検索シート!$F$6),ASC(全国版!E281))+FIND(ASC(検索シート!$F$7),ASC(全国版!F281)),\"\"))","v":3},{"$f":"IF(B281=\"\",\"-\",COUNT(B$4:$B281))","v":278},"東京都","東京アニメ・声優＆ｅスポーツ専門学校","文化・教養専門課程　スーパーテクノロジー科４年制（昼間部一）","2024-01-17",null,null,"2024-01-17"]
[{"$f":"IF(OR(検索シート!$F$9=\"\",検索シート!$F$9=\"（指定なし）\",検索シート!$F$9=全国版!K282,AND(検索シート!$F$9=\"変更等なし\",全国版!K282=\"\")),1,0)","v":1},{"$f":"IF(A282=0,\"\",IFERROR(IF(OR(検索シート!$F$5=\"\",検索シート!$F$5=\"（指定なし）\"),1,FIND(ASC(検索シート!$F$5),ASC(全国版!D282)))+FIND(ASC(検索シート!$F$6),ASC(全国版!E282))+FIND(ASC(検索シート!$F$7),ASC(全国版!F282)),\"\"))","v":3},{"$f":"IF(B282=\"\",\"-\",COUNT(B$4:$B282))","v":279},"東京都","東京医学技術専門学校","医療専門課程　臨床検査技師科Ⅱ部","2013-01-29","～","2022-03-31","2013-01-29","名称変更","東京医学技術専門学校","医療専門課程　臨床検査技師科Ⅱ部（４年制）","2022-04-01","2023-01-27"]
[{"$f":"IF(OR(検索シート!$F$9=\"\",検索シート!$F$9=\"（指定なし）\",検索シート!$F$9=全国版!K283,AND(検索シート!$F$9=\"変更等なし\",全国版!K283=\"\")),1,0)","v":1},{"$f":"IF(A283=0,\"\",IFERROR(IF(OR(検索シート!$F$5=\"\",検索シート!$F$5=\"（指定なし）\"),1,FIND(ASC(検索シート!$F$5),ASC(全国版!D283)))+FIND(ASC(検索シート!$F$6),ASC(全国版!E283))+FIND(ASC(検索シート!$F$7),ASC(全国版!F283)),\"\"))","v":3},{"$f":"IF(B283=\"\",\"-\",COUNT(B$4:$B283))","v":280},"東京都","東京医学技術専門学校","医療専門課程　臨床検査技師科Ⅱ部（４年制）","2022-04-01","～",null,"2023-01-27"]
[{"$f":"IF(OR(検索シート!$F$9=\"\",検索シート!$F$9=\"（指定なし）\",検索シート!$F$9=全国版!K284,AND(検索シート!$F$9=\"変更等なし\",全国版!K284=\"\")),1,0)","v":1},{"$f":"IF(A284=0,\"\",IFERROR(IF(OR(検索シート!$F$5=\"\",検索シート!$F$5=\"（指定なし）\"),1,FIND(ASC(検索シート!$F$5),ASC(全国版!D284)))+FIND(ASC(検索シート!$F$6),ASC(全国版!E284))+FIND(ASC(検索シート!$F$7),ASC(全国版!F284)),\"\"))","v":3},{"$f":"IF(B284=\"\",\"-\",COUNT(B$4:$B284))","v":281},"東京都","東京医学柔整専門学校","医療専門課程　柔道整復学科Ⅰ","2006-06-30","～","2013-03-31","2006-06-30","廃止",null,null,"2013-03-31","2014-01-28"]
[{"$f":"IF(OR(検索シート!$F$9=\"\",検索シート!$F$9=\"（指定なし）\",検索シート!$F$9=全国版!K285,AND(検索シート!$F$9=\"変更等なし\",全国版!K285=\"\")),1,0)","v":1},{"$f":"IF(A285=0,\"\",IFERROR(IF(OR(検索シート!$F$5=\"\",検索シート!$F$5=\"（指定なし）\"),1,FIND(ASC(検索シート!$F$5),ASC(全国版!D285)))+FIND(ASC(検索シート!$F$6),ASC(全国版!E285))+FIND(ASC(検索シート!$F$7),ASC(全国版!F285)),\"\"))","v":3},{"$f":"IF(B285=\"\",\"-\",COUNT(B$4:$B285))","v":282},"東京都","東京医学柔整専門学校","医療専門課程　柔道整復学科Ⅱ","2006-06-30","～","2011-03-31","2006-06-30","廃止",null,null,"2011-03-31","2011-12-22"]
[{"$f":"IF(OR(検索シート!$F$9=\"\",検索シート!$F$9=\"（指定なし）\",検索シート!$F$9=全国版!K286,AND(検索シート!$F$9=\"変更等なし\",全国版!K286=\"\")),1,0)","v":1},{"$f":"IF(A286=0,\"\",IFERROR(IF(OR(検索シート!$F$5=\"\",検索シート!$F$5=\"（指定なし）\"),1,FIND(ASC(検索シート!$F$5),ASC(全国版!D286)))+FIND(ASC(検索シート!$F$6),ASC(全国版!E286))+FIND(ASC(検索シート!$F$7),ASC(全国版!F286)),\"\"))","v":3},{"$f":"IF(B286=\"\",\"-\",COUNT(B$4:$B286))","v":283},"東京都","東京医薬看護専門学校","医療専門課程　バイオデータサイエンス学科","2024-01-17",null,null,"2024-01-17"]
[{"$f":"IF(OR(検索シート!$F$9=\"\",検索シート!$F$9=\"（指定なし）\",検索シート!$F$9=全国版!K287,AND(検索シート!$F$9=\"変更等なし\",全国版!K287=\"\")),1,0)","v":1},{"$f":"IF(A287=0,\"\",IFERROR(IF(OR(検索シート!$F$5=\"\",検索シート!$F$5=\"（指定なし）\"),1,FIND(ASC(検索シート!$F$5),ASC(全国版!D287)))+FIND(ASC(検索シート!$F$6),ASC(全国版!E287))+FIND(ASC(検索シート!$F$7),ASC(全国版!F287)),\"\"))","v":3},{"$f":"IF(B287=\"\",\"-\",COUNT(B$4:$B287))","v":284},"東京都","東京エアトラベル・ホテル専門学校","商業実務専門課程　大学併修学科","2020-02-29","～",null,"2020-02-29"]
[{"$f":"IF(OR(検索シート!$F$9=\"\",検索シート!$F$9=\"（指定なし）\",検索シート!$F$9=全国版!K288,AND(検索シート!$F$9=\"変更等なし\",全国版!K288=\"\")),1,0)","v":1},{"$f":"IF(A288=0,\"\",IFERROR(IF(OR(検索シート!$F$5=\"\",検索シート!$F$5=\"（指定なし）\"),1,FIND(ASC(検索シート!$F$5),ASC(全国版!D288)))+FIND(ASC(検索シート!$F$6),ASC(全国版!E288))+FIND(ASC(検索シート!$F$7),ASC(全国版!F288)),\"\"))","v":3},{"$f":"IF(B288=\"\",\"-\",COUNT(B$4:$B288))","v":285},"東京都","東京エアトラベル・ホテル専門学校","商業実務専門課程　観光経営学科","2007-02-28","～","2008-03-31","2007-02-28","名称変更","東京エアトラベル・ホテル専門学校","商業実務専門課程　観光マネジメント学科","2008-04-01","2009-02-27"]
[{"$f":"IF(OR(検索シート!$F$9=\"\",検索シート!$F$9=\"（指定なし）\",検索シート!$F$9=全国版!K289,AND(検索シート!$F$9=\"変更等なし\",全国版!K289=\"\")),1,0)","v":1},{"$f":"IF(A289=0,\"\",IFERROR(IF(OR(検索シート!$F$5=\"\",検索シート!$F$5=\"（指定なし）\"),1,FIND(ASC(検索シート!$F$5),ASC(全国版!D289)))+FIND(ASC(検索シート!$F$6),ASC(全国版!E289))+FIND(ASC(検索シート!$F$7),ASC(全国版!F289)),\"\"))","v":3},{"$f":"IF(B289=\"\",\"-\",COUNT(B$4:$B289))","v":286},"東京都","東京エアトラベル・ホテル専門学校","商業実務専門課程　観光マネジメント学科","2008-04-01","～","2010-03-31","2009-02-27","廃止",null,null,"2010-03-31","2010-11-29"]
[{"$f":"IF(OR(検索シート!$F$9=\"\",検索シート!$F$9=\"（指定なし）\",検索シート!$F$9=全国版!K290,AND(検索シート!$F$9=\"変更等なし\",全国版!K290=\"\")),1,0)","v":1},{"$f":"IF(A290=0,\"\",IFERROR(IF(OR(検索シート!$F$5=\"\",検索シート!$F$5=\"（指定なし）\"),1,FIND(ASC(検索シート!$F$5),ASC(全国版!D290)))+FIND(ASC(検索シート!$F$6),ASC(全国版!E290))+FIND(ASC(検索シート!$F$7),ASC(全国版!F290)),\"\"))","v":3},{"$f":"IF(B290=\"\",\"-\",COUNT(B$4:$B290))","v":287},"東京都","東京栄養食糧専門学校","栄養専門課程　管理栄養士科","2006-06-30","～",null,"2006-06-30"]
[{"$f":"IF(OR(検索シート!$F$9=\"\",検索シート!$F$9=\"（指定なし）\",検索シート!$F$9=全国版!K291,AND(検索シート!$F$9=\"変更等なし\",全国版!K291=\"\")),1,0)","v":1},{"$f":"IF(A291=0,\"\",IFERROR(IF(OR(検索シート!$F$5=\"\",検索シート!$F$5=\"（指定なし）\"),1,FIND(ASC(検索シート!$F$5),ASC(全国版!D291)))+FIND(ASC(検索シート!$F$6),ASC(全国版!E291))+FIND(ASC(検索シート!$F$7),ASC(全国版!F291)),\"\"))","v":3},{"$f":"IF(B291=\"\",\"-\",COUNT(B$4:$B291))","v":288},"東京都","東京環境工科専門学校","環境保全専門課程　高度自然環境管理学科","2015-02-19","～",null,"2015-02-19"]
[{"$f":"IF(OR(検索シート!$F$9=\"\",検索シート!$F$9=\"（指定なし）\",検索シート!$F$9=全国版!K292,AND(検索シート!$F$9=\"変更等なし\",全国版!K292=\"\")),1,0)","v":1},{"$f":"IF(A292=0,\"\",IFERROR(IF(OR(検索シート!$F$5=\"\",検索シート!$F$5=\"（指定なし）\"),1,FIND(ASC(検索シート!$F$5),ASC(全国版!D292)))+FIND(ASC(検索シート!$F$6),ASC(全国版!E292))+FIND(ASC(検索シート!$F$7),ASC(全国版!F292)),\"\"))","v":3},{"$f":"IF(B292=\"\",\"-\",COUNT(B$4:$B292))","v":289},"東京都","東京着物染色美術専門学校","着物染色美術専門課程　着物染色工芸科４年制","2011-04-01","～","2015-04-27","2011-12-22","廃止",null,null,"2015-04-27","2016-02-29"]
[{"$f":"IF(OR(検索シート!$F$9=\"\",検索シート!$F$9=\"（指定なし）\",検索シート!$F$9=全国版!K293,AND(検索シート!$F$9=\"変更等なし\",全国版!K293=\"\")),1,0)","v":1},{"$f":"IF(A293=0,\"\",IFERROR(IF(OR(検索シート!$F$5=\"\",検索シート!$F$5=\"（指定なし）\"),1,FIND(ASC(検索シート!$F$5),ASC(全国版!D293)))+FIND(ASC(検索シート!$F$6),ASC(全国版!E293))+FIND(ASC(検索シート!$F$7),ASC(全国版!F293)),\"\"))","v":3},{"$f":"IF(B293=\"\",\"-\",COUNT(B$4:$B293))","v":290},"東京都","東京着物染色美術専門学校","染色美術専門課程　着物染色工芸科","2010-04-01","～","2011-03-31","2010-11-29","名称変更","東京着物染色美術専門学校","着物染色美術専門課程　着物染色工芸科４年制","2011-04-01","2011-12-22"]
[{"$f":"IF(OR(検索シート!$F$9=\"\",検索シート!$F$9=\"（指定なし）\",検索シート!$F$9=全国版!K294,AND(検索シート!$F$9=\"変更等なし\",全国版!K294=\"\")),1,0)","v":1},{"$f":"IF(A294=0,\"\",IFERROR(IF(OR(検索シート!$F$5=\"\",検索シート!$F$5=\"（指定なし）\"),1,FIND(ASC(検索シート!$F$5),ASC(全国版!D294)))+FIND(ASC(検索シート!$F$6),ASC(全国版!E294))+FIND(ASC(検索シート!$F$7),ASC(全国版!F294)),\"\"))","v":3},{"$f":"IF(B294=\"\",\"-\",COUNT(B$4:$B294))","v":291},"東京都","東京工学院専門学校","教育・福祉専門課程　教育専攻科","2014-01-28","～",null,"2014-01-28"]
[{"$f":"IF(OR(検索シート!$F$9=\"\",検索シート!$F$9=\"（指定なし）\",検索シート!$F$9=全国版!K295,AND(検索シート!$F$9=\"変更等なし\",全国版!K295=\"\")),1,0)","v":1},{"$f":"IF(A295=0,\"\",IFERROR(IF(OR(検索シート!$F$5=\"\",検索シート!$F$5=\"（指定なし）\"),1,FIND(ASC(検索シート!$F$5),ASC(全国版!D295)))+FIND(ASC(検索シート!$F$6),ASC(全国版!E295))+FIND(ASC(検索シート!$F$7),ASC(全国版!F295)),\"\"))","v":3},{"$f":"IF(B295=\"\",\"-\",COUNT(B$4:$B295))","v":292},"東京都","東京工学院専門学校","芸術専門課程　経営デザイン科","2005-12-09","～","2010-03-31","2005-12-09","廃止",null,null,"2010-03-31","2010-11-29"]
[{"$f":"IF(OR(検索シート!$F$9=\"\",検索シート!$F$9=\"（指定なし）\",検索シート!$F$9=全国版!K296,AND(検索シート!$F$9=\"変更等なし\",全国版!K296=\"\")),1,0)","v":1},{"$f":"IF(A296=0,\"\",IFERROR(IF(OR(検索シート!$F$5=\"\",検索シート!$F$5=\"（指定なし）\"),1,FIND(ASC(検索シート!$F$5),ASC(全国版!D296)))+FIND(ASC(検索シート!$F$6),ASC(全国版!E296))+FIND(ASC(検索シート!$F$7),ASC(全国版!F296)),\"\"))","v":3},{"$f":"IF(B296=\"\",\"-\",COUNT(B$4:$B296))","v":293},"東京都","東京工学院専門学校","芸術専門課程　メディア文学科","2005-12-09","～","2011-03-31","2005-12-09","廃止",null,null,"2011-03-31","2011-12-22"]
[{"$f":"IF(OR(検索シート!$F$9=\"\",検索シート!$F$9=\"（指定なし）\",検索シート!$F$9=全国版!K297,AND(検索シート!$F$9=\"変更等なし\",全国版!K297=\"\")),1,0)","v":1},{"$f":"IF(A297=0,\"\",IFERROR(IF(OR(検索シート!$F$5=\"\",検索シート!$F$5=\"（指定なし）\"),1,FIND(ASC(検索シート!$F$5),ASC(全国版!D297)))+FIND(ASC(検索シート!$F$6),ASC(全国版!E297))+FIND(ASC(検索シート!$F$7),ASC(全国版!F297)),\"\"))","v":3},{"$f":"IF(B297=\"\",\"-\",COUNT(B$4:$B297))","v":294},"東京都","東京工学院専門学校","工業専門課程　経営工学科","2005-12-09","～","2010-03-31","2005-12-09","廃止",null,null,"2010-03-31","2010-11-29"]
[{"$f":"IF(OR(検索シート!$F$9=\"\",検索シート!$F$9=\"（指定なし）\",検索シート!$F$9=全国版!K298,AND(検索シート!$F$9=\"変更等なし\",全国版!K298=\"\")),1,0)","v":1},{"$f":"IF(A298=0,\"\",IFERROR(IF(OR(検索シート!$F$5=\"\",検索シート!$F$5=\"（指定なし）\"),1,FIND(ASC(検索シート!$F$5),ASC(全国版!D298)))+FIND(ASC(検索シート!$F$6),ASC(全国版!E298))+FIND(ASC(検索シート!$F$7),ASC(全国版!F298)),\"\"))","v":3},{"$f":"IF(B298=\"\",\"-\",COUNT(B$4:$B298))","v":295},"東京都","東京工学院専門学校","工業専門課程　経営情報学科","2005-12-09","～","2011-03-31","2005-12-09","廃止",null,null,"2011-03-31","2011-12-22"]
[{"$f":"IF(OR(検索シート!$F$9=\"\",検索シート!$F$9=\"（指定なし）\",検索シート!$F$9=全国版!K299,AND(検索シート!$F$9=\"変更等なし\",全国版!K299=\"\")),1,0)","v":1},{"$f":"IF(A299=0,\"\",IFERROR(IF(OR(検索シート!$F$5=\"\",検索シート!$F$5=\"（指定なし）\"),1,FIND(ASC(検索シート!$F$5),ASC(全国版!D299)))+FIND(ASC(検索シート!$F$6),ASC(全国版!E299))+FIND(ASC(検索シート!$F$7),ASC(全国版!F299)),\"\"))","v":3},{"$f":"IF(B299=\"\",\"-\",COUNT(B$4:$B299))","v":296},"東京都","東京工学院専門学校","工業専門課程　大学併修学科","2009-02-27","～",null,"2009-02-27"]
[{"$f":"IF(OR(検索シート!$F$9=\"\",検索シート!$F$9=\"（指定なし）\",検索シート!$F$9=全国版!K300,AND(検索シート!$F$9=\"変更等なし\",全国版!K300=\"\")),1,0)","v":1},{"$f":"IF(A300=0,\"\",IFERROR(IF(OR(検索シート!$F$5=\"\",検索シート!$F$5=\"（指定なし）\"),1,FIND(ASC(検索シート!$F$5),ASC(全国版!D300)))+FIND(ASC(検索シート!$F$6),ASC(全国版!E300))+FIND(ASC(検索シート!$F$7),ASC(全国版!F300)),\"\"))","v":3},{"$f":"IF(B300=\"\",\"-\",COUNT(B$4:$B300))","v":297},"東京都","東京工学院専門学校","工業専門課程　法律情報学科","2005-12-09","～","2011-03-31","2005-12-09","廃止",null,null,"2011-03-31","2011-12-22"]
[{"$f":"IF(OR(検索シート!$F$9=\"\",検索シート!$F$9=\"（指定なし）\",検索シート!$F$9=全国版!K301,AND(検索シート!$F$9=\"変更等なし\",全国版!K301=\"\")),1,0)","v":1},{"$f":"IF(A301=0,\"\",IFERROR(IF(OR(検索シート!$F$5=\"\",検索シート!$F$5=\"（指定なし）\"),1,FIND(ASC(検索シート!$F$5),ASC(全国版!D301)))+FIND(ASC(検索シート!$F$6),ASC(全国版!E301))+FIND(ASC(検索シート!$F$7),ASC(全国版!F301)),\"\"))","v":3},{"$f":"IF(B301=\"\",\"-\",COUNT(B$4:$B301))","v":298},"東京都","東京工科専門学校","工業専門課程　１級自動車整備学科","2005-12-09","～","2010-03-31","2005-12-09","名称変更","専門学校東京工科自動車大学校","工業専門課程　１級自動車整備科","2010-04-01","2010-11-29"]
[{"$f":"IF(OR(検索シート!$F$9=\"\",検索シート!$F$9=\"（指定なし）\",検索シート!$F$9=全国版!K302,AND(検索シート!$F$9=\"変更等なし\",全国版!K302=\"\")),1,0)","v":1},{"$f":"IF(A302=0,\"\",IFERROR(IF(OR(検索シート!$F$5=\"\",検索シート!$F$5=\"（指定なし）\"),1,FIND(ASC(検索シート!$F$5),ASC(全国版!D302)))+FIND(ASC(検索シート!$F$6),ASC(全国版!E302))+FIND(ASC(検索シート!$F$7),ASC(全国版!F302)),\"\"))","v":3},{"$f":"IF(B302=\"\",\"-\",COUNT(B$4:$B302))","v":299},"東京都","東京工業専門学校","工業専門課程　一級自動車整備科","2009-02-27","～",null,"2009-02-27"]
[{"$f":"IF(OR(検索シート!$F$9=\"\",検索シート!$F$9=\"（指定なし）\",検索シート!$F$9=全国版!K303,AND(検索シート!$F$9=\"変更等なし\",全国版!K303=\"\")),1,0)","v":1},{"$f":"IF(A303=0,\"\",IFERROR(IF(OR(検索シート!$F$5=\"\",検索シート!$F$5=\"（指定なし）\"),1,FIND(ASC(検索シート!$F$5),ASC(全国版!D303)))+FIND(ASC(検索シート!$F$6),ASC(全国版!E303))+FIND(ASC(検索シート!$F$7),ASC(全国版!F303)),\"\"))","v":3},{"$f":"IF(B303=\"\",\"-\",COUNT(B$4:$B303))","v":300},"東京都","東京国際福祉専門学校","社会福祉専門課程　ソーシャルワーク総合科","2008-02-29","～","2012-03-31","2008-02-29","廃止",null,null,"2012-03-31","2013-01-29"]
[{"$f":"IF(OR(検索シート!$F$9=\"\",検索シート!$F$9=\"（指定なし）\",検索シート!$F$9=全国版!K304,AND(検索シート!$F$9=\"変更等なし\",全国版!K304=\"\")),1,0)","v":1},{"$f":"IF(A304=0,\"\",IFERROR(IF(OR(検索シート!$F$5=\"\",検索シート!$F$5=\"（指定なし）\"),1,FIND(ASC(検索シート!$F$5),ASC(全国版!D304)))+FIND(ASC(検索シート!$F$6),ASC(全国版!E304))+FIND(ASC(検索シート!$F$7),ASC(全国版!F304)),\"\"))","v":3},{"$f":"IF(B304=\"\",\"-\",COUNT(B$4:$B304))","v":301},"東京都","東京コミュニケーションアート専門学校","文化・教養専門課程　自動車デザイン科（昼間部一）","2011-04-01","～",null,"2011-12-22"]
[{"$f":"IF(OR(検索シート!$F$9=\"\",検索シート!$F$9=\"（指定なし）\",検索シート!$F$9=全国版!K305,AND(検索シート!$F$9=\"変更等なし\",全国版!K305=\"\")),1,0)","v":1},{"$f":"IF(A305=0,\"\",IFERROR(IF(OR(検索シート!$F$5=\"\",検索シート!$F$5=\"（指定なし）\"),1,FIND(ASC(検索シート!$F$5),ASC(全国版!D305)))+FIND(ASC(検索シート!$F$6),ASC(全国版!E305))+FIND(ASC(検索シート!$F$7),ASC(全国版!F305)),\"\"))","v":3},{"$f":"IF(B305=\"\",\"-\",COUNT(B$4:$B305))","v":302},"東京都","東京コミュニケーションアート専門学校","文化・教養専門課程　スーパークリエーター科（昼間部一）","2020-02-29","～",null,"2020-02-29"]
[{"$f":"IF(OR(検索シート!$F$9=\"\",検索シート!$F$9=\"（指定なし）\",検索シート!$F$9=全国版!K306,AND(検索シート!$F$9=\"変更等なし\",全国版!K306=\"\")),1,0)","v":1},{"$f":"IF(A306=0,\"\",IFERROR(IF(OR(検索シート!$F$5=\"\",検索シート!$F$5=\"（指定なし）\"),1,FIND(ASC(検索シート!$F$5),ASC(全国版!D306)))+FIND(ASC(検索シート!$F$6),ASC(全国版!E306))+FIND(ASC(検索シート!$F$7),ASC(全国版!F306)),\"\"))","v":3},{"$f":"IF(B306=\"\",\"-\",COUNT(B$4:$B306))","v":303},"東京都","東京コミュニケーションアート専門学校","文化・教養専門課程　スーパークリエーター科（昼間部二）","2024-01-17",null,null,"2024-01-17"]
[{"$f":"IF(OR(検索シート!$F$9=\"\",検索シート!$F$9=\"（指定なし）\",検索シート!$F$9=全国版!K307,AND(検索シート!$F$9=\"変更等なし\",全国版!K307=\"\")),1,0)","v":1},{"$f":"IF(A307=0,\"\",IFERROR(IF(OR(検索シート!$F$5=\"\",検索シート!$F$5=\"（指定なし）\"),1,FIND(ASC(検索シート!$F$5),ASC(全国版!D307)))+FIND(ASC(検索シート!$F$6),ASC(全国版!E307))+FIND(ASC(検索シート!$F$7),ASC(全国版!F307)),\"\"))","v":3},{"$f":"IF(B307=\"\",\"-\",COUNT(B$4:$B307))","v":304},"東京都","東京コミュニケーションアート専門学校","文化・教養専門課程　自動車デザイン科（昼間部）","2009-02-27","～","2011-03-31","2009-02-27","名称変更","東京コミュニケーションアート専門学校","文化・教養専門課程　自動車デザイン科（昼間部一）","2011-04-01","2011-12-22"]
[{"$f":"IF(OR(検索シート!$F$9=\"\",検索シート!$F$9=\"（指定なし）\",検索シート!$F$9=全国版!K308,AND(検索シート!$F$9=\"変更等なし\",全国版!K308=\"\")),1,0)","v":1},{"$f":"IF(A308=0,\"\",IFERROR(IF(OR(検索シート!$F$5=\"\",検索シート!$F$5=\"（指定なし）\"),1,FIND(ASC(検索シート!$F$5),ASC(全国版!D308)))+FIND(ASC(検索シート!$F$6),ASC(全国版!E308))+FIND(ASC(検索シート!$F$7),ASC(全国版!F308)),\"\"))","v":3},{"$f":"IF(B308=\"\",\"-\",COUNT(B$4:$B308))","v":305},"東京都","東京スクールオブミュージック専門学校","文化・教養専門課程　高度芸術学科","2009-02-27","～","2014-03-31","2009-02-27","廃止",null,null,"2014-03-31","2015-02-19"]
[{"$f":"IF(OR(検索シート!$F$9=\"\",検索シート!$F$9=\"（指定なし）\",検索シート!$F$9=全国版!K309,AND(検索シート!$F$9=\"変更等なし\",全国版!K309=\"\")),1,0)","v":1},{"$f":"IF(A309=0,\"\",IFERROR(IF(OR(検索シート!$F$5=\"\",検索シート!$F$5=\"（指定なし）\"),1,FIND(ASC(検索シート!$F$5),ASC(全国版!D309)))+FIND(ASC(検索シート!$F$6),ASC(全国版!E309))+FIND(ASC(検索シート!$F$7),ASC(全国版!F309)),\"\"))","v":3},{"$f":"IF(B309=\"\",\"-\",COUNT(B$4:$B309))","v":306},"東京都","東京スクールオブミュージック＆ダンス専門学校","文化・教養専門課程　スーパーｅエンターテイメント科","2024-01-17",null,null,"2024-01-17"]
[{"$f":"IF(OR(検索シート!$F$9=\"\",検索シート!$F$9=\"（指定なし）\",検索シート!$F$9=全国版!K310,AND(検索シート!$F$9=\"変更等なし\",全国版!K310=\"\")),1,0)","v":1},{"$f":"IF(A310=0,\"\",IFERROR(IF(OR(検索シート!$F$5=\"\",検索シート!$F$5=\"（指定なし）\"),1,FIND(ASC(検索シート!$F$5),ASC(全国版!D310)))+FIND(ASC(検索シート!$F$6),ASC(全国版!E310))+FIND(ASC(検索シート!$F$7),ASC(全国版!F310)),\"\"))","v":3},{"$f":"IF(B310=\"\",\"-\",COUNT(B$4:$B310))","v":307},"東京都","東京スクールオブミュージック専門学校渋谷","文化・教養専門課程　スーパーｅエンターテイメント科","2024-01-17",null,null,"2024-01-17"]
[{"$f":"IF(OR(検索シート!$F$9=\"\",検索シート!$F$9=\"（指定なし）\",検索シート!$F$9=全国版!K311,AND(検索シート!$F$9=\"変更等なし\",全国版!K311=\"\")),1,0)","v":1},{"$f":"IF(A311=0,\"\",IFERROR(IF(OR(検索シート!$F$5=\"\",検索シート!$F$5=\"（指定なし）\"),1,FIND(ASC(検索シート!$F$5),ASC(全国版!D311)))+FIND(ASC(検索シート!$F$6),ASC(全国版!E311))+FIND(ASC(検索シート!$F$7),ASC(全国版!F311)),\"\"))","v":3},{"$f":"IF(B311=\"\",\"-\",COUNT(B$4:$B311))","v":308},"東京都","東京スポーツ・レクリエーション専門学校","医療専門課程　理学療法科（昼間部）","2007-02-28","～","2007-03-31","2007-02-28","名称変更","東京スポーツ・レクリエーション専門学校","医療専門課程　理学療法科Ⅰ部","2007-04-01","2008-02-29"]
[{"$f":"IF(OR(検索シート!$F$9=\"\",検索シート!$F$9=\"（指定なし）\",検索シート!$F$9=全国版!K312,AND(検索シート!$F$9=\"変更等なし\",全国版!K312=\"\")),1,0)","v":1},{"$f":"IF(A312=0,\"\",IFERROR(IF(OR(検索シート!$F$5=\"\",検索シート!$F$5=\"（指定なし）\"),1,FIND(ASC(検索シート!$F$5),ASC(全国版!D312)))+FIND(ASC(検索シート!$F$6),ASC(全国版!E312))+FIND(ASC(検索シート!$F$7),ASC(全国版!F312)),\"\"))","v":3},{"$f":"IF(B312=\"\",\"-\",COUNT(B$4:$B312))","v":309},"東京都","東京スポーツ・レクリエーション専門学校","医療専門課程　理学療法科Ⅰ部","2007-04-01","～","2009-03-31","2008-02-29","廃止",null,null,"2009-03-31","2010-02-26"]
[{"$f":"IF(OR(検索シート!$F$9=\"\",検索シート!$F$9=\"（指定なし）\",検索シート!$F$9=全国版!K313,AND(検索シート!$F$9=\"変更等なし\",全国版!K313=\"\")),1,0)","v":1},{"$f":"IF(A313=0,\"\",IFERROR(IF(OR(検索シート!$F$5=\"\",検索シート!$F$5=\"（指定なし）\"),1,FIND(ASC(検索シート!$F$5),ASC(全国版!D313)))+FIND(ASC(検索シート!$F$6),ASC(全国版!E313))+FIND(ASC(検索シート!$F$7),ASC(全国版!F313)),\"\"))","v":3},{"$f":"IF(B313=\"\",\"-\",COUNT(B$4:$B313))","v":310},"東京都","東京スポーツ・レクリエーション専門学校","文化・教養専門課程　スポーツアナリスト科","2023-01-27","～",null,"2023-01-27"]
[{"$f":"IF(OR(検索シート!$F$9=\"\",検索シート!$F$9=\"（指定なし）\",検索シート!$F$9=全国版!K314,AND(検索シート!$F$9=\"変更等なし\",全国版!K314=\"\")),1,0)","v":1},{"$f":"IF(A314=0,\"\",IFERROR(IF(OR(検索シート!$F$5=\"\",検索シート!$F$5=\"（指定なし）\"),1,FIND(ASC(検索シート!$F$5),ASC(全国版!D314)))+FIND(ASC(検索シート!$F$6),ASC(全国版!E314))+FIND(ASC(検索シート!$F$7),ASC(全国版!F314)),\"\"))","v":3},{"$f":"IF(B314=\"\",\"-\",COUNT(B$4:$B314))","v":311},"東京都","東京スポーツ・レクリエーション専門学校","文化・教養専門課程　スポーツトレーナースペシャリスト科","2023-01-27","～",null,"2023-01-27"]
[{"$f":"IF(OR(検索シート!$F$9=\"\",検索シート!$F$9=\"（指定なし）\",検索シート!$F$9=全国版!K315,AND(検索シート!$F$9=\"変更等なし\",全国版!K315=\"\")),1,0)","v":1},{"$f":"IF(A315=0,\"\",IFERROR(IF(OR(検索シート!$F$5=\"\",検索シート!$F$5=\"（指定なし）\"),1,FIND(ASC(検索シート!$F$5),ASC(全国版!D315)))+FIND(ASC(検索シート!$F$6),ASC(全国版!E315))+FIND(ASC(検索シート!$F$7),ASC(全国版!F315)),\"\"))","v":3},{"$f":"IF(B315=\"\",\"-\",COUNT(B$4:$B315))","v":312},"東京都","東京染色美術専門学校","染色美術専門課程　着物染色工芸科","2005-12-09","～","2010-03-31","2005-12-09","名称変更","東京着物染色美術専門学校","染色美術専門課程　着物染色工芸科","2010-04-01","2010-11-29"]
[{"$f":"IF(OR(検索シート!$F$9=\"\",検索シート!$F$9=\"（指定なし）\",検索シート!$F$9=全国版!K316,AND(検索シート!$F$9=\"変更等なし\",全国版!K316=\"\")),1,0)","v":1},{"$f":"IF(A316=0,\"\",IFERROR(IF(OR(検索シート!$F$5=\"\",検索シート!$F$5=\"（指定なし）\"),1,FIND(ASC(検索シート!$F$5),ASC(全国版!D316)))+FIND(ASC(検索シート!$F$6),ASC(全国版!E316))+FIND(ASC(検索シート!$F$7),ASC(全国版!F316)),\"\"))","v":3},{"$f":"IF(B316=\"\",\"-\",COUNT(B$4:$B316))","v":313},"東京都","東京ダンス・俳優＆舞台芸術専門学校","文化・教養専門課程　メディア＆テクノロジー科","2024-01-17",null,null,"2024-01-17"]
[{"$f":"IF(OR(検索シート!$F$9=\"\",検索シート!$F$9=\"（指定なし）\",検索シート!$F$9=全国版!K317,AND(検索シート!$F$9=\"変更等なし\",全国版!K317=\"\")),1,0)","v":1},{"$f":"IF(A317=0,\"\",IFERROR(IF(OR(検索シート!$F$5=\"\",検索シート!$F$5=\"（指定なし）\"),1,FIND(ASC(検索シート!$F$5),ASC(全国版!D317)))+FIND(ASC(検索シート!$F$6),ASC(全国版!E317))+FIND(ASC(検索シート!$F$7),ASC(全国版!F317)),\"\"))","v":3},{"$f":"IF(B317=\"\",\"-\",COUNT(B$4:$B317))","v":314},"東京都","東京テクノロジーコミュニケーション専門学校","工業専門課程　高度情報工学科（昼間部）","2008-02-29","～","2011-03-31","2008-02-29","名称変更","東京デザインテクノロジーセンター専門学校","工業専門課程　高度情報工学科（昼間部一）","2011-04-01","2011-12-22"]
[{"$f":"IF(OR(検索シート!$F$9=\"\",検索シート!$F$9=\"（指定なし）\",検索シート!$F$9=全国版!K318,AND(検索シート!$F$9=\"変更等なし\",全国版!K318=\"\")),1,0)","v":1},{"$f":"IF(A318=0,\"\",IFERROR(IF(OR(検索シート!$F$5=\"\",検索シート!$F$5=\"（指定なし）\"),1,FIND(ASC(検索シート!$F$5),ASC(全国版!D318)))+FIND(ASC(検索シート!$F$6),ASC(全国版!E318))+FIND(ASC(検索シート!$F$7),ASC(全国版!F318)),\"\"))","v":3},{"$f":"IF(B318=\"\",\"-\",COUNT(B$4:$B318))","v":315},"東京都","東京テクノロジーコミュニケーション専門学校","工業専門課程　高度情報ソフト科（昼間部）","2008-02-29","～","2011-12-21","2008-02-29","不適合",null,null,"2011-12-22","2011-12-22"]
[{"$f":"IF(OR(検索シート!$F$9=\"\",検索シート!$F$9=\"（指定なし）\",検索シート!$F$9=全国版!K319,AND(検索シート!$F$9=\"変更等なし\",全国版!K319=\"\")),1,0)","v":1},{"$f":"IF(A319=0,\"\",IFERROR(IF(OR(検索シート!$F$5=\"\",検索シート!$F$5=\"（指定なし）\"),1,FIND(ASC(検索シート!$F$5),ASC(全国版!D319)))+FIND(ASC(検索シート!$F$6),ASC(全国版!E319))+FIND(ASC(検索シート!$F$7),ASC(全国版!F319)),\"\"))","v":3},{"$f":"IF(B319=\"\",\"-\",COUNT(B$4:$B319))","v":316},"東京都","東京デザインテクノロジーセンター専門学校","工業専門課程　高度情報工学科（昼間部一）","2011-04-01","～","2013-03-31","2011-12-22","名称変更","東京デザインテクノロジーセンター専門学校","工業専門課程　スーパーＩＴ科（昼間部一）","2013-04-01","2014-01-28"]
[{"$f":"IF(OR(検索シート!$F$9=\"\",検索シート!$F$9=\"（指定なし）\",検索シート!$F$9=全国版!K320,AND(検索シート!$F$9=\"変更等なし\",全国版!K320=\"\")),1,0)","v":1},{"$f":"IF(A320=0,\"\",IFERROR(IF(OR(検索シート!$F$5=\"\",検索シート!$F$5=\"（指定なし）\"),1,FIND(ASC(検索シート!$F$5),ASC(全国版!D320)))+FIND(ASC(検索シート!$F$6),ASC(全国版!E320))+FIND(ASC(検索シート!$F$7),ASC(全国版!F320)),\"\"))","v":3},{"$f":"IF(B320=\"\",\"-\",COUNT(B$4:$B320))","v":317},"東京都","東京デザインテクノロジーセンター専門学校","工業専門課程　スーパーＩＴ科（昼間部一）","2013-04-01","～",null,"2014-01-28"]
[{"$f":"IF(OR(検索シート!$F$9=\"\",検索シート!$F$9=\"（指定なし）\",検索シート!$F$9=全国版!K321,AND(検索シート!$F$9=\"変更等なし\",全国版!K321=\"\")),1,0)","v":1},{"$f":"IF(A321=0,\"\",IFERROR(IF(OR(検索シート!$F$5=\"\",検索シート!$F$5=\"（指定なし）\"),1,FIND(ASC(検索シート!$F$5),ASC(全国版!D321)))+FIND(ASC(検索シート!$F$6),ASC(全国版!E321))+FIND(ASC(検索シート!$F$7),ASC(全国版!F321)),\"\"))","v":3},{"$f":"IF(B321=\"\",\"-\",COUNT(B$4:$B321))","v":318},"東京都","東京デザインテクノロジーセンター専門学校","工業専門課程　スーパーＩＴ科（昼間部二）","2018-02-28","～",null,"2018-02-28"]
[{"$f":"IF(OR(検索シート!$F$9=\"\",検索シート!$F$9=\"（指定なし）\",検索シート!$F$9=全国版!K322,AND(検索シート!$F$9=\"変更等なし\",全国版!K322=\"\")),1,0)","v":1},{"$f":"IF(A322=0,\"\",IFERROR(IF(OR(検索シート!$F$5=\"\",検索シート!$F$5=\"（指定なし）\"),1,FIND(ASC(検索シート!$F$5),ASC(全国版!D322)))+FIND(ASC(検索シート!$F$6),ASC(全国版!E322))+FIND(ASC(検索シート!$F$7),ASC(全国版!F322)),\"\"))","v":3},{"$f":"IF(B322=\"\",\"-\",COUNT(B$4:$B322))","v":319},"東京都","東京電子専門学校","工業専門課程　高度情報システム科","2008-02-29","～",null,"2008-02-29"]
[{"$f":"IF(OR(検索シート!$F$9=\"\",検索シート!$F$9=\"（指定なし）\",検索シート!$F$9=全国版!K323,AND(検索シート!$F$9=\"変更等なし\",全国版!K323=\"\")),1,0)","v":1},{"$f":"IF(A323=0,\"\",IFERROR(IF(OR(検索シート!$F$5=\"\",検索シート!$F$5=\"（指定なし）\"),1,FIND(ASC(検索シート!$F$5),ASC(全国版!D323)))+FIND(ASC(検索シート!$F$6),ASC(全国版!E323))+FIND(ASC(検索シート!$F$7),ASC(全国版!F323)),\"\"))","v":3},{"$f":"IF(B323=\"\",\"-\",COUNT(B$4:$B323))","v":320},"東京都","東京バイオテクノロジー専門学校","農業専門課程　バイオテクノロジー科４年制（昼間部）","2009-02-27","～",null,"2009-02-27"]
[{"$f":"IF(OR(検索シート!$F$9=\"\",検索シート!$F$9=\"（指定なし）\",検索シート!$F$9=全国版!K324,AND(検索シート!$F$9=\"変更等なし\",全国版!K324=\"\")),1,0)","v":1},{"$f":"IF(A324=0,\"\",IFERROR(IF(OR(検索シート!$F$5=\"\",検索シート!$F$5=\"（指定なし）\"),1,FIND(ASC(検索シート!$F$5),ASC(全国版!D324)))+FIND(ASC(検索シート!$F$6),ASC(全国版!E324))+FIND(ASC(検索シート!$F$7),ASC(全国版!F324)),\"\"))","v":3},{"$f":"IF(B324=\"\",\"-\",COUNT(B$4:$B324))","v":321},"東京都","東京俳優・映画＆放送専門学校","文化・教養専門課程　総合芸術科昼間部一","2023-01-27","～",null,"2023-01-27"]
[{"$f":"IF(OR(検索シート!$F$9=\"\",検索シート!$F$9=\"（指定なし）\",検索シート!$F$9=全国版!K325,AND(検索シート!$F$9=\"変更等なし\",全国版!K325=\"\")),1,0)","v":1},{"$f":"IF(A325=0,\"\",IFERROR(IF(OR(検索シート!$F$5=\"\",検索シート!$F$5=\"（指定なし）\"),1,FIND(ASC(検索シート!$F$5),ASC(全国版!D325)))+FIND(ASC(検索シート!$F$6),ASC(全国版!E325))+FIND(ASC(検索シート!$F$7),ASC(全国版!F325)),\"\"))","v":3},{"$f":"IF(B325=\"\",\"-\",COUNT(B$4:$B325))","v":322},"東京都","東京俳優・映画＆放送専門学校","文化・教養専門課程　総合芸術科昼間部二","2024-01-17",null,null,"2024-01-17"]
[{"$f":"IF(OR(検索シート!$F$9=\"\",検索シート!$F$9=\"（指定なし）\",検索シート!$F$9=全国版!K326,AND(検索シート!$F$9=\"変更等なし\",全国版!K326=\"\")),1,0)","v":1},{"$f":"IF(A326=0,\"\",IFERROR(IF(OR(検索シート!$F$5=\"\",検索シート!$F$5=\"（指定なし）\"),1,FIND(ASC(検索シート!$F$5),ASC(全国版!D326)))+FIND(ASC(検索シート!$F$6),ASC(全国版!E326))+FIND(ASC(検索シート!$F$7),ASC(全国版!F326)),\"\"))","v":3},{"$f":"IF(B326=\"\",\"-\",COUNT(B$4:$B326))","v":323},"東京都","東京福祉専門学校","社会福祉専門課程　ＩＴ医療ソーシャルワーカー科","2023-01-27","～",null,"2023-01-27"]
[{"$f":"IF(OR(検索シート!$F$9=\"\",検索シート!$F$9=\"（指定なし）\",検索シート!$F$9=全国版!K327,AND(検索シート!$F$9=\"変更等なし\",全国版!K327=\"\")),1,0)","v":1},{"$f":"IF(A327=0,\"\",IFERROR(IF(OR(検索シート!$F$5=\"\",検索シート!$F$5=\"（指定なし）\"),1,FIND(ASC(検索シート!$F$5),ASC(全国版!D327)))+FIND(ASC(検索シート!$F$6),ASC(全国版!E327))+FIND(ASC(検索シート!$F$7),ASC(全国版!F327)),\"\"))","v":3},{"$f":"IF(B327=\"\",\"-\",COUNT(B$4:$B327))","v":324},"東京都","東京福祉専門学校","社会福祉専門課程　医療福祉科","2010-11-29","～","2012-03-31","2010-11-29","廃止",null,null,"2012-03-31","2013-01-29"]
[{"$f":"IF(OR(検索シート!$F$9=\"\",検索シート!$F$9=\"（指定なし）\",検索シート!$F$9=全国版!K328,AND(検索シート!$F$9=\"変更等なし\",全国版!K328=\"\")),1,0)","v":1},{"$f":"IF(A328=0,\"\",IFERROR(IF(OR(検索シート!$F$5=\"\",検索シート!$F$5=\"（指定なし）\"),1,FIND(ASC(検索シート!$F$5),ASC(全国版!D328)))+FIND(ASC(検索シート!$F$6),ASC(全国版!E328))+FIND(ASC(検索シート!$F$7),ASC(全国版!F328)),\"\"))","v":3},{"$f":"IF(B328=\"\",\"-\",COUNT(B$4:$B328))","v":325},"東京都","東京福祉専門学校","社会福祉専門課程　社会福祉科","2010-11-29","～","2014-03-31","2010-11-29","名称変更","東京福祉専門学校","社会福祉専門課程　社会福祉士科","2014-04-01","2015-02-19"]
[{"$f":"IF(OR(検索シート!$F$9=\"\",検索シート!$F$9=\"（指定なし）\",検索シート!$F$9=全国版!K329,AND(検索シート!$F$9=\"変更等なし\",全国版!K329=\"\")),1,0)","v":1},{"$f":"IF(A329=0,\"\",IFERROR(IF(OR(検索シート!$F$5=\"\",検索シート!$F$5=\"（指定なし）\"),1,FIND(ASC(検索シート!$F$5),ASC(全国版!D329)))+FIND(ASC(検索シート!$F$6),ASC(全国版!E329))+FIND(ASC(検索シート!$F$7),ASC(全国版!F329)),\"\"))","v":3},{"$f":"IF(B329=\"\",\"-\",COUNT(B$4:$B329))","v":326},"東京都","東京福祉専門学校","社会福祉専門課程　社会福祉科","2023-04-01","～",null,"2024-01-17"]
[{"$f":"IF(OR(検索シート!$F$9=\"\",検索シート!$F$9=\"（指定なし）\",検索シート!$F$9=全国版!K330,AND(検索シート!$F$9=\"変更等なし\",全国版!K330=\"\")),1,0)","v":1},{"$f":"IF(A330=0,\"\",IFERROR(IF(OR(検索シート!$F$5=\"\",検索シート!$F$5=\"（指定なし）\"),1,FIND(ASC(検索シート!$F$5),ASC(全国版!D330)))+FIND(ASC(検索シート!$F$6),ASC(全国版!E330))+FIND(ASC(検索シート!$F$7),ASC(全国版!F330)),\"\"))","v":3},{"$f":"IF(B330=\"\",\"-\",COUNT(B$4:$B330))","v":327},"東京都","東京福祉専門学校","社会福祉専門課程　社会福祉士・精神保健福祉士科","2018-04-01","～","2023-03-31","2019-01-25","名称変更","東京福祉専門学校","社会福祉専門課程　社会福祉科","2023-04-01","2024-01-17"]
[{"$f":"IF(OR(検索シート!$F$9=\"\",検索シート!$F$9=\"（指定なし）\",検索シート!$F$9=全国版!K331,AND(検索シート!$F$9=\"変更等なし\",全国版!K331=\"\")),1,0)","v":1},{"$f":"IF(A331=0,\"\",IFERROR(IF(OR(検索シート!$F$5=\"\",検索シート!$F$5=\"（指定なし）\"),1,FIND(ASC(検索シート!$F$5),ASC(全国版!D331)))+FIND(ASC(検索シート!$F$6),ASC(全国版!E331))+FIND(ASC(検索シート!$F$7),ASC(全国版!F331)),\"\"))","v":3},{"$f":"IF(B331=\"\",\"-\",COUNT(B$4:$B331))","v":328},"東京都","東京福祉専門学校","社会福祉専門課程　社会福祉士科","2014-04-01","～","2018-03-31","2015-02-19","名称変更","東京福祉専門学校","社会福祉専門課程　社会福祉士・精神保健福祉士科","2018-04-01","2019-01-25"]
[{"$f":"IF(OR(検索シート!$F$9=\"\",検索シート!$F$9=\"（指定なし）\",検索シート!$F$9=全国版!K332,AND(検索シート!$F$9=\"変更等なし\",全国版!K332=\"\")),1,0)","v":1},{"$f":"IF(A332=0,\"\",IFERROR(IF(OR(検索シート!$F$5=\"\",検索シート!$F$5=\"（指定なし）\"),1,FIND(ASC(検索シート!$F$5),ASC(全国版!D332)))+FIND(ASC(検索シート!$F$6),ASC(全国版!E332))+FIND(ASC(検索シート!$F$7),ASC(全国版!F332)),\"\"))","v":3},{"$f":"IF(B332=\"\",\"-\",COUNT(B$4:$B332))","v":329},"東京都","東京福祉専門学校","社会福祉専門課程　心理カウンセラー科","2021-02-24","～",null,"2021-02-24"]
[{"$f":"IF(OR(検索シート!$F$9=\"\",検索シート!$F$9=\"（指定なし）\",検索シート!$F$9=全国版!K333,AND(検索シート!$F$9=\"変更等なし\",全国版!K333=\"\")),1,0)","v":1},{"$f":"IF(A333=0,\"\",IFERROR(IF(OR(検索シート!$F$5=\"\",検索シート!$F$5=\"（指定なし）\"),1,FIND(ASC(検索シート!$F$5),ASC(全国版!D333)))+FIND(ASC(検索シート!$F$6),ASC(全国版!E333))+FIND(ASC(検索シート!$F$7),ASC(全国版!F333)),\"\"))","v":3},{"$f":"IF(B333=\"\",\"-\",COUNT(B$4:$B333))","v":330},"東京都","東京福祉専門学校","社会福祉専門課程　作業療法科（４年制夜間部）","2005-12-09","～","2018-02-27","2005-12-09","不適合",null,null,"2018-02-28","2018-02-28"]
[{"$f":"IF(OR(検索シート!$F$9=\"\",検索シート!$F$9=\"（指定なし）\",検索シート!$F$9=全国版!K334,AND(検索シート!$F$9=\"変更等なし\",全国版!K334=\"\")),1,0)","v":1},{"$f":"IF(A334=0,\"\",IFERROR(IF(OR(検索シート!$F$5=\"\",検索シート!$F$5=\"（指定なし）\"),1,FIND(ASC(検索シート!$F$5),ASC(全国版!D334)))+FIND(ASC(検索シート!$F$6),ASC(全国版!E334))+FIND(ASC(検索シート!$F$7),ASC(全国版!F334)),\"\"))","v":3},{"$f":"IF(B334=\"\",\"-\",COUNT(B$4:$B334))","v":331},"東京都","東京法律専門学校","法律専門課程　法律学科（４年制）","2005-12-09","～",null,"2005-12-09"]
[{"$f":"IF(OR(検索シート!$F$9=\"\",検索シート!$F$9=\"（指定なし）\",検索シート!$F$9=全国版!K335,AND(検索シート!$F$9=\"変更等なし\",全国版!K335=\"\")),1,0)","v":1},{"$f":"IF(A335=0,\"\",IFERROR(IF(OR(検索シート!$F$5=\"\",検索シート!$F$5=\"（指定なし）\"),1,FIND(ASC(検索シート!$F$5),ASC(全国版!D335)))+FIND(ASC(検索シート!$F$6),ASC(全国版!E335))+FIND(ASC(検索シート!$F$7),ASC(全国版!F335)),\"\"))","v":3},{"$f":"IF(B335=\"\",\"-\",COUNT(B$4:$B335))","v":332},"東京都","東京ホテル・観光＆ホスピタリティ専門学校","商業実務専門課程　ホスピタリティマネジメント科","2024-01-17",null,null,"2024-01-17"]
[{"$f":"IF(OR(検索シート!$F$9=\"\",検索シート!$F$9=\"（指定なし）\",検索シート!$F$9=全国版!K336,AND(検索シート!$F$9=\"変更等なし\",全国版!K336=\"\")),1,0)","v":1},{"$f":"IF(A336=0,\"\",IFERROR(IF(OR(検索シート!$F$5=\"\",検索シート!$F$5=\"（指定なし）\"),1,FIND(ASC(検索シート!$F$5),ASC(全国版!D336)))+FIND(ASC(検索シート!$F$6),ASC(全国版!E336))+FIND(ASC(検索シート!$F$7),ASC(全国版!F336)),\"\"))","v":3},{"$f":"IF(B336=\"\",\"-\",COUNT(B$4:$B336))","v":333},"東京都","東京メディカル・スポーツ専門学校","医療専門課程　理学療法士科Ⅰ部","2010-04-01","～",null,"2010-11-29"]
[{"$f":"IF(OR(検索シート!$F$9=\"\",検索シート!$F$9=\"（指定なし）\",検索シート!$F$9=全国版!K337,AND(検索シート!$F$9=\"変更等なし\",全国版!K337=\"\")),1,0)","v":1},{"$f":"IF(A337=0,\"\",IFERROR(IF(OR(検索シート!$F$5=\"\",検索シート!$F$5=\"（指定なし）\"),1,FIND(ASC(検索シート!$F$5),ASC(全国版!D337)))+FIND(ASC(検索シート!$F$6),ASC(全国版!E337))+FIND(ASC(検索シート!$F$7),ASC(全国版!F337)),\"\"))","v":3},{"$f":"IF(B337=\"\",\"-\",COUNT(B$4:$B337))","v":334},"東京都","東京メディカル・スポーツ専門学校","医療専門課程　理学療法科Ⅰ部","2010-02-26","～","2010-03-31","2010-02-26","名称変更","東京メディカル・スポーツ専門学校","医療専門課程　理学療法士科Ⅰ部","2010-04-01","2010-11-29"]
[{"$f":"IF(OR(検索シート!$F$9=\"\",検索シート!$F$9=\"（指定なし）\",検索シート!$F$9=全国版!K338,AND(検索シート!$F$9=\"変更等なし\",全国版!K338=\"\")),1,0)","v":1},{"$f":"IF(A338=0,\"\",IFERROR(IF(OR(検索シート!$F$5=\"\",検索シート!$F$5=\"（指定なし）\"),1,FIND(ASC(検索シート!$F$5),ASC(全国版!D338)))+FIND(ASC(検索シート!$F$6),ASC(全国版!E338))+FIND(ASC(検索シート!$F$7),ASC(全国版!F338)),\"\"))","v":3},{"$f":"IF(B338=\"\",\"-\",COUNT(B$4:$B338))","v":335},"東京都","東京モード学園","ファッション専門課程　ファッションビジネス＆テクノロジー学科","2022-03-04","～",null,"2022-03-04"]
[{"$f":"IF(OR(検索シート!$F$9=\"\",検索シート!$F$9=\"（指定なし）\",検索シート!$F$9=全国版!K339,AND(検索シート!$F$9=\"変更等なし\",全国版!K339=\"\")),1,0)","v":1},{"$f":"IF(A339=0,\"\",IFERROR(IF(OR(検索シート!$F$5=\"\",検索シート!$F$5=\"（指定なし）\"),1,FIND(ASC(検索シート!$F$5),ASC(全国版!D339)))+FIND(ASC(検索シート!$F$6),ASC(全国版!E339))+FIND(ASC(検索シート!$F$7),ASC(全国版!F339)),\"\"))","v":3},{"$f":"IF(B339=\"\",\"-\",COUNT(B$4:$B339))","v":336},"東京都","東京モード学園","ファッション専門課程　ファッションデザイン学科（４年制）","2009-02-27","～",null,"2009-02-27"]
[{"$f":"IF(OR(検索シート!$F$9=\"\",検索シート!$F$9=\"（指定なし）\",検索シート!$F$9=全国版!K340,AND(検索シート!$F$9=\"変更等なし\",全国版!K340=\"\")),1,0)","v":1},{"$f":"IF(A340=0,\"\",IFERROR(IF(OR(検索シート!$F$5=\"\",検索シート!$F$5=\"（指定なし）\"),1,FIND(ASC(検索シート!$F$5),ASC(全国版!D340)))+FIND(ASC(検索シート!$F$6),ASC(全国版!E340))+FIND(ASC(検索シート!$F$7),ASC(全国版!F340)),\"\"))","v":3},{"$f":"IF(B340=\"\",\"-\",COUNT(B$4:$B340))","v":337},"東京都","東京リハビリテーション専門学校","医療専門課程　作業療法学科","2009-06-20","～","2011-03-31","2010-02-26","廃止",null,null,"2011-03-31","2011-12-22"]
[{"$f":"IF(OR(検索シート!$F$9=\"\",検索シート!$F$9=\"（指定なし）\",検索シート!$F$9=全国版!K341,AND(検索シート!$F$9=\"変更等なし\",全国版!K341=\"\")),1,0)","v":1},{"$f":"IF(A341=0,\"\",IFERROR(IF(OR(検索シート!$F$5=\"\",検索シート!$F$5=\"（指定なし）\"),1,FIND(ASC(検索シート!$F$5),ASC(全国版!D341)))+FIND(ASC(検索シート!$F$6),ASC(全国版!E341))+FIND(ASC(検索シート!$F$7),ASC(全国版!F341)),\"\"))","v":3},{"$f":"IF(B341=\"\",\"-\",COUNT(B$4:$B341))","v":338},"東京都","東京リハビリテーション専門学校","医療専門課程　理学療法学科","2009-06-20","～","2021-10-22","2010-02-26","廃止",null,null,"2021-10-22","2023-01-27"]
[{"$f":"IF(OR(検索シート!$F$9=\"\",検索シート!$F$9=\"（指定なし）\",検索シート!$F$9=全国版!K342,AND(検索シート!$F$9=\"変更等なし\",全国版!K342=\"\")),1,0)","v":1},{"$f":"IF(A342=0,\"\",IFERROR(IF(OR(検索シート!$F$5=\"\",検索シート!$F$5=\"（指定なし）\"),1,FIND(ASC(検索シート!$F$5),ASC(全国版!D342)))+FIND(ASC(検索シート!$F$6),ASC(全国版!E342))+FIND(ASC(検索シート!$F$7),ASC(全国版!F342)),\"\"))","v":3},{"$f":"IF(B342=\"\",\"-\",COUNT(B$4:$B342))","v":339},"東京都","東洋美術学校","造形専門課程　保存修復科","2010-11-29","～",null,"2010-11-29"]
[{"$f":"IF(OR(検索シート!$F$9=\"\",検索シート!$F$9=\"（指定なし）\",検索シート!$F$9=全国版!K343,AND(検索シート!$F$9=\"変更等なし\",全国版!K343=\"\")),1,0)","v":1},{"$f":"IF(A343=0,\"\",IFERROR(IF(OR(検索シート!$F$5=\"\",検索シート!$F$5=\"（指定なし）\"),1,FIND(ASC(検索シート!$F$5),ASC(全国版!D343)))+FIND(ASC(検索シート!$F$6),ASC(全国版!E343))+FIND(ASC(検索シート!$F$7),ASC(全国版!F343)),\"\"))","v":3},{"$f":"IF(B343=\"\",\"-\",COUNT(B$4:$B343))","v":340},"東京都","東洋美術学校","造形専門課程　クリエイティブデザイン科","2008-02-29","～",null,"2008-02-29"]
[{"$f":"IF(OR(検索シート!$F$9=\"\",検索シート!$F$9=\"（指定なし）\",検索シート!$F$9=全国版!K344,AND(検索シート!$F$9=\"変更等なし\",全国版!K344=\"\")),1,0)","v":1},{"$f":"IF(A344=0,\"\",IFERROR(IF(OR(検索シート!$F$5=\"\",検索シート!$F$5=\"（指定なし）\"),1,FIND(ASC(検索シート!$F$5),ASC(全国版!D344)))+FIND(ASC(検索シート!$F$6),ASC(全国版!E344))+FIND(ASC(検索シート!$F$7),ASC(全国版!F344)),\"\"))","v":3},{"$f":"IF(B344=\"\",\"-\",COUNT(B$4:$B344))","v":341},"東京都","東洋美術学校","造形専門課程　視覚伝達デザイン科","2005-12-09","～","2010-03-31","2005-12-09","廃止",null,null,"2010-03-31","2010-11-29"]
[{"$f":"IF(OR(検索シート!$F$9=\"\",検索シート!$F$9=\"（指定なし）\",検索シート!$F$9=全国版!K345,AND(検索シート!$F$9=\"変更等なし\",全国版!K345=\"\")),1,0)","v":1},{"$f":"IF(A345=0,\"\",IFERROR(IF(OR(検索シート!$F$5=\"\",検索シート!$F$5=\"（指定なし）\"),1,FIND(ASC(検索シート!$F$5),ASC(全国版!D345)))+FIND(ASC(検索シート!$F$6),ASC(全国版!E345))+FIND(ASC(検索シート!$F$7),ASC(全国版!F345)),\"\"))","v":3},{"$f":"IF(B345=\"\",\"-\",COUNT(B$4:$B345))","v":342},"東京都","東洋美術学校","造形専門課程　造形美術科","2008-02-29","～","2013-03-31","2008-02-29","廃止",null,null,"2013-03-31","2014-01-28"]
[{"$f":"IF(OR(検索シート!$F$9=\"\",検索シート!$F$9=\"（指定なし）\",検索シート!$F$9=全国版!K346,AND(検索シート!$F$9=\"変更等なし\",全国版!K346=\"\")),1,0)","v":1},{"$f":"IF(A346=0,\"\",IFERROR(IF(OR(検索シート!$F$5=\"\",検索シート!$F$5=\"（指定なし）\"),1,FIND(ASC(検索シート!$F$5),ASC(全国版!D346)))+FIND(ASC(検索シート!$F$6),ASC(全国版!E346))+FIND(ASC(検索シート!$F$7),ASC(全国版!F346)),\"\"))","v":3},{"$f":"IF(B346=\"\",\"-\",COUNT(B$4:$B346))","v":343},"東京都","東洋美術学校","造形専門課程　プロダクトデザイン科","2005-12-09","～","2010-03-31","2005-12-09","廃止",null,null,"2010-03-31","2010-11-29"]
[{"$f":"IF(OR(検索シート!$F$9=\"\",検索シート!$F$9=\"（指定なし）\",検索シート!$F$9=全国版!K347,AND(検索シート!$F$9=\"変更等なし\",全国版!K347=\"\")),1,0)","v":1},{"$f":"IF(A347=0,\"\",IFERROR(IF(OR(検索シート!$F$5=\"\",検索シート!$F$5=\"（指定なし）\"),1,FIND(ASC(検索シート!$F$5),ASC(全国版!D347)))+FIND(ASC(検索シート!$F$6),ASC(全国版!E347))+FIND(ASC(検索シート!$F$7),ASC(全国版!F347)),\"\"))","v":3},{"$f":"IF(B347=\"\",\"-\",COUNT(B$4:$B347))","v":344},"東京都","トヨタ東京整備専門学校","工業専門課程　１級自動車科","2006-06-30","～","2007-03-31","2006-06-30","名称変更","専門学校トヨタ東京自動車大学校","工業専門課程　１級自動車科","2007-04-01","2008-02-29"]
[{"$f":"IF(OR(検索シート!$F$9=\"\",検索シート!$F$9=\"（指定なし）\",検索シート!$F$9=全国版!K348,AND(検索シート!$F$9=\"変更等なし\",全国版!K348=\"\")),1,0)","v":1},{"$f":"IF(A348=0,\"\",IFERROR(IF(OR(検索シート!$F$5=\"\",検索シート!$F$5=\"（指定なし）\"),1,FIND(ASC(検索シート!$F$5),ASC(全国版!D348)))+FIND(ASC(検索シート!$F$6),ASC(全国版!E348))+FIND(ASC(検索シート!$F$7),ASC(全国版!F348)),\"\"))","v":3},{"$f":"IF(B348=\"\",\"-\",COUNT(B$4:$B348))","v":345},"東京都","ドレスメーカー学院","服飾専門課程　高度アパレル専門科","2008-02-29","～",null,"2008-02-29"]
[{"$f":"IF(OR(検索シート!$F$9=\"\",検索シート!$F$9=\"（指定なし）\",検索シート!$F$9=全国版!K349,AND(検索シート!$F$9=\"変更等なし\",全国版!K349=\"\")),1,0)","v":1},{"$f":"IF(A349=0,\"\",IFERROR(IF(OR(検索シート!$F$5=\"\",検索シート!$F$5=\"（指定なし）\"),1,FIND(ASC(検索シート!$F$5),ASC(全国版!D349)))+FIND(ASC(検索シート!$F$6),ASC(全国版!E349))+FIND(ASC(検索シート!$F$7),ASC(全国版!F349)),\"\"))","v":3},{"$f":"IF(B349=\"\",\"-\",COUNT(B$4:$B349))","v":346},"東京都","尚美ミュージックカレッジ専門学校","音楽専門課程　音楽総合アカデミー学科","2010-04-01","～",null,"2010-11-29"]
[{"$f":"IF(OR(検索シート!$F$9=\"\",検索シート!$F$9=\"（指定なし）\",検索シート!$F$9=全国版!K350,AND(検索シート!$F$9=\"変更等なし\",全国版!K350=\"\")),1,0)","v":1},{"$f":"IF(A350=0,\"\",IFERROR(IF(OR(検索シート!$F$5=\"\",検索シート!$F$5=\"（指定なし）\"),1,FIND(ASC(検索シート!$F$5),ASC(全国版!D350)))+FIND(ASC(検索シート!$F$6),ASC(全国版!E350))+FIND(ASC(検索シート!$F$7),ASC(全国版!F350)),\"\"))","v":3},{"$f":"IF(B350=\"\",\"-\",COUNT(B$4:$B350))","v":347},"東京都","日本電子専門学校","工業専門課程　高度コンピュータグラフィックス科","2007-02-28","～","2019-03-31","2007-02-28","廃止",null,null,"2019-03-31","2020-02-29"]
[{"$f":"IF(OR(検索シート!$F$9=\"\",検索シート!$F$9=\"（指定なし）\",検索シート!$F$9=全国版!K351,AND(検索シート!$F$9=\"変更等なし\",全国版!K351=\"\")),1,0)","v":1},{"$f":"IF(A351=0,\"\",IFERROR(IF(OR(検索シート!$F$5=\"\",検索シート!$F$5=\"（指定なし）\"),1,FIND(ASC(検索シート!$F$5),ASC(全国版!D351)))+FIND(ASC(検索シート!$F$6),ASC(全国版!E351))+FIND(ASC(検索シート!$F$7),ASC(全国版!F351)),\"\"))","v":3},{"$f":"IF(B351=\"\",\"-\",COUNT(B$4:$B351))","v":348},"東京都","日本工学院専門学校","医療専門課程　作業療法学科","2005-12-09","～","2013-03-31","2005-12-09","廃止",null,null,"2013-03-31","2014-01-28"]
[{"$f":"IF(OR(検索シート!$F$9=\"\",検索シート!$F$9=\"（指定なし）\",検索シート!$F$9=全国版!K352,AND(検索シート!$F$9=\"変更等なし\",全国版!K352=\"\")),1,0)","v":1},{"$f":"IF(A352=0,\"\",IFERROR(IF(OR(検索シート!$F$5=\"\",検索シート!$F$5=\"（指定なし）\"),1,FIND(ASC(検索シート!$F$5),ASC(全国版!D352)))+FIND(ASC(検索シート!$F$6),ASC(全国版!E352))+FIND(ASC(検索シート!$F$7),ASC(全国版!F352)),\"\"))","v":3},{"$f":"IF(B352=\"\",\"-\",COUNT(B$4:$B352))","v":349},"東京都","日本工学院専門学校","医療専門課程　理学療法学科","2005-12-09","～","2014-03-31","2005-12-09","廃止",null,null,"2014-03-31","2015-02-19"]
[{"$f":"IF(OR(検索シート!$F$9=\"\",検索シート!$F$9=\"（指定なし）\",検索シート!$F$9=全国版!K353,AND(検索シート!$F$9=\"変更等なし\",全国版!K353=\"\")),1,0)","v":1},{"$f":"IF(A353=0,\"\",IFERROR(IF(OR(検索シート!$F$5=\"\",検索シート!$F$5=\"（指定なし）\"),1,FIND(ASC(検索シート!$F$5),ASC(全国版!D353)))+FIND(ASC(検索シート!$F$6),ASC(全国版!E353))+FIND(ASC(検索シート!$F$7),ASC(全国版!F353)),\"\"))","v":3},{"$f":"IF(B353=\"\",\"-\",COUNT(B$4:$B353))","v":350},"東京都","日本工学院専門学校","芸術専門課程　マンガ・アニメーション科四年制","2015-02-19","～",null,"2015-02-19"]
[{"$f":"IF(OR(検索シート!$F$9=\"\",検索シート!$F$9=\"（指定なし）\",検索シート!$F$9=全国版!K354,AND(検索シート!$F$9=\"変更等なし\",全国版!K354=\"\")),1,0)","v":1},{"$f":"IF(A354=0,\"\",IFERROR(IF(OR(検索シート!$F$5=\"\",検索シート!$F$5=\"（指定なし）\"),1,FIND(ASC(検索シート!$F$5),ASC(全国版!D354)))+FIND(ASC(検索シート!$F$6),ASC(全国版!E354))+FIND(ASC(検索シート!$F$7),ASC(全国版!F354)),\"\"))","v":3},{"$f":"IF(B354=\"\",\"-\",COUNT(B$4:$B354))","v":351},"東京都","日本工学院専門学校","工業専門課程　クリエイティブラボ科","2013-04-01","～","2017-03-31","2014-01-28","名称変更","日本工学院専門学校","工業専門課程　ゲームクリエイター科四年制","2017-04-01","2018-02-28"]
[{"$f":"IF(OR(検索シート!$F$9=\"\",検索シート!$F$9=\"（指定なし）\",検索シート!$F$9=全国版!K355,AND(検索シート!$F$9=\"変更等なし\",全国版!K355=\"\")),1,0)","v":1},{"$f":"IF(A355=0,\"\",IFERROR(IF(OR(検索シート!$F$5=\"\",検索シート!$F$5=\"（指定なし）\"),1,FIND(ASC(検索シート!$F$5),ASC(全国版!D355)))+FIND(ASC(検索シート!$F$6),ASC(全国版!E355))+FIND(ASC(検索シート!$F$7),ASC(全国版!F355)),\"\"))","v":3},{"$f":"IF(B355=\"\",\"-\",COUNT(B$4:$B355))","v":352},"東京都","日本工学院専門学校","工業専門課程　ゲームクリエイター科四年制","2017-04-01","～",null,"2018-02-28"]
[{"$f":"IF(OR(検索シート!$F$9=\"\",検索シート!$F$9=\"（指定なし）\",検索シート!$F$9=全国版!K356,AND(検索シート!$F$9=\"変更等なし\",全国版!K356=\"\")),1,0)","v":1},{"$f":"IF(A356=0,\"\",IFERROR(IF(OR(検索シート!$F$5=\"\",検索シート!$F$5=\"（指定なし）\"),1,FIND(ASC(検索シート!$F$5),ASC(全国版!D356)))+FIND(ASC(検索シート!$F$6),ASC(全国版!E356))+FIND(ASC(検索シート!$F$7),ASC(全国版!F356)),\"\"))","v":3},{"$f":"IF(B356=\"\",\"-\",COUNT(B$4:$B356))","v":353},"東京都","日本工学院専門学校","工業専門課程　建築学科","2011-12-22","～",null,"2011-12-22"]
[{"$f":"IF(OR(検索シート!$F$9=\"\",検索シート!$F$9=\"（指定なし）\",検索シート!$F$9=全国版!K357,AND(検索シート!$F$9=\"変更等なし\",全国版!K357=\"\")),1,0)","v":1},{"$f":"IF(A357=0,\"\",IFERROR(IF(OR(検索シート!$F$5=\"\",検索シート!$F$5=\"（指定なし）\"),1,FIND(ASC(検索シート!$F$5),ASC(全国版!D357)))+FIND(ASC(検索シート!$F$6),ASC(全国版!E357))+FIND(ASC(検索シート!$F$7),ASC(全国版!F357)),\"\"))","v":3},{"$f":"IF(B357=\"\",\"-\",COUNT(B$4:$B357))","v":354},"東京都","日本工学院専門学校","工業専門課程　ＩＴスペシャリスト科","2008-02-29","～",null,"2008-02-29"]
[{"$f":"IF(OR(検索シート!$F$9=\"\",検索シート!$F$9=\"（指定なし）\",検索シート!$F$9=全国版!K358,AND(検索シート!$F$9=\"変更等なし\",全国版!K358=\"\")),1,0)","v":1},{"$f":"IF(A358=0,\"\",IFERROR(IF(OR(検索シート!$F$5=\"\",検索シート!$F$5=\"（指定なし）\"),1,FIND(ASC(検索シート!$F$5),ASC(全国版!D358)))+FIND(ASC(検索シート!$F$6),ASC(全国版!E358))+FIND(ASC(検索シート!$F$7),ASC(全国版!F358)),\"\"))","v":3},{"$f":"IF(B358=\"\",\"-\",COUNT(B$4:$B358))","v":355},"東京都","日本工学院専門学校","工業専門課程　クリエイティブラボラトリー科","2008-02-29","～","2013-03-31","2008-02-29","名称変更","日本工学院専門学校","工業専門課程　クリエイティブラボ科","2013-04-01","2014-01-28"]
[{"$f":"IF(OR(検索シート!$F$9=\"\",検索シート!$F$9=\"（指定なし）\",検索シート!$F$9=全国版!K359,AND(検索シート!$F$9=\"変更等なし\",全国版!K359=\"\")),1,0)","v":1},{"$f":"IF(A359=0,\"\",IFERROR(IF(OR(検索シート!$F$5=\"\",検索シート!$F$5=\"（指定なし）\"),1,FIND(ASC(検索シート!$F$5),ASC(全国版!D359)))+FIND(ASC(検索シート!$F$6),ASC(全国版!E359))+FIND(ASC(検索シート!$F$7),ASC(全国版!F359)),\"\"))","v":3},{"$f":"IF(B359=\"\",\"-\",COUNT(B$4:$B359))","v":356},"東京都","日本工学院八王子専門学校","芸術専門課程　マンガ・アニメーション科四年制","2015-02-19","～",null,"2015-02-19"]
[{"$f":"IF(OR(検索シート!$F$9=\"\",検索シート!$F$9=\"（指定なし）\",検索シート!$F$9=全国版!K360,AND(検索シート!$F$9=\"変更等なし\",全国版!K360=\"\")),1,0)","v":1},{"$f":"IF(A360=0,\"\",IFERROR(IF(OR(検索シート!$F$5=\"\",検索シート!$F$5=\"（指定なし）\"),1,FIND(ASC(検索シート!$F$5),ASC(全国版!D360)))+FIND(ASC(検索シート!$F$6),ASC(全国版!E360))+FIND(ASC(検索シート!$F$7),ASC(全国版!F360)),\"\"))","v":3},{"$f":"IF(B360=\"\",\"-\",COUNT(B$4:$B360))","v":357},"東京都","日本工学院八王子専門学校","工科技術専門課程　建築学科","2011-12-22","～",null,"2011-12-22"]
[{"$f":"IF(OR(検索シート!$F$9=\"\",検索シート!$F$9=\"（指定なし）\",検索シート!$F$9=全国版!K361,AND(検索シート!$F$9=\"変更等なし\",全国版!K361=\"\")),1,0)","v":1},{"$f":"IF(A361=0,\"\",IFERROR(IF(OR(検索シート!$F$5=\"\",検索シート!$F$5=\"（指定なし）\"),1,FIND(ASC(検索シート!$F$5),ASC(全国版!D361)))+FIND(ASC(検索シート!$F$6),ASC(全国版!E361))+FIND(ASC(検索シート!$F$7),ASC(全国版!F361)),\"\"))","v":3},{"$f":"IF(B361=\"\",\"-\",COUNT(B$4:$B361))","v":358},"東京都","日本工学院八王子専門学校","工科技術専門課程　一級自動車整備科","2009-02-27","～",null,"2009-02-27"]
[{"$f":"IF(OR(検索シート!$F$9=\"\",検索シート!$F$9=\"（指定なし）\",検索シート!$F$9=全国版!K362,AND(検索シート!$F$9=\"変更等なし\",全国版!K362=\"\")),1,0)","v":1},{"$f":"IF(A362=0,\"\",IFERROR(IF(OR(検索シート!$F$5=\"\",検索シート!$F$5=\"（指定なし）\"),1,FIND(ASC(検索シート!$F$5),ASC(全国版!D362)))+FIND(ASC(検索シート!$F$6),ASC(全国版!E362))+FIND(ASC(検索シート!$F$7),ASC(全国版!F362)),\"\"))","v":3},{"$f":"IF(B362=\"\",\"-\",COUNT(B$4:$B362))","v":359},"東京都","日本工学院八王子専門学校","情報科学専門課程　ＩＴスペシャリスト科","2010-11-29","～",null,"2010-11-29"]
[{"$f":"IF(OR(検索シート!$F$9=\"\",検索シート!$F$9=\"（指定なし）\",検索シート!$F$9=全国版!K363,AND(検索シート!$F$9=\"変更等なし\",全国版!K363=\"\")),1,0)","v":1},{"$f":"IF(A363=0,\"\",IFERROR(IF(OR(検索シート!$F$5=\"\",検索シート!$F$5=\"（指定なし）\"),1,FIND(ASC(検索シート!$F$5),ASC(全国版!D363)))+FIND(ASC(検索シート!$F$6),ASC(全国版!E363))+FIND(ASC(検索シート!$F$7),ASC(全国版!F363)),\"\"))","v":3},{"$f":"IF(B363=\"\",\"-\",COUNT(B$4:$B363))","v":360},"東京都","日本工学院八王子専門学校","情報科学専門課程　クリエイティブラボ科","2013-04-01","～","2017-03-31","2014-01-28","名称変更","日本工学院八王子専門学校","情報科学専門課程　ゲームクリエイター科四年制","2017-04-01","2018-02-28"]
[{"$f":"IF(OR(検索シート!$F$9=\"\",検索シート!$F$9=\"（指定なし）\",検索シート!$F$9=全国版!K364,AND(検索シート!$F$9=\"変更等なし\",全国版!K364=\"\")),1,0)","v":1},{"$f":"IF(A364=0,\"\",IFERROR(IF(OR(検索シート!$F$5=\"\",検索シート!$F$5=\"（指定なし）\"),1,FIND(ASC(検索シート!$F$5),ASC(全国版!D364)))+FIND(ASC(検索シート!$F$6),ASC(全国版!E364))+FIND(ASC(検索シート!$F$7),ASC(全国版!F364)),\"\"))","v":3},{"$f":"IF(B364=\"\",\"-\",COUNT(B$4:$B364))","v":361},"東京都","日本工学院八王子専門学校","情報科学専門課程　クリエイティブラボラトリー科","2010-11-29","～","2013-03-31","2010-11-29","名称変更","日本工学院八王子専門学校","情報科学専門課程　クリエイティブラボ科","2013-04-01","2014-01-28"]
[{"$f":"IF(OR(検索シート!$F$9=\"\",検索シート!$F$9=\"（指定なし）\",検索シート!$F$9=全国版!K365,AND(検索シート!$F$9=\"変更等なし\",全国版!K365=\"\")),1,0)","v":1},{"$f":"IF(A365=0,\"\",IFERROR(IF(OR(検索シート!$F$5=\"\",検索シート!$F$5=\"（指定なし）\"),1,FIND(ASC(検索シート!$F$5),ASC(全国版!D365)))+FIND(ASC(検索シート!$F$6),ASC(全国版!E365))+FIND(ASC(検索シート!$F$7),ASC(全国版!F365)),\"\"))","v":3},{"$f":"IF(B365=\"\",\"-\",COUNT(B$4:$B365))","v":362},"東京都","日本工学院八王子専門学校","情報科学専門課程　ゲームクリエイター科四年制","2017-04-01","～",null,"2018-02-28"]
[{"$f":"IF(OR(検索シート!$F$9=\"\",検索シート!$F$9=\"（指定なし）\",検索シート!$F$9=全国版!K366,AND(検索シート!$F$9=\"変更等なし\",全国版!K366=\"\")),1,0)","v":1},{"$f":"IF(A366=0,\"\",IFERROR(IF(OR(検索シート!$F$5=\"\",検索シート!$F$5=\"（指定なし）\"),1,FIND(ASC(検索シート!$F$5),ASC(全国版!D366)))+FIND(ASC(検索シート!$F$6),ASC(全国版!E366))+FIND(ASC(検索シート!$F$7),ASC(全国版!F366)),\"\"))","v":3},{"$f":"IF(B366=\"\",\"-\",COUNT(B$4:$B366))","v":363},"東京都","日本児童教育専門学校","児童教育専門課程　総合子ども学科","2008-02-29","～","2021-02-24","2008-02-29","不適合",null,null,"2021-02-24","2021-02-24"]
[{"$f":"IF(OR(検索シート!$F$9=\"\",検索シート!$F$9=\"（指定なし）\",検索シート!$F$9=全国版!K367,AND(検索シート!$F$9=\"変更等なし\",全国版!K367=\"\")),1,0)","v":1},{"$f":"IF(A367=0,\"\",IFERROR(IF(OR(検索シート!$F$5=\"\",検索シート!$F$5=\"（指定なし）\"),1,FIND(ASC(検索シート!$F$5),ASC(全国版!D367)))+FIND(ASC(検索シート!$F$6),ASC(全国版!E367))+FIND(ASC(検索シート!$F$7),ASC(全国版!F367)),\"\"))","v":3},{"$f":"IF(B367=\"\",\"-\",COUNT(B$4:$B367))","v":364},"東京都","日本デザイン専門学校","デザイン専門課程　美術学科","2013-01-29","～","2016-03-31","2013-01-29","名称変更","日本デザイン福祉専門学校","デザイン専門課程　美術学科","2016-04-01","2017-02-28"]
[{"$f":"IF(OR(検索シート!$F$9=\"\",検索シート!$F$9=\"（指定なし）\",検索シート!$F$9=全国版!K368,AND(検索シート!$F$9=\"変更等なし\",全国版!K368=\"\")),1,0)","v":1},{"$f":"IF(A368=0,\"\",IFERROR(IF(OR(検索シート!$F$5=\"\",検索シート!$F$5=\"（指定なし）\"),1,FIND(ASC(検索シート!$F$5),ASC(全国版!D368)))+FIND(ASC(検索シート!$F$6),ASC(全国版!E368))+FIND(ASC(検索シート!$F$7),ASC(全国版!F368)),\"\"))","v":3},{"$f":"IF(B368=\"\",\"-\",COUNT(B$4:$B368))","v":365},"東京都","日本デザイン専門学校","デザイン専門課程　絵本学科","2010-02-26","～","2016-03-31","2010-02-26","名称変更","日本デザイン福祉専門学校","デザイン専門課程　絵本学科","2016-04-01","2017-02-28"]
[{"$f":"IF(OR(検索シート!$F$9=\"\",検索シート!$F$9=\"（指定なし）\",検索シート!$F$9=全国版!K369,AND(検索シート!$F$9=\"変更等なし\",全国版!K369=\"\")),1,0)","v":1},{"$f":"IF(A369=0,\"\",IFERROR(IF(OR(検索シート!$F$5=\"\",検索シート!$F$5=\"（指定なし）\"),1,FIND(ASC(検索シート!$F$5),ASC(全国版!D369)))+FIND(ASC(検索シート!$F$6),ASC(全国版!E369))+FIND(ASC(検索シート!$F$7),ASC(全国版!F369)),\"\"))","v":3},{"$f":"IF(B369=\"\",\"-\",COUNT(B$4:$B369))","v":366},"東京都","日本デザイン専門学校","デザイン専門課程　コミックアーツ学科","2009-02-27","～","2016-03-31","2009-02-27","名称変更","日本デザイン福祉専門学校","デザイン専門課程　コミックアーツ学科","2016-04-01","2017-02-28"]
[{"$f":"IF(OR(検索シート!$F$9=\"\",検索シート!$F$9=\"（指定なし）\",検索シート!$F$9=全国版!K370,AND(検索シート!$F$9=\"変更等なし\",全国版!K370=\"\")),1,0)","v":1},{"$f":"IF(A370=0,\"\",IFERROR(IF(OR(検索シート!$F$5=\"\",検索シート!$F$5=\"（指定なし）\"),1,FIND(ASC(検索シート!$F$5),ASC(全国版!D370)))+FIND(ASC(検索シート!$F$6),ASC(全国版!E370))+FIND(ASC(検索シート!$F$7),ASC(全国版!F370)),\"\"))","v":3},{"$f":"IF(B370=\"\",\"-\",COUNT(B$4:$B370))","v":367},"東京都","日本デザイン福祉専門学校","デザイン専門課程　絵本学科","2016-04-01","～","2018-03-31","2017-02-28","廃止",null,null,"2018-03-31","2019-01-25"]
[{"$f":"IF(OR(検索シート!$F$9=\"\",検索シート!$F$9=\"（指定なし）\",検索シート!$F$9=全国版!K371,AND(検索シート!$F$9=\"変更等なし\",全国版!K371=\"\")),1,0)","v":1},{"$f":"IF(A371=0,\"\",IFERROR(IF(OR(検索シート!$F$5=\"\",検索シート!$F$5=\"（指定なし）\"),1,FIND(ASC(検索シート!$F$5),ASC(全国版!D371)))+FIND(ASC(検索シート!$F$6),ASC(全国版!E371))+FIND(ASC(検索シート!$F$7),ASC(全国版!F371)),\"\"))","v":3},{"$f":"IF(B371=\"\",\"-\",COUNT(B$4:$B371))","v":368},"東京都","日本デザイン福祉専門学校","デザイン専門課程　コミックアーツ学科","2016-04-01","～","2023-03-31","2017-02-28","廃止",null,null,"2023-03-31"]
[{"$f":"IF(OR(検索シート!$F$9=\"\",検索シート!$F$9=\"（指定なし）\",検索シート!$F$9=全国版!K372,AND(検索シート!$F$9=\"変更等なし\",全国版!K372=\"\")),1,0)","v":1},{"$f":"IF(A372=0,\"\",IFERROR(IF(OR(検索シート!$F$5=\"\",検索シート!$F$5=\"（指定なし）\"),1,FIND(ASC(検索シート!$F$5),ASC(全国版!D372)))+FIND(ASC(検索シート!$F$6),ASC(全国版!E372))+FIND(ASC(検索シート!$F$7),ASC(全国版!F372)),\"\"))","v":3},{"$f":"IF(B372=\"\",\"-\",COUNT(B$4:$B372))","v":369},"東京都","日本デザイン福祉専門学校","デザイン専門課程　美術学科","2016-04-01","～","2018-03-31","2017-02-28","廃止",null,null,"2018-03-31","2019-01-25"]
[{"$f":"IF(OR(検索シート!$F$9=\"\",検索シート!$F$9=\"（指定なし）\",検索シート!$F$9=全国版!K373,AND(検索シート!$F$9=\"変更等なし\",全国版!K373=\"\")),1,0)","v":1},{"$f":"IF(A373=0,\"\",IFERROR(IF(OR(検索シート!$F$5=\"\",検索シート!$F$5=\"（指定なし）\"),1,FIND(ASC(検索シート!$F$5),ASC(全国版!D373)))+FIND(ASC(検索シート!$F$6),ASC(全国版!E373))+FIND(ASC(検索シート!$F$7),ASC(全国版!F373)),\"\"))","v":3},{"$f":"IF(B373=\"\",\"-\",COUNT(B$4:$B373))","v":370},"東京都","日本福祉教育専門学校","福祉教育専門課程　ソーシャル・ケア学科","2009-02-27","～","2022-03-31","2009-02-27","廃止",null,null,"2022-03-31","2023-01-27"]
[{"$f":"IF(OR(検索シート!$F$9=\"\",検索シート!$F$9=\"（指定なし）\",検索シート!$F$9=全国版!K374,AND(検索シート!$F$9=\"変更等なし\",全国版!K374=\"\")),1,0)","v":1},{"$f":"IF(A374=0,\"\",IFERROR(IF(OR(検索シート!$F$5=\"\",検索シート!$F$5=\"（指定なし）\"),1,FIND(ASC(検索シート!$F$5),ASC(全国版!D374)))+FIND(ASC(検索シート!$F$6),ASC(全国版!E374))+FIND(ASC(検索シート!$F$7),ASC(全国版!F374)),\"\"))","v":3},{"$f":"IF(B374=\"\",\"-\",COUNT(B$4:$B374))","v":371},"東京都","日本リハビリテーション専門学校","医療技術専門課程　作業療法学科","2005-12-09","～",null,"2005-12-09"]
[{"$f":"IF(OR(検索シート!$F$9=\"\",検索シート!$F$9=\"（指定なし）\",検索シート!$F$9=全国版!K375,AND(検索シート!$F$9=\"変更等なし\",全国版!K375=\"\")),1,0)","v":1},{"$f":"IF(A375=0,\"\",IFERROR(IF(OR(検索シート!$F$5=\"\",検索シート!$F$5=\"（指定なし）\"),1,FIND(ASC(検索シート!$F$5),ASC(全国版!D375)))+FIND(ASC(検索シート!$F$6),ASC(全国版!E375))+FIND(ASC(検索シート!$F$7),ASC(全国版!F375)),\"\"))","v":3},{"$f":"IF(B375=\"\",\"-\",COUNT(B$4:$B375))","v":372},"東京都","日本リハビリテーション専門学校","医療技術専門課程　作業療法学科（夜間部）","2009-02-27","～",null,"2009-02-27"]
[{"$f":"IF(OR(検索シート!$F$9=\"\",検索シート!$F$9=\"（指定なし）\",検索シート!$F$9=全国版!K376,AND(検索シート!$F$9=\"変更等なし\",全国版!K376=\"\")),1,0)","v":1},{"$f":"IF(A376=0,\"\",IFERROR(IF(OR(検索シート!$F$5=\"\",検索シート!$F$5=\"（指定なし）\"),1,FIND(ASC(検索シート!$F$5),ASC(全国版!D376)))+FIND(ASC(検索シート!$F$6),ASC(全国版!E376))+FIND(ASC(検索シート!$F$7),ASC(全国版!F376)),\"\"))","v":3},{"$f":"IF(B376=\"\",\"-\",COUNT(B$4:$B376))","v":373},"東京都","日本リハビリテーション専門学校","医療技術専門課程　理学療法学科","2005-12-09","～",null,"2005-12-09"]
[{"$f":"IF(OR(検索シート!$F$9=\"\",検索シート!$F$9=\"（指定なし）\",検索シート!$F$9=全国版!K377,AND(検索シート!$F$9=\"変更等なし\",全国版!K377=\"\")),1,0)","v":1},{"$f":"IF(A377=0,\"\",IFERROR(IF(OR(検索シート!$F$5=\"\",検索シート!$F$5=\"（指定なし）\"),1,FIND(ASC(検索シート!$F$5),ASC(全国版!D377)))+FIND(ASC(検索シート!$F$6),ASC(全国版!E377))+FIND(ASC(検索シート!$F$7),ASC(全国版!F377)),\"\"))","v":3},{"$f":"IF(B377=\"\",\"-\",COUNT(B$4:$B377))","v":374},"東京都","日本リハビリテーション専門学校","医療技術専門課程　理学療法学科（夜間部）","2009-02-27","～",null,"2009-02-27"]
[{"$f":"IF(OR(検索シート!$F$9=\"\",検索シート!$F$9=\"（指定なし）\",検索シート!$F$9=全国版!K378,AND(検索シート!$F$9=\"変更等なし\",全国版!K378=\"\")),1,0)","v":1},{"$f":"IF(A378=0,\"\",IFERROR(IF(OR(検索シート!$F$5=\"\",検索シート!$F$5=\"（指定なし）\"),1,FIND(ASC(検索シート!$F$5),ASC(全国版!D378)))+FIND(ASC(検索シート!$F$6),ASC(全国版!E378))+FIND(ASC(検索シート!$F$7),ASC(全国版!F378)),\"\"))","v":3},{"$f":"IF(B378=\"\",\"-\",COUNT(B$4:$B378))","v":375},"東京都","華学園栄養専門学校","栄養専門課程　管理栄養士科","2010-02-26","～",null,"2010-02-26"]
[{"$f":"IF(OR(検索シート!$F$9=\"\",検索シート!$F$9=\"（指定なし）\",検索シート!$F$9=全国版!K379,AND(検索シート!$F$9=\"変更等なし\",全国版!K379=\"\")),1,0)","v":1},{"$f":"IF(A379=0,\"\",IFERROR(IF(OR(検索シート!$F$5=\"\",検索シート!$F$5=\"（指定なし）\"),1,FIND(ASC(検索シート!$F$5),ASC(全国版!D379)))+FIND(ASC(検索シート!$F$6),ASC(全国版!E379))+FIND(ASC(検索シート!$F$7),ASC(全国版!F379)),\"\"))","v":3},{"$f":"IF(B379=\"\",\"-\",COUNT(B$4:$B379))","v":376},"東京都","ハリウッドビューティ専門学校","美容専門課程　高度専門科（昼間部）","2009-04-01","～","2017-03-31","2010-02-26","名称変更","ハリウッド美容専門学校","美容専門課程　高度専門科（昼間部）","2017-04-01","2018-02-28"]
[{"$f":"IF(OR(検索シート!$F$9=\"\",検索シート!$F$9=\"（指定なし）\",検索シート!$F$9=全国版!K380,AND(検索シート!$F$9=\"変更等なし\",全国版!K380=\"\")),1,0)","v":1},{"$f":"IF(A380=0,\"\",IFERROR(IF(OR(検索シート!$F$5=\"\",検索シート!$F$5=\"（指定なし）\"),1,FIND(ASC(検索シート!$F$5),ASC(全国版!D380)))+FIND(ASC(検索シート!$F$6),ASC(全国版!E380))+FIND(ASC(検索シート!$F$7),ASC(全国版!F380)),\"\"))","v":3},{"$f":"IF(B380=\"\",\"-\",COUNT(B$4:$B380))","v":377},"東京都","ハリウッドビューティ専門学校","美容専門課程　高度専門科（夜間部）","2009-04-01","～","2017-03-31","2010-02-26","名称変更","ハリウッド美容専門学校","美容専門課程　高度専門科（夜間部）","2017-04-01","2018-02-28"]
[{"$f":"IF(OR(検索シート!$F$9=\"\",検索シート!$F$9=\"（指定なし）\",検索シート!$F$9=全国版!K381,AND(検索シート!$F$9=\"変更等なし\",全国版!K381=\"\")),1,0)","v":1},{"$f":"IF(A381=0,\"\",IFERROR(IF(OR(検索シート!$F$5=\"\",検索シート!$F$5=\"（指定なし）\"),1,FIND(ASC(検索シート!$F$5),ASC(全国版!D381)))+FIND(ASC(検索シート!$F$6),ASC(全国版!E381))+FIND(ASC(検索シート!$F$7),ASC(全国版!F381)),\"\"))","v":3},{"$f":"IF(B381=\"\",\"-\",COUNT(B$4:$B381))","v":378},"東京都","ハリウッド美容専門学校","美容専門課程　高度専門科（昼間部）","2017-04-01","～","2020-03-31","2018-02-28","名称変更","ハリウッド美容専門学校","美容総合専門課程　高度美容総合学科","2020-04-01","2021-02-24"]
[{"$f":"IF(OR(検索シート!$F$9=\"\",検索シート!$F$9=\"（指定なし）\",検索シート!$F$9=全国版!K382,AND(検索シート!$F$9=\"変更等なし\",全国版!K382=\"\")),1,0)","v":1},{"$f":"IF(A382=0,\"\",IFERROR(IF(OR(検索シート!$F$5=\"\",検索シート!$F$5=\"（指定なし）\"),1,FIND(ASC(検索シート!$F$5),ASC(全国版!D382)))+FIND(ASC(検索シート!$F$6),ASC(全国版!E382))+FIND(ASC(検索シート!$F$7),ASC(全国版!F382)),\"\"))","v":3},{"$f":"IF(B382=\"\",\"-\",COUNT(B$4:$B382))","v":379},"東京都","ハリウッド美容専門学校","美容専門課程　高度専門科（夜間部）","2017-04-01","～","2020-03-31","2018-02-28","廃止",null,null,"2020-04-01","2021-02-24"]
[{"$f":"IF(OR(検索シート!$F$9=\"\",検索シート!$F$9=\"（指定なし）\",検索シート!$F$9=全国版!K383,AND(検索シート!$F$9=\"変更等なし\",全国版!K383=\"\")),1,0)","v":1},{"$f":"IF(A383=0,\"\",IFERROR(IF(OR(検索シート!$F$5=\"\",検索シート!$F$5=\"（指定なし）\"),1,FIND(ASC(検索シート!$F$5),ASC(全国版!D383)))+FIND(ASC(検索シート!$F$6),ASC(全国版!E383))+FIND(ASC(検索シート!$F$7),ASC(全国版!F383)),\"\"))","v":3},{"$f":"IF(B383=\"\",\"-\",COUNT(B$4:$B383))","v":380},"東京都","ハリウッド美容専門学校","美容専門課程　高度専門科（昼間部）","2007-04-01","～","2009-03-31","2008-02-29","名称変更","ハリウッドビューティ専門学校","美容専門課程　高度専門科（昼間部）","2009-04-01","2010-02-26"]
[{"$f":"IF(OR(検索シート!$F$9=\"\",検索シート!$F$9=\"（指定なし）\",検索シート!$F$9=全国版!K384,AND(検索シート!$F$9=\"変更等なし\",全国版!K384=\"\")),1,0)","v":1},{"$f":"IF(A384=0,\"\",IFERROR(IF(OR(検索シート!$F$5=\"\",検索シート!$F$5=\"（指定なし）\"),1,FIND(ASC(検索シート!$F$5),ASC(全国版!D384)))+FIND(ASC(検索シート!$F$6),ASC(全国版!E384))+FIND(ASC(検索シート!$F$7),ASC(全国版!F384)),\"\"))","v":3},{"$f":"IF(B384=\"\",\"-\",COUNT(B$4:$B384))","v":381},"東京都","ハリウッド美容専門学校","美容専門課程　高度専門科（夜間部）","2007-04-01","～","2009-03-31","2008-02-29","名称変更","ハリウッドビューティ専門学校","美容専門課程　高度専門科（夜間部）","2009-04-01","2010-02-26"]
[{"$f":"IF(OR(検索シート!$F$9=\"\",検索シート!$F$9=\"（指定なし）\",検索シート!$F$9=全国版!K385,AND(検索シート!$F$9=\"変更等なし\",全国版!K385=\"\")),1,0)","v":1},{"$f":"IF(A385=0,\"\",IFERROR(IF(OR(検索シート!$F$5=\"\",検索シート!$F$5=\"（指定なし）\"),1,FIND(ASC(検索シート!$F$5),ASC(全国版!D385)))+FIND(ASC(検索シート!$F$6),ASC(全国版!E385))+FIND(ASC(検索シート!$F$7),ASC(全国版!F385)),\"\"))","v":3},{"$f":"IF(B385=\"\",\"-\",COUNT(B$4:$B385))","v":382},"東京都","ハリウッド美容専門学校","美容専門課程　美容高度専門科（昼間部）","2007-02-28","～","2007-03-31","2007-02-28","名称変更","ハリウッド美容専門学校","美容専門課程　高度専門科（昼間部）","2007-04-01","2008-02-29"]
[{"$f":"IF(OR(検索シート!$F$9=\"\",検索シート!$F$9=\"（指定なし）\",検索シート!$F$9=全国版!K386,AND(検索シート!$F$9=\"変更等なし\",全国版!K386=\"\")),1,0)","v":1},{"$f":"IF(A386=0,\"\",IFERROR(IF(OR(検索シート!$F$5=\"\",検索シート!$F$5=\"（指定なし）\"),1,FIND(ASC(検索シート!$F$5),ASC(全国版!D386)))+FIND(ASC(検索シート!$F$6),ASC(全国版!E386))+FIND(ASC(検索シート!$F$7),ASC(全国版!F386)),\"\"))","v":3},{"$f":"IF(B386=\"\",\"-\",COUNT(B$4:$B386))","v":383},"東京都","ハリウッド美容専門学校","美容専門課程　美容高度専門科（夜間部）","2007-02-28","～","2007-03-31","2007-02-28","名称変更","ハリウッド美容専門学校","美容専門課程　高度専門科（夜間部）","2007-04-01","2008-02-29"]
[{"$f":"IF(OR(検索シート!$F$9=\"\",検索シート!$F$9=\"（指定なし）\",検索シート!$F$9=全国版!K387,AND(検索シート!$F$9=\"変更等なし\",全国版!K387=\"\")),1,0)","v":1},{"$f":"IF(A387=0,\"\",IFERROR(IF(OR(検索シート!$F$5=\"\",検索シート!$F$5=\"（指定なし）\"),1,FIND(ASC(検索シート!$F$5),ASC(全国版!D387)))+FIND(ASC(検索シート!$F$6),ASC(全国版!E387))+FIND(ASC(検索シート!$F$7),ASC(全国版!F387)),\"\"))","v":3},{"$f":"IF(B387=\"\",\"-\",COUNT(B$4:$B387))","v":384},"東京都","ハリウッド美容専門学校","美容総合専門課程　高度美容総合学科","2020-04-01","～",null,"2021-02-24"]
[{"$f":"IF(OR(検索シート!$F$9=\"\",検索シート!$F$9=\"（指定なし）\",検索シート!$F$9=全国版!K388,AND(検索シート!$F$9=\"変更等なし\",全国版!K388=\"\")),1,0)","v":1},{"$f":"IF(A388=0,\"\",IFERROR(IF(OR(検索シート!$F$5=\"\",検索シート!$F$5=\"（指定なし）\"),1,FIND(ASC(検索シート!$F$5),ASC(全国版!D388)))+FIND(ASC(検索シート!$F$6),ASC(全国版!E388))+FIND(ASC(検索シート!$F$7),ASC(全国版!F388)),\"\"))","v":3},{"$f":"IF(B388=\"\",\"-\",COUNT(B$4:$B388))","v":385},"東京都","二葉栄養専門学校","栄養専門課程　管理栄養士学科","2005-12-09","～","2022-03-31","2005-12-09","名称変更","吉祥寺二葉栄養調理専門職学校","栄養専門課程　管理栄養士学科","2022-04-01","2023-01-27"]
[{"$f":"IF(OR(検索シート!$F$9=\"\",検索シート!$F$9=\"（指定なし）\",検索シート!$F$9=全国版!K389,AND(検索シート!$F$9=\"変更等なし\",全国版!K389=\"\")),1,0)","v":1},{"$f":"IF(A389=0,\"\",IFERROR(IF(OR(検索シート!$F$5=\"\",検索シート!$F$5=\"（指定なし）\"),1,FIND(ASC(検索シート!$F$5),ASC(全国版!D389)))+FIND(ASC(検索シート!$F$6),ASC(全国版!E389))+FIND(ASC(検索シート!$F$7),ASC(全国版!F389)),\"\"))","v":3},{"$f":"IF(B389=\"\",\"-\",COUNT(B$4:$B389))","v":386},"東京都","文化服装学院","ファッション工科専門課程　ファッション高度専門士科","2008-02-29","～",null,"2008-02-29"]
[{"$f":"IF(OR(検索シート!$F$9=\"\",検索シート!$F$9=\"（指定なし）\",検索シート!$F$9=全国版!K390,AND(検索シート!$F$9=\"変更等なし\",全国版!K390=\"\")),1,0)","v":1},{"$f":"IF(A390=0,\"\",IFERROR(IF(OR(検索シート!$F$5=\"\",検索シート!$F$5=\"（指定なし）\"),1,FIND(ASC(検索シート!$F$5),ASC(全国版!D390)))+FIND(ASC(検索シート!$F$6),ASC(全国版!E390))+FIND(ASC(検索シート!$F$7),ASC(全国版!F390)),\"\"))","v":3},{"$f":"IF(B390=\"\",\"-\",COUNT(B$4:$B390))","v":387},"東京都","文化服装学院","ファッション流通専門課程　グローバルビジネスデザイン科","2015-02-19","～","2022-03-31","2015-02-19","名称変更","文化服装学院","ファッション流通専門課程　ファッション流通高度専門士科","2022-04-01","2024-01-17"]
[{"$f":"IF(OR(検索シート!$F$9=\"\",検索シート!$F$9=\"（指定なし）\",検索シート!$F$9=全国版!K391,AND(検索シート!$F$9=\"変更等なし\",全国版!K391=\"\")),1,0)","v":1},{"$f":"IF(A391=0,\"\",IFERROR(IF(OR(検索シート!$F$5=\"\",検索シート!$F$5=\"（指定なし）\"),1,FIND(ASC(検索シート!$F$5),ASC(全国版!D391)))+FIND(ASC(検索シート!$F$6),ASC(全国版!E391))+FIND(ASC(検索シート!$F$7),ASC(全国版!F391)),\"\"))","v":3},{"$f":"IF(B391=\"\",\"-\",COUNT(B$4:$B391))","v":388},"東京都","文化服装学院","ファッション流通専門課程　ファッション流通高度専門士科","2022-04-01","～",null,"2024-01-17"]
[{"$f":"IF(OR(検索シート!$F$9=\"\",検索シート!$F$9=\"（指定なし）\",検索シート!$F$9=全国版!K392,AND(検索シート!$F$9=\"変更等なし\",全国版!K392=\"\")),1,0)","v":1},{"$f":"IF(A392=0,\"\",IFERROR(IF(OR(検索シート!$F$5=\"\",検索シート!$F$5=\"（指定なし）\"),1,FIND(ASC(検索シート!$F$5),ASC(全国版!D392)))+FIND(ASC(検索シート!$F$6),ASC(全国版!E392))+FIND(ASC(検索シート!$F$7),ASC(全国版!F392)),\"\"))","v":3},{"$f":"IF(B392=\"\",\"-\",COUNT(B$4:$B392))","v":389},"東京都","目白ファッション＆アートカレッジ","服飾専門課程　高度ファッションデザイン科","2019-01-25","～",null,"2019-01-25"]
[{"$f":"IF(OR(検索シート!$F$9=\"\",検索シート!$F$9=\"（指定なし）\",検索シート!$F$9=全国版!K393,AND(検索シート!$F$9=\"変更等なし\",全国版!K393=\"\")),1,0)","v":1},{"$f":"IF(A393=0,\"\",IFERROR(IF(OR(検索シート!$F$5=\"\",検索シート!$F$5=\"（指定なし）\"),1,FIND(ASC(検索シート!$F$5),ASC(全国版!D393)))+FIND(ASC(検索シート!$F$6),ASC(全国版!E393))+FIND(ASC(検索シート!$F$7),ASC(全国版!F393)),\"\"))","v":3},{"$f":"IF(B393=\"\",\"-\",COUNT(B$4:$B393))","v":390},"東京都","読売江東理工専門学校","工業専門課程　自動車整備研究科","2005-12-09","～","2006-03-31","2005-12-09","名称変更","専門学校読売自動車大学校","工業専門課程　自動車整備研究科","2006-04-01","2007-02-28"]
[{"$f":"IF(OR(検索シート!$F$9=\"\",検索シート!$F$9=\"（指定なし）\",検索シート!$F$9=全国版!K394,AND(検索シート!$F$9=\"変更等なし\",全国版!K394=\"\")),1,0)","v":1},{"$f":"IF(A394=0,\"\",IFERROR(IF(OR(検索シート!$F$5=\"\",検索シート!$F$5=\"（指定なし）\"),1,FIND(ASC(検索シート!$F$5),ASC(全国版!D394)))+FIND(ASC(検索シート!$F$6),ASC(全国版!E394))+FIND(ASC(検索シート!$F$7),ASC(全国版!F394)),\"\"))","v":3},{"$f":"IF(B394=\"\",\"-\",COUNT(B$4:$B394))","v":391},"東京都","了徳寺学園リハビリテーション専門学校","リハビリテーション専門課程昼間部　理学療法学科","2009-02-27","～","2013-09-20","2009-02-27","廃止",null,null,"2013-09-20","2018-02-28"]
[{"$f":"IF(OR(検索シート!$F$9=\"\",検索シート!$F$9=\"（指定なし）\",検索シート!$F$9=全国版!K395,AND(検索シート!$F$9=\"変更等なし\",全国版!K395=\"\")),1,0)","v":1},{"$f":"IF(A395=0,\"\",IFERROR(IF(OR(検索シート!$F$5=\"\",検索シート!$F$5=\"（指定なし）\"),1,FIND(ASC(検索シート!$F$5),ASC(全国版!D395)))+FIND(ASC(検索シート!$F$6),ASC(全国版!E395))+FIND(ASC(検索シート!$F$7),ASC(全国版!F395)),\"\"))","v":3},{"$f":"IF(B395=\"\",\"-\",COUNT(B$4:$B395))","v":392},"東京都","了徳寺学園リハビリテーション専門学校","リハビリテーション専門課程夜間部　理学療法学科","2009-02-27","～","2013-09-20","2009-02-27","廃止",null,null,"2013-09-20","2018-02-28"]
[{"$f":"IF(OR(検索シート!$F$9=\"\",検索シート!$F$9=\"（指定なし）\",検索シート!$F$9=全国版!K396,AND(検索シート!$F$9=\"変更等なし\",全国版!K396=\"\")),1,0)","v":1},{"$f":"IF(A396=0,\"\",IFERROR(IF(OR(検索シート!$F$5=\"\",検索シート!$F$5=\"（指定なし）\"),1,FIND(ASC(検索シート!$F$5),ASC(全国版!D396)))+FIND(ASC(検索シート!$F$6),ASC(全国版!E396))+FIND(ASC(検索シート!$F$7),ASC(全国版!F396)),\"\"))","v":3},{"$f":"IF(B396=\"\",\"-\",COUNT(B$4:$B396))","v":393},"東京都","臨床福祉専門学校","医療技術専門課程　理学療法学科（夜間部）","2009-02-27","～","2022-11-07","2009-02-27","廃止",null,null,"2022-11-07"]
[{"$f":"IF(OR(検索シート!$F$9=\"\",検索シート!$F$9=\"（指定なし）\",検索シート!$F$9=全国版!K397,AND(検索シート!$F$9=\"変更等なし\",全国版!K397=\"\")),1,0)","v":1},{"$f":"IF(A397=0,\"\",IFERROR(IF(OR(検索シート!$F$5=\"\",検索シート!$F$5=\"（指定なし）\"),1,FIND(ASC(検索シート!$F$5),ASC(全国版!D397)))+FIND(ASC(検索シート!$F$6),ASC(全国版!E397))+FIND(ASC(検索シート!$F$7),ASC(全国版!F397)),\"\"))","v":3},{"$f":"IF(B397=\"\",\"-\",COUNT(B$4:$B397))","v":394},"東京都","早稲田速記医療福祉専門学校","事務技術専門課程　医療マネジメント科（４年制）","2010-11-29","～","2020-03-31","2010-11-29","廃止",null,null,"2020-03-31","2023-01-27"]
[{"$f":"IF(OR(検索シート!$F$9=\"\",検索シート!$F$9=\"（指定なし）\",検索シート!$F$9=全国版!K398,AND(検索シート!$F$9=\"変更等なし\",全国版!K398=\"\")),1,0)","v":1},{"$f":"IF(A398=0,\"\",IFERROR(IF(OR(検索シート!$F$5=\"\",検索シート!$F$5=\"（指定なし）\"),1,FIND(ASC(検索シート!$F$5),ASC(全国版!D398)))+FIND(ASC(検索シート!$F$6),ASC(全国版!E398))+FIND(ASC(検索シート!$F$7),ASC(全国版!F398)),\"\"))","v":3},{"$f":"IF(B398=\"\",\"-\",COUNT(B$4:$B398))","v":395},"東京都","早稲田速記医療福祉専門学校","事務技術専門課程　医療経営情報科","2008-02-29","～","2012-03-31","2008-02-29","廃止",null,null,"2012-03-31","2013-01-29"]
[{"$f":"IF(OR(検索シート!$F$9=\"\",検索シート!$F$9=\"（指定なし）\",検索シート!$F$9=全国版!K399,AND(検索シート!$F$9=\"変更等なし\",全国版!K399=\"\")),1,0)","v":1},{"$f":"IF(A399=0,\"\",IFERROR(IF(OR(検索シート!$F$5=\"\",検索シート!$F$5=\"（指定なし）\"),1,FIND(ASC(検索シート!$F$5),ASC(全国版!D399)))+FIND(ASC(検索シート!$F$6),ASC(全国版!E399))+FIND(ASC(検索シート!$F$7),ASC(全国版!F399)),\"\"))","v":3},{"$f":"IF(B399=\"\",\"-\",COUNT(B$4:$B399))","v":396},"東京都","早稲田文理専門学校","商業実務専門課程　クリエイティブビジネス経営学科","2015-04-01","～","2019-03-31","2016-02-29","名称変更","早稲田文理専門学校","商業実務専門課程　ビジネス起業経営学科","2019-04-01","2020-02-29"]
[{"$f":"IF(OR(検索シート!$F$9=\"\",検索シート!$F$9=\"（指定なし）\",検索シート!$F$9=全国版!K400,AND(検索シート!$F$9=\"変更等なし\",全国版!K400=\"\")),1,0)","v":1},{"$f":"IF(A400=0,\"\",IFERROR(IF(OR(検索シート!$F$5=\"\",検索シート!$F$5=\"（指定なし）\"),1,FIND(ASC(検索シート!$F$5),ASC(全国版!D400)))+FIND(ASC(検索シート!$F$6),ASC(全国版!E400))+FIND(ASC(検索シート!$F$7),ASC(全国版!F400)),\"\"))","v":3},{"$f":"IF(B400=\"\",\"-\",COUNT(B$4:$B400))","v":397},"東京都","早稲田文理専門学校","商業実務専門課程　ビジネス起業経営学科","2011-12-22","～","2015-03-31","2011-12-22","名称変更","早稲田文理専門学校","商業実務専門課程　クリエイティブビジネス経営学科","2015-04-01","2016-02-29"]
[{"$f":"IF(OR(検索シート!$F$9=\"\",検索シート!$F$9=\"（指定なし）\",検索シート!$F$9=全国版!K401,AND(検索シート!$F$9=\"変更等なし\",全国版!K401=\"\")),1,0)","v":1},{"$f":"IF(A401=0,\"\",IFERROR(IF(OR(検索シート!$F$5=\"\",検索シート!$F$5=\"（指定なし）\"),1,FIND(ASC(検索シート!$F$5),ASC(全国版!D401)))+FIND(ASC(検索シート!$F$6),ASC(全国版!E401))+FIND(ASC(検索シート!$F$7),ASC(全国版!F401)),\"\"))","v":3},{"$f":"IF(B401=\"\",\"-\",COUNT(B$4:$B401))","v":398},"東京都","早稲田文理専門学校","商業実務専門課程　ビジネス起業経営学科","2019-04-01","～","2021-03-31","2020-02-29","名称変更","早稲田文理専門学校","商業実務専門課程　ビジネス起業経営学科（４年制）","2021-04-01","2022-03-04"]
[{"$f":"IF(OR(検索シート!$F$9=\"\",検索シート!$F$9=\"（指定なし）\",検索シート!$F$9=全国版!K402,AND(検索シート!$F$9=\"変更等なし\",全国版!K402=\"\")),1,0)","v":1},{"$f":"IF(A402=0,\"\",IFERROR(IF(OR(検索シート!$F$5=\"\",検索シート!$F$5=\"（指定なし）\"),1,FIND(ASC(検索シート!$F$5),ASC(全国版!D402)))+FIND(ASC(検索シート!$F$6),ASC(全国版!E402))+FIND(ASC(検索シート!$F$7),ASC(全国版!F402)),\"\"))","v":3},{"$f":"IF(B402=\"\",\"-\",COUNT(B$4:$B402))","v":399},"東京都","早稲田文理専門学校","商業実務専門課程　ビジネス起業経営学科（４年制）","2021-04-01","～",null,"2022-03-04"]
[{"$f":"IF(OR(検索シート!$F$9=\"\",検索シート!$F$9=\"（指定なし）\",検索シート!$F$9=全国版!K403,AND(検索シート!$F$9=\"変更等なし\",全国版!K403=\"\")),1,0)","v":1},{"$f":"IF(A403=0,\"\",IFERROR(IF(OR(検索シート!$F$5=\"\",検索シート!$F$5=\"（指定なし）\"),1,FIND(ASC(検索シート!$F$5),ASC(全国版!D403)))+FIND(ASC(検索シート!$F$6),ASC(全国版!E403))+FIND(ASC(検索シート!$F$7),ASC(全国版!F403)),\"\"))","v":3},{"$f":"IF(B403=\"\",\"-\",COUNT(B$4:$B403))","v":400},"神奈川県","浅野工学専門学校","工業専門課程　建築工学科","2005-12-09","～",null,"2005-12-09"]
[{"$f":"IF(OR(検索シート!$F$9=\"\",検索シート!$F$9=\"（指定なし）\",検索シート!$F$9=全国版!K404,AND(検索シート!$F$9=\"変更等なし\",全国版!K404=\"\")),1,0)","v":1},{"$f":"IF(A404=0,\"\",IFERROR(IF(OR(検索シート!$F$5=\"\",検索シート!$F$5=\"（指定なし）\"),1,FIND(ASC(検索シート!$F$5),ASC(全国版!D404)))+FIND(ASC(検索シート!$F$6),ASC(全国版!E404))+FIND(ASC(検索シート!$F$7),ASC(全国版!F404)),\"\"))","v":3},{"$f":"IF(B404=\"\",\"-\",COUNT(B$4:$B404))","v":401},"神奈川県","大原簿記情報ビジネス専門学校横浜校","商業実務専門課程　税理士会計士学科４年制","2011-04-01","～","2016-03-31","2011-12-22","廃止",null,null,"2016-03-31","2017-02-28"]
[{"$f":"IF(OR(検索シート!$F$9=\"\",検索シート!$F$9=\"（指定なし）\",検索シート!$F$9=全国版!K405,AND(検索シート!$F$9=\"変更等なし\",全国版!K405=\"\")),1,0)","v":1},{"$f":"IF(A405=0,\"\",IFERROR(IF(OR(検索シート!$F$5=\"\",検索シート!$F$5=\"（指定なし）\"),1,FIND(ASC(検索シート!$F$5),ASC(全国版!D405)))+FIND(ASC(検索シート!$F$6),ASC(全国版!E405))+FIND(ASC(検索シート!$F$7),ASC(全国版!F405)),\"\"))","v":3},{"$f":"IF(B405=\"\",\"-\",COUNT(B$4:$B405))","v":402},"神奈川県","大原簿記情報ビジネス専門学校横浜校","商業実務専門課程　税理士学科４年制","2007-04-01","～","2011-03-31","2008-02-29","名称変更","大原簿記情報ビジネス専門学校横浜校","商業実務専門課程　税理士会計士学科４年制","2011-04-01","2011-12-22"]
[{"$f":"IF(OR(検索シート!$F$9=\"\",検索シート!$F$9=\"（指定なし）\",検索シート!$F$9=全国版!K406,AND(検索シート!$F$9=\"変更等なし\",全国版!K406=\"\")),1,0)","v":1},{"$f":"IF(A406=0,\"\",IFERROR(IF(OR(検索シート!$F$5=\"\",検索シート!$F$5=\"（指定なし）\"),1,FIND(ASC(検索シート!$F$5),ASC(全国版!D406)))+FIND(ASC(検索シート!$F$6),ASC(全国版!E406))+FIND(ASC(検索シート!$F$7),ASC(全国版!F406)),\"\"))","v":3},{"$f":"IF(B406=\"\",\"-\",COUNT(B$4:$B406))","v":403},"神奈川県","大原簿記専門学校横浜校","商業実務専門課程　税理士学科４年制","2005-12-09","～","2007-03-31","2005-12-09","名称変更","大原簿記情報ビジネス専門学校横浜校","商業実務専門課程　税理士学科４年制","2007-04-01","2008-02-29"]
[{"$f":"IF(OR(検索シート!$F$9=\"\",検索シート!$F$9=\"（指定なし）\",検索シート!$F$9=全国版!K407,AND(検索シート!$F$9=\"変更等なし\",全国版!K407=\"\")),1,0)","v":1},{"$f":"IF(A407=0,\"\",IFERROR(IF(OR(検索シート!$F$5=\"\",検索シート!$F$5=\"（指定なし）\"),1,FIND(ASC(検索シート!$F$5),ASC(全国版!D407)))+FIND(ASC(検索シート!$F$6),ASC(全国版!E407))+FIND(ASC(検索シート!$F$7),ASC(全国版!F407)),\"\"))","v":3},{"$f":"IF(B407=\"\",\"-\",COUNT(B$4:$B407))","v":404},"神奈川県","外語ビジネス専門学校","工業専門課程　国際ＩＣＴ・観光学科","2019-01-25","～",null,"2019-01-25"]
[{"$f":"IF(OR(検索シート!$F$9=\"\",検索シート!$F$9=\"（指定なし）\",検索シート!$F$9=全国版!K408,AND(検索シート!$F$9=\"変更等なし\",全国版!K408=\"\")),1,0)","v":1},{"$f":"IF(A408=0,\"\",IFERROR(IF(OR(検索シート!$F$5=\"\",検索シート!$F$5=\"（指定なし）\"),1,FIND(ASC(検索シート!$F$5),ASC(全国版!D408)))+FIND(ASC(検索シート!$F$6),ASC(全国版!E408))+FIND(ASC(検索シート!$F$7),ASC(全国版!F408)),\"\"))","v":3},{"$f":"IF(B408=\"\",\"-\",COUNT(B$4:$B408))","v":405},"神奈川県","神奈川県立平塚看護大学校","医療専門課程　看護学科（３年課程）（修業年限は４年とする）","2019-01-25","～",null,"2019-01-25"]
[{"$f":"IF(OR(検索シート!$F$9=\"\",検索シート!$F$9=\"（指定なし）\",検索シート!$F$9=全国版!K409,AND(検索シート!$F$9=\"変更等なし\",全国版!K409=\"\")),1,0)","v":1},{"$f":"IF(A409=0,\"\",IFERROR(IF(OR(検索シート!$F$5=\"\",検索シート!$F$5=\"（指定なし）\"),1,FIND(ASC(検索シート!$F$5),ASC(全国版!D409)))+FIND(ASC(検索シート!$F$6),ASC(全国版!E409))+FIND(ASC(検索シート!$F$7),ASC(全国版!F409)),\"\"))","v":3},{"$f":"IF(B409=\"\",\"-\",COUNT(B$4:$B409))","v":406},"神奈川県","情報科学専門学校","工業専門課程　実践ＡＩ科","2021-02-24","～",null,"2021-02-24"]
[{"$f":"IF(OR(検索シート!$F$9=\"\",検索シート!$F$9=\"（指定なし）\",検索シート!$F$9=全国版!K410,AND(検索シート!$F$9=\"変更等なし\",全国版!K410=\"\")),1,0)","v":1},{"$f":"IF(A410=0,\"\",IFERROR(IF(OR(検索シート!$F$5=\"\",検索シート!$F$5=\"（指定なし）\"),1,FIND(ASC(検索シート!$F$5),ASC(全国版!D410)))+FIND(ASC(検索シート!$F$6),ASC(全国版!E410))+FIND(ASC(検索シート!$F$7),ASC(全国版!F410)),\"\"))","v":3},{"$f":"IF(B410=\"\",\"-\",COUNT(B$4:$B410))","v":407},"神奈川県","情報科学専門学校","工業専門課程　情報セキュリティ学科","2007-02-28","～",null,"2007-02-28"]
[{"$f":"IF(OR(検索シート!$F$9=\"\",検索シート!$F$9=\"（指定なし）\",検索シート!$F$9=全国版!K411,AND(検索シート!$F$9=\"変更等なし\",全国版!K411=\"\")),1,0)","v":1},{"$f":"IF(A411=0,\"\",IFERROR(IF(OR(検索シート!$F$5=\"\",検索シート!$F$5=\"（指定なし）\"),1,FIND(ASC(検索シート!$F$5),ASC(全国版!D411)))+FIND(ASC(検索シート!$F$6),ASC(全国版!E411))+FIND(ASC(検索シート!$F$7),ASC(全国版!F411)),\"\"))","v":3},{"$f":"IF(B411=\"\",\"-\",COUNT(B$4:$B411))","v":408},"神奈川県","専門学校神奈川総合大学校","工業専門課程　一級自動車整備科","2014-01-28","～",null,"2014-01-28"]
[{"$f":"IF(OR(検索シート!$F$9=\"\",検索シート!$F$9=\"（指定なし）\",検索シート!$F$9=全国版!K412,AND(検索シート!$F$9=\"変更等なし\",全国版!K412=\"\")),1,0)","v":1},{"$f":"IF(A412=0,\"\",IFERROR(IF(OR(検索シート!$F$5=\"\",検索シート!$F$5=\"（指定なし）\"),1,FIND(ASC(検索シート!$F$5),ASC(全国版!D412)))+FIND(ASC(検索シート!$F$6),ASC(全国版!E412))+FIND(ASC(検索シート!$F$7),ASC(全国版!F412)),\"\"))","v":3},{"$f":"IF(B412=\"\",\"-\",COUNT(B$4:$B412))","v":409},"神奈川県","専門学校国際新堀芸術学院","文化教養専門課程　音楽芸術学科（４年制）","2017-02-28","～",null,"2017-02-28"]
[{"$f":"IF(OR(検索シート!$F$9=\"\",検索シート!$F$9=\"（指定なし）\",検索シート!$F$9=全国版!K413,AND(検索シート!$F$9=\"変更等なし\",全国版!K413=\"\")),1,0)","v":1},{"$f":"IF(A413=0,\"\",IFERROR(IF(OR(検索シート!$F$5=\"\",検索シート!$F$5=\"（指定なし）\"),1,FIND(ASC(検索シート!$F$5),ASC(全国版!D413)))+FIND(ASC(検索シート!$F$6),ASC(全国版!E413))+FIND(ASC(検索シート!$F$7),ASC(全国版!F413)),\"\"))","v":3},{"$f":"IF(B413=\"\",\"-\",COUNT(B$4:$B413))","v":410},"神奈川県","専門学校日産横浜自動車大学校","工業専門課程　一級自動車工学科","2007-04-01","～",null,"2008-02-29"]
[{"$f":"IF(OR(検索シート!$F$9=\"\",検索シート!$F$9=\"（指定なし）\",検索シート!$F$9=全国版!K414,AND(検索シート!$F$9=\"変更等なし\",全国版!K414=\"\")),1,0)","v":1},{"$f":"IF(A414=0,\"\",IFERROR(IF(OR(検索シート!$F$5=\"\",検索シート!$F$5=\"（指定なし）\"),1,FIND(ASC(検索シート!$F$5),ASC(全国版!D414)))+FIND(ASC(検索シート!$F$6),ASC(全国版!E414))+FIND(ASC(検索シート!$F$7),ASC(全国版!F414)),\"\"))","v":3},{"$f":"IF(B414=\"\",\"-\",COUNT(B$4:$B414))","v":411},"神奈川県","茅ヶ崎リハビリテーション専門学校","医療専門課程　言語聴覚学科","2005-12-09","～","2012-03-31","2005-12-09","廃止",null,null,"2012-03-31","2013-01-29"]
[{"$f":"IF(OR(検索シート!$F$9=\"\",検索シート!$F$9=\"（指定なし）\",検索シート!$F$9=全国版!K415,AND(検索シート!$F$9=\"変更等なし\",全国版!K415=\"\")),1,0)","v":1},{"$f":"IF(A415=0,\"\",IFERROR(IF(OR(検索シート!$F$5=\"\",検索シート!$F$5=\"（指定なし）\"),1,FIND(ASC(検索シート!$F$5),ASC(全国版!D415)))+FIND(ASC(検索シート!$F$6),ASC(全国版!E415))+FIND(ASC(検索シート!$F$7),ASC(全国版!F415)),\"\"))","v":3},{"$f":"IF(B415=\"\",\"-\",COUNT(B$4:$B415))","v":412},"神奈川県","茅ヶ崎リハビリテーション専門学校","医療専門課程　作業療法学科","2005-12-09","～",null,"2005-12-09"]
[{"$f":"IF(OR(検索シート!$F$9=\"\",検索シート!$F$9=\"（指定なし）\",検索シート!$F$9=全国版!K416,AND(検索シート!$F$9=\"変更等なし\",全国版!K416=\"\")),1,0)","v":1},{"$f":"IF(A416=0,\"\",IFERROR(IF(OR(検索シート!$F$5=\"\",検索シート!$F$5=\"（指定なし）\"),1,FIND(ASC(検索シート!$F$5),ASC(全国版!D416)))+FIND(ASC(検索シート!$F$6),ASC(全国版!E416))+FIND(ASC(検索シート!$F$7),ASC(全国版!F416)),\"\"))","v":3},{"$f":"IF(B416=\"\",\"-\",COUNT(B$4:$B416))","v":413},"神奈川県","茅ヶ崎リハビリテーション専門学校","医療専門課程　理学療法学科","2005-12-09","～",null,"2005-12-09"]
[{"$f":"IF(OR(検索シート!$F$9=\"\",検索シート!$F$9=\"（指定なし）\",検索シート!$F$9=全国版!K417,AND(検索シート!$F$9=\"変更等なし\",全国版!K417=\"\")),1,0)","v":1},{"$f":"IF(A417=0,\"\",IFERROR(IF(OR(検索シート!$F$5=\"\",検索シート!$F$5=\"（指定なし）\"),1,FIND(ASC(検索シート!$F$5),ASC(全国版!D417)))+FIND(ASC(検索シート!$F$6),ASC(全国版!E417))+FIND(ASC(検索シート!$F$7),ASC(全国版!F417)),\"\"))","v":3},{"$f":"IF(B417=\"\",\"-\",COUNT(B$4:$B417))","v":414},"神奈川県","茅ヶ崎リハビリテーション専門学校","教育・社会福祉専門課程　社会福祉学科","2007-02-28","～","2009-03-31","2007-02-28","廃止",null,null,"2009-03-31","2010-02-26"]
[{"$f":"IF(OR(検索シート!$F$9=\"\",検索シート!$F$9=\"（指定なし）\",検索シート!$F$9=全国版!K418,AND(検索シート!$F$9=\"変更等なし\",全国版!K418=\"\")),1,0)","v":1},{"$f":"IF(A418=0,\"\",IFERROR(IF(OR(検索シート!$F$5=\"\",検索シート!$F$5=\"（指定なし）\"),1,FIND(ASC(検索シート!$F$5),ASC(全国版!D418)))+FIND(ASC(検索シート!$F$6),ASC(全国版!E418))+FIND(ASC(検索シート!$F$7),ASC(全国版!F418)),\"\"))","v":3},{"$f":"IF(B418=\"\",\"-\",COUNT(B$4:$B418))","v":415},"神奈川県","茅ヶ崎リハビリテーション専門学校","教育・社会福祉専門課程　精神社会福祉学科","2010-02-26","～","2011-03-31","2010-02-26","廃止",null,null,"2011-03-31","2011-12-22"]
[{"$f":"IF(OR(検索シート!$F$9=\"\",検索シート!$F$9=\"（指定なし）\",検索シート!$F$9=全国版!K419,AND(検索シート!$F$9=\"変更等なし\",全国版!K419=\"\")),1,0)","v":1},{"$f":"IF(A419=0,\"\",IFERROR(IF(OR(検索シート!$F$5=\"\",検索シート!$F$5=\"（指定なし）\"),1,FIND(ASC(検索シート!$F$5),ASC(全国版!D419)))+FIND(ASC(検索シート!$F$6),ASC(全国版!E419))+FIND(ASC(検索シート!$F$7),ASC(全国版!F419)),\"\"))","v":3},{"$f":"IF(B419=\"\",\"-\",COUNT(B$4:$B419))","v":416},"神奈川県","日産横浜整備専門学校","工業専門課程　一級自動車工学科","2006-06-30","～","2007-03-31","2006-06-30","名称変更","専門学校日産横浜自動車大学校","工業専門課程　一級自動車工学科","2007-04-01","2008-02-29"]
[{"$f":"IF(OR(検索シート!$F$9=\"\",検索シート!$F$9=\"（指定なし）\",検索シート!$F$9=全国版!K420,AND(検索シート!$F$9=\"変更等なし\",全国版!K420=\"\")),1,0)","v":1},{"$f":"IF(A420=0,\"\",IFERROR(IF(OR(検索シート!$F$5=\"\",検索シート!$F$5=\"（指定なし）\"),1,FIND(ASC(検索シート!$F$5),ASC(全国版!D420)))+FIND(ASC(検索シート!$F$6),ASC(全国版!E420))+FIND(ASC(検索シート!$F$7),ASC(全国版!F420)),\"\"))","v":3},{"$f":"IF(B420=\"\",\"-\",COUNT(B$4:$B420))","v":417},"神奈川県","日本さかな専門学校","農業専門課程　海洋生物研究学科","2024-01-17",null,null,"2024-01-17"]
[{"$f":"IF(OR(検索シート!$F$9=\"\",検索シート!$F$9=\"（指定なし）\",検索シート!$F$9=全国版!K421,AND(検索シート!$F$9=\"変更等なし\",全国版!K421=\"\")),1,0)","v":1},{"$f":"IF(A421=0,\"\",IFERROR(IF(OR(検索シート!$F$5=\"\",検索シート!$F$5=\"（指定なし）\"),1,FIND(ASC(検索シート!$F$5),ASC(全国版!D421)))+FIND(ASC(検索シート!$F$6),ASC(全国版!E421))+FIND(ASC(検索シート!$F$7),ASC(全国版!F421)),\"\"))","v":3},{"$f":"IF(B421=\"\",\"-\",COUNT(B$4:$B421))","v":418},"神奈川県","横浜ＹＭＣＡ学院専門学校","医療専門課程　作業療法科","2005-12-09","～",null,"2005-12-09"]
[{"$f":"IF(OR(検索シート!$F$9=\"\",検索シート!$F$9=\"（指定なし）\",検索シート!$F$9=全国版!K422,AND(検索シート!$F$9=\"変更等なし\",全国版!K422=\"\")),1,0)","v":1},{"$f":"IF(A422=0,\"\",IFERROR(IF(OR(検索シート!$F$5=\"\",検索シート!$F$5=\"（指定なし）\"),1,FIND(ASC(検索シート!$F$5),ASC(全国版!D422)))+FIND(ASC(検索シート!$F$6),ASC(全国版!E422))+FIND(ASC(検索シート!$F$7),ASC(全国版!F422)),\"\"))","v":3},{"$f":"IF(B422=\"\",\"-\",COUNT(B$4:$B422))","v":419},"神奈川県","横浜医療情報専門学校","医療専門課程　医療ＩＴ科","2013-01-29","～",null,"2013-01-29"]
[{"$f":"IF(OR(検索シート!$F$9=\"\",検索シート!$F$9=\"（指定なし）\",検索シート!$F$9=全国版!K423,AND(検索シート!$F$9=\"変更等なし\",全国版!K423=\"\")),1,0)","v":1},{"$f":"IF(A423=0,\"\",IFERROR(IF(OR(検索シート!$F$5=\"\",検索シート!$F$5=\"（指定なし）\"),1,FIND(ASC(検索シート!$F$5),ASC(全国版!D423)))+FIND(ASC(検索シート!$F$6),ASC(全国版!E423))+FIND(ASC(検索シート!$F$7),ASC(全国版!F423)),\"\"))","v":3},{"$f":"IF(B423=\"\",\"-\",COUNT(B$4:$B423))","v":420},"神奈川県","横浜経理専門学校","商業実務専門課程　リスクマネジメント学科","2010-11-29","～","2022-03-31","2010-11-29","廃止",null,null,"2022-03-31","2023-01-27"]
[{"$f":"IF(OR(検索シート!$F$9=\"\",検索シート!$F$9=\"（指定なし）\",検索シート!$F$9=全国版!K424,AND(検索シート!$F$9=\"変更等なし\",全国版!K424=\"\")),1,0)","v":1},{"$f":"IF(A424=0,\"\",IFERROR(IF(OR(検索シート!$F$5=\"\",検索シート!$F$5=\"（指定なし）\"),1,FIND(ASC(検索シート!$F$5),ASC(全国版!D424)))+FIND(ASC(検索シート!$F$6),ASC(全国版!E424))+FIND(ASC(検索シート!$F$7),ASC(全国版!F424)),\"\"))","v":3},{"$f":"IF(B424=\"\",\"-\",COUNT(B$4:$B424))","v":421},"神奈川県","横浜テクノオート専門学校","工業専門課程　１級自動車整備科","2010-11-29","～",null,"2010-11-29"]
[{"$f":"IF(OR(検索シート!$F$9=\"\",検索シート!$F$9=\"（指定なし）\",検索シート!$F$9=全国版!K425,AND(検索シート!$F$9=\"変更等なし\",全国版!K425=\"\")),1,0)","v":1},{"$f":"IF(A425=0,\"\",IFERROR(IF(OR(検索シート!$F$5=\"\",検索シート!$F$5=\"（指定なし）\"),1,FIND(ASC(検索シート!$F$5),ASC(全国版!D425)))+FIND(ASC(検索シート!$F$6),ASC(全国版!E425))+FIND(ASC(検索シート!$F$7),ASC(全国版!F425)),\"\"))","v":3},{"$f":"IF(B425=\"\",\"-\",COUNT(B$4:$B425))","v":422},"神奈川県","横浜デジタルアーツ専門学校","文化・教養専門課程　メディアクリエイティブ学科","2024-01-17",null,null,"2024-01-17"]
[{"$f":"IF(OR(検索シート!$F$9=\"\",検索シート!$F$9=\"（指定なし）\",検索シート!$F$9=全国版!K426,AND(検索シート!$F$9=\"変更等なし\",全国版!K426=\"\")),1,0)","v":1},{"$f":"IF(A426=0,\"\",IFERROR(IF(OR(検索シート!$F$5=\"\",検索シート!$F$5=\"（指定なし）\"),1,FIND(ASC(検索シート!$F$5),ASC(全国版!D426)))+FIND(ASC(検索シート!$F$6),ASC(全国版!E426))+FIND(ASC(検索シート!$F$7),ASC(全国版!F426)),\"\"))","v":3},{"$f":"IF(B426=\"\",\"-\",COUNT(B$4:$B426))","v":423},"神奈川県","横浜リハビリテーション専門学校","医療専門課程　作業療法学科","2005-12-09","～",null,"2005-12-09"]
[{"$f":"IF(OR(検索シート!$F$9=\"\",検索シート!$F$9=\"（指定なし）\",検索シート!$F$9=全国版!K427,AND(検索シート!$F$9=\"変更等なし\",全国版!K427=\"\")),1,0)","v":1},{"$f":"IF(A427=0,\"\",IFERROR(IF(OR(検索シート!$F$5=\"\",検索シート!$F$5=\"（指定なし）\"),1,FIND(ASC(検索シート!$F$5),ASC(全国版!D427)))+FIND(ASC(検索シート!$F$6),ASC(全国版!E427))+FIND(ASC(検索シート!$F$7),ASC(全国版!F427)),\"\"))","v":3},{"$f":"IF(B427=\"\",\"-\",COUNT(B$4:$B427))","v":424},"神奈川県","横浜リハビリテーション専門学校","医療専門課程　理学療法学科","2005-12-09","～",null,"2005-12-09"]
[{"$f":"IF(OR(検索シート!$F$9=\"\",検索シート!$F$9=\"（指定なし）\",検索シート!$F$9=全国版!K428,AND(検索シート!$F$9=\"変更等なし\",全国版!K428=\"\")),1,0)","v":1},{"$f":"IF(A428=0,\"\",IFERROR(IF(OR(検索シート!$F$5=\"\",検索シート!$F$5=\"（指定なし）\"),1,FIND(ASC(検索シート!$F$5),ASC(全国版!D428)))+FIND(ASC(検索シート!$F$6),ASC(全国版!E428))+FIND(ASC(検索シート!$F$7),ASC(全国版!F428)),\"\"))","v":3},{"$f":"IF(B428=\"\",\"-\",COUNT(B$4:$B428))","v":425},"神奈川県","米山ファッション・ビジネス専門学校","服飾・家政専門課程　ファッション・ビジネス科（夜間部）","2018-02-28","～",null,"2018-02-28"]
[{"$f":"IF(OR(検索シート!$F$9=\"\",検索シート!$F$9=\"（指定なし）\",検索シート!$F$9=全国版!K429,AND(検索シート!$F$9=\"変更等なし\",全国版!K429=\"\")),1,0)","v":1},{"$f":"IF(A429=0,\"\",IFERROR(IF(OR(検索シート!$F$5=\"\",検索シート!$F$5=\"（指定なし）\"),1,FIND(ASC(検索シート!$F$5),ASC(全国版!D429)))+FIND(ASC(検索シート!$F$6),ASC(全国版!E429))+FIND(ASC(検索シート!$F$7),ASC(全国版!F429)),\"\"))","v":3},{"$f":"IF(B429=\"\",\"-\",COUNT(B$4:$B429))","v":426},"神奈川県","米山ファッション・ビジネス専門学校","服飾・家政専門課程　ファッション・ビジネス科（４年制昼間部）","2005-12-09","～",null,"2005-12-09"]
[{"$f":"IF(OR(検索シート!$F$9=\"\",検索シート!$F$9=\"（指定なし）\",検索シート!$F$9=全国版!K430,AND(検索シート!$F$9=\"変更等なし\",全国版!K430=\"\")),1,0)","v":1},{"$f":"IF(A430=0,\"\",IFERROR(IF(OR(検索シート!$F$5=\"\",検索シート!$F$5=\"（指定なし）\"),1,FIND(ASC(検索シート!$F$5),ASC(全国版!D430)))+FIND(ASC(検索シート!$F$6),ASC(全国版!E430))+FIND(ASC(検索シート!$F$7),ASC(全国版!F430)),\"\"))","v":3},{"$f":"IF(B430=\"\",\"-\",COUNT(B$4:$B430))","v":427},"新潟県","ＪＡＰＡＮサッカーカレッジ","文化・教養専門課程　サッカーコーチ研究科","2011-12-22","～",null,"2011-12-22"]
[{"$f":"IF(OR(検索シート!$F$9=\"\",検索シート!$F$9=\"（指定なし）\",検索シート!$F$9=全国版!K431,AND(検索シート!$F$9=\"変更等なし\",全国版!K431=\"\")),1,0)","v":1},{"$f":"IF(A431=0,\"\",IFERROR(IF(OR(検索シート!$F$5=\"\",検索シート!$F$5=\"（指定なし）\"),1,FIND(ASC(検索シート!$F$5),ASC(全国版!D431)))+FIND(ASC(検索シート!$F$6),ASC(全国版!E431))+FIND(ASC(検索シート!$F$7),ASC(全国版!F431)),\"\"))","v":3},{"$f":"IF(B431=\"\",\"-\",COUNT(B$4:$B431))","v":428},"新潟県","ＪＡＰＡＮサッカーカレッジ","文化・教養専門課程　女子サッカー研究科","2016-02-29","～","2022-03-31","2016-02-29","廃止",null,null,"2022-03-31","2023-01-27"]
[{"$f":"IF(OR(検索シート!$F$9=\"\",検索シート!$F$9=\"（指定なし）\",検索シート!$F$9=全国版!K432,AND(検索シート!$F$9=\"変更等なし\",全国版!K432=\"\")),1,0)","v":1},{"$f":"IF(A432=0,\"\",IFERROR(IF(OR(検索シート!$F$5=\"\",検索シート!$F$5=\"（指定なし）\"),1,FIND(ASC(検索シート!$F$5),ASC(全国版!D432)))+FIND(ASC(検索シート!$F$6),ASC(全国版!E432))+FIND(ASC(検索シート!$F$7),ASC(全国版!F432)),\"\"))","v":3},{"$f":"IF(B432=\"\",\"-\",COUNT(B$4:$B432))","v":429},"新潟県","アップルスポーツカレッジ","文化・教養専門課程　アドバンストレーナー科","2024-01-17",null,null,"2024-01-17"]
[{"$f":"IF(OR(検索シート!$F$9=\"\",検索シート!$F$9=\"（指定なし）\",検索シート!$F$9=全国版!K433,AND(検索シート!$F$9=\"変更等なし\",全国版!K433=\"\")),1,0)","v":1},{"$f":"IF(A433=0,\"\",IFERROR(IF(OR(検索シート!$F$5=\"\",検索シート!$F$5=\"（指定なし）\"),1,FIND(ASC(検索シート!$F$5),ASC(全国版!D433)))+FIND(ASC(検索シート!$F$6),ASC(全国版!E433))+FIND(ASC(検索シート!$F$7),ASC(全国版!F433)),\"\"))","v":3},{"$f":"IF(B433=\"\",\"-\",COUNT(B$4:$B433))","v":430},"新潟県","大原簿記公務員専門学校新潟校","商業実務専門課程　国家試験専攻学科（４年制）","2005-12-09","～",null,"2005-12-09"]
[{"$f":"IF(OR(検索シート!$F$9=\"\",検索シート!$F$9=\"（指定なし）\",検索シート!$F$9=全国版!K434,AND(検索シート!$F$9=\"変更等なし\",全国版!K434=\"\")),1,0)","v":1},{"$f":"IF(A434=0,\"\",IFERROR(IF(OR(検索シート!$F$5=\"\",検索シート!$F$5=\"（指定なし）\"),1,FIND(ASC(検索シート!$F$5),ASC(全国版!D434)))+FIND(ASC(検索シート!$F$6),ASC(全国版!E434))+FIND(ASC(検索シート!$F$7),ASC(全国版!F434)),\"\"))","v":3},{"$f":"IF(B434=\"\",\"-\",COUNT(B$4:$B434))","v":431},"新潟県","北里大学保健衛生専門学院","栄養専門課程　管理栄養科","2007-02-28","～",null,"2007-02-28"]
[{"$f":"IF(OR(検索シート!$F$9=\"\",検索シート!$F$9=\"（指定なし）\",検索シート!$F$9=全国版!K435,AND(検索シート!$F$9=\"変更等なし\",全国版!K435=\"\")),1,0)","v":1},{"$f":"IF(A435=0,\"\",IFERROR(IF(OR(検索シート!$F$5=\"\",検索シート!$F$5=\"（指定なし）\"),1,FIND(ASC(検索シート!$F$5),ASC(全国版!D435)))+FIND(ASC(検索シート!$F$6),ASC(全国版!E435))+FIND(ASC(検索シート!$F$7),ASC(全国版!F435)),\"\"))","v":3},{"$f":"IF(B435=\"\",\"-\",COUNT(B$4:$B435))","v":432},"新潟県","北里大学保健衛生専門学院","看護専門課程　保健看護科","2007-02-28","～",null,"2007-02-28"]
[{"$f":"IF(OR(検索シート!$F$9=\"\",検索シート!$F$9=\"（指定なし）\",検索シート!$F$9=全国版!K436,AND(検索シート!$F$9=\"変更等なし\",全国版!K436=\"\")),1,0)","v":1},{"$f":"IF(A436=0,\"\",IFERROR(IF(OR(検索シート!$F$5=\"\",検索シート!$F$5=\"（指定なし）\"),1,FIND(ASC(検索シート!$F$5),ASC(全国版!D436)))+FIND(ASC(検索シート!$F$6),ASC(全国版!E436))+FIND(ASC(検索シート!$F$7),ASC(全国版!F436)),\"\"))","v":3},{"$f":"IF(B436=\"\",\"-\",COUNT(B$4:$B436))","v":433},"新潟県","国際エア・リゾート専門学校","文化・教養専門課程　国際観光科","2009-02-27","～","2012-03-31","2009-02-27","名称変更","国際外語・観光・エアライン専門学校","文化・教養専門課程　国際観光科","2012-04-01","2013-01-29"]
[{"$f":"IF(OR(検索シート!$F$9=\"\",検索シート!$F$9=\"（指定なし）\",検索シート!$F$9=全国版!K437,AND(検索シート!$F$9=\"変更等なし\",全国版!K437=\"\")),1,0)","v":1},{"$f":"IF(A437=0,\"\",IFERROR(IF(OR(検索シート!$F$5=\"\",検索シート!$F$5=\"（指定なし）\"),1,FIND(ASC(検索シート!$F$5),ASC(全国版!D437)))+FIND(ASC(検索シート!$F$6),ASC(全国版!E437))+FIND(ASC(検索シート!$F$7),ASC(全国版!F437)),\"\"))","v":3},{"$f":"IF(B437=\"\",\"-\",COUNT(B$4:$B437))","v":434},"新潟県","国際映像メディア専門学校","文化・教養専門課程　総合芸術学科","2018-02-28","～","2022-03-31","2018-02-28","名称変更","国際映像メディア専門学校","文化・教養専門課程　舞台芸術学科","2022-04-01","2023-01-27"]
[{"$f":"IF(OR(検索シート!$F$9=\"\",検索シート!$F$9=\"（指定なし）\",検索シート!$F$9=全国版!K438,AND(検索シート!$F$9=\"変更等なし\",全国版!K438=\"\")),1,0)","v":1},{"$f":"IF(A438=0,\"\",IFERROR(IF(OR(検索シート!$F$5=\"\",検索シート!$F$5=\"（指定なし）\"),1,FIND(ASC(検索シート!$F$5),ASC(全国版!D438)))+FIND(ASC(検索シート!$F$6),ASC(全国版!E438))+FIND(ASC(検索シート!$F$7),ASC(全国版!F438)),\"\"))","v":3},{"$f":"IF(B438=\"\",\"-\",COUNT(B$4:$B438))","v":435},"新潟県","国際映像メディア専門学校","文化・教養専門課程　舞台芸術学科","2022-04-01","～","2023-03-31","2023-01-27","廃止",null,null,"2023-03-31"]
[{"$f":"IF(OR(検索シート!$F$9=\"\",検索シート!$F$9=\"（指定なし）\",検索シート!$F$9=全国版!K439,AND(検索シート!$F$9=\"変更等なし\",全国版!K439=\"\")),1,0)","v":1},{"$f":"IF(A439=0,\"\",IFERROR(IF(OR(検索シート!$F$5=\"\",検索シート!$F$5=\"（指定なし）\"),1,FIND(ASC(検索シート!$F$5),ASC(全国版!D439)))+FIND(ASC(検索シート!$F$6),ASC(全国版!E439))+FIND(ASC(検索シート!$F$7),ASC(全国版!F439)),\"\"))","v":3},{"$f":"IF(B439=\"\",\"-\",COUNT(B$4:$B439))","v":436},"新潟県","国際映像メディア専門学校","文化・教養専門課程　映画プロデュース科","2008-02-29","～",null,"2008-02-29"]
[{"$f":"IF(OR(検索シート!$F$9=\"\",検索シート!$F$9=\"（指定なし）\",検索シート!$F$9=全国版!K440,AND(検索シート!$F$9=\"変更等なし\",全国版!K440=\"\")),1,0)","v":1},{"$f":"IF(A440=0,\"\",IFERROR(IF(OR(検索シート!$F$5=\"\",検索シート!$F$5=\"（指定なし）\"),1,FIND(ASC(検索シート!$F$5),ASC(全国版!D440)))+FIND(ASC(検索シート!$F$6),ASC(全国版!E440))+FIND(ASC(検索シート!$F$7),ASC(全国版!F440)),\"\"))","v":3},{"$f":"IF(B440=\"\",\"-\",COUNT(B$4:$B440))","v":437},"新潟県","国際映像メディア専門学校","文化・教養専門課程　映像クリエイター科","2008-02-29","～",null,"2008-02-29"]
[{"$f":"IF(OR(検索シート!$F$9=\"\",検索シート!$F$9=\"（指定なし）\",検索シート!$F$9=全国版!K441,AND(検索シート!$F$9=\"変更等なし\",全国版!K441=\"\")),1,0)","v":1},{"$f":"IF(A441=0,\"\",IFERROR(IF(OR(検索シート!$F$5=\"\",検索シート!$F$5=\"（指定なし）\"),1,FIND(ASC(検索シート!$F$5),ASC(全国版!D441)))+FIND(ASC(検索シート!$F$6),ASC(全国版!E441))+FIND(ASC(検索シート!$F$7),ASC(全国版!F441)),\"\"))","v":3},{"$f":"IF(B441=\"\",\"-\",COUNT(B$4:$B441))","v":438},"新潟県","国際外語・観光・エアライン専門学校","文化・教養専門課程　国際観光科","2012-04-01","～","2016-03-31","2013-01-29","廃止",null,null,"2016-03-31","2017-02-28"]
[{"$f":"IF(OR(検索シート!$F$9=\"\",検索シート!$F$9=\"（指定なし）\",検索シート!$F$9=全国版!K442,AND(検索シート!$F$9=\"変更等なし\",全国版!K442=\"\")),1,0)","v":1},{"$f":"IF(A442=0,\"\",IFERROR(IF(OR(検索シート!$F$5=\"\",検索シート!$F$5=\"（指定なし）\"),1,FIND(ASC(検索シート!$F$5),ASC(全国版!D442)))+FIND(ASC(検索シート!$F$6),ASC(全国版!E442))+FIND(ASC(検索シート!$F$7),ASC(全国版!F442)),\"\"))","v":3},{"$f":"IF(B442=\"\",\"-\",COUNT(B$4:$B442))","v":439},"新潟県","国際外語・観光・エアライン専門学校","文化・教養専門課程　国際観光科","2020-02-29","～","2022-03-31","2020-02-29","名称変更","国際外語・観光・エアライン専門学校","文化・教養専門課程　国際観光大学併修科","2022-04-01","2023-01-27"]
[{"$f":"IF(OR(検索シート!$F$9=\"\",検索シート!$F$9=\"（指定なし）\",検索シート!$F$9=全国版!K443,AND(検索シート!$F$9=\"変更等なし\",全国版!K443=\"\")),1,0)","v":1},{"$f":"IF(A443=0,\"\",IFERROR(IF(OR(検索シート!$F$5=\"\",検索シート!$F$5=\"（指定なし）\"),1,FIND(ASC(検索シート!$F$5),ASC(全国版!D443)))+FIND(ASC(検索シート!$F$6),ASC(全国版!E443))+FIND(ASC(検索シート!$F$7),ASC(全国版!F443)),\"\"))","v":3},{"$f":"IF(B443=\"\",\"-\",COUNT(B$4:$B443))","v":440},"新潟県","国際外語・観光・エアライン専門学校","文化・教養専門課程　国際観光大学併修科","2022-04-01","～",null,"2023-01-27"]
[{"$f":"IF(OR(検索シート!$F$9=\"\",検索シート!$F$9=\"（指定なし）\",検索シート!$F$9=全国版!K444,AND(検索シート!$F$9=\"変更等なし\",全国版!K444=\"\")),1,0)","v":1},{"$f":"IF(A444=0,\"\",IFERROR(IF(OR(検索シート!$F$5=\"\",検索シート!$F$5=\"（指定なし）\"),1,FIND(ASC(検索シート!$F$5),ASC(全国版!D444)))+FIND(ASC(検索シート!$F$6),ASC(全国版!E444))+FIND(ASC(検索シート!$F$7),ASC(全国版!F444)),\"\"))","v":3},{"$f":"IF(B444=\"\",\"-\",COUNT(B$4:$B444))","v":441},"新潟県","国際こども・福祉カレッジ","教育・社会福祉専門課程　こども未来教育学科","2010-04-01","～",null,"2010-11-29"]
[{"$f":"IF(OR(検索シート!$F$9=\"\",検索シート!$F$9=\"（指定なし）\",検索シート!$F$9=全国版!K445,AND(検索シート!$F$9=\"変更等なし\",全国版!K445=\"\")),1,0)","v":1},{"$f":"IF(A445=0,\"\",IFERROR(IF(OR(検索シート!$F$5=\"\",検索シート!$F$5=\"（指定なし）\"),1,FIND(ASC(検索シート!$F$5),ASC(全国版!D445)))+FIND(ASC(検索シート!$F$6),ASC(全国版!E445))+FIND(ASC(検索シート!$F$7),ASC(全国版!F445)),\"\"))","v":3},{"$f":"IF(B445=\"\",\"-\",COUNT(B$4:$B445))","v":442},"新潟県","国際こども・福祉カレッジ","教育・社会福祉専門課程　福祉心理学科","2010-04-01","～",null,"2010-11-29"]
[{"$f":"IF(OR(検索シート!$F$9=\"\",検索シート!$F$9=\"（指定なし）\",検索シート!$F$9=全国版!K446,AND(検索シート!$F$9=\"変更等なし\",全国版!K446=\"\")),1,0)","v":1},{"$f":"IF(A446=0,\"\",IFERROR(IF(OR(検索シート!$F$5=\"\",検索シート!$F$5=\"（指定なし）\"),1,FIND(ASC(検索シート!$F$5),ASC(全国版!D446)))+FIND(ASC(検索シート!$F$6),ASC(全国版!E446))+FIND(ASC(検索シート!$F$7),ASC(全国版!F446)),\"\"))","v":3},{"$f":"IF(B446=\"\",\"-\",COUNT(B$4:$B446))","v":443},"新潟県","国際トータルファッション専門学校","服飾・家政専門課程　トータルファッション科","2023-01-27","～",null,"2023-01-27"]
[{"$f":"IF(OR(検索シート!$F$9=\"\",検索シート!$F$9=\"（指定なし）\",検索シート!$F$9=全国版!K447,AND(検索シート!$F$9=\"変更等なし\",全国版!K447=\"\")),1,0)","v":1},{"$f":"IF(A447=0,\"\",IFERROR(IF(OR(検索シート!$F$5=\"\",検索シート!$F$5=\"（指定なし）\"),1,FIND(ASC(検索シート!$F$5),ASC(全国版!D447)))+FIND(ASC(検索シート!$F$6),ASC(全国版!E447))+FIND(ASC(検索シート!$F$7),ASC(全国版!F447)),\"\"))","v":3},{"$f":"IF(B447=\"\",\"-\",COUNT(B$4:$B447))","v":444},"新潟県","国際福祉医療カレッジ","教育・社会福祉専門課程　こども未来教育学科","2010-02-26","～","2010-03-31","2010-02-26","名称変更","国際こども・福祉カレッジ","教育・社会福祉専門課程　こども未来教育学科","2010-04-01","2010-11-29"]
[{"$f":"IF(OR(検索シート!$F$9=\"\",検索シート!$F$9=\"（指定なし）\",検索シート!$F$9=全国版!K448,AND(検索シート!$F$9=\"変更等なし\",全国版!K448=\"\")),1,0)","v":1},{"$f":"IF(A448=0,\"\",IFERROR(IF(OR(検索シート!$F$5=\"\",検索シート!$F$5=\"（指定なし）\"),1,FIND(ASC(検索シート!$F$5),ASC(全国版!D448)))+FIND(ASC(検索シート!$F$6),ASC(全国版!E448))+FIND(ASC(検索シート!$F$7),ASC(全国版!F448)),\"\"))","v":3},{"$f":"IF(B448=\"\",\"-\",COUNT(B$4:$B448))","v":445},"新潟県","国際福祉医療カレッジ","教育・社会福祉専門課程　福祉心理学科","2007-02-28","～","2010-03-31","2007-02-28","名称変更","国際こども・福祉カレッジ","教育・社会福祉専門課程　福祉心理学科","2010-04-01","2010-11-29"]
[{"$f":"IF(OR(検索シート!$F$9=\"\",検索シート!$F$9=\"（指定なし）\",検索シート!$F$9=全国版!K449,AND(検索シート!$F$9=\"変更等なし\",全国版!K449=\"\")),1,0)","v":1},{"$f":"IF(A449=0,\"\",IFERROR(IF(OR(検索シート!$F$5=\"\",検索シート!$F$5=\"（指定なし）\"),1,FIND(ASC(検索シート!$F$5),ASC(全国版!D449)))+FIND(ASC(検索シート!$F$6),ASC(全国版!E449))+FIND(ASC(検索シート!$F$7),ASC(全国版!F449)),\"\"))","v":3},{"$f":"IF(B449=\"\",\"-\",COUNT(B$4:$B449))","v":446},"新潟県","国際ペットワールド専門学校","文化・教養専門課程　愛玩動物看護師・リハビリ・トリマー学科","2022-03-04","～",null,"2022-03-04"]
[{"$f":"IF(OR(検索シート!$F$9=\"\",検索シート!$F$9=\"（指定なし）\",検索シート!$F$9=全国版!K450,AND(検索シート!$F$9=\"変更等なし\",全国版!K450=\"\")),1,0)","v":1},{"$f":"IF(A450=0,\"\",IFERROR(IF(OR(検索シート!$F$5=\"\",検索シート!$F$5=\"（指定なし）\"),1,FIND(ASC(検索シート!$F$5),ASC(全国版!D450)))+FIND(ASC(検索シート!$F$6),ASC(全国版!E450))+FIND(ASC(検索シート!$F$7),ASC(全国版!F450)),\"\"))","v":3},{"$f":"IF(B450=\"\",\"-\",COUNT(B$4:$B450))","v":447},"新潟県","国際ペットワールド専門学校","文化・教養専門課程　海洋生物・アクアリウム学科","2023-01-27","～",null,"2023-01-27"]
[{"$f":"IF(OR(検索シート!$F$9=\"\",検索シート!$F$9=\"（指定なし）\",検索シート!$F$9=全国版!K451,AND(検索シート!$F$9=\"変更等なし\",全国版!K451=\"\")),1,0)","v":1},{"$f":"IF(A451=0,\"\",IFERROR(IF(OR(検索シート!$F$5=\"\",検索シート!$F$5=\"（指定なし）\"),1,FIND(ASC(検索シート!$F$5),ASC(全国版!D451)))+FIND(ASC(検索シート!$F$6),ASC(全国版!E451))+FIND(ASC(検索シート!$F$7),ASC(全国版!F451)),\"\"))","v":3},{"$f":"IF(B451=\"\",\"-\",COUNT(B$4:$B451))","v":448},"新潟県","国際ホテル・ブライダル専門学校","文化・教養専門課程　国際ホテル大学併修科","2022-03-04","～",null,"2022-03-04"]
[{"$f":"IF(OR(検索シート!$F$9=\"\",検索シート!$F$9=\"（指定なし）\",検索シート!$F$9=全国版!K452,AND(検索シート!$F$9=\"変更等なし\",全国版!K452=\"\")),1,0)","v":1},{"$f":"IF(A452=0,\"\",IFERROR(IF(OR(検索シート!$F$5=\"\",検索シート!$F$5=\"（指定なし）\"),1,FIND(ASC(検索シート!$F$5),ASC(全国版!D452)))+FIND(ASC(検索シート!$F$6),ASC(全国版!E452))+FIND(ASC(検索シート!$F$7),ASC(全国版!F452)),\"\"))","v":3},{"$f":"IF(B452=\"\",\"-\",COUNT(B$4:$B452))","v":449},"新潟県","上越公務員・情報ビジネス専門学校","工業専門課程　情報・ＩＴビジネス大学併修科","2024-01-17",null,null,"2024-01-17"]
[{"$f":"IF(OR(検索シート!$F$9=\"\",検索シート!$F$9=\"（指定なし）\",検索シート!$F$9=全国版!K453,AND(検索シート!$F$9=\"変更等なし\",全国版!K453=\"\")),1,0)","v":1},{"$f":"IF(A453=0,\"\",IFERROR(IF(OR(検索シート!$F$5=\"\",検索シート!$F$5=\"（指定なし）\"),1,FIND(ASC(検索シート!$F$5),ASC(全国版!D453)))+FIND(ASC(検索シート!$F$6),ASC(全国版!E453))+FIND(ASC(検索シート!$F$7),ASC(全国版!F453)),\"\"))","v":3},{"$f":"IF(B453=\"\",\"-\",COUNT(B$4:$B453))","v":450},"新潟県","専門学校新潟国際自動車大学校","工業専門課程　１級自動車整備科","2008-02-29","～",null,"2008-02-29"]
[{"$f":"IF(OR(検索シート!$F$9=\"\",検索シート!$F$9=\"（指定なし）\",検索シート!$F$9=全国版!K454,AND(検索シート!$F$9=\"変更等なし\",全国版!K454=\"\")),1,0)","v":1},{"$f":"IF(A454=0,\"\",IFERROR(IF(OR(検索シート!$F$5=\"\",検索シート!$F$5=\"（指定なし）\"),1,FIND(ASC(検索シート!$F$5),ASC(全国版!D454)))+FIND(ASC(検索シート!$F$6),ASC(全国版!E454))+FIND(ASC(検索シート!$F$7),ASC(全国版!F454)),\"\"))","v":3},{"$f":"IF(B454=\"\",\"-\",COUNT(B$4:$B454))","v":451},"新潟県","伝統文化と環境福祉の専門学校","工業専門課程　伝統建築学科（４年制）","2016-02-29","～",null,"2016-02-29"]
[{"$f":"IF(OR(検索シート!$F$9=\"\",検索シート!$F$9=\"（指定なし）\",検索シート!$F$9=全国版!K455,AND(検索シート!$F$9=\"変更等なし\",全国版!K455=\"\")),1,0)","v":1},{"$f":"IF(A455=0,\"\",IFERROR(IF(OR(検索シート!$F$5=\"\",検索シート!$F$5=\"（指定なし）\"),1,FIND(ASC(検索シート!$F$5),ASC(全国版!D455)))+FIND(ASC(検索シート!$F$6),ASC(全国版!E455))+FIND(ASC(検索シート!$F$7),ASC(全国版!F455)),\"\"))","v":3},{"$f":"IF(B455=\"\",\"-\",COUNT(B$4:$B455))","v":452},"新潟県","伝統文化と環境福祉の専門学校","文化・教養専門課程　陶芸デザイン学科","2017-02-28","～",null,"2017-02-28"]
[{"$f":"IF(OR(検索シート!$F$9=\"\",検索シート!$F$9=\"（指定なし）\",検索シート!$F$9=全国版!K456,AND(検索シート!$F$9=\"変更等なし\",全国版!K456=\"\")),1,0)","v":1},{"$f":"IF(A456=0,\"\",IFERROR(IF(OR(検索シート!$F$5=\"\",検索シート!$F$5=\"（指定なし）\"),1,FIND(ASC(検索シート!$F$5),ASC(全国版!D456)))+FIND(ASC(検索シート!$F$6),ASC(全国版!E456))+FIND(ASC(検索シート!$F$7),ASC(全国版!F456)),\"\"))","v":3},{"$f":"IF(B456=\"\",\"-\",COUNT(B$4:$B456))","v":453},"新潟県","長岡公務員・情報ビジネス専門学校","工業専門課程　ＩＴ大学併修科","2023-01-27","～",null,"2023-01-27"]
[{"$f":"IF(OR(検索シート!$F$9=\"\",検索シート!$F$9=\"（指定なし）\",検索シート!$F$9=全国版!K457,AND(検索シート!$F$9=\"変更等なし\",全国版!K457=\"\")),1,0)","v":1},{"$f":"IF(A457=0,\"\",IFERROR(IF(OR(検索シート!$F$5=\"\",検索シート!$F$5=\"（指定なし）\"),1,FIND(ASC(検索シート!$F$5),ASC(全国版!D457)))+FIND(ASC(検索シート!$F$6),ASC(全国版!E457))+FIND(ASC(検索シート!$F$7),ASC(全国版!F457)),\"\"))","v":3},{"$f":"IF(B457=\"\",\"-\",COUNT(B$4:$B457))","v":454},"新潟県","長岡こども・医療・介護専門学校","教育・社会福祉専門課程　こども未来教育科","2014-01-28","～","2021-03-31","2014-01-28","廃止",null,null,"2021-03-31","2022-03-04"]
[{"$f":"IF(OR(検索シート!$F$9=\"\",検索シート!$F$9=\"（指定なし）\",検索シート!$F$9=全国版!K458,AND(検索シート!$F$9=\"変更等なし\",全国版!K458=\"\")),1,0)","v":1},{"$f":"IF(A458=0,\"\",IFERROR(IF(OR(検索シート!$F$5=\"\",検索シート!$F$5=\"（指定なし）\"),1,FIND(ASC(検索シート!$F$5),ASC(全国版!D458)))+FIND(ASC(検索シート!$F$6),ASC(全国版!E458))+FIND(ASC(検索シート!$F$7),ASC(全国版!F458)),\"\"))","v":3},{"$f":"IF(B458=\"\",\"-\",COUNT(B$4:$B458))","v":455},"新潟県","新潟会計ビジネス専門学校","商業実務専門課程　公認会計士学科（４年制）","2013-01-29","～","2023-03-31","2013-01-29","廃止",null,null,"2023-03-31"]
[{"$f":"IF(OR(検索シート!$F$9=\"\",検索シート!$F$9=\"（指定なし）\",検索シート!$F$9=全国版!K459,AND(検索シート!$F$9=\"変更等なし\",全国版!K459=\"\")),1,0)","v":1},{"$f":"IF(A459=0,\"\",IFERROR(IF(OR(検索シート!$F$5=\"\",検索シート!$F$5=\"（指定なし）\"),1,FIND(ASC(検索シート!$F$5),ASC(全国版!D459)))+FIND(ASC(検索シート!$F$6),ASC(全国版!E459))+FIND(ASC(検索シート!$F$7),ASC(全国版!F459)),\"\"))","v":3},{"$f":"IF(B459=\"\",\"-\",COUNT(B$4:$B459))","v":456},"新潟県","新潟会計ビジネス専門学校","商業実務専門課程　税理士学科（４年制）","2006-06-30","～",null,"2006-06-30"]
[{"$f":"IF(OR(検索シート!$F$9=\"\",検索シート!$F$9=\"（指定なし）\",検索シート!$F$9=全国版!K460,AND(検索シート!$F$9=\"変更等なし\",全国版!K460=\"\")),1,0)","v":1},{"$f":"IF(A460=0,\"\",IFERROR(IF(OR(検索シート!$F$5=\"\",検索シート!$F$5=\"（指定なし）\"),1,FIND(ASC(検索シート!$F$5),ASC(全国版!D460)))+FIND(ASC(検索シート!$F$6),ASC(全国版!E460))+FIND(ASC(検索シート!$F$7),ASC(全国版!F460)),\"\"))","v":3},{"$f":"IF(B460=\"\",\"-\",COUNT(B$4:$B460))","v":457},"新潟県","新潟高度情報処理技術学院","工業専門課程　高度情報科学科","2010-02-26","～","2010-03-31","2010-02-26","名称変更","新潟高度情報専門学校","工業専門課程　高度情報科学科","2010-04-01","2010-11-29"]
[{"$f":"IF(OR(検索シート!$F$9=\"\",検索シート!$F$9=\"（指定なし）\",検索シート!$F$9=全国版!K461,AND(検索シート!$F$9=\"変更等なし\",全国版!K461=\"\")),1,0)","v":1},{"$f":"IF(A461=0,\"\",IFERROR(IF(OR(検索シート!$F$5=\"\",検索シート!$F$5=\"（指定なし）\"),1,FIND(ASC(検索シート!$F$5),ASC(全国版!D461)))+FIND(ASC(検索シート!$F$6),ASC(全国版!E461))+FIND(ASC(検索シート!$F$7),ASC(全国版!F461)),\"\"))","v":3},{"$f":"IF(B461=\"\",\"-\",COUNT(B$4:$B461))","v":458},"新潟県","新潟高度情報専門学校","工業専門課程　ゲーム開発研究科","2010-11-29","～",null,"2010-11-29"]
[{"$f":"IF(OR(検索シート!$F$9=\"\",検索シート!$F$9=\"（指定なし）\",検索シート!$F$9=全国版!K462,AND(検索シート!$F$9=\"変更等なし\",全国版!K462=\"\")),1,0)","v":1},{"$f":"IF(A462=0,\"\",IFERROR(IF(OR(検索シート!$F$5=\"\",検索シート!$F$5=\"（指定なし）\"),1,FIND(ASC(検索シート!$F$5),ASC(全国版!D462)))+FIND(ASC(検索シート!$F$6),ASC(全国版!E462))+FIND(ASC(検索シート!$F$7),ASC(全国版!F462)),\"\"))","v":3},{"$f":"IF(B462=\"\",\"-\",COUNT(B$4:$B462))","v":459},"新潟県","新潟高度情報専門学校","工業専門課程　高度情報科学科","2010-04-01","～","2014-03-31","2010-11-29","名称変更","新潟高度情報専門学校","工業専門課程　情報工学科","2014-04-01","2015-02-19"]
[{"$f":"IF(OR(検索シート!$F$9=\"\",検索シート!$F$9=\"（指定なし）\",検索シート!$F$9=全国版!K463,AND(検索シート!$F$9=\"変更等なし\",全国版!K463=\"\")),1,0)","v":1},{"$f":"IF(A463=0,\"\",IFERROR(IF(OR(検索シート!$F$5=\"\",検索シート!$F$5=\"（指定なし）\"),1,FIND(ASC(検索シート!$F$5),ASC(全国版!D463)))+FIND(ASC(検索シート!$F$6),ASC(全国版!E463))+FIND(ASC(検索シート!$F$7),ASC(全国版!F463)),\"\"))","v":3},{"$f":"IF(B463=\"\",\"-\",COUNT(B$4:$B463))","v":460},"新潟県","新潟高度情報専門学校","工業専門課程　情報工学科","2014-04-01","～",null,"2015-02-19"]
[{"$f":"IF(OR(検索シート!$F$9=\"\",検索シート!$F$9=\"（指定なし）\",検索シート!$F$9=全国版!K464,AND(検索シート!$F$9=\"変更等なし\",全国版!K464=\"\")),1,0)","v":1},{"$f":"IF(A464=0,\"\",IFERROR(IF(OR(検索シート!$F$5=\"\",検索シート!$F$5=\"（指定なし）\"),1,FIND(ASC(検索シート!$F$5),ASC(全国版!D464)))+FIND(ASC(検索シート!$F$6),ASC(全国版!E464))+FIND(ASC(検索シート!$F$7),ASC(全国版!F464)),\"\"))","v":3},{"$f":"IF(B464=\"\",\"-\",COUNT(B$4:$B464))","v":461},"新潟県","新潟こども医療専門学校","教育・社会福祉専門課程　こども未来学科","2010-04-01","～",null,"2010-11-29"]
[{"$f":"IF(OR(検索シート!$F$9=\"\",検索シート!$F$9=\"（指定なし）\",検索シート!$F$9=全国版!K465,AND(検索シート!$F$9=\"変更等なし\",全国版!K465=\"\")),1,0)","v":1},{"$f":"IF(A465=0,\"\",IFERROR(IF(OR(検索シート!$F$5=\"\",検索シート!$F$5=\"（指定なし）\"),1,FIND(ASC(検索シート!$F$5),ASC(全国版!D465)))+FIND(ASC(検索シート!$F$6),ASC(全国版!E465))+FIND(ASC(検索シート!$F$7),ASC(全国版!F465)),\"\"))","v":3},{"$f":"IF(B465=\"\",\"-\",COUNT(B$4:$B465))","v":462},"新潟県","新潟コンピュータ専門学校","工業専門課程　ＩＴ高度専門学科","2008-02-29","～",null,"2008-02-29"]
[{"$f":"IF(OR(検索シート!$F$9=\"\",検索シート!$F$9=\"（指定なし）\",検索シート!$F$9=全国版!K466,AND(検索シート!$F$9=\"変更等なし\",全国版!K466=\"\")),1,0)","v":1},{"$f":"IF(A466=0,\"\",IFERROR(IF(OR(検索シート!$F$5=\"\",検索シート!$F$5=\"（指定なし）\"),1,FIND(ASC(検索シート!$F$5),ASC(全国版!D466)))+FIND(ASC(検索シート!$F$6),ASC(全国版!E466))+FIND(ASC(検索シート!$F$7),ASC(全国版!F466)),\"\"))","v":3},{"$f":"IF(B466=\"\",\"-\",COUNT(B$4:$B466))","v":463},"新潟県","新潟コンピュータ専門学校","工業専門課程　大学併修科","2024-01-17",null,null,"2024-01-17"]
[{"$f":"IF(OR(検索シート!$F$9=\"\",検索シート!$F$9=\"（指定なし）\",検索シート!$F$9=全国版!K467,AND(検索シート!$F$9=\"変更等なし\",全国版!K467=\"\")),1,0)","v":1},{"$f":"IF(A467=0,\"\",IFERROR(IF(OR(検索シート!$F$5=\"\",検索シート!$F$5=\"（指定なし）\"),1,FIND(ASC(検索シート!$F$5),ASC(全国版!D467)))+FIND(ASC(検索シート!$F$6),ASC(全国版!E467))+FIND(ASC(検索シート!$F$7),ASC(全国版!F467)),\"\"))","v":3},{"$f":"IF(B467=\"\",\"-\",COUNT(B$4:$B467))","v":464},"新潟県","新潟コンピュータ専門学校","工業専門課程　ハードウェア技術科","2006-06-30","～","2009-03-31","2006-06-30","廃止",null,null,"2009-03-31","2010-02-26"]
[{"$f":"IF(OR(検索シート!$F$9=\"\",検索シート!$F$9=\"（指定なし）\",検索シート!$F$9=全国版!K468,AND(検索シート!$F$9=\"変更等なし\",全国版!K468=\"\")),1,0)","v":1},{"$f":"IF(A468=0,\"\",IFERROR(IF(OR(検索シート!$F$5=\"\",検索シート!$F$5=\"（指定なし）\"),1,FIND(ASC(検索シート!$F$5),ASC(全国版!D468)))+FIND(ASC(検索シート!$F$6),ASC(全国版!E468))+FIND(ASC(検索シート!$F$7),ASC(全国版!F468)),\"\"))","v":3},{"$f":"IF(B468=\"\",\"-\",COUNT(B$4:$B468))","v":465},"新潟県","新潟情報専門学校","工業専門課程　大学併修科","2005-12-09","～",null,"2005-12-09"]
[{"$f":"IF(OR(検索シート!$F$9=\"\",検索シート!$F$9=\"（指定なし）\",検索シート!$F$9=全国版!K469,AND(検索シート!$F$9=\"変更等なし\",全国版!K469=\"\")),1,0)","v":1},{"$f":"IF(A469=0,\"\",IFERROR(IF(OR(検索シート!$F$5=\"\",検索シート!$F$5=\"（指定なし）\"),1,FIND(ASC(検索シート!$F$5),ASC(全国版!D469)))+FIND(ASC(検索シート!$F$6),ASC(全国版!E469))+FIND(ASC(検索シート!$F$7),ASC(全国版!F469)),\"\"))","v":3},{"$f":"IF(B469=\"\",\"-\",COUNT(B$4:$B469))","v":466},"新潟県","新潟情報ビジネス専門学校","教育・社会福祉専門課程　こども未来学科","2010-02-26","～","2010-03-31","2010-02-26","名称変更","新潟こども医療専門学校","教育・社会福祉専門課程　こども未来学科","2010-04-01","2010-11-29"]
[{"$f":"IF(OR(検索シート!$F$9=\"\",検索シート!$F$9=\"（指定なし）\",検索シート!$F$9=全国版!K470,AND(検索シート!$F$9=\"変更等なし\",全国版!K470=\"\")),1,0)","v":1},{"$f":"IF(A470=0,\"\",IFERROR(IF(OR(検索シート!$F$5=\"\",検索シート!$F$5=\"（指定なし）\"),1,FIND(ASC(検索シート!$F$5),ASC(全国版!D470)))+FIND(ASC(検索シート!$F$6),ASC(全国版!E470))+FIND(ASC(検索シート!$F$7),ASC(全国版!F470)),\"\"))","v":3},{"$f":"IF(B470=\"\",\"-\",COUNT(B$4:$B470))","v":467},"新潟県","新潟デザイン専門学校","文化・教養専門課程　クリエイティブデザイン科","2017-02-28","～",null,"2017-02-28"]
[{"$f":"IF(OR(検索シート!$F$9=\"\",検索シート!$F$9=\"（指定なし）\",検索シート!$F$9=全国版!K471,AND(検索シート!$F$9=\"変更等なし\",全国版!K471=\"\")),1,0)","v":1},{"$f":"IF(A471=0,\"\",IFERROR(IF(OR(検索シート!$F$5=\"\",検索シート!$F$5=\"（指定なし）\"),1,FIND(ASC(検索シート!$F$5),ASC(全国版!D471)))+FIND(ASC(検索シート!$F$6),ASC(全国版!E471))+FIND(ASC(検索シート!$F$7),ASC(全国版!F471)),\"\"))","v":3},{"$f":"IF(B471=\"\",\"-\",COUNT(B$4:$B471))","v":468},"新潟県","新潟農業・バイオ専門学校","農業専門課程　大学併修自然環境総合科","2022-03-04","～",null,"2022-03-04"]
[{"$f":"IF(OR(検索シート!$F$9=\"\",検索シート!$F$9=\"（指定なし）\",検索シート!$F$9=全国版!K472,AND(検索シート!$F$9=\"変更等なし\",全国版!K472=\"\")),1,0)","v":1},{"$f":"IF(A472=0,\"\",IFERROR(IF(OR(検索シート!$F$5=\"\",検索シート!$F$5=\"（指定なし）\"),1,FIND(ASC(検索シート!$F$5),ASC(全国版!D472)))+FIND(ASC(検索シート!$F$6),ASC(全国版!E472))+FIND(ASC(検索シート!$F$7),ASC(全国版!F472)),\"\"))","v":3},{"$f":"IF(B472=\"\",\"-\",COUNT(B$4:$B472))","v":469},"新潟県","新潟農業・バイオ専門学校","農業専門課程　大学併修農業総合科","2023-04-01","～",null,"2024-01-17"]
[{"$f":"IF(OR(検索シート!$F$9=\"\",検索シート!$F$9=\"（指定なし）\",検索シート!$F$9=全国版!K473,AND(検索シート!$F$9=\"変更等なし\",全国版!K473=\"\")),1,0)","v":1},{"$f":"IF(A473=0,\"\",IFERROR(IF(OR(検索シート!$F$5=\"\",検索シート!$F$5=\"（指定なし）\"),1,FIND(ASC(検索シート!$F$5),ASC(全国版!D473)))+FIND(ASC(検索シート!$F$6),ASC(全国版!E473))+FIND(ASC(検索シート!$F$7),ASC(全国版!F473)),\"\"))","v":3},{"$f":"IF(B473=\"\",\"-\",COUNT(B$4:$B473))","v":470},"新潟県","新潟農業・バイオ専門学校","農業専門課程　大学併修バイオ総合科","2023-04-01","～",null,"2024-01-17"]
[{"$f":"IF(OR(検索シート!$F$9=\"\",検索シート!$F$9=\"（指定なし）\",検索シート!$F$9=全国版!K474,AND(検索シート!$F$9=\"変更等なし\",全国版!K474=\"\")),1,0)","v":1},{"$f":"IF(A474=0,\"\",IFERROR(IF(OR(検索シート!$F$5=\"\",検索シート!$F$5=\"（指定なし）\"),1,FIND(ASC(検索シート!$F$5),ASC(全国版!D474)))+FIND(ASC(検索シート!$F$6),ASC(全国版!E474))+FIND(ASC(検索シート!$F$7),ASC(全国版!F474)),\"\"))","v":3},{"$f":"IF(B474=\"\",\"-\",COUNT(B$4:$B474))","v":471},"新潟県","新潟農業・バイオ専門学校","農業専門課程　農業経営科（４年制）","2011-12-22","～","2023-03-31","2011-12-22","名称変更","新潟農業・バイオ専門学校","農業専門課程　大学併修農業総合科","2023-04-01","2024-01-17"]
[{"$f":"IF(OR(検索シート!$F$9=\"\",検索シート!$F$9=\"（指定なし）\",検索シート!$F$9=全国版!K475,AND(検索シート!$F$9=\"変更等なし\",全国版!K475=\"\")),1,0)","v":1},{"$f":"IF(A475=0,\"\",IFERROR(IF(OR(検索シート!$F$5=\"\",検索シート!$F$5=\"（指定なし）\"),1,FIND(ASC(検索シート!$F$5),ASC(全国版!D475)))+FIND(ASC(検索シート!$F$6),ASC(全国版!E475))+FIND(ASC(検索シート!$F$7),ASC(全国版!F475)),\"\"))","v":3},{"$f":"IF(B475=\"\",\"-\",COUNT(B$4:$B475))","v":472},"新潟県","新潟農業・バイオ専門学校","農業専門課程　バイオテクノロジー科（４年制）","2011-12-22","～","2023-03-31","2011-12-22","名称変更","新潟農業・バイオ専門学校","農業専門課程　大学併修バイオ総合科","2023-04-01","2024-01-17"]
[{"$f":"IF(OR(検索シート!$F$9=\"\",検索シート!$F$9=\"（指定なし）\",検索シート!$F$9=全国版!K476,AND(検索シート!$F$9=\"変更等なし\",全国版!K476=\"\")),1,0)","v":1},{"$f":"IF(A476=0,\"\",IFERROR(IF(OR(検索シート!$F$5=\"\",検索シート!$F$5=\"（指定なし）\"),1,FIND(ASC(検索シート!$F$5),ASC(全国版!D476)))+FIND(ASC(検索シート!$F$6),ASC(全国版!E476))+FIND(ASC(検索シート!$F$7),ASC(全国版!F476)),\"\"))","v":3},{"$f":"IF(B476=\"\",\"-\",COUNT(B$4:$B476))","v":473},"新潟県","新潟ビジネス専門学校","商業実務専門課程　大学併修学科","2008-02-29","～","2009-03-31","2008-02-29","廃止",null,null,"2009-03-31","2010-02-26"]
[{"$f":"IF(OR(検索シート!$F$9=\"\",検索シート!$F$9=\"（指定なし）\",検索シート!$F$9=全国版!K477,AND(検索シート!$F$9=\"変更等なし\",全国版!K477=\"\")),1,0)","v":1},{"$f":"IF(A477=0,\"\",IFERROR(IF(OR(検索シート!$F$5=\"\",検索シート!$F$5=\"（指定なし）\"),1,FIND(ASC(検索シート!$F$5),ASC(全国版!D477)))+FIND(ASC(検索シート!$F$6),ASC(全国版!E477))+FIND(ASC(検索シート!$F$7),ASC(全国版!F477)),\"\"))","v":3},{"$f":"IF(B477=\"\",\"-\",COUNT(B$4:$B477))","v":474},"新潟県","新潟ビジネス専門学校","商業実務専門課程　大学併修事業創造学科","2024-01-17",null,null,"2024-01-17"]
[{"$f":"IF(OR(検索シート!$F$9=\"\",検索シート!$F$9=\"（指定なし）\",検索シート!$F$9=全国版!K478,AND(検索シート!$F$9=\"変更等なし\",全国版!K478=\"\")),1,0)","v":1},{"$f":"IF(A478=0,\"\",IFERROR(IF(OR(検索シート!$F$5=\"\",検索シート!$F$5=\"（指定なし）\"),1,FIND(ASC(検索シート!$F$5),ASC(全国版!D478)))+FIND(ASC(検索シート!$F$6),ASC(全国版!E478))+FIND(ASC(検索シート!$F$7),ASC(全国版!F478)),\"\"))","v":3},{"$f":"IF(B478=\"\",\"-\",COUNT(B$4:$B478))","v":475},"新潟県","新潟法律大学校","文化・教養専門課程　法学部併修学科","2020-02-29","～",null,"2020-02-29"]
[{"$f":"IF(OR(検索シート!$F$9=\"\",検索シート!$F$9=\"（指定なし）\",検索シート!$F$9=全国版!K479,AND(検索シート!$F$9=\"変更等なし\",全国版!K479=\"\")),1,0)","v":1},{"$f":"IF(A479=0,\"\",IFERROR(IF(OR(検索シート!$F$5=\"\",検索シート!$F$5=\"（指定なし）\"),1,FIND(ASC(検索シート!$F$5),ASC(全国版!D479)))+FIND(ASC(検索シート!$F$6),ASC(全国版!E479))+FIND(ASC(検索シート!$F$7),ASC(全国版!F479)),\"\"))","v":3},{"$f":"IF(B479=\"\",\"-\",COUNT(B$4:$B479))","v":476},"新潟県","新潟法律大学校","文化・教養専門課程　法律公務員学科（４年制）","2020-02-29","～",null,"2020-02-29"]
[{"$f":"IF(OR(検索シート!$F$9=\"\",検索シート!$F$9=\"（指定なし）\",検索シート!$F$9=全国版!K480,AND(検索シート!$F$9=\"変更等なし\",全国版!K480=\"\")),1,0)","v":1},{"$f":"IF(A480=0,\"\",IFERROR(IF(OR(検索シート!$F$5=\"\",検索シート!$F$5=\"（指定なし）\"),1,FIND(ASC(検索シート!$F$5),ASC(全国版!D480)))+FIND(ASC(検索シート!$F$6),ASC(全国版!E480))+FIND(ASC(検索シート!$F$7),ASC(全国版!F480)),\"\"))","v":3},{"$f":"IF(B480=\"\",\"-\",COUNT(B$4:$B480))","v":477},"新潟県","新潟リハビリテーション専門学校","医療専門課程　言語聴覚学科","2005-12-09","～","2013-03-31","2005-12-09","廃止",null,null,"2013-03-31","2018-02-28"]
[{"$f":"IF(OR(検索シート!$F$9=\"\",検索シート!$F$9=\"（指定なし）\",検索シート!$F$9=全国版!K481,AND(検索シート!$F$9=\"変更等なし\",全国版!K481=\"\")),1,0)","v":1},{"$f":"IF(A481=0,\"\",IFERROR(IF(OR(検索シート!$F$5=\"\",検索シート!$F$5=\"（指定なし）\"),1,FIND(ASC(検索シート!$F$5),ASC(全国版!D481)))+FIND(ASC(検索シート!$F$6),ASC(全国版!E481))+FIND(ASC(検索シート!$F$7),ASC(全国版!F481)),\"\"))","v":3},{"$f":"IF(B481=\"\",\"-\",COUNT(B$4:$B481))","v":478},"新潟県","新潟リハビリテーション専門学校","医療専門課程　作業療法学科","2005-12-09","～","2013-03-31","2005-12-09","廃止",null,null,"2013-03-31","2018-02-28"]
[{"$f":"IF(OR(検索シート!$F$9=\"\",検索シート!$F$9=\"（指定なし）\",検索シート!$F$9=全国版!K482,AND(検索シート!$F$9=\"変更等なし\",全国版!K482=\"\")),1,0)","v":1},{"$f":"IF(A482=0,\"\",IFERROR(IF(OR(検索シート!$F$5=\"\",検索シート!$F$5=\"（指定なし）\"),1,FIND(ASC(検索シート!$F$5),ASC(全国版!D482)))+FIND(ASC(検索シート!$F$6),ASC(全国版!E482))+FIND(ASC(検索シート!$F$7),ASC(全国版!F482)),\"\"))","v":3},{"$f":"IF(B482=\"\",\"-\",COUNT(B$4:$B482))","v":479},"新潟県","新潟リハビリテーション専門学校","医療専門課程　理学療法学科","2005-12-09","～","2013-03-31","2005-12-09","廃止",null,null,"2013-03-31","2018-02-28"]
[{"$f":"IF(OR(検索シート!$F$9=\"\",検索シート!$F$9=\"（指定なし）\",検索シート!$F$9=全国版!K483,AND(検索シート!$F$9=\"変更等なし\",全国版!K483=\"\")),1,0)","v":1},{"$f":"IF(A483=0,\"\",IFERROR(IF(OR(検索シート!$F$5=\"\",検索シート!$F$5=\"（指定なし）\"),1,FIND(ASC(検索シート!$F$5),ASC(全国版!D483)))+FIND(ASC(検索シート!$F$6),ASC(全国版!E483))+FIND(ASC(検索シート!$F$7),ASC(全国版!F483)),\"\"))","v":3},{"$f":"IF(B483=\"\",\"-\",COUNT(B$4:$B483))","v":480},"新潟県","日本アニメ・マンガ専門学校","文化・教養専門課程　ゲームクリエイター専攻科","2009-02-27","～","2012-03-31","2009-02-27","廃止",null,null,"2012-03-31","2013-01-29"]
[{"$f":"IF(OR(検索シート!$F$9=\"\",検索シート!$F$9=\"（指定なし）\",検索シート!$F$9=全国版!K484,AND(検索シート!$F$9=\"変更等なし\",全国版!K484=\"\")),1,0)","v":1},{"$f":"IF(A484=0,\"\",IFERROR(IF(OR(検索シート!$F$5=\"\",検索シート!$F$5=\"（指定なし）\"),1,FIND(ASC(検索シート!$F$5),ASC(全国版!D484)))+FIND(ASC(検索シート!$F$6),ASC(全国版!E484))+FIND(ASC(検索シート!$F$7),ASC(全国版!F484)),\"\"))","v":3},{"$f":"IF(B484=\"\",\"-\",COUNT(B$4:$B484))","v":481},"新潟県","日本アニメ・マンガ専門学校","文化・教養専門課程　大学併修科","2024-01-17",null,null,"2024-01-17"]
[{"$f":"IF(OR(検索シート!$F$9=\"\",検索シート!$F$9=\"（指定なし）\",検索シート!$F$9=全国版!K485,AND(検索シート!$F$9=\"変更等なし\",全国版!K485=\"\")),1,0)","v":1},{"$f":"IF(A485=0,\"\",IFERROR(IF(OR(検索シート!$F$5=\"\",検索シート!$F$5=\"（指定なし）\"),1,FIND(ASC(検索シート!$F$5),ASC(全国版!D485)))+FIND(ASC(検索シート!$F$6),ASC(全国版!E485))+FIND(ASC(検索シート!$F$7),ASC(全国版!F485)),\"\"))","v":3},{"$f":"IF(B485=\"\",\"-\",COUNT(B$4:$B485))","v":482},"新潟県","日本アニメ・マンガ専門学校","文化・教養専門課程　ビジュアルデザイン専攻科","2010-02-26","～",null,"2010-02-26"]
[{"$f":"IF(OR(検索シート!$F$9=\"\",検索シート!$F$9=\"（指定なし）\",検索シート!$F$9=全国版!K486,AND(検索シート!$F$9=\"変更等なし\",全国版!K486=\"\")),1,0)","v":1},{"$f":"IF(A486=0,\"\",IFERROR(IF(OR(検索シート!$F$5=\"\",検索シート!$F$5=\"（指定なし）\"),1,FIND(ASC(検索シート!$F$5),ASC(全国版!D486)))+FIND(ASC(検索シート!$F$6),ASC(全国版!E486))+FIND(ASC(検索シート!$F$7),ASC(全国版!F486)),\"\"))","v":3},{"$f":"IF(B486=\"\",\"-\",COUNT(B$4:$B486))","v":483},"新潟県","日本アニメ・マンガ専門学校","文化・教養専門課程　マンガクリエイト専攻科","2008-02-29","～","2012-03-31","2008-02-29","廃止",null,null,"2012-03-31","2013-01-29"]
[{"$f":"IF(OR(検索シート!$F$9=\"\",検索シート!$F$9=\"（指定なし）\",検索シート!$F$9=全国版!K487,AND(検索シート!$F$9=\"変更等なし\",全国版!K487=\"\")),1,0)","v":1},{"$f":"IF(A487=0,\"\",IFERROR(IF(OR(検索シート!$F$5=\"\",検索シート!$F$5=\"（指定なし）\"),1,FIND(ASC(検索シート!$F$5),ASC(全国版!D487)))+FIND(ASC(検索シート!$F$6),ASC(全国版!E487))+FIND(ASC(検索シート!$F$7),ASC(全国版!F487)),\"\"))","v":3},{"$f":"IF(B487=\"\",\"-\",COUNT(B$4:$B487))","v":484},"新潟県","北陸食育フードカレッジ","衛生専門課程　管理栄養士学科","2008-02-29","～",null,"2008-02-29"]
[{"$f":"IF(OR(検索シート!$F$9=\"\",検索シート!$F$9=\"（指定なし）\",検索シート!$F$9=全国版!K488,AND(検索シート!$F$9=\"変更等なし\",全国版!K488=\"\")),1,0)","v":1},{"$f":"IF(A488=0,\"\",IFERROR(IF(OR(検索シート!$F$5=\"\",検索シート!$F$5=\"（指定なし）\"),1,FIND(ASC(検索シート!$F$5),ASC(全国版!D488)))+FIND(ASC(検索シート!$F$6),ASC(全国版!E488))+FIND(ASC(検索シート!$F$7),ASC(全国版!F488)),\"\"))","v":3},{"$f":"IF(B488=\"\",\"-\",COUNT(B$4:$B488))","v":485},"富山県","富山医療福祉専門学校","医療専門課程　作業療法学科","2005-12-09","～","2019-03-31","2005-12-09","廃止",null,null,"2019-03-31","2020-02-29"]
[{"$f":"IF(OR(検索シート!$F$9=\"\",検索シート!$F$9=\"（指定なし）\",検索シート!$F$9=全国版!K489,AND(検索シート!$F$9=\"変更等なし\",全国版!K489=\"\")),1,0)","v":1},{"$f":"IF(A489=0,\"\",IFERROR(IF(OR(検索シート!$F$5=\"\",検索シート!$F$5=\"（指定なし）\"),1,FIND(ASC(検索シート!$F$5),ASC(全国版!D489)))+FIND(ASC(検索シート!$F$6),ASC(全国版!E489))+FIND(ASC(検索シート!$F$7),ASC(全国版!F489)),\"\"))","v":3},{"$f":"IF(B489=\"\",\"-\",COUNT(B$4:$B489))","v":486},"富山県","富山医療福祉専門学校","医療専門課程　理学療法学科","2005-12-09","～",null,"2005-12-09"]
[{"$f":"IF(OR(検索シート!$F$9=\"\",検索シート!$F$9=\"（指定なし）\",検索シート!$F$9=全国版!K490,AND(検索シート!$F$9=\"変更等なし\",全国版!K490=\"\")),1,0)","v":1},{"$f":"IF(A490=0,\"\",IFERROR(IF(OR(検索シート!$F$5=\"\",検索シート!$F$5=\"（指定なし）\"),1,FIND(ASC(検索シート!$F$5),ASC(全国版!D490)))+FIND(ASC(検索シート!$F$6),ASC(全国版!E490))+FIND(ASC(検索シート!$F$7),ASC(全国版!F490)),\"\"))","v":3},{"$f":"IF(B490=\"\",\"-\",COUNT(B$4:$B490))","v":487},"富山県","富山情報ビジネス専門学校","工業専門課程　高度情報システム学科","2008-02-29","～","2022-03-31","2008-02-29","廃止",null,null,"2022-03-31","2023-01-27"]
[{"$f":"IF(OR(検索シート!$F$9=\"\",検索シート!$F$9=\"（指定なし）\",検索シート!$F$9=全国版!K491,AND(検索シート!$F$9=\"変更等なし\",全国版!K491=\"\")),1,0)","v":1},{"$f":"IF(A491=0,\"\",IFERROR(IF(OR(検索シート!$F$5=\"\",検索シート!$F$5=\"（指定なし）\"),1,FIND(ASC(検索シート!$F$5),ASC(全国版!D491)))+FIND(ASC(検索シート!$F$6),ASC(全国版!E491))+FIND(ASC(検索シート!$F$7),ASC(全国版!F491)),\"\"))","v":3},{"$f":"IF(B491=\"\",\"-\",COUNT(B$4:$B491))","v":488},"富山県","富山リハビリテーション医療福祉大学校","医療専門課程　理学療法科","2021-02-24","～",null,"2021-02-24"]
[{"$f":"IF(OR(検索シート!$F$9=\"\",検索シート!$F$9=\"（指定なし）\",検索シート!$F$9=全国版!K492,AND(検索シート!$F$9=\"変更等なし\",全国版!K492=\"\")),1,0)","v":1},{"$f":"IF(A492=0,\"\",IFERROR(IF(OR(検索シート!$F$5=\"\",検索シート!$F$5=\"（指定なし）\"),1,FIND(ASC(検索シート!$F$5),ASC(全国版!D492)))+FIND(ASC(検索シート!$F$6),ASC(全国版!E492))+FIND(ASC(検索シート!$F$7),ASC(全国版!F492)),\"\"))","v":3},{"$f":"IF(B492=\"\",\"-\",COUNT(B$4:$B492))","v":489},"富山県","富山リハビリテーション医療福祉大学校","医療専門課程　作業療法科","2021-02-24","～",null,"2021-02-24"]
[{"$f":"IF(OR(検索シート!$F$9=\"\",検索シート!$F$9=\"（指定なし）\",検索シート!$F$9=全国版!K493,AND(検索シート!$F$9=\"変更等なし\",全国版!K493=\"\")),1,0)","v":1},{"$f":"IF(A493=0,\"\",IFERROR(IF(OR(検索シート!$F$5=\"\",検索シート!$F$5=\"（指定なし）\"),1,FIND(ASC(検索シート!$F$5),ASC(全国版!D493)))+FIND(ASC(検索シート!$F$6),ASC(全国版!E493))+FIND(ASC(検索シート!$F$7),ASC(全国版!F493)),\"\"))","v":3},{"$f":"IF(B493=\"\",\"-\",COUNT(B$4:$B493))","v":490},"石川県","（専）日本航空大学校","工業専門課程　航空工学科","2005-12-09","～","2013-03-31","2005-12-09","名称変更","日本航空専門学校石川","工業専門課程　航空工学科","2013-04-01","2014-01-28"]
[{"$f":"IF(OR(検索シート!$F$9=\"\",検索シート!$F$9=\"（指定なし）\",検索シート!$F$9=全国版!K494,AND(検索シート!$F$9=\"変更等なし\",全国版!K494=\"\")),1,0)","v":1},{"$f":"IF(A494=0,\"\",IFERROR(IF(OR(検索シート!$F$5=\"\",検索シート!$F$5=\"（指定なし）\"),1,FIND(ASC(検索シート!$F$5),ASC(全国版!D494)))+FIND(ASC(検索シート!$F$6),ASC(全国版!E494))+FIND(ASC(検索シート!$F$7),ASC(全国版!F494)),\"\"))","v":3},{"$f":"IF(B494=\"\",\"-\",COUNT(B$4:$B494))","v":491},"石川県","（専）日本航空大学校","工業専門課程　航空工学科","2017-04-01","～",null,"2018-02-28"]
[{"$f":"IF(OR(検索シート!$F$9=\"\",検索シート!$F$9=\"（指定なし）\",検索シート!$F$9=全国版!K495,AND(検索シート!$F$9=\"変更等なし\",全国版!K495=\"\")),1,0)","v":1},{"$f":"IF(A495=0,\"\",IFERROR(IF(OR(検索シート!$F$5=\"\",検索シート!$F$5=\"（指定なし）\"),1,FIND(ASC(検索シート!$F$5),ASC(全国版!D495)))+FIND(ASC(検索シート!$F$6),ASC(全国版!E495))+FIND(ASC(検索シート!$F$7),ASC(全国版!F495)),\"\"))","v":3},{"$f":"IF(B495=\"\",\"-\",COUNT(B$4:$B495))","v":492},"石川県","（専）日本航空大学校","工業専門課程　操縦科（４年制）","2020-02-29","～",null,"2020-02-29"]
[{"$f":"IF(OR(検索シート!$F$9=\"\",検索シート!$F$9=\"（指定なし）\",検索シート!$F$9=全国版!K496,AND(検索シート!$F$9=\"変更等なし\",全国版!K496=\"\")),1,0)","v":1},{"$f":"IF(A496=0,\"\",IFERROR(IF(OR(検索シート!$F$5=\"\",検索シート!$F$5=\"（指定なし）\"),1,FIND(ASC(検索シート!$F$5),ASC(全国版!D496)))+FIND(ASC(検索シート!$F$6),ASC(全国版!E496))+FIND(ASC(検索シート!$F$7),ASC(全国版!F496)),\"\"))","v":3},{"$f":"IF(B496=\"\",\"-\",COUNT(B$4:$B496))","v":493},"石川県","国際ペット専門学校金沢","文化・教養専門課程　トリマー高度専門学科","2010-11-29","～","2019-03-31","2010-11-29","廃止",null,null,"2019-03-31","2020-02-29"]
[{"$f":"IF(OR(検索シート!$F$9=\"\",検索シート!$F$9=\"（指定なし）\",検索シート!$F$9=全国版!K497,AND(検索シート!$F$9=\"変更等なし\",全国版!K497=\"\")),1,0)","v":1},{"$f":"IF(A497=0,\"\",IFERROR(IF(OR(検索シート!$F$5=\"\",検索シート!$F$5=\"（指定なし）\"),1,FIND(ASC(検索シート!$F$5),ASC(全国版!D497)))+FIND(ASC(検索シート!$F$6),ASC(全国版!E497))+FIND(ASC(検索シート!$F$7),ASC(全国版!F497)),\"\"))","v":3},{"$f":"IF(B497=\"\",\"-\",COUNT(B$4:$B497))","v":494},"石川県","専門学校金沢リハビリテーションアカデミー","医療専門課程　作業療法学科","2005-12-09","～","2016-03-31","2005-12-09","不適合",null,null,"2016-04-01","2017-02-28"]
[{"$f":"IF(OR(検索シート!$F$9=\"\",検索シート!$F$9=\"（指定なし）\",検索シート!$F$9=全国版!K498,AND(検索シート!$F$9=\"変更等なし\",全国版!K498=\"\")),1,0)","v":1},{"$f":"IF(A498=0,\"\",IFERROR(IF(OR(検索シート!$F$5=\"\",検索シート!$F$5=\"（指定なし）\"),1,FIND(ASC(検索シート!$F$5),ASC(全国版!D498)))+FIND(ASC(検索シート!$F$6),ASC(全国版!E498))+FIND(ASC(検索シート!$F$7),ASC(全国版!F498)),\"\"))","v":3},{"$f":"IF(B498=\"\",\"-\",COUNT(B$4:$B498))","v":495},"石川県","専門学校金沢リハビリテーションアカデミー","医療専門課程　理学療法学科","2005-12-09","～","2016-03-31","2005-12-09","不適合",null,null,"2016-04-01","2017-02-28"]
[{"$f":"IF(OR(検索シート!$F$9=\"\",検索シート!$F$9=\"（指定なし）\",検索シート!$F$9=全国版!K499,AND(検索シート!$F$9=\"変更等なし\",全国版!K499=\"\")),1,0)","v":1},{"$f":"IF(A499=0,\"\",IFERROR(IF(OR(検索シート!$F$5=\"\",検索シート!$F$5=\"（指定なし）\"),1,FIND(ASC(検索シート!$F$5),ASC(全国版!D499)))+FIND(ASC(検索シート!$F$6),ASC(全国版!E499))+FIND(ASC(検索シート!$F$7),ASC(全国版!F499)),\"\"))","v":3},{"$f":"IF(B499=\"\",\"-\",COUNT(B$4:$B499))","v":496},"石川県","日本航空専門学校石川","工業専門課程　航空工学科","2013-04-01","～","2017-03-31","2014-01-28","名称変更","（専）日本航空大学校","工業専門課程　航空工学科","2017-04-01","2018-02-28"]
[{"$f":"IF(OR(検索シート!$F$9=\"\",検索シート!$F$9=\"（指定なし）\",検索シート!$F$9=全国版!K500,AND(検索シート!$F$9=\"変更等なし\",全国版!K500=\"\")),1,0)","v":1},{"$f":"IF(A500=0,\"\",IFERROR(IF(OR(検索シート!$F$5=\"\",検索シート!$F$5=\"（指定なし）\"),1,FIND(ASC(検索シート!$F$5),ASC(全国版!D500)))+FIND(ASC(検索シート!$F$6),ASC(全国版!E500))+FIND(ASC(検索シート!$F$7),ASC(全国版!F500)),\"\"))","v":3},{"$f":"IF(B500=\"\",\"-\",COUNT(B$4:$B500))","v":497},"福井県","アイビーテクノカレッジ","工業関係専門課程　高度情報技術科","2007-02-28","～","2011-03-31","2007-02-28","名称変更","大原テクノデザインアート専門学校","工業関係専門課程　高度情報技術科","2011-04-01","2011-12-22"]
[{"$f":"IF(OR(検索シート!$F$9=\"\",検索シート!$F$9=\"（指定なし）\",検索シート!$F$9=全国版!K501,AND(検索シート!$F$9=\"変更等なし\",全国版!K501=\"\")),1,0)","v":1},{"$f":"IF(A501=0,\"\",IFERROR(IF(OR(検索シート!$F$5=\"\",検索シート!$F$5=\"（指定なし）\"),1,FIND(ASC(検索シート!$F$5),ASC(全国版!D501)))+FIND(ASC(検索シート!$F$6),ASC(全国版!E501))+FIND(ASC(検索シート!$F$7),ASC(全国版!F501)),\"\"))","v":3},{"$f":"IF(B501=\"\",\"-\",COUNT(B$4:$B501))","v":498},"福井県","大原テクノデザインアート専門学校","工業関係専門課程　高度情報技術科","2011-04-01","～","2021-03-31","2011-12-22","名称変更","福井情報ＩＴクリエイター専門学校","工業関係専門課程　高度情報技術科","2021-04-01","2022-03-04"]
[{"$f":"IF(OR(検索シート!$F$9=\"\",検索シート!$F$9=\"（指定なし）\",検索シート!$F$9=全国版!K502,AND(検索シート!$F$9=\"変更等なし\",全国版!K502=\"\")),1,0)","v":1},{"$f":"IF(A502=0,\"\",IFERROR(IF(OR(検索シート!$F$5=\"\",検索シート!$F$5=\"（指定なし）\"),1,FIND(ASC(検索シート!$F$5),ASC(全国版!D502)))+FIND(ASC(検索シート!$F$6),ASC(全国版!E502))+FIND(ASC(検索シート!$F$7),ASC(全国版!F502)),\"\"))","v":3},{"$f":"IF(B502=\"\",\"-\",COUNT(B$4:$B502))","v":499},"福井県","専門学校福井文化服装学院","ファッション専門課程　ファッションインスティテュート科","2020-04-01","～",null,"2021-02-24"]
[{"$f":"IF(OR(検索シート!$F$9=\"\",検索シート!$F$9=\"（指定なし）\",検索シート!$F$9=全国版!K503,AND(検索シート!$F$9=\"変更等なし\",全国版!K503=\"\")),1,0)","v":1},{"$f":"IF(A503=0,\"\",IFERROR(IF(OR(検索シート!$F$5=\"\",検索シート!$F$5=\"（指定なし）\"),1,FIND(ASC(検索シート!$F$5),ASC(全国版!D503)))+FIND(ASC(検索シート!$F$6),ASC(全国版!E503))+FIND(ASC(検索シート!$F$7),ASC(全国版!F503)),\"\"))","v":3},{"$f":"IF(B503=\"\",\"-\",COUNT(B$4:$B503))","v":500},"福井県","専門学校福井文化服装学院","ファッション専門課程　ファッションインスティトゥート科","2007-02-28","～","2020-03-31","2007-02-28","名称変更","専門学校福井文化服装学院","ファッション専門課程　ファッションインスティテュート科","2020-04-01","2021-02-24"]
[{"$f":"IF(OR(検索シート!$F$9=\"\",検索シート!$F$9=\"（指定なし）\",検索シート!$F$9=全国版!K504,AND(検索シート!$F$9=\"変更等なし\",全国版!K504=\"\")),1,0)","v":1},{"$f":"IF(A504=0,\"\",IFERROR(IF(OR(検索シート!$F$5=\"\",検索シート!$F$5=\"（指定なし）\"),1,FIND(ASC(検索シート!$F$5),ASC(全国版!D504)))+FIND(ASC(検索シート!$F$6),ASC(全国版!E504))+FIND(ASC(検索シート!$F$7),ASC(全国版!F504)),\"\"))","v":3},{"$f":"IF(B504=\"\",\"-\",COUNT(B$4:$B504))","v":501},"福井県","福井情報ＩＴクリエイター専門学校","工業関係専門課程　高度情報技術科","2021-04-01","～",null,"2022-03-04"]
[{"$f":"IF(OR(検索シート!$F$9=\"\",検索シート!$F$9=\"（指定なし）\",検索シート!$F$9=全国版!K505,AND(検索シート!$F$9=\"変更等なし\",全国版!K505=\"\")),1,0)","v":1},{"$f":"IF(A505=0,\"\",IFERROR(IF(OR(検索シート!$F$5=\"\",検索シート!$F$5=\"（指定なし）\"),1,FIND(ASC(検索シート!$F$5),ASC(全国版!D505)))+FIND(ASC(検索シート!$F$6),ASC(全国版!E505))+FIND(ASC(検索シート!$F$7),ASC(全国版!F505)),\"\"))","v":3},{"$f":"IF(B505=\"\",\"-\",COUNT(B$4:$B505))","v":502},"福井県","若狭医療福祉専門学校","医療専門課程　理学療法科","2009-02-27","～",null,"2009-02-27"]
[{"$f":"IF(OR(検索シート!$F$9=\"\",検索シート!$F$9=\"（指定なし）\",検索シート!$F$9=全国版!K506,AND(検索シート!$F$9=\"変更等なし\",全国版!K506=\"\")),1,0)","v":1},{"$f":"IF(A506=0,\"\",IFERROR(IF(OR(検索シート!$F$5=\"\",検索シート!$F$5=\"（指定なし）\"),1,FIND(ASC(検索シート!$F$5),ASC(全国版!D506)))+FIND(ASC(検索シート!$F$6),ASC(全国版!E506))+FIND(ASC(検索シート!$F$7),ASC(全国版!F506)),\"\"))","v":3},{"$f":"IF(B506=\"\",\"-\",COUNT(B$4:$B506))","v":503},"山梨県","（専）日本航空大学校山梨","工業専門課程　自動車工学科一級自動車整備士養成コース","2006-06-30","～",null,"2006-06-30"]
[{"$f":"IF(OR(検索シート!$F$9=\"\",検索シート!$F$9=\"（指定なし）\",検索シート!$F$9=全国版!K507,AND(検索シート!$F$9=\"変更等なし\",全国版!K507=\"\")),1,0)","v":1},{"$f":"IF(A507=0,\"\",IFERROR(IF(OR(検索シート!$F$5=\"\",検索シート!$F$5=\"（指定なし）\"),1,FIND(ASC(検索シート!$F$5),ASC(全国版!D507)))+FIND(ASC(検索シート!$F$6),ASC(全国版!E507))+FIND(ASC(検索シート!$F$7),ASC(全国版!F507)),\"\"))","v":3},{"$f":"IF(B507=\"\",\"-\",COUNT(B$4:$B507))","v":504},"山梨県","専門学校サンテクノカレッジ","工業専門課程　コンピュータコミュニケーション科","2008-02-29","～",null,"2008-02-29"]
[{"$f":"IF(OR(検索シート!$F$9=\"\",検索シート!$F$9=\"（指定なし）\",検索シート!$F$9=全国版!K508,AND(検索シート!$F$9=\"変更等なし\",全国版!K508=\"\")),1,0)","v":1},{"$f":"IF(A508=0,\"\",IFERROR(IF(OR(検索シート!$F$5=\"\",検索シート!$F$5=\"（指定なし）\"),1,FIND(ASC(検索シート!$F$5),ASC(全国版!D508)))+FIND(ASC(検索シート!$F$6),ASC(全国版!E508))+FIND(ASC(検索シート!$F$7),ASC(全国版!F508)),\"\"))","v":3},{"$f":"IF(B508=\"\",\"-\",COUNT(B$4:$B508))","v":505},"山梨県","帝京医療福祉専門学校","医療専門課程　作業療法科","2005-12-09","～","2011-03-31","2005-12-09","廃止",null,null,"2011-03-31","2011-12-22"]
[{"$f":"IF(OR(検索シート!$F$9=\"\",検索シート!$F$9=\"（指定なし）\",検索シート!$F$9=全国版!K509,AND(検索シート!$F$9=\"変更等なし\",全国版!K509=\"\")),1,0)","v":1},{"$f":"IF(A509=0,\"\",IFERROR(IF(OR(検索シート!$F$5=\"\",検索シート!$F$5=\"（指定なし）\"),1,FIND(ASC(検索シート!$F$5),ASC(全国版!D509)))+FIND(ASC(検索シート!$F$6),ASC(全国版!E509))+FIND(ASC(検索シート!$F$7),ASC(全国版!F509)),\"\"))","v":3},{"$f":"IF(B509=\"\",\"-\",COUNT(B$4:$B509))","v":506},"山梨県","帝京医療福祉専門学校","医療専門課程　理学療法科","2005-12-09","～","2011-03-31","2005-12-09","廃止",null,null,"2011-03-31","2011-12-22"]
[{"$f":"IF(OR(検索シート!$F$9=\"\",検索シート!$F$9=\"（指定なし）\",検索シート!$F$9=全国版!K510,AND(検索シート!$F$9=\"変更等なし\",全国版!K510=\"\")),1,0)","v":1},{"$f":"IF(A510=0,\"\",IFERROR(IF(OR(検索シート!$F$5=\"\",検索シート!$F$5=\"（指定なし）\"),1,FIND(ASC(検索シート!$F$5),ASC(全国版!D510)))+FIND(ASC(検索シート!$F$6),ASC(全国版!E510))+FIND(ASC(検索シート!$F$7),ASC(全国版!F510)),\"\"))","v":3},{"$f":"IF(B510=\"\",\"-\",COUNT(B$4:$B510))","v":507},"長野県","専門学校カレッジオブキャリア共和校","工業専門課程　自動車整備科一級自動車整備士コース","2011-12-22","～","2020-03-31","2011-12-22","名称変更","専門学校長野自動車大学校","工業専門課程　一級自動車整備科","2020-04-01","2021-02-24"]
[{"$f":"IF(OR(検索シート!$F$9=\"\",検索シート!$F$9=\"（指定なし）\",検索シート!$F$9=全国版!K511,AND(検索シート!$F$9=\"変更等なし\",全国版!K511=\"\")),1,0)","v":1},{"$f":"IF(A511=0,\"\",IFERROR(IF(OR(検索シート!$F$5=\"\",検索シート!$F$5=\"（指定なし）\"),1,FIND(ASC(検索シート!$F$5),ASC(全国版!D511)))+FIND(ASC(検索シート!$F$6),ASC(全国版!E511))+FIND(ASC(検索シート!$F$7),ASC(全国版!F511)),\"\"))","v":3},{"$f":"IF(B511=\"\",\"-\",COUNT(B$4:$B511))","v":508},"長野県","専門学校長野自動車大学校","工業専門課程　一級自動車整備科","2020-04-01","～",null,"2021-02-24"]
[{"$f":"IF(OR(検索シート!$F$9=\"\",検索シート!$F$9=\"（指定なし）\",検索シート!$F$9=全国版!K512,AND(検索シート!$F$9=\"変更等なし\",全国版!K512=\"\")),1,0)","v":1},{"$f":"IF(A512=0,\"\",IFERROR(IF(OR(検索シート!$F$5=\"\",検索シート!$F$5=\"（指定なし）\"),1,FIND(ASC(検索シート!$F$5),ASC(全国版!D512)))+FIND(ASC(検索シート!$F$6),ASC(全国版!E512))+FIND(ASC(検索シート!$F$7),ASC(全国版!F512)),\"\"))","v":3},{"$f":"IF(B512=\"\",\"-\",COUNT(B$4:$B512))","v":509},"長野県","長野医療衛生専門学校","医療職業実践専門課程　言語聴覚士学科","2016-04-01","～",null,"2024-01-17"]
[{"$f":"IF(OR(検索シート!$F$9=\"\",検索シート!$F$9=\"（指定なし）\",検索シート!$F$9=全国版!K513,AND(検索シート!$F$9=\"変更等なし\",全国版!K513=\"\")),1,0)","v":1},{"$f":"IF(A513=0,\"\",IFERROR(IF(OR(検索シート!$F$5=\"\",検索シート!$F$5=\"（指定なし）\"),1,FIND(ASC(検索シート!$F$5),ASC(全国版!D513)))+FIND(ASC(検索シート!$F$6),ASC(全国版!E513))+FIND(ASC(検索シート!$F$7),ASC(全国版!F513)),\"\"))","v":3},{"$f":"IF(B513=\"\",\"-\",COUNT(B$4:$B513))","v":510},"長野県","長野医療衛生専門学校","医療専門課程　言語聴覚士学科","2005-12-09","～","2016-03-31","2005-12-09","名称変更","長野医療衛生専門学校","医療職業実践専門課程　言語聴覚士学科","2016-04-01","2024-01-17"]
[{"$f":"IF(OR(検索シート!$F$9=\"\",検索シート!$F$9=\"（指定なし）\",検索シート!$F$9=全国版!K514,AND(検索シート!$F$9=\"変更等なし\",全国版!K514=\"\")),1,0)","v":1},{"$f":"IF(A514=0,\"\",IFERROR(IF(OR(検索シート!$F$5=\"\",検索シート!$F$5=\"（指定なし）\"),1,FIND(ASC(検索シート!$F$5),ASC(全国版!D514)))+FIND(ASC(検索シート!$F$6),ASC(全国版!E514))+FIND(ASC(検索シート!$F$7),ASC(全国版!F514)),\"\"))","v":3},{"$f":"IF(B514=\"\",\"-\",COUNT(B$4:$B514))","v":511},"長野県","長野医療技術専門学校","医療専門課程　作業療法学科","2005-12-09","～","2018-10-31","2005-12-09","廃止",null,null,"2018-10-31","2020-02-29"]
[{"$f":"IF(OR(検索シート!$F$9=\"\",検索シート!$F$9=\"（指定なし）\",検索シート!$F$9=全国版!K515,AND(検索シート!$F$9=\"変更等なし\",全国版!K515=\"\")),1,0)","v":1},{"$f":"IF(A515=0,\"\",IFERROR(IF(OR(検索シート!$F$5=\"\",検索シート!$F$5=\"（指定なし）\"),1,FIND(ASC(検索シート!$F$5),ASC(全国版!D515)))+FIND(ASC(検索シート!$F$6),ASC(全国版!E515))+FIND(ASC(検索シート!$F$7),ASC(全国版!F515)),\"\"))","v":3},{"$f":"IF(B515=\"\",\"-\",COUNT(B$4:$B515))","v":512},"長野県","長野医療技術専門学校","医療専門課程　理学療法学科","2005-12-09","～","2018-10-31","2005-12-09","廃止",null,null,"2018-10-31","2020-02-29"]
[{"$f":"IF(OR(検索シート!$F$9=\"\",検索シート!$F$9=\"（指定なし）\",検索シート!$F$9=全国版!K516,AND(検索シート!$F$9=\"変更等なし\",全国版!K516=\"\")),1,0)","v":1},{"$f":"IF(A516=0,\"\",IFERROR(IF(OR(検索シート!$F$5=\"\",検索シート!$F$5=\"（指定なし）\"),1,FIND(ASC(検索シート!$F$5),ASC(全国版!D516)))+FIND(ASC(検索シート!$F$6),ASC(全国版!E516))+FIND(ASC(検索シート!$F$7),ASC(全国版!F516)),\"\"))","v":3},{"$f":"IF(B516=\"\",\"-\",COUNT(B$4:$B516))","v":513},"長野県","長野県須坂看護専門学校","医療専門課程　看護学科（３年課程）（４年制）","2015-02-19","～",null,"2015-02-19"]
[{"$f":"IF(OR(検索シート!$F$9=\"\",検索シート!$F$9=\"（指定なし）\",検索シート!$F$9=全国版!K517,AND(検索シート!$F$9=\"変更等なし\",全国版!K517=\"\")),1,0)","v":1},{"$f":"IF(A517=0,\"\",IFERROR(IF(OR(検索シート!$F$5=\"\",検索シート!$F$5=\"（指定なし）\"),1,FIND(ASC(検索シート!$F$5),ASC(全国版!D517)))+FIND(ASC(検索シート!$F$6),ASC(全国版!E517))+FIND(ASC(検索シート!$F$7),ASC(全国版!F517)),\"\"))","v":3},{"$f":"IF(B517=\"\",\"-\",COUNT(B$4:$B517))","v":514},"長野県","長野美術専門学校","文化教養専門課程　ｃｏｍ．デザイン総合学科","2022-03-04","～",null,"2022-03-04"]
[{"$f":"IF(OR(検索シート!$F$9=\"\",検索シート!$F$9=\"（指定なし）\",検索シート!$F$9=全国版!K518,AND(検索シート!$F$9=\"変更等なし\",全国版!K518=\"\")),1,0)","v":1},{"$f":"IF(A518=0,\"\",IFERROR(IF(OR(検索シート!$F$5=\"\",検索シート!$F$5=\"（指定なし）\"),1,FIND(ASC(検索シート!$F$5),ASC(全国版!D518)))+FIND(ASC(検索シート!$F$6),ASC(全国版!E518))+FIND(ASC(検索シート!$F$7),ASC(全国版!F518)),\"\"))","v":3},{"$f":"IF(B518=\"\",\"-\",COUNT(B$4:$B518))","v":515},"長野県","長野法律高度専門学校","文化・教養専門課程　法学科","2007-02-28","～",null,"2007-02-28"]
[{"$f":"IF(OR(検索シート!$F$9=\"\",検索シート!$F$9=\"（指定なし）\",検索シート!$F$9=全国版!K519,AND(検索シート!$F$9=\"変更等なし\",全国版!K519=\"\")),1,0)","v":1},{"$f":"IF(A519=0,\"\",IFERROR(IF(OR(検索シート!$F$5=\"\",検索シート!$F$5=\"（指定なし）\"),1,FIND(ASC(検索シート!$F$5),ASC(全国版!D519)))+FIND(ASC(検索シート!$F$6),ASC(全国版!E519))+FIND(ASC(検索シート!$F$7),ASC(全国版!F519)),\"\"))","v":3},{"$f":"IF(B519=\"\",\"-\",COUNT(B$4:$B519))","v":516},"長野県","文化学園長野専門学校","教育・社会福祉専門課程　社会福祉高度専門士科","2011-04-01","～","2013-03-31","2011-12-22","廃止",null,null,"2013-03-31","2014-01-28"]
[{"$f":"IF(OR(検索シート!$F$9=\"\",検索シート!$F$9=\"（指定なし）\",検索シート!$F$9=全国版!K520,AND(検索シート!$F$9=\"変更等なし\",全国版!K520=\"\")),1,0)","v":1},{"$f":"IF(A520=0,\"\",IFERROR(IF(OR(検索シート!$F$5=\"\",検索シート!$F$5=\"（指定なし）\"),1,FIND(ASC(検索シート!$F$5),ASC(全国版!D520)))+FIND(ASC(検索シート!$F$6),ASC(全国版!E520))+FIND(ASC(検索シート!$F$7),ASC(全国版!F520)),\"\"))","v":3},{"$f":"IF(B520=\"\",\"-\",COUNT(B$4:$B520))","v":517},"長野県","文化女子大学長野専門学校","教育・社会福祉専門課程　社会福祉高度専門士科","2009-02-27","～","2011-03-31","2009-02-27","名称変更","文化学園長野専門学校","教育・社会福祉専門課程　社会福祉高度専門士科","2011-04-01","2011-12-22"]
[{"$f":"IF(OR(検索シート!$F$9=\"\",検索シート!$F$9=\"（指定なし）\",検索シート!$F$9=全国版!K521,AND(検索シート!$F$9=\"変更等なし\",全国版!K521=\"\")),1,0)","v":1},{"$f":"IF(A521=0,\"\",IFERROR(IF(OR(検索シート!$F$5=\"\",検索シート!$F$5=\"（指定なし）\"),1,FIND(ASC(検索シート!$F$5),ASC(全国版!D521)))+FIND(ASC(検索シート!$F$6),ASC(全国版!E521))+FIND(ASC(検索シート!$F$7),ASC(全国版!F521)),\"\"))","v":3},{"$f":"IF(B521=\"\",\"-\",COUNT(B$4:$B521))","v":518},"長野県","松本衣デザイン専門学校","服飾・家政専門課程　ファッション・テクニカル科テクニカルＭＤコース","2007-02-28","～","2021-10-28","2007-02-28","廃止",null,null,"2021-10-28","2023-01-27"]
[{"$f":"IF(OR(検索シート!$F$9=\"\",検索シート!$F$9=\"（指定なし）\",検索シート!$F$9=全国版!K522,AND(検索シート!$F$9=\"変更等なし\",全国版!K522=\"\")),1,0)","v":1},{"$f":"IF(A522=0,\"\",IFERROR(IF(OR(検索シート!$F$5=\"\",検索シート!$F$5=\"（指定なし）\"),1,FIND(ASC(検索シート!$F$5),ASC(全国版!D522)))+FIND(ASC(検索シート!$F$6),ASC(全国版!E522))+FIND(ASC(検索シート!$F$7),ASC(全国版!F522)),\"\"))","v":3},{"$f":"IF(B522=\"\",\"-\",COUNT(B$4:$B522))","v":519},"岐阜県","岐阜県立国際園芸アカデミー","園芸系専門課程　上級マイスター科","2008-02-29","～","2013-03-31","2008-02-29","廃止",null,null,"2013-03-31","2014-01-28"]
[{"$f":"IF(OR(検索シート!$F$9=\"\",検索シート!$F$9=\"（指定なし）\",検索シート!$F$9=全国版!K523,AND(検索シート!$F$9=\"変更等なし\",全国版!K523=\"\")),1,0)","v":1},{"$f":"IF(A523=0,\"\",IFERROR(IF(OR(検索シート!$F$5=\"\",検索シート!$F$5=\"（指定なし）\"),1,FIND(ASC(検索シート!$F$5),ASC(全国版!D523)))+FIND(ASC(検索シート!$F$6),ASC(全国版!E523))+FIND(ASC(検索シート!$F$7),ASC(全国版!F523)),\"\"))","v":3},{"$f":"IF(B523=\"\",\"-\",COUNT(B$4:$B523))","v":520},"岐阜県","サンビレッジ国際医療福祉専門学校","医療専門課程　作業療法学科（４年制課程）","2012-04-01","～","2013-03-31","2013-01-29","廃止",null,null,"2013-03-31","2014-01-28"]
[{"$f":"IF(OR(検索シート!$F$9=\"\",検索シート!$F$9=\"（指定なし）\",検索シート!$F$9=全国版!K524,AND(検索シート!$F$9=\"変更等なし\",全国版!K524=\"\")),1,0)","v":1},{"$f":"IF(A524=0,\"\",IFERROR(IF(OR(検索シート!$F$5=\"\",検索シート!$F$5=\"（指定なし）\"),1,FIND(ASC(検索シート!$F$5),ASC(全国版!D524)))+FIND(ASC(検索シート!$F$6),ASC(全国版!E524))+FIND(ASC(検索シート!$F$7),ASC(全国版!F524)),\"\"))","v":3},{"$f":"IF(B524=\"\",\"-\",COUNT(B$4:$B524))","v":521},"岐阜県","サンビレッジ国際医療福祉専門学校","医療専門課程　作業療法学科","2005-12-09","～","2012-03-31","2005-12-09","名称変更","サンビレッジ国際医療福祉専門学校","医療専門課程　作業療法学科（４年制課程）","2012-04-01","2013-01-29"]
[{"$f":"IF(OR(検索シート!$F$9=\"\",検索シート!$F$9=\"（指定なし）\",検索シート!$F$9=全国版!K525,AND(検索シート!$F$9=\"変更等なし\",全国版!K525=\"\")),1,0)","v":1},{"$f":"IF(A525=0,\"\",IFERROR(IF(OR(検索シート!$F$5=\"\",検索シート!$F$5=\"（指定なし）\"),1,FIND(ASC(検索シート!$F$5),ASC(全国版!D525)))+FIND(ASC(検索シート!$F$6),ASC(全国版!E525))+FIND(ASC(検索シート!$F$7),ASC(全国版!F525)),\"\"))","v":3},{"$f":"IF(B525=\"\",\"-\",COUNT(B$4:$B525))","v":522},"岐阜県","専修学校中部国際自動車大学校","専門課程　自動車整備科１級整備士コース","2008-02-29","～",null,"2008-02-29"]
[{"$f":"IF(OR(検索シート!$F$9=\"\",検索シート!$F$9=\"（指定なし）\",検索シート!$F$9=全国版!K526,AND(検索シート!$F$9=\"変更等なし\",全国版!K526=\"\")),1,0)","v":1},{"$f":"IF(A526=0,\"\",IFERROR(IF(OR(検索シート!$F$5=\"\",検索シート!$F$5=\"（指定なし）\"),1,FIND(ASC(検索シート!$F$5),ASC(全国版!D526)))+FIND(ASC(検索シート!$F$6),ASC(全国版!E526))+FIND(ASC(検索シート!$F$7),ASC(全国版!F526)),\"\"))","v":3},{"$f":"IF(B526=\"\",\"-\",COUNT(B$4:$B526))","v":523},"静岡県","大原簿記情報医療専門学校静岡校","商業実務専門課程　公認会計士税理士科（４年制）","2009-04-01","～","2012-03-31","2010-02-26","廃止",null,null,"2012-03-31","2013-01-29"]
[{"$f":"IF(OR(検索シート!$F$9=\"\",検索シート!$F$9=\"（指定なし）\",検索シート!$F$9=全国版!K527,AND(検索シート!$F$9=\"変更等なし\",全国版!K527=\"\")),1,0)","v":1},{"$f":"IF(A527=0,\"\",IFERROR(IF(OR(検索シート!$F$5=\"\",検索シート!$F$5=\"（指定なし）\"),1,FIND(ASC(検索シート!$F$5),ASC(全国版!D527)))+FIND(ASC(検索シート!$F$6),ASC(全国版!E527))+FIND(ASC(検索シート!$F$7),ASC(全国版!F527)),\"\"))","v":3},{"$f":"IF(B527=\"\",\"-\",COUNT(B$4:$B527))","v":524},"静岡県","大原簿記情報医療専門学校浜松校","商業実務専門課程　公認会計士税理士科（４年制）","2009-04-01","～","2012-03-31","2010-02-26","廃止",null,null,"2012-03-31","2013-01-29"]
[{"$f":"IF(OR(検索シート!$F$9=\"\",検索シート!$F$9=\"（指定なし）\",検索シート!$F$9=全国版!K528,AND(検索シート!$F$9=\"変更等なし\",全国版!K528=\"\")),1,0)","v":1},{"$f":"IF(A528=0,\"\",IFERROR(IF(OR(検索シート!$F$5=\"\",検索シート!$F$5=\"（指定なし）\"),1,FIND(ASC(検索シート!$F$5),ASC(全国版!D528)))+FIND(ASC(検索シート!$F$6),ASC(全国版!E528))+FIND(ASC(検索シート!$F$7),ASC(全国版!F528)),\"\"))","v":3},{"$f":"IF(B528=\"\",\"-\",COUNT(B$4:$B528))","v":525},"静岡県","大原簿記専門学校静岡校","商業実務専門課程　公認会計士税理士科","2009-02-27","～","2009-03-31","2009-02-27","名称変更","大原簿記情報医療専門学校静岡校","商業実務専門課程　公認会計士税理士科（４年制）","2009-04-01","2010-02-26"]
[{"$f":"IF(OR(検索シート!$F$9=\"\",検索シート!$F$9=\"（指定なし）\",検索シート!$F$9=全国版!K529,AND(検索シート!$F$9=\"変更等なし\",全国版!K529=\"\")),1,0)","v":1},{"$f":"IF(A529=0,\"\",IFERROR(IF(OR(検索シート!$F$5=\"\",検索シート!$F$5=\"（指定なし）\"),1,FIND(ASC(検索シート!$F$5),ASC(全国版!D529)))+FIND(ASC(検索シート!$F$6),ASC(全国版!E529))+FIND(ASC(検索シート!$F$7),ASC(全国版!F529)),\"\"))","v":3},{"$f":"IF(B529=\"\",\"-\",COUNT(B$4:$B529))","v":526},"静岡県","大原簿記専門学校静岡校","商業実務専門課程　税理士科","2005-12-09","～","2008-03-31","2005-12-09","廃止",null,null,"2008-03-31","2009-02-27"]
[{"$f":"IF(OR(検索シート!$F$9=\"\",検索シート!$F$9=\"（指定なし）\",検索シート!$F$9=全国版!K530,AND(検索シート!$F$9=\"変更等なし\",全国版!K530=\"\")),1,0)","v":1},{"$f":"IF(A530=0,\"\",IFERROR(IF(OR(検索シート!$F$5=\"\",検索シート!$F$5=\"（指定なし）\"),1,FIND(ASC(検索シート!$F$5),ASC(全国版!D530)))+FIND(ASC(検索シート!$F$6),ASC(全国版!E530))+FIND(ASC(検索シート!$F$7),ASC(全国版!F530)),\"\"))","v":3},{"$f":"IF(B530=\"\",\"-\",COUNT(B$4:$B530))","v":527},"静岡県","大原簿記専門学校浜松校","商業実務専門課程　公認会計士税理士科","2009-02-27","～","2009-03-31","2009-02-27","名称変更","大原簿記情報医療専門学校浜松校","商業実務専門課程　公認会計士税理士科（４年制）","2009-04-01","2010-02-26"]
[{"$f":"IF(OR(検索シート!$F$9=\"\",検索シート!$F$9=\"（指定なし）\",検索シート!$F$9=全国版!K531,AND(検索シート!$F$9=\"変更等なし\",全国版!K531=\"\")),1,0)","v":1},{"$f":"IF(A531=0,\"\",IFERROR(IF(OR(検索シート!$F$5=\"\",検索シート!$F$5=\"（指定なし）\"),1,FIND(ASC(検索シート!$F$5),ASC(全国版!D531)))+FIND(ASC(検索シート!$F$6),ASC(全国版!E531))+FIND(ASC(検索シート!$F$7),ASC(全国版!F531)),\"\"))","v":3},{"$f":"IF(B531=\"\",\"-\",COUNT(B$4:$B531))","v":528},"静岡県","大原簿記専門学校浜松校","商業実務専門課程　税理士科","2005-12-09","～","2008-03-31","2005-12-09","廃止",null,null,"2008-03-31","2009-02-27"]
[{"$f":"IF(OR(検索シート!$F$9=\"\",検索シート!$F$9=\"（指定なし）\",検索シート!$F$9=全国版!K532,AND(検索シート!$F$9=\"変更等なし\",全国版!K532=\"\")),1,0)","v":1},{"$f":"IF(A532=0,\"\",IFERROR(IF(OR(検索シート!$F$5=\"\",検索シート!$F$5=\"（指定なし）\"),1,FIND(ASC(検索シート!$F$5),ASC(全国版!D532)))+FIND(ASC(検索シート!$F$6),ASC(全国版!E532))+FIND(ASC(検索シート!$F$7),ASC(全国版!F532)),\"\"))","v":3},{"$f":"IF(B532=\"\",\"-\",COUNT(B$4:$B532))","v":529},"静岡県","国際ことば学院外国語専門学校","文化教養専門課程　東アジア言語学科日本語教師養成コース","2013-01-29","～","2016-03-31","2013-01-29","廃止",null,null,"2016-03-31","2017-02-28"]
[{"$f":"IF(OR(検索シート!$F$9=\"\",検索シート!$F$9=\"（指定なし）\",検索シート!$F$9=全国版!K533,AND(検索シート!$F$9=\"変更等なし\",全国版!K533=\"\")),1,0)","v":1},{"$f":"IF(A533=0,\"\",IFERROR(IF(OR(検索シート!$F$5=\"\",検索シート!$F$5=\"（指定なし）\"),1,FIND(ASC(検索シート!$F$5),ASC(全国版!D533)))+FIND(ASC(検索シート!$F$6),ASC(全国版!E533))+FIND(ASC(検索シート!$F$7),ASC(全国版!F533)),\"\"))","v":3},{"$f":"IF(B533=\"\",\"-\",COUNT(B$4:$B533))","v":530},"静岡県","国際ことば学院外国語専門学校","文化教養専門課程　東アジア言語学科マルチリンガルイノベーションコース","2016-04-01","～","2018-03-31","2017-02-28","廃止",null,null,"2018-03-31","2019-01-25"]
[{"$f":"IF(OR(検索シート!$F$9=\"\",検索シート!$F$9=\"（指定なし）\",検索シート!$F$9=全国版!K534,AND(検索シート!$F$9=\"変更等なし\",全国版!K534=\"\")),1,0)","v":1},{"$f":"IF(A534=0,\"\",IFERROR(IF(OR(検索シート!$F$5=\"\",検索シート!$F$5=\"（指定なし）\"),1,FIND(ASC(検索シート!$F$5),ASC(全国版!D534)))+FIND(ASC(検索シート!$F$6),ASC(全国版!E534))+FIND(ASC(検索シート!$F$7),ASC(全国版!F534)),\"\"))","v":3},{"$f":"IF(B534=\"\",\"-\",COUNT(B$4:$B534))","v":531},"静岡県","国際ことば学院外国語専門学校","文化教養専門課程　東アジア言語学科マルチリンガル養成コース","2010-11-29","～","2016-03-31","2010-11-29","名称変更","国際ことば学院外国語専門学校","文化教養専門課程　東アジア言語学科マルチリンガルイノベーションコース","2016-04-01","2017-02-28"]
[{"$f":"IF(OR(検索シート!$F$9=\"\",検索シート!$F$9=\"（指定なし）\",検索シート!$F$9=全国版!K535,AND(検索シート!$F$9=\"変更等なし\",全国版!K535=\"\")),1,0)","v":1},{"$f":"IF(A535=0,\"\",IFERROR(IF(OR(検索シート!$F$5=\"\",検索シート!$F$5=\"（指定なし）\"),1,FIND(ASC(検索シート!$F$5),ASC(全国版!D535)))+FIND(ASC(検索シート!$F$6),ASC(全国版!E535))+FIND(ASC(検索シート!$F$7),ASC(全国版!F535)),\"\"))","v":3},{"$f":"IF(B535=\"\",\"-\",COUNT(B$4:$B535))","v":532},"静岡県","静岡医療科学専門学校","医療専門課程　臨床工学科","2005-12-09","～","2011-03-31","2005-12-09","廃止",null,null,"2011-03-31","2011-12-22"]
[{"$f":"IF(OR(検索シート!$F$9=\"\",検索シート!$F$9=\"（指定なし）\",検索シート!$F$9=全国版!K536,AND(検索シート!$F$9=\"変更等なし\",全国版!K536=\"\")),1,0)","v":1},{"$f":"IF(A536=0,\"\",IFERROR(IF(OR(検索シート!$F$5=\"\",検索シート!$F$5=\"（指定なし）\"),1,FIND(ASC(検索シート!$F$5),ASC(全国版!D536)))+FIND(ASC(検索シート!$F$6),ASC(全国版!E536))+FIND(ASC(検索シート!$F$7),ASC(全国版!F536)),\"\"))","v":3},{"$f":"IF(B536=\"\",\"-\",COUNT(B$4:$B536))","v":533},"静岡県","静岡産業技術専門学校","工業専門課程　みらい情報科","2011-12-22","～",null,"2011-12-22"]
[{"$f":"IF(OR(検索シート!$F$9=\"\",検索シート!$F$9=\"（指定なし）\",検索シート!$F$9=全国版!K537,AND(検索シート!$F$9=\"変更等なし\",全国版!K537=\"\")),1,0)","v":1},{"$f":"IF(A537=0,\"\",IFERROR(IF(OR(検索シート!$F$5=\"\",検索シート!$F$5=\"（指定なし）\"),1,FIND(ASC(検索シート!$F$5),ASC(全国版!D537)))+FIND(ASC(検索シート!$F$6),ASC(全国版!E537))+FIND(ASC(検索シート!$F$7),ASC(全国版!F537)),\"\"))","v":3},{"$f":"IF(B537=\"\",\"-\",COUNT(B$4:$B537))","v":534},"静岡県","静岡東都医療専門学校","医療専門課程　理学療法学科","2022-04-01","～",null,"2023-01-27"]
[{"$f":"IF(OR(検索シート!$F$9=\"\",検索シート!$F$9=\"（指定なし）\",検索シート!$F$9=全国版!K538,AND(検索シート!$F$9=\"変更等なし\",全国版!K538=\"\")),1,0)","v":1},{"$f":"IF(A538=0,\"\",IFERROR(IF(OR(検索シート!$F$5=\"\",検索シート!$F$5=\"（指定なし）\"),1,FIND(ASC(検索シート!$F$5),ASC(全国版!D538)))+FIND(ASC(検索シート!$F$6),ASC(全国版!E538))+FIND(ASC(検索シート!$F$7),ASC(全国版!F538)),\"\"))","v":3},{"$f":"IF(B538=\"\",\"-\",COUNT(B$4:$B538))","v":535},"静岡県","専門学校静岡工科自動車大学校","工業専門課程　自動車システム工学科","2006-06-30","～","2021-03-31","2006-06-30","名称変更","専門学校静岡工科自動車大学校","専門課程（工業分野）　自動車システム工学科１級エンジニアコース\n専門課程（工業分野）　自動車システム工学科開発エンジニアコース","2021-04-01","2022-03-04"]
[{"$f":"IF(OR(検索シート!$F$9=\"\",検索シート!$F$9=\"（指定なし）\",検索シート!$F$9=全国版!K539,AND(検索シート!$F$9=\"変更等なし\",全国版!K539=\"\")),1,0)","v":1},{"$f":"IF(A539=0,\"\",IFERROR(IF(OR(検索シート!$F$5=\"\",検索シート!$F$5=\"（指定なし）\"),1,FIND(ASC(検索シート!$F$5),ASC(全国版!D539)))+FIND(ASC(検索シート!$F$6),ASC(全国版!E539))+FIND(ASC(検索シート!$F$7),ASC(全国版!F539)),\"\"))","v":3},{"$f":"IF(B539=\"\",\"-\",COUNT(B$4:$B539))","v":536},"静岡県","専門学校静岡工科自動車大学校","専門課程（工業分野）　自動車システム工学科１級エンジニアコース","2021-04-01","～",null,"2022-03-04"]
[{"$f":"IF(OR(検索シート!$F$9=\"\",検索シート!$F$9=\"（指定なし）\",検索シート!$F$9=全国版!K540,AND(検索シート!$F$9=\"変更等なし\",全国版!K540=\"\")),1,0)","v":1},{"$f":"IF(A540=0,\"\",IFERROR(IF(OR(検索シート!$F$5=\"\",検索シート!$F$5=\"（指定なし）\"),1,FIND(ASC(検索シート!$F$5),ASC(全国版!D540)))+FIND(ASC(検索シート!$F$6),ASC(全国版!E540))+FIND(ASC(検索シート!$F$7),ASC(全国版!F540)),\"\"))","v":3},{"$f":"IF(B540=\"\",\"-\",COUNT(B$4:$B540))","v":537},"静岡県","専門学校静岡工科自動車大学校","専門課程（工業分野）　自動車システム工学科開発エンジニアコース","2021-04-01","～",null,"2022-03-04"]
[{"$f":"IF(OR(検索シート!$F$9=\"\",検索シート!$F$9=\"（指定なし）\",検索シート!$F$9=全国版!K541,AND(検索シート!$F$9=\"変更等なし\",全国版!K541=\"\")),1,0)","v":1},{"$f":"IF(A541=0,\"\",IFERROR(IF(OR(検索シート!$F$5=\"\",検索シート!$F$5=\"（指定なし）\"),1,FIND(ASC(検索シート!$F$5),ASC(全国版!D541)))+FIND(ASC(検索シート!$F$6),ASC(全国版!E541))+FIND(ASC(検索シート!$F$7),ASC(全国版!F541)),\"\"))","v":3},{"$f":"IF(B541=\"\",\"-\",COUNT(B$4:$B541))","v":538},"静岡県","専門学校静岡電子情報カレッジ","商業実務分野専門課程　経営情報（大学併学）学科","2006-06-30","～","2012-03-31","2006-06-30","廃止",null,null,"2012-03-31","2013-01-29"]
[{"$f":"IF(OR(検索シート!$F$9=\"\",検索シート!$F$9=\"（指定なし）\",検索シート!$F$9=全国版!K542,AND(検索シート!$F$9=\"変更等なし\",全国版!K542=\"\")),1,0)","v":1},{"$f":"IF(A542=0,\"\",IFERROR(IF(OR(検索シート!$F$5=\"\",検索シート!$F$5=\"（指定なし）\"),1,FIND(ASC(検索シート!$F$5),ASC(全国版!D542)))+FIND(ASC(検索シート!$F$6),ASC(全国版!E542))+FIND(ASC(検索シート!$F$7),ASC(全国版!F542)),\"\"))","v":3},{"$f":"IF(B542=\"\",\"-\",COUNT(B$4:$B542))","v":539},"静岡県","専門学校中央医療健康大学校","医療専門課程　理学療法学科","2014-04-01","～",null,"2015-02-19"]
[{"$f":"IF(OR(検索シート!$F$9=\"\",検索シート!$F$9=\"（指定なし）\",検索シート!$F$9=全国版!K543,AND(検索シート!$F$9=\"変更等なし\",全国版!K543=\"\")),1,0)","v":1},{"$f":"IF(A543=0,\"\",IFERROR(IF(OR(検索シート!$F$5=\"\",検索シート!$F$5=\"（指定なし）\"),1,FIND(ASC(検索シート!$F$5),ASC(全国版!D543)))+FIND(ASC(検索シート!$F$6),ASC(全国版!E543))+FIND(ASC(検索シート!$F$7),ASC(全国版!F543)),\"\"))","v":3},{"$f":"IF(B543=\"\",\"-\",COUNT(B$4:$B543))","v":540},"静岡県","専門学校白寿医療学院","医療専門課程　理学療法学科","2007-02-28","～","2022-03-31","2007-02-28","名称変更","静岡東都医療専門学校","医療専門課程　理学療法学科","2022-04-01","2023-01-27"]
[{"$f":"IF(OR(検索シート!$F$9=\"\",検索シート!$F$9=\"（指定なし）\",検索シート!$F$9=全国版!K544,AND(検索シート!$F$9=\"変更等なし\",全国版!K544=\"\")),1,0)","v":1},{"$f":"IF(A544=0,\"\",IFERROR(IF(OR(検索シート!$F$5=\"\",検索シート!$F$5=\"（指定なし）\"),1,FIND(ASC(検索シート!$F$5),ASC(全国版!D544)))+FIND(ASC(検索シート!$F$6),ASC(全国版!E544))+FIND(ASC(検索シート!$F$7),ASC(全国版!F544)),\"\"))","v":3},{"$f":"IF(B544=\"\",\"-\",COUNT(B$4:$B544))","v":541},"静岡県","専門学校富士リハビリテーション大学校","医療専門課程　理学療法学科","2021-02-24","～",null,"2021-02-24"]
[{"$f":"IF(OR(検索シート!$F$9=\"\",検索シート!$F$9=\"（指定なし）\",検索シート!$F$9=全国版!K545,AND(検索シート!$F$9=\"変更等なし\",全国版!K545=\"\")),1,0)","v":1},{"$f":"IF(A545=0,\"\",IFERROR(IF(OR(検索シート!$F$5=\"\",検索シート!$F$5=\"（指定なし）\"),1,FIND(ASC(検索シート!$F$5),ASC(全国版!D545)))+FIND(ASC(検索シート!$F$6),ASC(全国版!E545))+FIND(ASC(検索シート!$F$7),ASC(全国版!F545)),\"\"))","v":3},{"$f":"IF(B545=\"\",\"-\",COUNT(B$4:$B545))","v":542},"静岡県","専門学校富士リハビリテーション大学校","医療専門課程　作業療法学科","2021-02-24","～",null,"2021-02-24"]
[{"$f":"IF(OR(検索シート!$F$9=\"\",検索シート!$F$9=\"（指定なし）\",検索シート!$F$9=全国版!K546,AND(検索シート!$F$9=\"変更等なし\",全国版!K546=\"\")),1,0)","v":1},{"$f":"IF(A546=0,\"\",IFERROR(IF(OR(検索シート!$F$5=\"\",検索シート!$F$5=\"（指定なし）\"),1,FIND(ASC(検索シート!$F$5),ASC(全国版!D546)))+FIND(ASC(検索シート!$F$6),ASC(全国版!E546))+FIND(ASC(検索シート!$F$7),ASC(全国版!F546)),\"\"))","v":3},{"$f":"IF(B546=\"\",\"-\",COUNT(B$4:$B546))","v":543},"静岡県","専門学校浜松工科自動車大学校","工業専門課程　自動車システム工学科","2024-01-17",null,null,"2024-01-17"]
[{"$f":"IF(OR(検索シート!$F$9=\"\",検索シート!$F$9=\"（指定なし）\",検索シート!$F$9=全国版!K547,AND(検索シート!$F$9=\"変更等なし\",全国版!K547=\"\")),1,0)","v":1},{"$f":"IF(A547=0,\"\",IFERROR(IF(OR(検索シート!$F$5=\"\",検索シート!$F$5=\"（指定なし）\"),1,FIND(ASC(検索シート!$F$5),ASC(全国版!D547)))+FIND(ASC(検索シート!$F$6),ASC(全国版!E547))+FIND(ASC(検索シート!$F$7),ASC(全国版!F547)),\"\"))","v":3},{"$f":"IF(B547=\"\",\"-\",COUNT(B$4:$B547))","v":544},"静岡県","辻村和服専門学校","服飾・家政専門課程　高等師範科","2017-02-28","～",null,"2017-02-28"]
[{"$f":"IF(OR(検索シート!$F$9=\"\",検索シート!$F$9=\"（指定なし）\",検索シート!$F$9=全国版!K548,AND(検索シート!$F$9=\"変更等なし\",全国版!K548=\"\")),1,0)","v":1},{"$f":"IF(A548=0,\"\",IFERROR(IF(OR(検索シート!$F$5=\"\",検索シート!$F$5=\"（指定なし）\"),1,FIND(ASC(検索シート!$F$5),ASC(全国版!D548)))+FIND(ASC(検索シート!$F$6),ASC(全国版!E548))+FIND(ASC(検索シート!$F$7),ASC(全国版!F548)),\"\"))","v":3},{"$f":"IF(B548=\"\",\"-\",COUNT(B$4:$B548))","v":545},"静岡県","辻村和服専門学校","服飾・家政専門課程　師範科（４年制）","2008-02-29","～",null,"2008-02-29"]
[{"$f":"IF(OR(検索シート!$F$9=\"\",検索シート!$F$9=\"（指定なし）\",検索シート!$F$9=全国版!K549,AND(検索シート!$F$9=\"変更等なし\",全国版!K549=\"\")),1,0)","v":1},{"$f":"IF(A549=0,\"\",IFERROR(IF(OR(検索シート!$F$5=\"\",検索シート!$F$5=\"（指定なし）\"),1,FIND(ASC(検索シート!$F$5),ASC(全国版!D549)))+FIND(ASC(検索シート!$F$6),ASC(全国版!E549))+FIND(ASC(検索シート!$F$7),ASC(全国版!F549)),\"\"))","v":3},{"$f":"IF(B549=\"\",\"-\",COUNT(B$4:$B549))","v":546},"静岡県","東海リハビリテーション専門学校","医療専門課程　理学療法学科","2010-02-26","～","2014-03-31","2010-02-26","名称変更","専門学校中央医療健康大学校","医療専門課程　理学療法学科","2014-04-01","2015-02-19"]
[{"$f":"IF(OR(検索シート!$F$9=\"\",検索シート!$F$9=\"（指定なし）\",検索シート!$F$9=全国版!K550,AND(検索シート!$F$9=\"変更等なし\",全国版!K550=\"\")),1,0)","v":1},{"$f":"IF(A550=0,\"\",IFERROR(IF(OR(検索シート!$F$5=\"\",検索シート!$F$5=\"（指定なし）\"),1,FIND(ASC(検索シート!$F$5),ASC(全国版!D550)))+FIND(ASC(検索シート!$F$6),ASC(全国版!E550))+FIND(ASC(検索シート!$F$7),ASC(全国版!F550)),\"\"))","v":3},{"$f":"IF(B550=\"\",\"-\",COUNT(B$4:$B550))","v":547},"静岡県","常葉学園医療専門学校","医療専門課程　作業療法学科","2005-12-09","～","2012-03-31","2005-12-09","廃止",null,null,"2012-03-31","2013-01-29"]
[{"$f":"IF(OR(検索シート!$F$9=\"\",検索シート!$F$9=\"（指定なし）\",検索シート!$F$9=全国版!K551,AND(検索シート!$F$9=\"変更等なし\",全国版!K551=\"\")),1,0)","v":1},{"$f":"IF(A551=0,\"\",IFERROR(IF(OR(検索シート!$F$5=\"\",検索シート!$F$5=\"（指定なし）\"),1,FIND(ASC(検索シート!$F$5),ASC(全国版!D551)))+FIND(ASC(検索シート!$F$6),ASC(全国版!E551))+FIND(ASC(検索シート!$F$7),ASC(全国版!F551)),\"\"))","v":3},{"$f":"IF(B551=\"\",\"-\",COUNT(B$4:$B551))","v":548},"静岡県","常葉学園医療専門学校","医療専門課程　理学療法学科","2005-12-09","～","2012-03-31","2005-12-09","廃止",null,null,"2012-03-31","2013-01-29"]
[{"$f":"IF(OR(検索シート!$F$9=\"\",検索シート!$F$9=\"（指定なし）\",検索シート!$F$9=全国版!K552,AND(検索シート!$F$9=\"変更等なし\",全国版!K552=\"\")),1,0)","v":1},{"$f":"IF(A552=0,\"\",IFERROR(IF(OR(検索シート!$F$5=\"\",検索シート!$F$5=\"（指定なし）\"),1,FIND(ASC(検索シート!$F$5),ASC(全国版!D552)))+FIND(ASC(検索シート!$F$6),ASC(全国版!E552))+FIND(ASC(検索シート!$F$7),ASC(全国版!F552)),\"\"))","v":3},{"$f":"IF(B552=\"\",\"-\",COUNT(B$4:$B552))","v":549},"静岡県","常葉学園静岡リハビリテーション専門学校","医療専門課程　理学療法学科","2007-02-28","～","2016-03-31","2007-02-28","廃止",null,null,"2016-03-31","2018-02-28"]
[{"$f":"IF(OR(検索シート!$F$9=\"\",検索シート!$F$9=\"（指定なし）\",検索シート!$F$9=全国版!K553,AND(検索シート!$F$9=\"変更等なし\",全国版!K553=\"\")),1,0)","v":1},{"$f":"IF(A553=0,\"\",IFERROR(IF(OR(検索シート!$F$5=\"\",検索シート!$F$5=\"（指定なし）\"),1,FIND(ASC(検索シート!$F$5),ASC(全国版!D553)))+FIND(ASC(検索シート!$F$6),ASC(全国版!E553))+FIND(ASC(検索シート!$F$7),ASC(全国版!F553)),\"\"))","v":3},{"$f":"IF(B553=\"\",\"-\",COUNT(B$4:$B553))","v":550},"静岡県","日本ギター専門学校","文化教養専門課程　ギター音楽科","2005-12-09","～","2018-03-31","2005-12-09","廃止",null,null,"2018-03-31","2020-02-29"]
[{"$f":"IF(OR(検索シート!$F$9=\"\",検索シート!$F$9=\"（指定なし）\",検索シート!$F$9=全国版!K554,AND(検索シート!$F$9=\"変更等なし\",全国版!K554=\"\")),1,0)","v":1},{"$f":"IF(A554=0,\"\",IFERROR(IF(OR(検索シート!$F$5=\"\",検索シート!$F$5=\"（指定なし）\"),1,FIND(ASC(検索シート!$F$5),ASC(全国版!D554)))+FIND(ASC(検索シート!$F$6),ASC(全国版!E554))+FIND(ASC(検索シート!$F$7),ASC(全国版!F554)),\"\"))","v":3},{"$f":"IF(B554=\"\",\"-\",COUNT(B$4:$B554))","v":551},"静岡県","日本建築専門学校","工業専門課程　建築科","2005-12-09","～",null,"2005-12-09"]
[{"$f":"IF(OR(検索シート!$F$9=\"\",検索シート!$F$9=\"（指定なし）\",検索シート!$F$9=全国版!K555,AND(検索シート!$F$9=\"変更等なし\",全国版!K555=\"\")),1,0)","v":1},{"$f":"IF(A555=0,\"\",IFERROR(IF(OR(検索シート!$F$5=\"\",検索シート!$F$5=\"（指定なし）\"),1,FIND(ASC(検索シート!$F$5),ASC(全国版!D555)))+FIND(ASC(検索シート!$F$6),ASC(全国版!E555))+FIND(ASC(検索シート!$F$7),ASC(全国版!F555)),\"\"))","v":3},{"$f":"IF(B555=\"\",\"-\",COUNT(B$4:$B555))","v":552},"静岡県","沼津情報・ビジネス専門学校","専門課程（工業）　高度ＩＴビジネス科","2017-02-28","～",null,"2017-02-28"]
[{"$f":"IF(OR(検索シート!$F$9=\"\",検索シート!$F$9=\"（指定なし）\",検索シート!$F$9=全国版!K556,AND(検索シート!$F$9=\"変更等なし\",全国版!K556=\"\")),1,0)","v":1},{"$f":"IF(A556=0,\"\",IFERROR(IF(OR(検索シート!$F$5=\"\",検索シート!$F$5=\"（指定なし）\"),1,FIND(ASC(検索シート!$F$5),ASC(全国版!D556)))+FIND(ASC(検索シート!$F$6),ASC(全国版!E556))+FIND(ASC(検索シート!$F$7),ASC(全国版!F556)),\"\"))","v":3},{"$f":"IF(B556=\"\",\"-\",COUNT(B$4:$B556))","v":553},"静岡県","プロスペラ学院外国語専門学校","文化教養関係専門課程　英語科４年制","2008-02-29","～","2013-03-31","2008-02-29","名称変更","プロスペラ学院ビジネス専門学校","文化教養関係専門課程　英語科４年制","2013-04-01","2014-01-28"]
[{"$f":"IF(OR(検索シート!$F$9=\"\",検索シート!$F$9=\"（指定なし）\",検索シート!$F$9=全国版!K557,AND(検索シート!$F$9=\"変更等なし\",全国版!K557=\"\")),1,0)","v":1},{"$f":"IF(A557=0,\"\",IFERROR(IF(OR(検索シート!$F$5=\"\",検索シート!$F$5=\"（指定なし）\"),1,FIND(ASC(検索シート!$F$5),ASC(全国版!D557)))+FIND(ASC(検索シート!$F$6),ASC(全国版!E557))+FIND(ASC(検索シート!$F$7),ASC(全国版!F557)),\"\"))","v":3},{"$f":"IF(B557=\"\",\"-\",COUNT(B$4:$B557))","v":554},"静岡県","プロスペラ学院ビジネス専門学校","文化教養関係専門課程　英語科４年制","2013-04-01","～","2021-03-31","2014-01-28","廃止",null,null,"2021-03-31","2022-03-04"]
[{"$f":"IF(OR(検索シート!$F$9=\"\",検索シート!$F$9=\"（指定なし）\",検索シート!$F$9=全国版!K558,AND(検索シート!$F$9=\"変更等なし\",全国版!K558=\"\")),1,0)","v":1},{"$f":"IF(A558=0,\"\",IFERROR(IF(OR(検索シート!$F$5=\"\",検索シート!$F$5=\"（指定なし）\"),1,FIND(ASC(検索シート!$F$5),ASC(全国版!D558)))+FIND(ASC(検索シート!$F$6),ASC(全国版!E558))+FIND(ASC(検索シート!$F$7),ASC(全国版!F558)),\"\"))","v":3},{"$f":"IF(B558=\"\",\"-\",COUNT(B$4:$B558))","v":555},"愛知県","ＨＡＬ名古屋","コンピュータ総合専門課程　ＣＧデザイン学科","2008-04-01","～","2010-03-31","2009-02-27","名称変更","ＨＡＬ名古屋","デジタル専門課程　ＣＧデザイン学科","2010-04-01","2010-11-29"]
[{"$f":"IF(OR(検索シート!$F$9=\"\",検索シート!$F$9=\"（指定なし）\",検索シート!$F$9=全国版!K559,AND(検索シート!$F$9=\"変更等なし\",全国版!K559=\"\")),1,0)","v":1},{"$f":"IF(A559=0,\"\",IFERROR(IF(OR(検索シート!$F$5=\"\",検索シート!$F$5=\"（指定なし）\"),1,FIND(ASC(検索シート!$F$5),ASC(全国版!D559)))+FIND(ASC(検索シート!$F$6),ASC(全国版!E559))+FIND(ASC(検索シート!$F$7),ASC(全国版!F559)),\"\"))","v":3},{"$f":"IF(B559=\"\",\"-\",COUNT(B$4:$B559))","v":556},"愛知県","ＨＡＬ名古屋","コンピュータ総合専門課程　ＷＥＢ開発学科","2008-04-01","～","2009-03-31","2009-02-27","名称変更","ＨＡＬ名古屋","コンピュータ総合専門課程　ＷＥＢ総合学科","2009-04-01","2010-02-26"]
[{"$f":"IF(OR(検索シート!$F$9=\"\",検索シート!$F$9=\"（指定なし）\",検索シート!$F$9=全国版!K560,AND(検索シート!$F$9=\"変更等なし\",全国版!K560=\"\")),1,0)","v":1},{"$f":"IF(A560=0,\"\",IFERROR(IF(OR(検索シート!$F$5=\"\",検索シート!$F$5=\"（指定なし）\"),1,FIND(ASC(検索シート!$F$5),ASC(全国版!D560)))+FIND(ASC(検索シート!$F$6),ASC(全国版!E560))+FIND(ASC(検索シート!$F$7),ASC(全国版!F560)),\"\"))","v":3},{"$f":"IF(B560=\"\",\"-\",COUNT(B$4:$B560))","v":557},"愛知県","ＨＡＬ名古屋","コンピュータ総合専門課程　カーデザイン学科","2009-02-27","～","2010-03-31","2009-02-27","名称変更","ＨＡＬ名古屋","デジタル専門課程　カーデザイン学科","2010-04-01","2010-11-29"]
[{"$f":"IF(OR(検索シート!$F$9=\"\",検索シート!$F$9=\"（指定なし）\",検索シート!$F$9=全国版!K561,AND(検索シート!$F$9=\"変更等なし\",全国版!K561=\"\")),1,0)","v":1},{"$f":"IF(A561=0,\"\",IFERROR(IF(OR(検索シート!$F$5=\"\",検索シート!$F$5=\"（指定なし）\"),1,FIND(ASC(検索シート!$F$5),ASC(全国版!D561)))+FIND(ASC(検索シート!$F$6),ASC(全国版!E561))+FIND(ASC(検索シート!$F$7),ASC(全国版!F561)),\"\"))","v":3},{"$f":"IF(B561=\"\",\"-\",COUNT(B$4:$B561))","v":558},"愛知県","ＨＡＬ名古屋","コンピュータ総合専門課程　ゲーム開発学科","2008-04-01","～","2010-03-31","2009-02-27","名称変更","ＨＡＬ名古屋","デジタル専門課程　ゲーム開発学科","2010-04-01","2010-11-29"]
[{"$f":"IF(OR(検索シート!$F$9=\"\",検索シート!$F$9=\"（指定なし）\",検索シート!$F$9=全国版!K562,AND(検索シート!$F$9=\"変更等なし\",全国版!K562=\"\")),1,0)","v":1},{"$f":"IF(A562=0,\"\",IFERROR(IF(OR(検索シート!$F$5=\"\",検索シート!$F$5=\"（指定なし）\"),1,FIND(ASC(検索シート!$F$5),ASC(全国版!D562)))+FIND(ASC(検索シート!$F$6),ASC(全国版!E562))+FIND(ASC(検索シート!$F$7),ASC(全国版!F562)),\"\"))","v":3},{"$f":"IF(B562=\"\",\"-\",COUNT(B$4:$B562))","v":559},"愛知県","ＨＡＬ名古屋","コンピュータ総合専門課程　ゲーム制作学科","2008-04-01","～","2010-03-31","2009-02-27","名称変更","ＨＡＬ名古屋","デジタル専門課程　ゲーム制作学科","2010-04-01","2010-11-29"]
[{"$f":"IF(OR(検索シート!$F$9=\"\",検索シート!$F$9=\"（指定なし）\",検索シート!$F$9=全国版!K563,AND(検索シート!$F$9=\"変更等なし\",全国版!K563=\"\")),1,0)","v":1},{"$f":"IF(A563=0,\"\",IFERROR(IF(OR(検索シート!$F$5=\"\",検索シート!$F$5=\"（指定なし）\"),1,FIND(ASC(検索シート!$F$5),ASC(全国版!D563)))+FIND(ASC(検索シート!$F$6),ASC(全国版!E563))+FIND(ASC(検索シート!$F$7),ASC(全国版!F563)),\"\"))","v":3},{"$f":"IF(B563=\"\",\"-\",COUNT(B$4:$B563))","v":560},"愛知県","ＨＡＬ名古屋","コンピュータ総合専門課程　ゲームデザイン学科","2009-02-27","～","2010-03-31","2009-02-27","名称変更","ＨＡＬ名古屋","デジタル専門課程　ゲームデザイン学科","2010-04-01","2010-11-29"]
[{"$f":"IF(OR(検索シート!$F$9=\"\",検索シート!$F$9=\"（指定なし）\",検索シート!$F$9=全国版!K564,AND(検索シート!$F$9=\"変更等なし\",全国版!K564=\"\")),1,0)","v":1},{"$f":"IF(A564=0,\"\",IFERROR(IF(OR(検索シート!$F$5=\"\",検索シート!$F$5=\"（指定なし）\"),1,FIND(ASC(検索シート!$F$5),ASC(全国版!D564)))+FIND(ASC(検索シート!$F$6),ASC(全国版!E564))+FIND(ASC(検索シート!$F$7),ASC(全国版!F564)),\"\"))","v":3},{"$f":"IF(B564=\"\",\"-\",COUNT(B$4:$B564))","v":561},"愛知県","ＨＡＬ名古屋","コンピュータ総合専門課程　高度情報処理学科","2008-04-01","～","2010-03-31","2009-02-27","名称変更","ＨＡＬ名古屋","デジタル専門課程　高度情報処理学科","2010-04-01","2010-11-29"]
[{"$f":"IF(OR(検索シート!$F$9=\"\",検索シート!$F$9=\"（指定なし）\",検索シート!$F$9=全国版!K565,AND(検索シート!$F$9=\"変更等なし\",全国版!K565=\"\")),1,0)","v":1},{"$f":"IF(A565=0,\"\",IFERROR(IF(OR(検索シート!$F$5=\"\",検索シート!$F$5=\"（指定なし）\"),1,FIND(ASC(検索シート!$F$5),ASC(全国版!D565)))+FIND(ASC(検索シート!$F$6),ASC(全国版!E565))+FIND(ASC(検索シート!$F$7),ASC(全国版!F565)),\"\"))","v":3},{"$f":"IF(B565=\"\",\"-\",COUNT(B$4:$B565))","v":562},"愛知県","ＨＡＬ名古屋","コンピュータ総合専門課程　情報セキュリティ学科","2008-04-01","～","2010-03-31","2009-02-27","名称変更","ＨＡＬ名古屋","デジタル専門課程　高度情報セキュリティ学科","2010-04-01","2010-11-29"]
[{"$f":"IF(OR(検索シート!$F$9=\"\",検索シート!$F$9=\"（指定なし）\",検索シート!$F$9=全国版!K566,AND(検索シート!$F$9=\"変更等なし\",全国版!K566=\"\")),1,0)","v":1},{"$f":"IF(A566=0,\"\",IFERROR(IF(OR(検索シート!$F$5=\"\",検索シート!$F$5=\"（指定なし）\"),1,FIND(ASC(検索シート!$F$5),ASC(全国版!D566)))+FIND(ASC(検索シート!$F$6),ASC(全国版!E566))+FIND(ASC(検索シート!$F$7),ASC(全国版!F566)),\"\"))","v":3},{"$f":"IF(B566=\"\",\"-\",COUNT(B$4:$B566))","v":563},"愛知県","ＨＡＬ名古屋","コンピュータ総合専門課程　デジタル映像学科","2008-04-01","～","2009-03-31","2009-02-27","名称変更","ＨＡＬ名古屋","コンピュータ総合専門課程　３ＤＣＧ映像学科","2009-04-01","2010-02-26"]
[{"$f":"IF(OR(検索シート!$F$9=\"\",検索シート!$F$9=\"（指定なし）\",検索シート!$F$9=全国版!K567,AND(検索シート!$F$9=\"変更等なし\",全国版!K567=\"\")),1,0)","v":1},{"$f":"IF(A567=0,\"\",IFERROR(IF(OR(検索シート!$F$5=\"\",検索シート!$F$5=\"（指定なし）\"),1,FIND(ASC(検索シート!$F$5),ASC(全国版!D567)))+FIND(ASC(検索シート!$F$6),ASC(全国版!E567))+FIND(ASC(検索シート!$F$7),ASC(全国版!F567)),\"\"))","v":3},{"$f":"IF(B567=\"\",\"-\",COUNT(B$4:$B567))","v":564},"愛知県","ＨＡＬ名古屋","コンピュータ総合専門課程　ミュージック学科（４年制）","2008-04-01","～","2010-03-31","2009-02-27","名称変更","ＨＡＬ名古屋","デジタル専門課程　ミュージック学科（４年制）","2010-04-01","2010-11-29"]
[{"$f":"IF(OR(検索シート!$F$9=\"\",検索シート!$F$9=\"（指定なし）\",検索シート!$F$9=全国版!K568,AND(検索シート!$F$9=\"変更等なし\",全国版!K568=\"\")),1,0)","v":1},{"$f":"IF(A568=0,\"\",IFERROR(IF(OR(検索シート!$F$5=\"\",検索シート!$F$5=\"（指定なし）\"),1,FIND(ASC(検索シート!$F$5),ASC(全国版!D568)))+FIND(ASC(検索シート!$F$6),ASC(全国版!E568))+FIND(ASC(検索シート!$F$7),ASC(全国版!F568)),\"\"))","v":3},{"$f":"IF(B568=\"\",\"-\",COUNT(B$4:$B568))","v":565},"愛知県","ＨＡＬ名古屋","コンピュータ総合専門課程　ロボティクス学科","2009-02-27","～","2010-03-31","2009-02-27","名称変更","ＨＡＬ名古屋","デジタル専門課程　ロボット開発学科","2010-04-01","2010-11-29"]
[{"$f":"IF(OR(検索シート!$F$9=\"\",検索シート!$F$9=\"（指定なし）\",検索シート!$F$9=全国版!K569,AND(検索シート!$F$9=\"変更等なし\",全国版!K569=\"\")),1,0)","v":1},{"$f":"IF(A569=0,\"\",IFERROR(IF(OR(検索シート!$F$5=\"\",検索シート!$F$5=\"（指定なし）\"),1,FIND(ASC(検索シート!$F$5),ASC(全国版!D569)))+FIND(ASC(検索シート!$F$6),ASC(全国版!E569))+FIND(ASC(検索シート!$F$7),ASC(全国版!F569)),\"\"))","v":3},{"$f":"IF(B569=\"\",\"-\",COUNT(B$4:$B569))","v":566},"愛知県","ＨＡＬ名古屋","デジタル専門課程　ＣＧ・デザイン・アニメ４年制学科","2021-04-01","～",null,"2022-03-04"]
[{"$f":"IF(OR(検索シート!$F$9=\"\",検索シート!$F$9=\"（指定なし）\",検索シート!$F$9=全国版!K570,AND(検索シート!$F$9=\"変更等なし\",全国版!K570=\"\")),1,0)","v":1},{"$f":"IF(A570=0,\"\",IFERROR(IF(OR(検索シート!$F$5=\"\",検索シート!$F$5=\"（指定なし）\"),1,FIND(ASC(検索シート!$F$5),ASC(全国版!D570)))+FIND(ASC(検索シート!$F$6),ASC(全国版!E570))+FIND(ASC(検索シート!$F$7),ASC(全国版!F570)),\"\"))","v":3},{"$f":"IF(B570=\"\",\"-\",COUNT(B$4:$B570))","v":567},"愛知県","ＨＡＬ名古屋","デジタル専門課程　ＣＧ映像アニメーション学科","2013-04-01","～","2016-03-31","2014-01-28","名称変更","ＨＡＬ名古屋","デジタル専門課程　ＣＧ映像学科（４年制・昼間部）","2016-04-01","2017-02-28"]
[{"$f":"IF(OR(検索シート!$F$9=\"\",検索シート!$F$9=\"（指定なし）\",検索シート!$F$9=全国版!K571,AND(検索シート!$F$9=\"変更等なし\",全国版!K571=\"\")),1,0)","v":1},{"$f":"IF(A571=0,\"\",IFERROR(IF(OR(検索シート!$F$5=\"\",検索シート!$F$5=\"（指定なし）\"),1,FIND(ASC(検索シート!$F$5),ASC(全国版!D571)))+FIND(ASC(検索シート!$F$6),ASC(全国版!E571))+FIND(ASC(検索シート!$F$7),ASC(全国版!F571)),\"\"))","v":3},{"$f":"IF(B571=\"\",\"-\",COUNT(B$4:$B571))","v":568},"愛知県","ＨＡＬ名古屋","デジタル専門課程　ＣＧ映像学科（４年制・昼間部）","2016-04-01","～","2021-03-31","2017-02-28","名称変更","ＨＡＬ名古屋","デジタル専門課程　ＣＧ・デザイン・アニメ４年制学科","2021-04-01","2022-03-04"]
[{"$f":"IF(OR(検索シート!$F$9=\"\",検索シート!$F$9=\"（指定なし）\",検索シート!$F$9=全国版!K572,AND(検索シート!$F$9=\"変更等なし\",全国版!K572=\"\")),1,0)","v":1},{"$f":"IF(A572=0,\"\",IFERROR(IF(OR(検索シート!$F$5=\"\",検索シート!$F$5=\"（指定なし）\"),1,FIND(ASC(検索シート!$F$5),ASC(全国版!D572)))+FIND(ASC(検索シート!$F$6),ASC(全国版!E572))+FIND(ASC(検索シート!$F$7),ASC(全国版!F572)),\"\"))","v":3},{"$f":"IF(B572=\"\",\"-\",COUNT(B$4:$B572))","v":569},"愛知県","ＨＡＬ名古屋","デジタル専門課程　ＣＧデザイン学科","2010-04-01","～","2015-03-31","2010-11-29","名称変更","ＨＡＬ名古屋","デジタル専門課程　グラフィックデザイン学科（４年制・昼間部）","2015-04-01","2016-02-29"]
[{"$f":"IF(OR(検索シート!$F$9=\"\",検索シート!$F$9=\"（指定なし）\",検索シート!$F$9=全国版!K573,AND(検索シート!$F$9=\"変更等なし\",全国版!K573=\"\")),1,0)","v":1},{"$f":"IF(A573=0,\"\",IFERROR(IF(OR(検索シート!$F$5=\"\",検索シート!$F$5=\"（指定なし）\"),1,FIND(ASC(検索シート!$F$5),ASC(全国版!D573)))+FIND(ASC(検索シート!$F$6),ASC(全国版!E573))+FIND(ASC(検索シート!$F$7),ASC(全国版!F573)),\"\"))","v":3},{"$f":"IF(B573=\"\",\"-\",COUNT(B$4:$B573))","v":570},"愛知県","ＨＡＬ名古屋","デジタル専門課程　ＷＥＢ開発学科","2010-04-01","～","2022-03-31","2010-11-29","廃止",null,null,"2022-03-31","2023-01-27"]
[{"$f":"IF(OR(検索シート!$F$9=\"\",検索シート!$F$9=\"（指定なし）\",検索シート!$F$9=全国版!K574,AND(検索シート!$F$9=\"変更等なし\",全国版!K574=\"\")),1,0)","v":1},{"$f":"IF(A574=0,\"\",IFERROR(IF(OR(検索シート!$F$5=\"\",検索シート!$F$5=\"（指定なし）\"),1,FIND(ASC(検索シート!$F$5),ASC(全国版!D574)))+FIND(ASC(検索シート!$F$6),ASC(全国版!E574))+FIND(ASC(検索シート!$F$7),ASC(全国版!F574)),\"\"))","v":3},{"$f":"IF(B574=\"\",\"-\",COUNT(B$4:$B574))","v":571},"愛知県","ＨＡＬ名古屋","デジタル専門課程　アニメ・イラスト学科","2017-02-28","～",null,"2017-02-28"]
[{"$f":"IF(OR(検索シート!$F$9=\"\",検索シート!$F$9=\"（指定なし）\",検索シート!$F$9=全国版!K575,AND(検索シート!$F$9=\"変更等なし\",全国版!K575=\"\")),1,0)","v":1},{"$f":"IF(A575=0,\"\",IFERROR(IF(OR(検索シート!$F$5=\"\",検索シート!$F$5=\"（指定なし）\"),1,FIND(ASC(検索シート!$F$5),ASC(全国版!D575)))+FIND(ASC(検索シート!$F$6),ASC(全国版!E575))+FIND(ASC(検索シート!$F$7),ASC(全国版!F575)),\"\"))","v":3},{"$f":"IF(B575=\"\",\"-\",COUNT(B$4:$B575))","v":572},"愛知県","ＨＡＬ名古屋","デジタル専門課程　カーデザイン学科","2010-04-01","～",null,"2010-11-29"]
[{"$f":"IF(OR(検索シート!$F$9=\"\",検索シート!$F$9=\"（指定なし）\",検索シート!$F$9=全国版!K576,AND(検索シート!$F$9=\"変更等なし\",全国版!K576=\"\")),1,0)","v":1},{"$f":"IF(A576=0,\"\",IFERROR(IF(OR(検索シート!$F$5=\"\",検索シート!$F$5=\"（指定なし）\"),1,FIND(ASC(検索シート!$F$5),ASC(全国版!D576)))+FIND(ASC(検索シート!$F$6),ASC(全国版!E576))+FIND(ASC(検索シート!$F$7),ASC(全国版!F576)),\"\"))","v":3},{"$f":"IF(B576=\"\",\"-\",COUNT(B$4:$B576))","v":573},"愛知県","ＨＡＬ名古屋","デジタル専門課程　グラフィックデザイン学科（４年制・昼間部）","2015-04-01","～",null,"2016-02-29"]
[{"$f":"IF(OR(検索シート!$F$9=\"\",検索シート!$F$9=\"（指定なし）\",検索シート!$F$9=全国版!K577,AND(検索シート!$F$9=\"変更等なし\",全国版!K577=\"\")),1,0)","v":1},{"$f":"IF(A577=0,\"\",IFERROR(IF(OR(検索シート!$F$5=\"\",検索シート!$F$5=\"（指定なし）\"),1,FIND(ASC(検索シート!$F$5),ASC(全国版!D577)))+FIND(ASC(検索シート!$F$6),ASC(全国版!E577))+FIND(ASC(検索シート!$F$7),ASC(全国版!F577)),\"\"))","v":3},{"$f":"IF(B577=\"\",\"-\",COUNT(B$4:$B577))","v":574},"愛知県","ＨＡＬ名古屋","デジタル専門課程　ゲーム４年制学科","2019-04-01","～",null,"2020-02-29"]
[{"$f":"IF(OR(検索シート!$F$9=\"\",検索シート!$F$9=\"（指定なし）\",検索シート!$F$9=全国版!K578,AND(検索シート!$F$9=\"変更等なし\",全国版!K578=\"\")),1,0)","v":1},{"$f":"IF(A578=0,\"\",IFERROR(IF(OR(検索シート!$F$5=\"\",検索シート!$F$5=\"（指定なし）\"),1,FIND(ASC(検索シート!$F$5),ASC(全国版!D578)))+FIND(ASC(検索シート!$F$6),ASC(全国版!E578))+FIND(ASC(検索シート!$F$7),ASC(全国版!F578)),\"\"))","v":3},{"$f":"IF(B578=\"\",\"-\",COUNT(B$4:$B578))","v":575},"愛知県","ＨＡＬ名古屋","デジタル専門課程　ゲーム開発学科","2010-04-01","～","2015-03-31","2010-11-29","名称変更","ＨＡＬ名古屋","デジタル専門課程　ゲーム企画学科","2015-04-01","2016-02-29"]
[{"$f":"IF(OR(検索シート!$F$9=\"\",検索シート!$F$9=\"（指定なし）\",検索シート!$F$9=全国版!K579,AND(検索シート!$F$9=\"変更等なし\",全国版!K579=\"\")),1,0)","v":1},{"$f":"IF(A579=0,\"\",IFERROR(IF(OR(検索シート!$F$5=\"\",検索シート!$F$5=\"（指定なし）\"),1,FIND(ASC(検索シート!$F$5),ASC(全国版!D579)))+FIND(ASC(検索シート!$F$6),ASC(全国版!E579))+FIND(ASC(検索シート!$F$7),ASC(全国版!F579)),\"\"))","v":3},{"$f":"IF(B579=\"\",\"-\",COUNT(B$4:$B579))","v":576},"愛知県","ＨＡＬ名古屋","デジタル専門課程　ゲーム企画学科","2015-04-01","～","2022-03-31","2016-02-29","廃止",null,null,"2022-03-31","2023-01-27"]
[{"$f":"IF(OR(検索シート!$F$9=\"\",検索シート!$F$9=\"（指定なし）\",検索シート!$F$9=全国版!K580,AND(検索シート!$F$9=\"変更等なし\",全国版!K580=\"\")),1,0)","v":1},{"$f":"IF(A580=0,\"\",IFERROR(IF(OR(検索シート!$F$5=\"\",検索シート!$F$5=\"（指定なし）\"),1,FIND(ASC(検索シート!$F$5),ASC(全国版!D580)))+FIND(ASC(検索シート!$F$6),ASC(全国版!E580))+FIND(ASC(検索シート!$F$7),ASC(全国版!F580)),\"\"))","v":3},{"$f":"IF(B580=\"\",\"-\",COUNT(B$4:$B580))","v":577},"愛知県","ＨＡＬ名古屋","デジタル専門課程　ゲーム制作学科","2010-04-01","～","2019-03-31","2010-11-29","名称変更","ＨＡＬ名古屋","デジタル専門課程　ゲーム４年制学科","2019-04-01","2020-02-29"]
[{"$f":"IF(OR(検索シート!$F$9=\"\",検索シート!$F$9=\"（指定なし）\",検索シート!$F$9=全国版!K581,AND(検索シート!$F$9=\"変更等なし\",全国版!K581=\"\")),1,0)","v":1},{"$f":"IF(A581=0,\"\",IFERROR(IF(OR(検索シート!$F$5=\"\",検索シート!$F$5=\"（指定なし）\"),1,FIND(ASC(検索シート!$F$5),ASC(全国版!D581)))+FIND(ASC(検索シート!$F$6),ASC(全国版!E581))+FIND(ASC(検索シート!$F$7),ASC(全国版!F581)),\"\"))","v":3},{"$f":"IF(B581=\"\",\"-\",COUNT(B$4:$B581))","v":578},"愛知県","ＨＡＬ名古屋","デジタル専門課程　ゲームデザイン学科","2010-04-01","～","2022-03-31","2010-11-29","廃止",null,null,"2022-03-31","2023-01-27"]
[{"$f":"IF(OR(検索シート!$F$9=\"\",検索シート!$F$9=\"（指定なし）\",検索シート!$F$9=全国版!K582,AND(検索シート!$F$9=\"変更等なし\",全国版!K582=\"\")),1,0)","v":1},{"$f":"IF(A582=0,\"\",IFERROR(IF(OR(検索シート!$F$5=\"\",検索シート!$F$5=\"（指定なし）\"),1,FIND(ASC(検索シート!$F$5),ASC(全国版!D582)))+FIND(ASC(検索シート!$F$6),ASC(全国版!E582))+FIND(ASC(検索シート!$F$7),ASC(全国版!F582)),\"\"))","v":3},{"$f":"IF(B582=\"\",\"-\",COUNT(B$4:$B582))","v":579},"愛知県","ＨＡＬ名古屋","デジタル専門課程　高度情報学科","2019-04-01","～",null,"2020-02-29"]
[{"$f":"IF(OR(検索シート!$F$9=\"\",検索シート!$F$9=\"（指定なし）\",検索シート!$F$9=全国版!K583,AND(検索シート!$F$9=\"変更等なし\",全国版!K583=\"\")),1,0)","v":1},{"$f":"IF(A583=0,\"\",IFERROR(IF(OR(検索シート!$F$5=\"\",検索シート!$F$5=\"（指定なし）\"),1,FIND(ASC(検索シート!$F$5),ASC(全国版!D583)))+FIND(ASC(検索シート!$F$6),ASC(全国版!E583))+FIND(ASC(検索シート!$F$7),ASC(全国版!F583)),\"\"))","v":3},{"$f":"IF(B583=\"\",\"-\",COUNT(B$4:$B583))","v":580},"愛知県","ＨＡＬ名古屋","デジタル専門課程　高度情報処理学科","2010-04-01","～","2019-03-31","2010-11-29","名称変更","ＨＡＬ名古屋","デジタル専門課程　高度情報学科","2019-04-01","2020-02-29"]
[{"$f":"IF(OR(検索シート!$F$9=\"\",検索シート!$F$9=\"（指定なし）\",検索シート!$F$9=全国版!K584,AND(検索シート!$F$9=\"変更等なし\",全国版!K584=\"\")),1,0)","v":1},{"$f":"IF(A584=0,\"\",IFERROR(IF(OR(検索シート!$F$5=\"\",検索シート!$F$5=\"（指定なし）\"),1,FIND(ASC(検索シート!$F$5),ASC(全国版!D584)))+FIND(ASC(検索シート!$F$6),ASC(全国版!E584))+FIND(ASC(検索シート!$F$7),ASC(全国版!F584)),\"\"))","v":3},{"$f":"IF(B584=\"\",\"-\",COUNT(B$4:$B584))","v":581},"愛知県","ＨＡＬ名古屋","デジタル専門課程　高度情報セキュリティ学科","2010-04-01","～","2013-03-31","2010-11-29","廃止",null,null,"2013-03-31","2015-02-19"]
[{"$f":"IF(OR(検索シート!$F$9=\"\",検索シート!$F$9=\"（指定なし）\",検索シート!$F$9=全国版!K585,AND(検索シート!$F$9=\"変更等なし\",全国版!K585=\"\")),1,0)","v":1},{"$f":"IF(A585=0,\"\",IFERROR(IF(OR(検索シート!$F$5=\"\",検索シート!$F$5=\"（指定なし）\"),1,FIND(ASC(検索シート!$F$5),ASC(全国版!D585)))+FIND(ASC(検索シート!$F$6),ASC(全国版!E585))+FIND(ASC(検索シート!$F$7),ASC(全国版!F585)),\"\"))","v":3},{"$f":"IF(B585=\"\",\"-\",COUNT(B$4:$B585))","v":582},"愛知県","ＨＡＬ名古屋","デジタル専門課程　先端ロボット開発学科","2011-04-01","～",null,"2011-12-22"]
[{"$f":"IF(OR(検索シート!$F$9=\"\",検索シート!$F$9=\"（指定なし）\",検索シート!$F$9=全国版!K586,AND(検索シート!$F$9=\"変更等なし\",全国版!K586=\"\")),1,0)","v":1},{"$f":"IF(A586=0,\"\",IFERROR(IF(OR(検索シート!$F$5=\"\",検索シート!$F$5=\"（指定なし）\"),1,FIND(ASC(検索シート!$F$5),ASC(全国版!D586)))+FIND(ASC(検索シート!$F$6),ASC(全国版!E586))+FIND(ASC(検索シート!$F$7),ASC(全国版!F586)),\"\"))","v":3},{"$f":"IF(B586=\"\",\"-\",COUNT(B$4:$B586))","v":583},"愛知県","ＨＡＬ名古屋","デジタル専門課程　デジタル映像学科","2010-04-01","～","2013-03-31","2010-11-29","名称変更","ＨＡＬ名古屋","デジタル専門課程　ＣＧ映像アニメーション学科","2013-04-01","2014-01-28"]
[{"$f":"IF(OR(検索シート!$F$9=\"\",検索シート!$F$9=\"（指定なし）\",検索シート!$F$9=全国版!K587,AND(検索シート!$F$9=\"変更等なし\",全国版!K587=\"\")),1,0)","v":1},{"$f":"IF(A587=0,\"\",IFERROR(IF(OR(検索シート!$F$5=\"\",検索シート!$F$5=\"（指定なし）\"),1,FIND(ASC(検索シート!$F$5),ASC(全国版!D587)))+FIND(ASC(検索シート!$F$6),ASC(全国版!E587))+FIND(ASC(検索シート!$F$7),ASC(全国版!F587)),\"\"))","v":3},{"$f":"IF(B587=\"\",\"-\",COUNT(B$4:$B587))","v":584},"愛知県","ＨＡＬ名古屋","デジタル専門課程　ロボット開発学科","2010-04-01","～","2011-03-31","2010-11-29","名称変更","ＨＡＬ名古屋","デジタル専門課程　先端ロボット開発学科","2011-04-01","2011-12-22"]
[{"$f":"IF(OR(検索シート!$F$9=\"\",検索シート!$F$9=\"（指定なし）\",検索シート!$F$9=全国版!K588,AND(検索シート!$F$9=\"変更等なし\",全国版!K588=\"\")),1,0)","v":1},{"$f":"IF(A588=0,\"\",IFERROR(IF(OR(検索シート!$F$5=\"\",検索シート!$F$5=\"（指定なし）\"),1,FIND(ASC(検索シート!$F$5),ASC(全国版!D588)))+FIND(ASC(検索シート!$F$6),ASC(全国版!E588))+FIND(ASC(検索シート!$F$7),ASC(全国版!F588)),\"\"))","v":3},{"$f":"IF(B588=\"\",\"-\",COUNT(B$4:$B588))","v":585},"愛知県","ＨＡＬ名古屋","コンピュータ総合専門課程　３ＤＣＧ映像学科","2009-04-01","～","2010-03-31","2010-02-26","名称変更","ＨＡＬ名古屋","デジタル専門課程　デジタル映像学科","2010-04-01","2010-11-29"]
[{"$f":"IF(OR(検索シート!$F$9=\"\",検索シート!$F$9=\"（指定なし）\",検索シート!$F$9=全国版!K589,AND(検索シート!$F$9=\"変更等なし\",全国版!K589=\"\")),1,0)","v":1},{"$f":"IF(A589=0,\"\",IFERROR(IF(OR(検索シート!$F$5=\"\",検索シート!$F$5=\"（指定なし）\"),1,FIND(ASC(検索シート!$F$5),ASC(全国版!D589)))+FIND(ASC(検索シート!$F$6),ASC(全国版!E589))+FIND(ASC(検索シート!$F$7),ASC(全国版!F589)),\"\"))","v":3},{"$f":"IF(B589=\"\",\"-\",COUNT(B$4:$B589))","v":586},"愛知県","ＨＡＬ名古屋","コンピュータ総合専門課程　ＷＥＢ総合学科","2009-04-01","～","2010-03-31","2010-02-26","名称変更","ＨＡＬ名古屋","デジタル専門課程　ＷＥＢ開発学科","2010-04-01","2010-11-29"]
[{"$f":"IF(OR(検索シート!$F$9=\"\",検索シート!$F$9=\"（指定なし）\",検索シート!$F$9=全国版!K590,AND(検索シート!$F$9=\"変更等なし\",全国版!K590=\"\")),1,0)","v":1},{"$f":"IF(A590=0,\"\",IFERROR(IF(OR(検索シート!$F$5=\"\",検索シート!$F$5=\"（指定なし）\"),1,FIND(ASC(検索シート!$F$5),ASC(全国版!D590)))+FIND(ASC(検索シート!$F$6),ASC(全国版!E590))+FIND(ASC(検索シート!$F$7),ASC(全国版!F590)),\"\"))","v":3},{"$f":"IF(B590=\"\",\"-\",COUNT(B$4:$B590))","v":587},"愛知県","ＨＡＬ名古屋","デジタル専門課程　ミュージック学科（４年制）","2010-04-01","～",null,"2010-11-29"]
[{"$f":"IF(OR(検索シート!$F$9=\"\",検索シート!$F$9=\"（指定なし）\",検索シート!$F$9=全国版!K591,AND(検索シート!$F$9=\"変更等なし\",全国版!K591=\"\")),1,0)","v":1},{"$f":"IF(A591=0,\"\",IFERROR(IF(OR(検索シート!$F$5=\"\",検索シート!$F$5=\"（指定なし）\"),1,FIND(ASC(検索シート!$F$5),ASC(全国版!D591)))+FIND(ASC(検索シート!$F$6),ASC(全国版!E591))+FIND(ASC(検索シート!$F$7),ASC(全国版!F591)),\"\"))","v":3},{"$f":"IF(B591=\"\",\"-\",COUNT(B$4:$B591))","v":588},"愛知県","愛知総合看護福祉専門学校","医療専門課程　保健看護学科","2008-02-29","～","2021-03-31","2008-02-29","名称変更","専門学校愛知保健看護大学校","医療専門課程　保健看護学科","2021-04-01","2022-03-04"]
[{"$f":"IF(OR(検索シート!$F$9=\"\",検索シート!$F$9=\"（指定なし）\",検索シート!$F$9=全国版!K592,AND(検索シート!$F$9=\"変更等なし\",全国版!K592=\"\")),1,0)","v":1},{"$f":"IF(A592=0,\"\",IFERROR(IF(OR(検索シート!$F$5=\"\",検索シート!$F$5=\"（指定なし）\"),1,FIND(ASC(検索シート!$F$5),ASC(全国版!D592)))+FIND(ASC(検索シート!$F$6),ASC(全国版!E592))+FIND(ASC(検索シート!$F$7),ASC(全国版!F592)),\"\"))","v":3},{"$f":"IF(B592=\"\",\"-\",COUNT(B$4:$B592))","v":589},"愛知県","明美文化服装専門学校","服飾・家政専門課程　服装科","2005-12-09","～",null,"2005-12-09"]
[{"$f":"IF(OR(検索シート!$F$9=\"\",検索シート!$F$9=\"（指定なし）\",検索シート!$F$9=全国版!K593,AND(検索シート!$F$9=\"変更等なし\",全国版!K593=\"\")),1,0)","v":1},{"$f":"IF(A593=0,\"\",IFERROR(IF(OR(検索シート!$F$5=\"\",検索シート!$F$5=\"（指定なし）\"),1,FIND(ASC(検索シート!$F$5),ASC(全国版!D593)))+FIND(ASC(検索シート!$F$6),ASC(全国版!E593))+FIND(ASC(検索シート!$F$7),ASC(全国版!F593)),\"\"))","v":3},{"$f":"IF(B593=\"\",\"-\",COUNT(B$4:$B593))","v":590},"愛知県","大原簿記情報医療専門学校","商業実務専門課程　公認会計士・税理士科（４年課程）","2010-04-01","～",null,"2010-11-29"]
[{"$f":"IF(OR(検索シート!$F$9=\"\",検索シート!$F$9=\"（指定なし）\",検索シート!$F$9=全国版!K594,AND(検索シート!$F$9=\"変更等なし\",全国版!K594=\"\")),1,0)","v":1},{"$f":"IF(A594=0,\"\",IFERROR(IF(OR(検索シート!$F$5=\"\",検索シート!$F$5=\"（指定なし）\"),1,FIND(ASC(検索シート!$F$5),ASC(全国版!D594)))+FIND(ASC(検索シート!$F$6),ASC(全国版!E594))+FIND(ASC(検索シート!$F$7),ASC(全国版!F594)),\"\"))","v":3},{"$f":"IF(B594=\"\",\"-\",COUNT(B$4:$B594))","v":591},"愛知県","大原簿記専門学校","商業実務専門課程　公認会計士・税理士科（４年課程）","2006-04-01","～","2010-03-31","2007-02-28","名称変更","大原簿記情報医療専門学校","商業実務専門課程　公認会計士・税理士科（４年課程）","2010-04-01","2010-11-29"]
[{"$f":"IF(OR(検索シート!$F$9=\"\",検索シート!$F$9=\"（指定なし）\",検索シート!$F$9=全国版!K595,AND(検索シート!$F$9=\"変更等なし\",全国版!K595=\"\")),1,0)","v":1},{"$f":"IF(A595=0,\"\",IFERROR(IF(OR(検索シート!$F$5=\"\",検索シート!$F$5=\"（指定なし）\"),1,FIND(ASC(検索シート!$F$5),ASC(全国版!D595)))+FIND(ASC(検索シート!$F$6),ASC(全国版!E595))+FIND(ASC(検索シート!$F$7),ASC(全国版!F595)),\"\"))","v":3},{"$f":"IF(B595=\"\",\"-\",COUNT(B$4:$B595))","v":592},"愛知県","大原簿記専門学校","商業実務専門課程　税理士科","2005-12-09","～","2006-03-31","2005-12-09","名称変更","大原簿記専門学校","商業実務専門課程　公認会計士・税理士科（４年課程）","2006-04-01","2007-02-28"]
[{"$f":"IF(OR(検索シート!$F$9=\"\",検索シート!$F$9=\"（指定なし）\",検索シート!$F$9=全国版!K596,AND(検索シート!$F$9=\"変更等なし\",全国版!K596=\"\")),1,0)","v":1},{"$f":"IF(A596=0,\"\",IFERROR(IF(OR(検索シート!$F$5=\"\",検索シート!$F$5=\"（指定なし）\"),1,FIND(ASC(検索シート!$F$5),ASC(全国版!D596)))+FIND(ASC(検索シート!$F$6),ASC(全国版!E596))+FIND(ASC(検索シート!$F$7),ASC(全国版!F596)),\"\"))","v":3},{"$f":"IF(B596=\"\",\"-\",COUNT(B$4:$B596))","v":593},"愛知県","キクチ眼鏡専門学校","工業専門課程　眼鏡光学科","2005-12-09","～",null,"2005-12-09"]
[{"$f":"IF(OR(検索シート!$F$9=\"\",検索シート!$F$9=\"（指定なし）\",検索シート!$F$9=全国版!K597,AND(検索シート!$F$9=\"変更等なし\",全国版!K597=\"\")),1,0)","v":1},{"$f":"IF(A597=0,\"\",IFERROR(IF(OR(検索シート!$F$5=\"\",検索シート!$F$5=\"（指定なし）\"),1,FIND(ASC(検索シート!$F$5),ASC(全国版!D597)))+FIND(ASC(検索シート!$F$6),ASC(全国版!E597))+FIND(ASC(検索シート!$F$7),ASC(全国版!F597)),\"\"))","v":3},{"$f":"IF(B597=\"\",\"-\",COUNT(B$4:$B597))","v":594},"愛知県","公務員・保育・介護・ビジネス専門学校","教育・社会福祉専門課程　社会福祉学科Ⅰ","2011-04-01","～","2014-03-31","2011-12-22","名称変更","保育・介護・ビジネス名古屋専門学校","教育・社会福祉専門課程　社会福祉学科Ⅰ","2014-04-01","2015-02-19"]
[{"$f":"IF(OR(検索シート!$F$9=\"\",検索シート!$F$9=\"（指定なし）\",検索シート!$F$9=全国版!K598,AND(検索シート!$F$9=\"変更等なし\",全国版!K598=\"\")),1,0)","v":1},{"$f":"IF(A598=0,\"\",IFERROR(IF(OR(検索シート!$F$5=\"\",検索シート!$F$5=\"（指定なし）\"),1,FIND(ASC(検索シート!$F$5),ASC(全国版!D598)))+FIND(ASC(検索シート!$F$6),ASC(全国版!E598))+FIND(ASC(検索シート!$F$7),ASC(全国版!F598)),\"\"))","v":3},{"$f":"IF(B598=\"\",\"-\",COUNT(B$4:$B598))","v":595},"愛知県","コンピュータ総合学園ＨＡＬ専門学校","工業専門課程　ＣＧ映像学科","2005-12-09","～","2007-03-31","2005-12-09","名称変更","コンピュータ総合学園ＨＡＬ専門学校","コンピュータ総合専門課程　ＣＧ映像学科","2007-04-01","2008-02-29"]
[{"$f":"IF(OR(検索シート!$F$9=\"\",検索シート!$F$9=\"（指定なし）\",検索シート!$F$9=全国版!K599,AND(検索シート!$F$9=\"変更等なし\",全国版!K599=\"\")),1,0)","v":1},{"$f":"IF(A599=0,\"\",IFERROR(IF(OR(検索シート!$F$5=\"\",検索シート!$F$5=\"（指定なし）\"),1,FIND(ASC(検索シート!$F$5),ASC(全国版!D599)))+FIND(ASC(検索シート!$F$6),ASC(全国版!E599))+FIND(ASC(検索シート!$F$7),ASC(全国版!F599)),\"\"))","v":3},{"$f":"IF(B599=\"\",\"-\",COUNT(B$4:$B599))","v":596},"愛知県","コンピュータ総合学園ＨＡＬ専門学校","工業専門課程　ＣＧデザイン学科","2005-12-09","～","2007-03-31","2005-12-09","名称変更","コンピュータ総合学園ＨＡＬ専門学校","コンピュータ総合専門課程　ＣＧデザイン学科","2007-04-01","2008-02-29"]
[{"$f":"IF(OR(検索シート!$F$9=\"\",検索シート!$F$9=\"（指定なし）\",検索シート!$F$9=全国版!K600,AND(検索シート!$F$9=\"変更等なし\",全国版!K600=\"\")),1,0)","v":1},{"$f":"IF(A600=0,\"\",IFERROR(IF(OR(検索シート!$F$5=\"\",検索シート!$F$5=\"（指定なし）\"),1,FIND(ASC(検索シート!$F$5),ASC(全国版!D600)))+FIND(ASC(検索シート!$F$6),ASC(全国版!E600))+FIND(ASC(検索シート!$F$7),ASC(全国版!F600)),\"\"))","v":3},{"$f":"IF(B600=\"\",\"-\",COUNT(B$4:$B600))","v":597},"愛知県","コンピュータ総合学園ＨＡＬ専門学校","工業専門課程　ゲーム開発学科","2005-12-09","～","2007-03-31","2005-12-09","名称変更","コンピュータ総合学園ＨＡＬ専門学校","コンピュータ総合専門課程　ゲーム開発学科","2007-04-01","2008-02-29"]
[{"$f":"IF(OR(検索シート!$F$9=\"\",検索シート!$F$9=\"（指定なし）\",検索シート!$F$9=全国版!K601,AND(検索シート!$F$9=\"変更等なし\",全国版!K601=\"\")),1,0)","v":1},{"$f":"IF(A601=0,\"\",IFERROR(IF(OR(検索シート!$F$5=\"\",検索シート!$F$5=\"（指定なし）\"),1,FIND(ASC(検索シート!$F$5),ASC(全国版!D601)))+FIND(ASC(検索シート!$F$6),ASC(全国版!E601))+FIND(ASC(検索シート!$F$7),ASC(全国版!F601)),\"\"))","v":3},{"$f":"IF(B601=\"\",\"-\",COUNT(B$4:$B601))","v":598},"愛知県","コンピュータ総合学園ＨＡＬ専門学校","工業専門課程　ゲーム制作学科","2005-12-09","～","2007-03-31","2005-12-09","名称変更","コンピュータ総合学園ＨＡＬ専門学校","コンピュータ総合専門課程　ゲーム制作学科","2007-04-01","2008-02-29"]
[{"$f":"IF(OR(検索シート!$F$9=\"\",検索シート!$F$9=\"（指定なし）\",検索シート!$F$9=全国版!K602,AND(検索シート!$F$9=\"変更等なし\",全国版!K602=\"\")),1,0)","v":1},{"$f":"IF(A602=0,\"\",IFERROR(IF(OR(検索シート!$F$5=\"\",検索シート!$F$5=\"（指定なし）\"),1,FIND(ASC(検索シート!$F$5),ASC(全国版!D602)))+FIND(ASC(検索シート!$F$6),ASC(全国版!E602))+FIND(ASC(検索シート!$F$7),ASC(全国版!F602)),\"\"))","v":3},{"$f":"IF(B602=\"\",\"-\",COUNT(B$4:$B602))","v":599},"愛知県","コンピュータ総合学園ＨＡＬ専門学校","工業専門課程　情報サイエンス工学科","2005-12-09","～","2007-03-31","2005-12-09","名称変更","コンピュータ総合学園ＨＡＬ専門学校","コンピュータ総合専門課程　情報サイエンス工学科","2007-04-01","2008-02-29"]
[{"$f":"IF(OR(検索シート!$F$9=\"\",検索シート!$F$9=\"（指定なし）\",検索シート!$F$9=全国版!K603,AND(検索シート!$F$9=\"変更等なし\",全国版!K603=\"\")),1,0)","v":1},{"$f":"IF(A603=0,\"\",IFERROR(IF(OR(検索シート!$F$5=\"\",検索シート!$F$5=\"（指定なし）\"),1,FIND(ASC(検索シート!$F$5),ASC(全国版!D603)))+FIND(ASC(検索シート!$F$6),ASC(全国版!E603))+FIND(ASC(検索シート!$F$7),ASC(全国版!F603)),\"\"))","v":3},{"$f":"IF(B603=\"\",\"-\",COUNT(B$4:$B603))","v":600},"愛知県","コンピュータ総合学園ＨＡＬ専門学校","工業専門課程　情報マネジメント学科","2005-12-09","～","2007-03-31","2005-12-09","名称変更","コンピュータ総合学園ＨＡＬ専門学校","コンピュータ総合専門課程　情報マネジメント学科","2007-04-01","2008-02-29"]
[{"$f":"IF(OR(検索シート!$F$9=\"\",検索シート!$F$9=\"（指定なし）\",検索シート!$F$9=全国版!K604,AND(検索シート!$F$9=\"変更等なし\",全国版!K604=\"\")),1,0)","v":1},{"$f":"IF(A604=0,\"\",IFERROR(IF(OR(検索シート!$F$5=\"\",検索シート!$F$5=\"（指定なし）\"),1,FIND(ASC(検索シート!$F$5),ASC(全国版!D604)))+FIND(ASC(検索シート!$F$6),ASC(全国版!E604))+FIND(ASC(検索シート!$F$7),ASC(全国版!F604)),\"\"))","v":3},{"$f":"IF(B604=\"\",\"-\",COUNT(B$4:$B604))","v":601},"愛知県","コンピュータ総合学園ＨＡＬ専門学校","工業専門課程　マルチメディア学科","2005-12-09","～","2007-03-31","2005-12-09","名称変更","コンピュータ総合学園ＨＡＬ専門学校","コンピュータ総合専門課程　マルチメディア学科","2007-04-01","2008-02-29"]
[{"$f":"IF(OR(検索シート!$F$9=\"\",検索シート!$F$9=\"（指定なし）\",検索シート!$F$9=全国版!K605,AND(検索シート!$F$9=\"変更等なし\",全国版!K605=\"\")),1,0)","v":1},{"$f":"IF(A605=0,\"\",IFERROR(IF(OR(検索シート!$F$5=\"\",検索シート!$F$5=\"（指定なし）\"),1,FIND(ASC(検索シート!$F$5),ASC(全国版!D605)))+FIND(ASC(検索シート!$F$6),ASC(全国版!E605))+FIND(ASC(検索シート!$F$7),ASC(全国版!F605)),\"\"))","v":3},{"$f":"IF(B605=\"\",\"-\",COUNT(B$4:$B605))","v":602},"愛知県","コンピュータ総合学園ＨＡＬ専門学校","工業専門課程　ミュージック学科","2005-12-09","～","2007-03-31","2005-12-09","名称変更","コンピュータ総合学園ＨＡＬ専門学校","コンピュータ総合専門課程　ミュージック学科（４年制）","2007-04-01","2008-02-29"]
[{"$f":"IF(OR(検索シート!$F$9=\"\",検索シート!$F$9=\"（指定なし）\",検索シート!$F$9=全国版!K606,AND(検索シート!$F$9=\"変更等なし\",全国版!K606=\"\")),1,0)","v":1},{"$f":"IF(A606=0,\"\",IFERROR(IF(OR(検索シート!$F$5=\"\",検索シート!$F$5=\"（指定なし）\"),1,FIND(ASC(検索シート!$F$5),ASC(全国版!D606)))+FIND(ASC(検索シート!$F$6),ASC(全国版!E606))+FIND(ASC(検索シート!$F$7),ASC(全国版!F606)),\"\"))","v":3},{"$f":"IF(B606=\"\",\"-\",COUNT(B$4:$B606))","v":603},"愛知県","コンピュータ総合学園ＨＡＬ専門学校","コンピュータ総合専門課程　ＣＧ映像学科","2007-04-01","～","2008-03-31","2008-02-29","名称変更","ＨＡＬ名古屋","コンピュータ総合専門課程　デジタル映像学科","2008-04-01","2009-02-27"]
[{"$f":"IF(OR(検索シート!$F$9=\"\",検索シート!$F$9=\"（指定なし）\",検索シート!$F$9=全国版!K607,AND(検索シート!$F$9=\"変更等なし\",全国版!K607=\"\")),1,0)","v":1},{"$f":"IF(A607=0,\"\",IFERROR(IF(OR(検索シート!$F$5=\"\",検索シート!$F$5=\"（指定なし）\"),1,FIND(ASC(検索シート!$F$5),ASC(全国版!D607)))+FIND(ASC(検索シート!$F$6),ASC(全国版!E607))+FIND(ASC(検索シート!$F$7),ASC(全国版!F607)),\"\"))","v":3},{"$f":"IF(B607=\"\",\"-\",COUNT(B$4:$B607))","v":604},"愛知県","コンピュータ総合学園ＨＡＬ専門学校","コンピュータ総合専門課程　ＣＧデザイン学科","2007-04-01","～","2008-03-31","2008-02-29","名称変更","ＨＡＬ名古屋","コンピュータ総合専門課程　ＣＧデザイン学科","2008-04-01","2009-02-27"]
[{"$f":"IF(OR(検索シート!$F$9=\"\",検索シート!$F$9=\"（指定なし）\",検索シート!$F$9=全国版!K608,AND(検索シート!$F$9=\"変更等なし\",全国版!K608=\"\")),1,0)","v":1},{"$f":"IF(A608=0,\"\",IFERROR(IF(OR(検索シート!$F$5=\"\",検索シート!$F$5=\"（指定なし）\"),1,FIND(ASC(検索シート!$F$5),ASC(全国版!D608)))+FIND(ASC(検索シート!$F$6),ASC(全国版!E608))+FIND(ASC(検索シート!$F$7),ASC(全国版!F608)),\"\"))","v":3},{"$f":"IF(B608=\"\",\"-\",COUNT(B$4:$B608))","v":605},"愛知県","コンピュータ総合学園ＨＡＬ専門学校","コンピュータ総合専門課程　ゲーム開発学科","2007-04-01","～","2008-03-31","2008-02-29","名称変更","ＨＡＬ名古屋","コンピュータ総合専門課程　ゲーム開発学科","2008-04-01","2009-02-27"]
[{"$f":"IF(OR(検索シート!$F$9=\"\",検索シート!$F$9=\"（指定なし）\",検索シート!$F$9=全国版!K609,AND(検索シート!$F$9=\"変更等なし\",全国版!K609=\"\")),1,0)","v":1},{"$f":"IF(A609=0,\"\",IFERROR(IF(OR(検索シート!$F$5=\"\",検索シート!$F$5=\"（指定なし）\"),1,FIND(ASC(検索シート!$F$5),ASC(全国版!D609)))+FIND(ASC(検索シート!$F$6),ASC(全国版!E609))+FIND(ASC(検索シート!$F$7),ASC(全国版!F609)),\"\"))","v":3},{"$f":"IF(B609=\"\",\"-\",COUNT(B$4:$B609))","v":606},"愛知県","コンピュータ総合学園ＨＡＬ専門学校","コンピュータ総合専門課程　ゲーム制作学科","2007-04-01","～","2008-03-31","2008-02-29","名称変更","ＨＡＬ名古屋","コンピュータ総合専門課程　ゲーム制作学科","2008-04-01","2009-02-27"]
[{"$f":"IF(OR(検索シート!$F$9=\"\",検索シート!$F$9=\"（指定なし）\",検索シート!$F$9=全国版!K610,AND(検索シート!$F$9=\"変更等なし\",全国版!K610=\"\")),1,0)","v":1},{"$f":"IF(A610=0,\"\",IFERROR(IF(OR(検索シート!$F$5=\"\",検索シート!$F$5=\"（指定なし）\"),1,FIND(ASC(検索シート!$F$5),ASC(全国版!D610)))+FIND(ASC(検索シート!$F$6),ASC(全国版!E610))+FIND(ASC(検索シート!$F$7),ASC(全国版!F610)),\"\"))","v":3},{"$f":"IF(B610=\"\",\"-\",COUNT(B$4:$B610))","v":607},"愛知県","コンピュータ総合学園ＨＡＬ専門学校","コンピュータ総合専門課程　情報サイエンス工学科","2007-04-01","～","2008-03-31","2008-02-29","名称変更","ＨＡＬ名古屋","コンピュータ総合専門課程　高度情報処理学科","2008-04-01","2009-02-27"]
[{"$f":"IF(OR(検索シート!$F$9=\"\",検索シート!$F$9=\"（指定なし）\",検索シート!$F$9=全国版!K611,AND(検索シート!$F$9=\"変更等なし\",全国版!K611=\"\")),1,0)","v":1},{"$f":"IF(A611=0,\"\",IFERROR(IF(OR(検索シート!$F$5=\"\",検索シート!$F$5=\"（指定なし）\"),1,FIND(ASC(検索シート!$F$5),ASC(全国版!D611)))+FIND(ASC(検索シート!$F$6),ASC(全国版!E611))+FIND(ASC(検索シート!$F$7),ASC(全国版!F611)),\"\"))","v":3},{"$f":"IF(B611=\"\",\"-\",COUNT(B$4:$B611))","v":608},"愛知県","コンピュータ総合学園ＨＡＬ専門学校","コンピュータ総合専門課程　情報マネジメント学科","2007-04-01","～","2008-03-31","2008-02-29","名称変更","ＨＡＬ名古屋","コンピュータ総合専門課程　情報セキュリティ学科","2008-04-01","2009-02-27"]
[{"$f":"IF(OR(検索シート!$F$9=\"\",検索シート!$F$9=\"（指定なし）\",検索シート!$F$9=全国版!K612,AND(検索シート!$F$9=\"変更等なし\",全国版!K612=\"\")),1,0)","v":1},{"$f":"IF(A612=0,\"\",IFERROR(IF(OR(検索シート!$F$5=\"\",検索シート!$F$5=\"（指定なし）\"),1,FIND(ASC(検索シート!$F$5),ASC(全国版!D612)))+FIND(ASC(検索シート!$F$6),ASC(全国版!E612))+FIND(ASC(検索シート!$F$7),ASC(全国版!F612)),\"\"))","v":3},{"$f":"IF(B612=\"\",\"-\",COUNT(B$4:$B612))","v":609},"愛知県","コンピュータ総合学園ＨＡＬ専門学校","コンピュータ総合専門課程　マルチメディア学科","2007-04-01","～","2008-03-31","2008-02-29","名称変更","ＨＡＬ名古屋","コンピュータ総合専門課程　ＷＥＢ開発学科","2008-04-01","2009-02-27"]
[{"$f":"IF(OR(検索シート!$F$9=\"\",検索シート!$F$9=\"（指定なし）\",検索シート!$F$9=全国版!K613,AND(検索シート!$F$9=\"変更等なし\",全国版!K613=\"\")),1,0)","v":1},{"$f":"IF(A613=0,\"\",IFERROR(IF(OR(検索シート!$F$5=\"\",検索シート!$F$5=\"（指定なし）\"),1,FIND(ASC(検索シート!$F$5),ASC(全国版!D613)))+FIND(ASC(検索シート!$F$6),ASC(全国版!E613))+FIND(ASC(検索シート!$F$7),ASC(全国版!F613)),\"\"))","v":3},{"$f":"IF(B613=\"\",\"-\",COUNT(B$4:$B613))","v":610},"愛知県","コンピュータ総合学園ＨＡＬ専門学校","コンピュータ総合専門課程　ミュージック学科（４年制）","2007-04-01","～","2008-03-31","2008-02-29","名称変更","ＨＡＬ名古屋","コンピュータ総合専門課程　ミュージック学科（４年制）","2008-04-01","2009-02-27"]
[{"$f":"IF(OR(検索シート!$F$9=\"\",検索シート!$F$9=\"（指定なし）\",検索シート!$F$9=全国版!K614,AND(検索シート!$F$9=\"変更等なし\",全国版!K614=\"\")),1,0)","v":1},{"$f":"IF(A614=0,\"\",IFERROR(IF(OR(検索シート!$F$5=\"\",検索シート!$F$5=\"（指定なし）\"),1,FIND(ASC(検索シート!$F$5),ASC(全国版!D614)))+FIND(ASC(検索シート!$F$6),ASC(全国版!E614))+FIND(ASC(検索シート!$F$7),ASC(全国版!F614)),\"\"))","v":3},{"$f":"IF(B614=\"\",\"-\",COUNT(B$4:$B614))","v":611},"愛知県","専門学校愛知保健看護大学校","医療専門課程　保健看護学科","2021-04-01","～",null,"2022-03-04"]
[{"$f":"IF(OR(検索シート!$F$9=\"\",検索シート!$F$9=\"（指定なし）\",検索シート!$F$9=全国版!K615,AND(検索シート!$F$9=\"変更等なし\",全国版!K615=\"\")),1,0)","v":1},{"$f":"IF(A615=0,\"\",IFERROR(IF(OR(検索シート!$F$5=\"\",検索シート!$F$5=\"（指定なし）\"),1,FIND(ASC(検索シート!$F$5),ASC(全国版!D615)))+FIND(ASC(検索シート!$F$6),ASC(全国版!E615))+FIND(ASC(検索シート!$F$7),ASC(全国版!F615)),\"\"))","v":3},{"$f":"IF(B615=\"\",\"-\",COUNT(B$4:$B615))","v":612},"愛知県","専門学校トヨタ名古屋自動車大学校","工業専門課程　高度自動車科","2007-04-01","～",null,"2008-02-29"]
[{"$f":"IF(OR(検索シート!$F$9=\"\",検索シート!$F$9=\"（指定なし）\",検索シート!$F$9=全国版!K616,AND(検索シート!$F$9=\"変更等なし\",全国版!K616=\"\")),1,0)","v":1},{"$f":"IF(A616=0,\"\",IFERROR(IF(OR(検索シート!$F$5=\"\",検索シート!$F$5=\"（指定なし）\"),1,FIND(ASC(検索シート!$F$5),ASC(全国版!D616)))+FIND(ASC(検索シート!$F$6),ASC(全国版!E616))+FIND(ASC(検索シート!$F$7),ASC(全国版!F616)),\"\"))","v":3},{"$f":"IF(B616=\"\",\"-\",COUNT(B$4:$B616))","v":613},"愛知県","専門学校日産愛知自動車大学校","工業専門課程　一級自動車工学科","2008-02-29","～",null,"2008-02-29"]
[{"$f":"IF(OR(検索シート!$F$9=\"\",検索シート!$F$9=\"（指定なし）\",検索シート!$F$9=全国版!K617,AND(検索シート!$F$9=\"変更等なし\",全国版!K617=\"\")),1,0)","v":1},{"$f":"IF(A617=0,\"\",IFERROR(IF(OR(検索シート!$F$5=\"\",検索シート!$F$5=\"（指定なし）\"),1,FIND(ASC(検索シート!$F$5),ASC(全国版!D617)))+FIND(ASC(検索シート!$F$6),ASC(全国版!E617))+FIND(ASC(検索シート!$F$7),ASC(全国版!F617)),\"\"))","v":3},{"$f":"IF(B617=\"\",\"-\",COUNT(B$4:$B617))","v":614},"愛知県","専門学校日産愛知自動車大学校","工業専門課程　自動車整備・トータルマスター科","2020-02-29","～",null,"2020-02-29"]
[{"$f":"IF(OR(検索シート!$F$9=\"\",検索シート!$F$9=\"（指定なし）\",検索シート!$F$9=全国版!K618,AND(検索シート!$F$9=\"変更等なし\",全国版!K618=\"\")),1,0)","v":1},{"$f":"IF(A618=0,\"\",IFERROR(IF(OR(検索シート!$F$5=\"\",検索シート!$F$5=\"（指定なし）\"),1,FIND(ASC(検索シート!$F$5),ASC(全国版!D618)))+FIND(ASC(検索シート!$F$6),ASC(全国版!E618))+FIND(ASC(検索シート!$F$7),ASC(全国版!F618)),\"\"))","v":3},{"$f":"IF(B618=\"\",\"-\",COUNT(B$4:$B618))","v":615},"愛知県","専門学校日本デザイナー芸術学院","文化教養専門課程　クリエイティブディレクション学科","2008-02-29","～","2012-03-31","2008-02-29","廃止",null,null,"2012-03-31","2013-01-29"]
[{"$f":"IF(OR(検索シート!$F$9=\"\",検索シート!$F$9=\"（指定なし）\",検索シート!$F$9=全国版!K619,AND(検索シート!$F$9=\"変更等なし\",全国版!K619=\"\")),1,0)","v":1},{"$f":"IF(A619=0,\"\",IFERROR(IF(OR(検索シート!$F$5=\"\",検索シート!$F$5=\"（指定なし）\"),1,FIND(ASC(検索シート!$F$5),ASC(全国版!D619)))+FIND(ASC(検索シート!$F$6),ASC(全国版!E619))+FIND(ASC(検索シート!$F$7),ASC(全国版!F619)),\"\"))","v":3},{"$f":"IF(B619=\"\",\"-\",COUNT(B$4:$B619))","v":616},"愛知県","中京法律専門学校","文化教養専門課程　法律科","2009-02-27","～",null,"2009-02-27"]
[{"$f":"IF(OR(検索シート!$F$9=\"\",検索シート!$F$9=\"（指定なし）\",検索シート!$F$9=全国版!K620,AND(検索シート!$F$9=\"変更等なし\",全国版!K620=\"\")),1,0)","v":1},{"$f":"IF(A620=0,\"\",IFERROR(IF(OR(検索シート!$F$5=\"\",検索シート!$F$5=\"（指定なし）\"),1,FIND(ASC(検索シート!$F$5),ASC(全国版!D620)))+FIND(ASC(検索シート!$F$6),ASC(全国版!E620))+FIND(ASC(検索シート!$F$7),ASC(全国版!F620)),\"\"))","v":3},{"$f":"IF(B620=\"\",\"-\",COUNT(B$4:$B620))","v":617},"愛知県","トヨタ名古屋整備専門学校","工業専門課程　高度自動車科","2006-06-30","～","2007-03-31","2006-06-30","名称変更","専門学校トヨタ名古屋自動車大学校","工業専門課程　高度自動車科","2007-04-01","2008-02-29"]
[{"$f":"IF(OR(検索シート!$F$9=\"\",検索シート!$F$9=\"（指定なし）\",検索シート!$F$9=全国版!K621,AND(検索シート!$F$9=\"変更等なし\",全国版!K621=\"\")),1,0)","v":1},{"$f":"IF(A621=0,\"\",IFERROR(IF(OR(検索シート!$F$5=\"\",検索シート!$F$5=\"（指定なし）\"),1,FIND(ASC(検索シート!$F$5),ASC(全国版!D621)))+FIND(ASC(検索シート!$F$6),ASC(全国版!E621))+FIND(ASC(検索シート!$F$7),ASC(全国版!F621)),\"\"))","v":3},{"$f":"IF(B621=\"\",\"-\",COUNT(B$4:$B621))","v":618},"愛知県","トライデントコンピュータ専門学校","工業専門課程　サイバーセキュリティ学科","2018-02-28","～",null,"2018-02-28"]
[{"$f":"IF(OR(検索シート!$F$9=\"\",検索シート!$F$9=\"（指定なし）\",検索シート!$F$9=全国版!K622,AND(検索シート!$F$9=\"変更等なし\",全国版!K622=\"\")),1,0)","v":1},{"$f":"IF(A622=0,\"\",IFERROR(IF(OR(検索シート!$F$5=\"\",検索シート!$F$5=\"（指定なし）\"),1,FIND(ASC(検索シート!$F$5),ASC(全国版!D622)))+FIND(ASC(検索シート!$F$6),ASC(全国版!E622))+FIND(ASC(検索シート!$F$7),ASC(全国版!F622)),\"\"))","v":3},{"$f":"IF(B622=\"\",\"-\",COUNT(B$4:$B622))","v":619},"愛知県","トライデントコンピュータ専門学校","工業専門課程　情報セキュリティ学科","2008-02-29","～","2012-03-31","2008-02-29","廃止",null,null,"2012-03-31","2013-01-29"]
[{"$f":"IF(OR(検索シート!$F$9=\"\",検索シート!$F$9=\"（指定なし）\",検索シート!$F$9=全国版!K623,AND(検索シート!$F$9=\"変更等なし\",全国版!K623=\"\")),1,0)","v":1},{"$f":"IF(A623=0,\"\",IFERROR(IF(OR(検索シート!$F$5=\"\",検索シート!$F$5=\"（指定なし）\"),1,FIND(ASC(検索シート!$F$5),ASC(全国版!D623)))+FIND(ASC(検索シート!$F$6),ASC(全国版!E623))+FIND(ASC(検索シート!$F$7),ASC(全国版!F623)),\"\"))","v":3},{"$f":"IF(B623=\"\",\"-\",COUNT(B$4:$B623))","v":620},"愛知県","トライデントスポーツ医療科学専門学校","医療専門課程　理学療法学科","2008-02-29","～","2010-03-31","2008-02-29","名称変更","トライデントスポーツ医療看護専門学校","医療専門課程　理学療法学科","2010-04-01","2010-11-29"]
[{"$f":"IF(OR(検索シート!$F$9=\"\",検索シート!$F$9=\"（指定なし）\",検索シート!$F$9=全国版!K624,AND(検索シート!$F$9=\"変更等なし\",全国版!K624=\"\")),1,0)","v":1},{"$f":"IF(A624=0,\"\",IFERROR(IF(OR(検索シート!$F$5=\"\",検索シート!$F$5=\"（指定なし）\"),1,FIND(ASC(検索シート!$F$5),ASC(全国版!D624)))+FIND(ASC(検索シート!$F$6),ASC(全国版!E624))+FIND(ASC(検索シート!$F$7),ASC(全国版!F624)),\"\"))","v":3},{"$f":"IF(B624=\"\",\"-\",COUNT(B$4:$B624))","v":621},"愛知県","トライデントスポーツ医療看護専門学校","医療専門課程　理学療法学科","2010-04-01","～","2019-03-31","2010-11-29","名称変更","名古屋平成看護医療専門学校","医療専門課程　理学療法学科","2019-04-01","2020-02-29"]
[{"$f":"IF(OR(検索シート!$F$9=\"\",検索シート!$F$9=\"（指定なし）\",検索シート!$F$9=全国版!K625,AND(検索シート!$F$9=\"変更等なし\",全国版!K625=\"\")),1,0)","v":1},{"$f":"IF(A625=0,\"\",IFERROR(IF(OR(検索シート!$F$5=\"\",検索シート!$F$5=\"（指定なし）\"),1,FIND(ASC(検索シート!$F$5),ASC(全国版!D625)))+FIND(ASC(検索シート!$F$6),ASC(全国版!E625))+FIND(ASC(検索シート!$F$7),ASC(全国版!F625)),\"\"))","v":3},{"$f":"IF(B625=\"\",\"-\",COUNT(B$4:$B625))","v":622},"愛知県","名古屋ＥＣＯ動物海洋専門学校","文化・教養専門課程　エコ・スペシャリスト科","2023-01-27","～",null,"2023-01-27"]
[{"$f":"IF(OR(検索シート!$F$9=\"\",検索シート!$F$9=\"（指定なし）\",検索シート!$F$9=全国版!K626,AND(検索シート!$F$9=\"変更等なし\",全国版!K626=\"\")),1,0)","v":1},{"$f":"IF(A626=0,\"\",IFERROR(IF(OR(検索シート!$F$5=\"\",検索シート!$F$5=\"（指定なし）\"),1,FIND(ASC(検索シート!$F$5),ASC(全国版!D626)))+FIND(ASC(検索シート!$F$6),ASC(全国版!E626))+FIND(ASC(検索シート!$F$7),ASC(全国版!F626)),\"\"))","v":3},{"$f":"IF(B626=\"\",\"-\",COUNT(B$4:$B626))","v":623},"愛知県","名古屋医健スポーツ専門学校","文化・教養専門課程　スポーツマネジメントテクノロジー科","2023-01-27","～",null,"2023-01-27"]
[{"$f":"IF(OR(検索シート!$F$9=\"\",検索シート!$F$9=\"（指定なし）\",検索シート!$F$9=全国版!K627,AND(検索シート!$F$9=\"変更等なし\",全国版!K627=\"\")),1,0)","v":1},{"$f":"IF(A627=0,\"\",IFERROR(IF(OR(検索シート!$F$5=\"\",検索シート!$F$5=\"（指定なし）\"),1,FIND(ASC(検索シート!$F$5),ASC(全国版!D627)))+FIND(ASC(検索シート!$F$6),ASC(全国版!E627))+FIND(ASC(検索シート!$F$7),ASC(全国版!F627)),\"\"))","v":3},{"$f":"IF(B627=\"\",\"-\",COUNT(B$4:$B627))","v":624},"愛知県","名古屋医専","医療専門課程　看護保健学科","2012-04-01","～","2019-03-31","2013-01-29","名称変更","名古屋医専","医療専門課程　高度看護保健学科","2019-04-01","2020-02-29"]
[{"$f":"IF(OR(検索シート!$F$9=\"\",検索シート!$F$9=\"（指定なし）\",検索シート!$F$9=全国版!K628,AND(検索シート!$F$9=\"変更等なし\",全国版!K628=\"\")),1,0)","v":1},{"$f":"IF(A628=0,\"\",IFERROR(IF(OR(検索シート!$F$5=\"\",検索シート!$F$5=\"（指定なし）\"),1,FIND(ASC(検索シート!$F$5),ASC(全国版!D628)))+FIND(ASC(検索シート!$F$6),ASC(全国版!E628))+FIND(ASC(検索シート!$F$7),ASC(全国版!F628)),\"\"))","v":3},{"$f":"IF(B628=\"\",\"-\",COUNT(B$4:$B628))","v":625},"愛知県","名古屋医専","医療専門課程　高度看護保健学科","2019-04-01","～",null,"2020-02-29"]
[{"$f":"IF(OR(検索シート!$F$9=\"\",検索シート!$F$9=\"（指定なし）\",検索シート!$F$9=全国版!K629,AND(検索シート!$F$9=\"変更等なし\",全国版!K629=\"\")),1,0)","v":1},{"$f":"IF(A629=0,\"\",IFERROR(IF(OR(検索シート!$F$5=\"\",検索シート!$F$5=\"（指定なし）\"),1,FIND(ASC(検索シート!$F$5),ASC(全国版!D629)))+FIND(ASC(検索シート!$F$6),ASC(全国版!E629))+FIND(ASC(検索シート!$F$7),ASC(全国版!F629)),\"\"))","v":3},{"$f":"IF(B629=\"\",\"-\",COUNT(B$4:$B629))","v":626},"愛知県","名古屋医専","医療専門課程　高度専門看護学科","2017-02-28","～","2021-03-31","2017-02-28","名称変更","名古屋医専","医療専門課程　高度専門士看護学科","2021-04-01","2022-03-04"]
[{"$f":"IF(OR(検索シート!$F$9=\"\",検索シート!$F$9=\"（指定なし）\",検索シート!$F$9=全国版!K630,AND(検索シート!$F$9=\"変更等なし\",全国版!K630=\"\")),1,0)","v":1},{"$f":"IF(A630=0,\"\",IFERROR(IF(OR(検索シート!$F$5=\"\",検索シート!$F$5=\"（指定なし）\"),1,FIND(ASC(検索シート!$F$5),ASC(全国版!D630)))+FIND(ASC(検索シート!$F$6),ASC(全国版!E630))+FIND(ASC(検索シート!$F$7),ASC(全国版!F630)),\"\"))","v":3},{"$f":"IF(B630=\"\",\"-\",COUNT(B$4:$B630))","v":627},"愛知県","名古屋医専","医療専門課程　高度専門士看護学科","2021-04-01","～",null,"2022-03-04"]
[{"$f":"IF(OR(検索シート!$F$9=\"\",検索シート!$F$9=\"（指定なし）\",検索シート!$F$9=全国版!K631,AND(検索シート!$F$9=\"変更等なし\",全国版!K631=\"\")),1,0)","v":1},{"$f":"IF(A631=0,\"\",IFERROR(IF(OR(検索シート!$F$5=\"\",検索シート!$F$5=\"（指定なし）\"),1,FIND(ASC(検索シート!$F$5),ASC(全国版!D631)))+FIND(ASC(検索シート!$F$6),ASC(全国版!E631))+FIND(ASC(検索シート!$F$7),ASC(全国版!F631)),\"\"))","v":3},{"$f":"IF(B631=\"\",\"-\",COUNT(B$4:$B631))","v":628},"愛知県","名古屋医専","医療専門課程　看護保健学科Ⅰ","2009-02-27","～","2012-03-31","2009-02-27","名称変更","名古屋医専","医療専門課程　看護保健学科","2012-04-01","2013-01-29"]
[{"$f":"IF(OR(検索シート!$F$9=\"\",検索シート!$F$9=\"（指定なし）\",検索シート!$F$9=全国版!K632,AND(検索シート!$F$9=\"変更等なし\",全国版!K632=\"\")),1,0)","v":1},{"$f":"IF(A632=0,\"\",IFERROR(IF(OR(検索シート!$F$5=\"\",検索シート!$F$5=\"（指定なし）\"),1,FIND(ASC(検索シート!$F$5),ASC(全国版!D632)))+FIND(ASC(検索シート!$F$6),ASC(全国版!E632))+FIND(ASC(検索シート!$F$7),ASC(全国版!F632)),\"\"))","v":3},{"$f":"IF(B632=\"\",\"-\",COUNT(B$4:$B632))","v":629},"愛知県","名古屋医専","医療専門課程　看護保健学科Ⅱ","2009-02-27","～","2016-03-31","2009-02-27","廃止",null,null,"2016-03-31","2017-02-28"]
[{"$f":"IF(OR(検索シート!$F$9=\"\",検索シート!$F$9=\"（指定なし）\",検索シート!$F$9=全国版!K633,AND(検索シート!$F$9=\"変更等なし\",全国版!K633=\"\")),1,0)","v":1},{"$f":"IF(A633=0,\"\",IFERROR(IF(OR(検索シート!$F$5=\"\",検索シート!$F$5=\"（指定なし）\"),1,FIND(ASC(検索シート!$F$5),ASC(全国版!D633)))+FIND(ASC(検索シート!$F$6),ASC(全国版!E633))+FIND(ASC(検索シート!$F$7),ASC(全国版!F633)),\"\"))","v":3},{"$f":"IF(B633=\"\",\"-\",COUNT(B$4:$B633))","v":630},"愛知県","名古屋医専","医療専門課程　作業療法学科（昼間部）","2009-02-27","～",null,"2009-02-27"]
[{"$f":"IF(OR(検索シート!$F$9=\"\",検索シート!$F$9=\"（指定なし）\",検索シート!$F$9=全国版!K634,AND(検索シート!$F$9=\"変更等なし\",全国版!K634=\"\")),1,0)","v":1},{"$f":"IF(A634=0,\"\",IFERROR(IF(OR(検索シート!$F$5=\"\",検索シート!$F$5=\"（指定なし）\"),1,FIND(ASC(検索シート!$F$5),ASC(全国版!D634)))+FIND(ASC(検索シート!$F$6),ASC(全国版!E634))+FIND(ASC(検索シート!$F$7),ASC(全国版!F634)),\"\"))","v":3},{"$f":"IF(B634=\"\",\"-\",COUNT(B$4:$B634))","v":631},"愛知県","名古屋医専","医療専門課程　視能療法学科（昼間部）","2009-02-27","～","2023-03-31","2009-02-27","廃止",null,null,"2023-03-31","2024-01-17"]
[{"$f":"IF(OR(検索シート!$F$9=\"\",検索シート!$F$9=\"（指定なし）\",検索シート!$F$9=全国版!K635,AND(検索シート!$F$9=\"変更等なし\",全国版!K635=\"\")),1,0)","v":1},{"$f":"IF(A635=0,\"\",IFERROR(IF(OR(検索シート!$F$5=\"\",検索シート!$F$5=\"（指定なし）\"),1,FIND(ASC(検索シート!$F$5),ASC(全国版!D635)))+FIND(ASC(検索シート!$F$6),ASC(全国版!E635))+FIND(ASC(検索シート!$F$7),ASC(全国版!F635)),\"\"))","v":3},{"$f":"IF(B635=\"\",\"-\",COUNT(B$4:$B635))","v":632},"愛知県","名古屋医専","医療専門課程　理学療法学科（昼間部）","2009-02-27","～",null,"2009-02-27"]
[{"$f":"IF(OR(検索シート!$F$9=\"\",検索シート!$F$9=\"（指定なし）\",検索シート!$F$9=全国版!K636,AND(検索シート!$F$9=\"変更等なし\",全国版!K636=\"\")),1,0)","v":1},{"$f":"IF(A636=0,\"\",IFERROR(IF(OR(検索シート!$F$5=\"\",検索シート!$F$5=\"（指定なし）\"),1,FIND(ASC(検索シート!$F$5),ASC(全国版!D636)))+FIND(ASC(検索シート!$F$6),ASC(全国版!E636))+FIND(ASC(検索シート!$F$7),ASC(全国版!F636)),\"\"))","v":3},{"$f":"IF(B636=\"\",\"-\",COUNT(B$4:$B636))","v":633},"愛知県","名古屋医専","医療専門課程　臨床工学学科（昼間部）","2009-02-27","～",null,"2009-02-27"]
[{"$f":"IF(OR(検索シート!$F$9=\"\",検索シート!$F$9=\"（指定なし）\",検索シート!$F$9=全国版!K637,AND(検索シート!$F$9=\"変更等なし\",全国版!K637=\"\")),1,0)","v":1},{"$f":"IF(A637=0,\"\",IFERROR(IF(OR(検索シート!$F$5=\"\",検索シート!$F$5=\"（指定なし）\"),1,FIND(ASC(検索シート!$F$5),ASC(全国版!D637)))+FIND(ASC(検索シート!$F$6),ASC(全国版!E637))+FIND(ASC(検索シート!$F$7),ASC(全国版!F637)),\"\"))","v":3},{"$f":"IF(B637=\"\",\"-\",COUNT(B$4:$B637))","v":634},"愛知県","名古屋医療福祉専門学校","医療専門課程　作業療法学科","2005-12-09","～","2011-03-31","2005-12-09","名称変更","理学・作業名古屋専門学校","医療専門課程　作業療法学科","2011-04-01","2011-12-22"]
[{"$f":"IF(OR(検索シート!$F$9=\"\",検索シート!$F$9=\"（指定なし）\",検索シート!$F$9=全国版!K638,AND(検索シート!$F$9=\"変更等なし\",全国版!K638=\"\")),1,0)","v":1},{"$f":"IF(A638=0,\"\",IFERROR(IF(OR(検索シート!$F$5=\"\",検索シート!$F$5=\"（指定なし）\"),1,FIND(ASC(検索シート!$F$5),ASC(全国版!D638)))+FIND(ASC(検索シート!$F$6),ASC(全国版!E638))+FIND(ASC(検索シート!$F$7),ASC(全国版!F638)),\"\"))","v":3},{"$f":"IF(B638=\"\",\"-\",COUNT(B$4:$B638))","v":635},"愛知県","名古屋医療福祉専門学校","医療専門課程　理学療法学科Ⅱ","2008-02-29","～","2011-03-31","2008-02-29","廃止",null,null,"2011-03-31","2011-12-22"]
[{"$f":"IF(OR(検索シート!$F$9=\"\",検索シート!$F$9=\"（指定なし）\",検索シート!$F$9=全国版!K639,AND(検索シート!$F$9=\"変更等なし\",全国版!K639=\"\")),1,0)","v":1},{"$f":"IF(A639=0,\"\",IFERROR(IF(OR(検索シート!$F$5=\"\",検索シート!$F$5=\"（指定なし）\"),1,FIND(ASC(検索シート!$F$5),ASC(全国版!D639)))+FIND(ASC(検索シート!$F$6),ASC(全国版!E639))+FIND(ASC(検索シート!$F$7),ASC(全国版!F639)),\"\"))","v":3},{"$f":"IF(B639=\"\",\"-\",COUNT(B$4:$B639))","v":636},"愛知県","名古屋医療福祉専門学校","医療専門課程　理学療法学科Ⅰ","2005-12-09","～","2011-03-31","2005-12-09","名称変更","理学・作業名古屋専門学校","医療専門課程　理学療法学科Ⅰ","2011-04-01","2011-12-22"]
[{"$f":"IF(OR(検索シート!$F$9=\"\",検索シート!$F$9=\"（指定なし）\",検索シート!$F$9=全国版!K640,AND(検索シート!$F$9=\"変更等なし\",全国版!K640=\"\")),1,0)","v":1},{"$f":"IF(A640=0,\"\",IFERROR(IF(OR(検索シート!$F$5=\"\",検索シート!$F$5=\"（指定なし）\"),1,FIND(ASC(検索シート!$F$5),ASC(全国版!D640)))+FIND(ASC(検索シート!$F$6),ASC(全国版!E640))+FIND(ASC(検索シート!$F$7),ASC(全国版!F640)),\"\"))","v":3},{"$f":"IF(B640=\"\",\"-\",COUNT(B$4:$B640))","v":637},"愛知県","名古屋外語・ホテル・ブライダル専門学校","文化教養専門課程　英語本科","2024-01-17",null,null,"2024-01-17"]
[{"$f":"IF(OR(検索シート!$F$9=\"\",検索シート!$F$9=\"（指定なし）\",検索シート!$F$9=全国版!K641,AND(検索シート!$F$9=\"変更等なし\",全国版!K641=\"\")),1,0)","v":1},{"$f":"IF(A641=0,\"\",IFERROR(IF(OR(検索シート!$F$5=\"\",検索シート!$F$5=\"（指定なし）\"),1,FIND(ASC(検索シート!$F$5),ASC(全国版!D641)))+FIND(ASC(検索シート!$F$6),ASC(全国版!E641))+FIND(ASC(検索シート!$F$7),ASC(全国版!F641)),\"\"))","v":3},{"$f":"IF(B641=\"\",\"-\",COUNT(B$4:$B641))","v":638},"愛知県","名古屋工学院専門学校","工業専門課程　ロボティクス創造学科","2011-12-22","～","2022-03-31","2011-12-22","廃止",null,null,"2022-03-31","2023-01-27"]
[{"$f":"IF(OR(検索シート!$F$9=\"\",検索シート!$F$9=\"（指定なし）\",検索シート!$F$9=全国版!K642,AND(検索シート!$F$9=\"変更等なし\",全国版!K642=\"\")),1,0)","v":1},{"$f":"IF(A642=0,\"\",IFERROR(IF(OR(検索シート!$F$5=\"\",検索シート!$F$5=\"（指定なし）\"),1,FIND(ASC(検索シート!$F$5),ASC(全国版!D642)))+FIND(ASC(検索シート!$F$6),ASC(全国版!E642))+FIND(ASC(検索シート!$F$7),ASC(全国版!F642)),\"\"))","v":3},{"$f":"IF(B642=\"\",\"-\",COUNT(B$4:$B642))","v":639},"愛知県","名古屋工学院専門学校","工業専門課程　ゲーム総合学科","2014-01-28","～",null,"2014-01-28"]
[{"$f":"IF(OR(検索シート!$F$9=\"\",検索シート!$F$9=\"（指定なし）\",検索シート!$F$9=全国版!K643,AND(検索シート!$F$9=\"変更等なし\",全国版!K643=\"\")),1,0)","v":1},{"$f":"IF(A643=0,\"\",IFERROR(IF(OR(検索シート!$F$5=\"\",検索シート!$F$5=\"（指定なし）\"),1,FIND(ASC(検索シート!$F$5),ASC(全国版!D643)))+FIND(ASC(検索シート!$F$6),ASC(全国版!E643))+FIND(ASC(検索シート!$F$7),ASC(全国版!F643)),\"\"))","v":3},{"$f":"IF(B643=\"\",\"-\",COUNT(B$4:$B643))","v":640},"愛知県","名古屋工学院専門学校","工業専門課程　情報総合学科","2005-12-09","～",null,"2005-12-09"]
[{"$f":"IF(OR(検索シート!$F$9=\"\",検索シート!$F$9=\"（指定なし）\",検索シート!$F$9=全国版!K644,AND(検索シート!$F$9=\"変更等なし\",全国版!K644=\"\")),1,0)","v":1},{"$f":"IF(A644=0,\"\",IFERROR(IF(OR(検索シート!$F$5=\"\",検索シート!$F$5=\"（指定なし）\"),1,FIND(ASC(検索シート!$F$5),ASC(全国版!D644)))+FIND(ASC(検索シート!$F$6),ASC(全国版!E644))+FIND(ASC(検索シート!$F$7),ASC(全国版!F644)),\"\"))","v":3},{"$f":"IF(B644=\"\",\"-\",COUNT(B$4:$B644))","v":641},"愛知県","名古屋工学院専門学校","工業専門課程　マルチメディア科","2005-12-09","～","2013-03-31","2005-12-09","廃止",null,null,"2013-03-31","2014-01-28"]
[{"$f":"IF(OR(検索シート!$F$9=\"\",検索シート!$F$9=\"（指定なし）\",検索シート!$F$9=全国版!K645,AND(検索シート!$F$9=\"変更等なし\",全国版!K645=\"\")),1,0)","v":1},{"$f":"IF(A645=0,\"\",IFERROR(IF(OR(検索シート!$F$5=\"\",検索シート!$F$5=\"（指定なし）\"),1,FIND(ASC(検索シート!$F$5),ASC(全国版!D645)))+FIND(ASC(検索シート!$F$6),ASC(全国版!E645))+FIND(ASC(検索シート!$F$7),ASC(全国版!F645)),\"\"))","v":3},{"$f":"IF(B645=\"\",\"-\",COUNT(B$4:$B645))","v":642},"愛知県","名古屋情報メディア専門学校","工業専門課程　総合情報（大学併修）学科","2005-12-09","～",null,"2005-12-09"]
[{"$f":"IF(OR(検索シート!$F$9=\"\",検索シート!$F$9=\"（指定なし）\",検索シート!$F$9=全国版!K646,AND(検索シート!$F$9=\"変更等なし\",全国版!K646=\"\")),1,0)","v":1},{"$f":"IF(A646=0,\"\",IFERROR(IF(OR(検索シート!$F$5=\"\",検索シート!$F$5=\"（指定なし）\"),1,FIND(ASC(検索シート!$F$5),ASC(全国版!D646)))+FIND(ASC(検索シート!$F$6),ASC(全国版!E646))+FIND(ASC(検索シート!$F$7),ASC(全国版!F646)),\"\"))","v":3},{"$f":"IF(B646=\"\",\"-\",COUNT(B$4:$B646))","v":643},"愛知県","名古屋スクールオブミュージック＆ダンス専門学校","文化・教養専門課程　スーパーｅエンターテイメント科","2022-03-04","～",null,"2022-03-04"]
[{"$f":"IF(OR(検索シート!$F$9=\"\",検索シート!$F$9=\"（指定なし）\",検索シート!$F$9=全国版!K647,AND(検索シート!$F$9=\"変更等なし\",全国版!K647=\"\")),1,0)","v":1},{"$f":"IF(A647=0,\"\",IFERROR(IF(OR(検索シート!$F$5=\"\",検索シート!$F$5=\"（指定なし）\"),1,FIND(ASC(検索シート!$F$5),ASC(全国版!D647)))+FIND(ASC(検索シート!$F$6),ASC(全国版!E647))+FIND(ASC(検索シート!$F$7),ASC(全国版!F647)),\"\"))","v":3},{"$f":"IF(B647=\"\",\"-\",COUNT(B$4:$B647))","v":644},"愛知県","名古屋デザイン＆テクノロジー専門学校","文化・教養専門課程　スーパーゲームクリエーター科","2019-01-25","～","2023-03-31","2019-01-25","名称変更","名古屋デザイン＆テクノロジー専門学校","文化・教養専門課程　スーパーテクノロジー科（昼間Ⅰ部）","2023-04-01","2024-01-17"]
[{"$f":"IF(OR(検索シート!$F$9=\"\",検索シート!$F$9=\"（指定なし）\",検索シート!$F$9=全国版!K648,AND(検索シート!$F$9=\"変更等なし\",全国版!K648=\"\")),1,0)","v":1},{"$f":"IF(A648=0,\"\",IFERROR(IF(OR(検索シート!$F$5=\"\",検索シート!$F$5=\"（指定なし）\"),1,FIND(ASC(検索シート!$F$5),ASC(全国版!D648)))+FIND(ASC(検索シート!$F$6),ASC(全国版!E648))+FIND(ASC(検索シート!$F$7),ASC(全国版!F648)),\"\"))","v":3},{"$f":"IF(B648=\"\",\"-\",COUNT(B$4:$B648))","v":645},"愛知県","名古屋デザイン＆テクノロジー専門学校","文化・教養専門課程　スーパーテクノロジー科（昼間Ⅰ部）","2023-04-01","～",null,"2024-01-17"]
[{"$f":"IF(OR(検索シート!$F$9=\"\",検索シート!$F$9=\"（指定なし）\",検索シート!$F$9=全国版!K649,AND(検索シート!$F$9=\"変更等なし\",全国版!K649=\"\")),1,0)","v":1},{"$f":"IF(A649=0,\"\",IFERROR(IF(OR(検索シート!$F$5=\"\",検索シート!$F$5=\"（指定なし）\"),1,FIND(ASC(検索シート!$F$5),ASC(全国版!D649)))+FIND(ASC(検索シート!$F$6),ASC(全国版!E649))+FIND(ASC(検索シート!$F$7),ASC(全国版!F649)),\"\"))","v":3},{"$f":"IF(B649=\"\",\"-\",COUNT(B$4:$B649))","v":646},"愛知県","名古屋デザイン＆テクノロジー専門学校","文化・教養専門課程　スーパーテクノロジー科（昼間Ⅱ部）","2024-01-17",null,null,"2024-01-17"]
[{"$f":"IF(OR(検索シート!$F$9=\"\",検索シート!$F$9=\"（指定なし）\",検索シート!$F$9=全国版!K650,AND(検索シート!$F$9=\"変更等なし\",全国版!K650=\"\")),1,0)","v":1},{"$f":"IF(A650=0,\"\",IFERROR(IF(OR(検索シート!$F$5=\"\",検索シート!$F$5=\"（指定なし）\"),1,FIND(ASC(検索シート!$F$5),ASC(全国版!D650)))+FIND(ASC(検索シート!$F$6),ASC(全国版!E650))+FIND(ASC(検索シート!$F$7),ASC(全国版!F650)),\"\"))","v":3},{"$f":"IF(B650=\"\",\"-\",COUNT(B$4:$B650))","v":647},"愛知県","名古屋農業園芸・食テクノロジー専門学校","衛生専門課程　農芸テクノロジー科","2023-01-27","～",null,"2023-01-27"]
[{"$f":"IF(OR(検索シート!$F$9=\"\",検索シート!$F$9=\"（指定なし）\",検索シート!$F$9=全国版!K651,AND(検索シート!$F$9=\"変更等なし\",全国版!K651=\"\")),1,0)","v":1},{"$f":"IF(A651=0,\"\",IFERROR(IF(OR(検索シート!$F$5=\"\",検索シート!$F$5=\"（指定なし）\"),1,FIND(ASC(検索シート!$F$5),ASC(全国版!D651)))+FIND(ASC(検索シート!$F$6),ASC(全国版!E651))+FIND(ASC(検索シート!$F$7),ASC(全国版!F651)),\"\"))","v":3},{"$f":"IF(B651=\"\",\"-\",COUNT(B$4:$B651))","v":648},"愛知県","名古屋福祉保育柔整専門学校","教育・社会福祉専門課程　社会福祉学科Ⅰ","2005-12-09","～","2011-03-31","2005-12-09","名称変更","公務員・保育・介護・ビジネス専門学校","教育・社会福祉専門課程　社会福祉学科Ⅰ","2011-04-01","2011-12-22"]
[{"$f":"IF(OR(検索シート!$F$9=\"\",検索シート!$F$9=\"（指定なし）\",検索シート!$F$9=全国版!K652,AND(検索シート!$F$9=\"変更等なし\",全国版!K652=\"\")),1,0)","v":1},{"$f":"IF(A652=0,\"\",IFERROR(IF(OR(検索シート!$F$5=\"\",検索シート!$F$5=\"（指定なし）\"),1,FIND(ASC(検索シート!$F$5),ASC(全国版!D652)))+FIND(ASC(検索シート!$F$6),ASC(全国版!E652))+FIND(ASC(検索シート!$F$7),ASC(全国版!F652)),\"\"))","v":3},{"$f":"IF(B652=\"\",\"-\",COUNT(B$4:$B652))","v":649},"愛知県","名古屋平成看護医療専門学校","医療専門課程　理学療法学科","2019-04-01","～",null,"2020-02-29"]
[{"$f":"IF(OR(検索シート!$F$9=\"\",検索シート!$F$9=\"（指定なし）\",検索シート!$F$9=全国版!K653,AND(検索シート!$F$9=\"変更等なし\",全国版!K653=\"\")),1,0)","v":1},{"$f":"IF(A653=0,\"\",IFERROR(IF(OR(検索シート!$F$5=\"\",検索シート!$F$5=\"（指定なし）\"),1,FIND(ASC(検索シート!$F$5),ASC(全国版!D653)))+FIND(ASC(検索シート!$F$6),ASC(全国版!E653))+FIND(ASC(検索シート!$F$7),ASC(全国版!F653)),\"\"))","v":3},{"$f":"IF(B653=\"\",\"-\",COUNT(B$4:$B653))","v":650},"愛知県","名古屋モード学園","ファッション専門課程　ファッションデザイン学科（４年制）","2009-02-27","～",null,"2009-02-27"]
[{"$f":"IF(OR(検索シート!$F$9=\"\",検索シート!$F$9=\"（指定なし）\",検索シート!$F$9=全国版!K654,AND(検索シート!$F$9=\"変更等なし\",全国版!K654=\"\")),1,0)","v":1},{"$f":"IF(A654=0,\"\",IFERROR(IF(OR(検索シート!$F$5=\"\",検索シート!$F$5=\"（指定なし）\"),1,FIND(ASC(検索シート!$F$5),ASC(全国版!D654)))+FIND(ASC(検索シート!$F$6),ASC(全国版!E654))+FIND(ASC(検索シート!$F$7),ASC(全国版!F654)),\"\"))","v":3},{"$f":"IF(B654=\"\",\"-\",COUNT(B$4:$B654))","v":651},"愛知県","日本医療福祉専門学校","医療専門課程　理学療法学科（昼間部）","2005-12-09","～","2013-03-29","2005-12-09","廃止",null,null,"2013-03-29","2018-02-28"]
[{"$f":"IF(OR(検索シート!$F$9=\"\",検索シート!$F$9=\"（指定なし）\",検索シート!$F$9=全国版!K655,AND(検索シート!$F$9=\"変更等なし\",全国版!K655=\"\")),1,0)","v":1},{"$f":"IF(A655=0,\"\",IFERROR(IF(OR(検索シート!$F$5=\"\",検索シート!$F$5=\"（指定なし）\"),1,FIND(ASC(検索シート!$F$5),ASC(全国版!D655)))+FIND(ASC(検索シート!$F$6),ASC(全国版!E655))+FIND(ASC(検索シート!$F$7),ASC(全国版!F655)),\"\"))","v":3},{"$f":"IF(B655=\"\",\"-\",COUNT(B$4:$B655))","v":652},"愛知県","保育・介護・ビジネス名古屋専門学校","教育・社会福祉専門課程　教育学科","2024-01-17",null,null,"2024-01-17"]
[{"$f":"IF(OR(検索シート!$F$9=\"\",検索シート!$F$9=\"（指定なし）\",検索シート!$F$9=全国版!K656,AND(検索シート!$F$9=\"変更等なし\",全国版!K656=\"\")),1,0)","v":1},{"$f":"IF(A656=0,\"\",IFERROR(IF(OR(検索シート!$F$5=\"\",検索シート!$F$5=\"（指定なし）\"),1,FIND(ASC(検索シート!$F$5),ASC(全国版!D656)))+FIND(ASC(検索シート!$F$6),ASC(全国版!E656))+FIND(ASC(検索シート!$F$7),ASC(全国版!F656)),\"\"))","v":3},{"$f":"IF(B656=\"\",\"-\",COUNT(B$4:$B656))","v":653},"愛知県","保育・介護・ビジネス名古屋専門学校","教育・社会福祉専門課程　社会福祉学科","2022-10-01","～",null,"2024-01-17"]
[{"$f":"IF(OR(検索シート!$F$9=\"\",検索シート!$F$9=\"（指定なし）\",検索シート!$F$9=全国版!K657,AND(検索シート!$F$9=\"変更等なし\",全国版!K657=\"\")),1,0)","v":1},{"$f":"IF(A657=0,\"\",IFERROR(IF(OR(検索シート!$F$5=\"\",検索シート!$F$5=\"（指定なし）\"),1,FIND(ASC(検索シート!$F$5),ASC(全国版!D657)))+FIND(ASC(検索シート!$F$6),ASC(全国版!E657))+FIND(ASC(検索シート!$F$7),ASC(全国版!F657)),\"\"))","v":3},{"$f":"IF(B657=\"\",\"-\",COUNT(B$4:$B657))","v":654},"愛知県","保育・介護・ビジネス名古屋専門学校","教育・社会福祉専門課程　社会福祉学科Ⅰ","2014-04-01","～","2022-09-30","2015-02-19","名称変更","保育・介護・ビジネス名古屋専門学校","教育・社会福祉専門課程　社会福祉学科","2022-10-01","2024-01-17"]
[{"$f":"IF(OR(検索シート!$F$9=\"\",検索シート!$F$9=\"（指定なし）\",検索シート!$F$9=全国版!K658,AND(検索シート!$F$9=\"変更等なし\",全国版!K658=\"\")),1,0)","v":1},{"$f":"IF(A658=0,\"\",IFERROR(IF(OR(検索シート!$F$5=\"\",検索シート!$F$5=\"（指定なし）\"),1,FIND(ASC(検索シート!$F$5),ASC(全国版!D658)))+FIND(ASC(検索シート!$F$6),ASC(全国版!E658))+FIND(ASC(検索シート!$F$7),ASC(全国版!F658)),\"\"))","v":3},{"$f":"IF(B658=\"\",\"-\",COUNT(B$4:$B658))","v":655},"愛知県","理学・作業名古屋専門学校","医療専門課程　作業療法学科","2011-04-01","～",null,"2011-12-22"]
[{"$f":"IF(OR(検索シート!$F$9=\"\",検索シート!$F$9=\"（指定なし）\",検索シート!$F$9=全国版!K659,AND(検索シート!$F$9=\"変更等なし\",全国版!K659=\"\")),1,0)","v":1},{"$f":"IF(A659=0,\"\",IFERROR(IF(OR(検索シート!$F$5=\"\",検索シート!$F$5=\"（指定なし）\"),1,FIND(ASC(検索シート!$F$5),ASC(全国版!D659)))+FIND(ASC(検索シート!$F$6),ASC(全国版!E659))+FIND(ASC(検索シート!$F$7),ASC(全国版!F659)),\"\"))","v":3},{"$f":"IF(B659=\"\",\"-\",COUNT(B$4:$B659))","v":656},"愛知県","理学・作業名古屋専門学校","医療専門課程　理学療法学科Ⅰ","2011-04-01","～",null,"2011-12-22"]
[{"$f":"IF(OR(検索シート!$F$9=\"\",検索シート!$F$9=\"（指定なし）\",検索シート!$F$9=全国版!K660,AND(検索シート!$F$9=\"変更等なし\",全国版!K660=\"\")),1,0)","v":1},{"$f":"IF(A660=0,\"\",IFERROR(IF(OR(検索シート!$F$5=\"\",検索シート!$F$5=\"（指定なし）\"),1,FIND(ASC(検索シート!$F$5),ASC(全国版!D660)))+FIND(ASC(検索シート!$F$6),ASC(全国版!E660))+FIND(ASC(検索シート!$F$7),ASC(全国版!F660)),\"\"))","v":3},{"$f":"IF(B660=\"\",\"-\",COUNT(B$4:$B660))","v":657},"三重県","伊勢志摩リハビリテーション専門学校","医療専門課程　理学療法学科","2007-02-28","～",null,"2007-02-28"]
[{"$f":"IF(OR(検索シート!$F$9=\"\",検索シート!$F$9=\"（指定なし）\",検索シート!$F$9=全国版!K661,AND(検索シート!$F$9=\"変更等なし\",全国版!K661=\"\")),1,0)","v":1},{"$f":"IF(A661=0,\"\",IFERROR(IF(OR(検索シート!$F$5=\"\",検索シート!$F$5=\"（指定なし）\"),1,FIND(ASC(検索シート!$F$5),ASC(全国版!D661)))+FIND(ASC(検索シート!$F$6),ASC(全国版!E661))+FIND(ASC(検索シート!$F$7),ASC(全国版!F661)),\"\"))","v":3},{"$f":"IF(B661=\"\",\"-\",COUNT(B$4:$B661))","v":658},"三重県","専門学校ユマニテク医療福祉大学校","医療専門課程　作業療法学科","2011-04-01","～","2022-03-31","2011-12-22","廃止",null,null,"2022-03-31","2023-01-27"]
[{"$f":"IF(OR(検索シート!$F$9=\"\",検索シート!$F$9=\"（指定なし）\",検索シート!$F$9=全国版!K662,AND(検索シート!$F$9=\"変更等なし\",全国版!K662=\"\")),1,0)","v":1},{"$f":"IF(A662=0,\"\",IFERROR(IF(OR(検索シート!$F$5=\"\",検索シート!$F$5=\"（指定なし）\"),1,FIND(ASC(検索シート!$F$5),ASC(全国版!D662)))+FIND(ASC(検索シート!$F$6),ASC(全国版!E662))+FIND(ASC(検索シート!$F$7),ASC(全国版!F662)),\"\"))","v":3},{"$f":"IF(B662=\"\",\"-\",COUNT(B$4:$B662))","v":659},"三重県","専門学校ユマニテク医療福祉大学校","医療専門課程　理学療法学科","2011-04-01","～",null,"2011-12-22"]
[{"$f":"IF(OR(検索シート!$F$9=\"\",検索シート!$F$9=\"（指定なし）\",検索シート!$F$9=全国版!K663,AND(検索シート!$F$9=\"変更等なし\",全国版!K663=\"\")),1,0)","v":1},{"$f":"IF(A663=0,\"\",IFERROR(IF(OR(検索シート!$F$5=\"\",検索シート!$F$5=\"（指定なし）\"),1,FIND(ASC(検索シート!$F$5),ASC(全国版!D663)))+FIND(ASC(検索シート!$F$6),ASC(全国版!E663))+FIND(ASC(検索シート!$F$7),ASC(全国版!F663)),\"\"))","v":3},{"$f":"IF(B663=\"\",\"-\",COUNT(B$4:$B663))","v":660},"三重県","ユマニテク医療専門学校","医療専門課程　作業療法学科","2005-12-09","～","2011-03-31","2005-12-09","名称変更","専門学校　ユマニテク医療福祉大学校","医療専門課程　作業療法学科","2011-04-01","2011-12-22"]
[{"$f":"IF(OR(検索シート!$F$9=\"\",検索シート!$F$9=\"（指定なし）\",検索シート!$F$9=全国版!K664,AND(検索シート!$F$9=\"変更等なし\",全国版!K664=\"\")),1,0)","v":1},{"$f":"IF(A664=0,\"\",IFERROR(IF(OR(検索シート!$F$5=\"\",検索シート!$F$5=\"（指定なし）\"),1,FIND(ASC(検索シート!$F$5),ASC(全国版!D664)))+FIND(ASC(検索シート!$F$6),ASC(全国版!E664))+FIND(ASC(検索シート!$F$7),ASC(全国版!F664)),\"\"))","v":3},{"$f":"IF(B664=\"\",\"-\",COUNT(B$4:$B664))","v":661},"三重県","ユマニテク医療専門学校","医療専門課程　理学療法学科","2005-12-09","～","2011-03-31","2005-12-09","名称変更","専門学校　ユマニテク医療福祉大学校","医療専門課程　理学療法学科","2011-04-01","2011-12-22"]
[{"$f":"IF(OR(検索シート!$F$9=\"\",検索シート!$F$9=\"（指定なし）\",検索シート!$F$9=全国版!K665,AND(検索シート!$F$9=\"変更等なし\",全国版!K665=\"\")),1,0)","v":1},{"$f":"IF(A665=0,\"\",IFERROR(IF(OR(検索シート!$F$5=\"\",検索シート!$F$5=\"（指定なし）\"),1,FIND(ASC(検索シート!$F$5),ASC(全国版!D665)))+FIND(ASC(検索シート!$F$6),ASC(全国版!E665))+FIND(ASC(検索シート!$F$7),ASC(全国版!F665)),\"\"))","v":3},{"$f":"IF(B665=\"\",\"-\",COUNT(B$4:$B665))","v":662},"滋賀県","叡山学院","文化教養専門課程　仏教総合学科","2006-06-30","～",null,"2006-06-30"]
[{"$f":"IF(OR(検索シート!$F$9=\"\",検索シート!$F$9=\"（指定なし）\",検索シート!$F$9=全国版!K666,AND(検索シート!$F$9=\"変更等なし\",全国版!K666=\"\")),1,0)","v":1},{"$f":"IF(A666=0,\"\",IFERROR(IF(OR(検索シート!$F$5=\"\",検索シート!$F$5=\"（指定なし）\"),1,FIND(ASC(検索シート!$F$5),ASC(全国版!D666)))+FIND(ASC(検索シート!$F$6),ASC(全国版!E666))+FIND(ASC(検索シート!$F$7),ASC(全国版!F666)),\"\"))","v":3},{"$f":"IF(B666=\"\",\"-\",COUNT(B$4:$B666))","v":663},"滋賀県","滋賀医療技術専門学校","医療専門課程　作業療法学科","2005-12-09","～","2010-02-25","2005-12-09","不適合",null,null,"2010-02-26","2010-02-26"]
[{"$f":"IF(OR(検索シート!$F$9=\"\",検索シート!$F$9=\"（指定なし）\",検索シート!$F$9=全国版!K667,AND(検索シート!$F$9=\"変更等なし\",全国版!K667=\"\")),1,0)","v":1},{"$f":"IF(A667=0,\"\",IFERROR(IF(OR(検索シート!$F$5=\"\",検索シート!$F$5=\"（指定なし）\"),1,FIND(ASC(検索シート!$F$5),ASC(全国版!D667)))+FIND(ASC(検索シート!$F$6),ASC(全国版!E667))+FIND(ASC(検索シート!$F$7),ASC(全国版!F667)),\"\"))","v":3},{"$f":"IF(B667=\"\",\"-\",COUNT(B$4:$B667))","v":664},"滋賀県","滋賀医療技術専門学校","医療専門課程　理学療法学科","2005-12-09","～","2010-02-25","2005-12-09","不適合",null,null,"2010-02-26","2010-02-26"]
[{"$f":"IF(OR(検索シート!$F$9=\"\",検索シート!$F$9=\"（指定なし）\",検索シート!$F$9=全国版!K668,AND(検索シート!$F$9=\"変更等なし\",全国版!K668=\"\")),1,0)","v":1},{"$f":"IF(A668=0,\"\",IFERROR(IF(OR(検索シート!$F$5=\"\",検索シート!$F$5=\"（指定なし）\"),1,FIND(ASC(検索シート!$F$5),ASC(全国版!D668)))+FIND(ASC(検索シート!$F$6),ASC(全国版!E668))+FIND(ASC(検索シート!$F$7),ASC(全国版!F668)),\"\"))","v":3},{"$f":"IF(B668=\"\",\"-\",COUNT(B$4:$B668))","v":665},"京都府","（専）京都中央看護保健大学校","看護・保健専門課程　看護保健学科","2013-04-01","～",null,"2014-01-28"]
[{"$f":"IF(OR(検索シート!$F$9=\"\",検索シート!$F$9=\"（指定なし）\",検索シート!$F$9=全国版!K669,AND(検索シート!$F$9=\"変更等なし\",全国版!K669=\"\")),1,0)","v":1},{"$f":"IF(A669=0,\"\",IFERROR(IF(OR(検索シート!$F$5=\"\",検索シート!$F$5=\"（指定なし）\"),1,FIND(ASC(検索シート!$F$5),ASC(全国版!D669)))+FIND(ASC(検索シート!$F$6),ASC(全国版!E669))+FIND(ASC(検索シート!$F$7),ASC(全国版!F669)),\"\"))","v":3},{"$f":"IF(B669=\"\",\"-\",COUNT(B$4:$B669))","v":666},"京都府","（専）京都中央看護保健大学校","看護・保健専門課程　看護学科","2014-01-28","～",null,"2014-01-28"]
[{"$f":"IF(OR(検索シート!$F$9=\"\",検索シート!$F$9=\"（指定なし）\",検索シート!$F$9=全国版!K670,AND(検索シート!$F$9=\"変更等なし\",全国版!K670=\"\")),1,0)","v":1},{"$f":"IF(A670=0,\"\",IFERROR(IF(OR(検索シート!$F$5=\"\",検索シート!$F$5=\"（指定なし）\"),1,FIND(ASC(検索シート!$F$5),ASC(全国版!D670)))+FIND(ASC(検索シート!$F$6),ASC(全国版!E670))+FIND(ASC(検索シート!$F$7),ASC(全国版!F670)),\"\"))","v":3},{"$f":"IF(B670=\"\",\"-\",COUNT(B$4:$B670))","v":667},"京都府","（専）京都中央看護保健大学校","看護・保健専門課程（統合カリキュラム）　看護保健学科","2012-04-01","～","2013-03-31","2013-01-29","名称変更","（専）京都中央看護保健大学校","看護・保健専門課程　看護保健学科","2013-04-01","2014-01-28"]
[{"$f":"IF(OR(検索シート!$F$9=\"\",検索シート!$F$9=\"（指定なし）\",検索シート!$F$9=全国版!K671,AND(検索シート!$F$9=\"変更等なし\",全国版!K671=\"\")),1,0)","v":1},{"$f":"IF(A671=0,\"\",IFERROR(IF(OR(検索シート!$F$5=\"\",検索シート!$F$5=\"（指定なし）\"),1,FIND(ASC(検索シート!$F$5),ASC(全国版!D671)))+FIND(ASC(検索シート!$F$6),ASC(全国版!E671))+FIND(ASC(検索シート!$F$7),ASC(全国版!F671)),\"\"))","v":3},{"$f":"IF(B671=\"\",\"-\",COUNT(B$4:$B671))","v":668},"京都府","＜専＞ＹＩＣ京都工科自動車大学校","工業専門課程　一級自動車整備科","2018-04-01","～",null,"2019-01-25"]
[{"$f":"IF(OR(検索シート!$F$9=\"\",検索シート!$F$9=\"（指定なし）\",検索シート!$F$9=全国版!K672,AND(検索シート!$F$9=\"変更等なし\",全国版!K672=\"\")),1,0)","v":1},{"$f":"IF(A672=0,\"\",IFERROR(IF(OR(検索シート!$F$5=\"\",検索シート!$F$5=\"（指定なし）\"),1,FIND(ASC(検索シート!$F$5),ASC(全国版!D672)))+FIND(ASC(検索シート!$F$6),ASC(全国版!E672))+FIND(ASC(検索シート!$F$7),ASC(全国版!F672)),\"\"))","v":3},{"$f":"IF(B672=\"\",\"-\",COUNT(B$4:$B672))","v":669},"京都府","＜専＞京都伝統工芸大学校","工業専門課程　伝統工芸学科高度専門課程","2008-02-29","～",null,"2008-02-29"]
[{"$f":"IF(OR(検索シート!$F$9=\"\",検索シート!$F$9=\"（指定なし）\",検索シート!$F$9=全国版!K673,AND(検索シート!$F$9=\"変更等なし\",全国版!K673=\"\")),1,0)","v":1},{"$f":"IF(A673=0,\"\",IFERROR(IF(OR(検索シート!$F$5=\"\",検索シート!$F$5=\"（指定なし）\"),1,FIND(ASC(検索シート!$F$5),ASC(全国版!D673)))+FIND(ASC(検索シート!$F$6),ASC(全国版!E673))+FIND(ASC(検索シート!$F$7),ASC(全国版!F673)),\"\"))","v":3},{"$f":"IF(B673=\"\",\"-\",COUNT(B$4:$B673))","v":670},"京都府","＜専＞ＹＩＣ京都工科大学校","工業専門課程　一級自動車整備科","2010-11-29","～","2018-03-31","2010-11-29","名称変更","＜専＞ＹＩＣ京都工科自動車大学校","工業専門課程　一級自動車整備科","2018-04-01","2019-01-25"]
[{"$f":"IF(OR(検索シート!$F$9=\"\",検索シート!$F$9=\"（指定なし）\",検索シート!$F$9=全国版!K674,AND(検索シート!$F$9=\"変更等なし\",全国版!K674=\"\")),1,0)","v":1},{"$f":"IF(A674=0,\"\",IFERROR(IF(OR(検索シート!$F$5=\"\",検索シート!$F$5=\"（指定なし）\"),1,FIND(ASC(検索シート!$F$5),ASC(全国版!D674)))+FIND(ASC(検索シート!$F$6),ASC(全国版!E674))+FIND(ASC(検索シート!$F$7),ASC(全国版!F674)),\"\"))","v":3},{"$f":"IF(B674=\"\",\"-\",COUNT(B$4:$B674))","v":671},"京都府","＜専＞京都建築大学校","工業専門課程　建築学科","2010-02-26","～",null,"2010-02-26"]
[{"$f":"IF(OR(検索シート!$F$9=\"\",検索シート!$F$9=\"（指定なし）\",検索シート!$F$9=全国版!K675,AND(検索シート!$F$9=\"変更等なし\",全国版!K675=\"\")),1,0)","v":1},{"$f":"IF(A675=0,\"\",IFERROR(IF(OR(検索シート!$F$5=\"\",検索シート!$F$5=\"（指定なし）\"),1,FIND(ASC(検索シート!$F$5),ASC(全国版!D675)))+FIND(ASC(検索シート!$F$6),ASC(全国版!E675))+FIND(ASC(検索シート!$F$7),ASC(全国版!F675)),\"\"))","v":3},{"$f":"IF(B675=\"\",\"-\",COUNT(B$4:$B675))","v":672},"京都府","大原簿記ビジネス公務員専門学校京都校","商業実務専門課程　税理士・会計士学科（４年制）","2020-04-01","～",null,"2021-02-24"]
[{"$f":"IF(OR(検索シート!$F$9=\"\",検索シート!$F$9=\"（指定なし）\",検索シート!$F$9=全国版!K676,AND(検索シート!$F$9=\"変更等なし\",全国版!K676=\"\")),1,0)","v":1},{"$f":"IF(A676=0,\"\",IFERROR(IF(OR(検索シート!$F$5=\"\",検索シート!$F$5=\"（指定なし）\"),1,FIND(ASC(検索シート!$F$5),ASC(全国版!D676)))+FIND(ASC(検索シート!$F$6),ASC(全国版!E676))+FIND(ASC(検索シート!$F$7),ASC(全国版!F676)),\"\"))","v":3},{"$f":"IF(B676=\"\",\"-\",COUNT(B$4:$B676))","v":673},"京都府","大原簿記法律専門学校京都校","商業実務専門課程　税理士・会計士学科（４年制）","2008-02-29","～","2020-03-31","2008-02-29","名称変更","大原簿記ビジネス公務員専門学校京都校","商業実務専門課程　税理士・会計士学科（４年制）","2020-04-01","2021-02-24"]
[{"$f":"IF(OR(検索シート!$F$9=\"\",検索シート!$F$9=\"（指定なし）\",検索シート!$F$9=全国版!K677,AND(検索シート!$F$9=\"変更等なし\",全国版!K677=\"\")),1,0)","v":1},{"$f":"IF(A677=0,\"\",IFERROR(IF(OR(検索シート!$F$5=\"\",検索シート!$F$5=\"（指定なし）\"),1,FIND(ASC(検索シート!$F$5),ASC(全国版!D677)))+FIND(ASC(検索シート!$F$6),ASC(全国版!E677))+FIND(ASC(検索シート!$F$7),ASC(全国版!F677)),\"\"))","v":3},{"$f":"IF(B677=\"\",\"-\",COUNT(B$4:$B677))","v":674},"京都府","京都医健専門学校","医療専門課程　作業療法科","2013-01-29","～",null,"2013-01-29"]
[{"$f":"IF(OR(検索シート!$F$9=\"\",検索シート!$F$9=\"（指定なし）\",検索シート!$F$9=全国版!K678,AND(検索シート!$F$9=\"変更等なし\",全国版!K678=\"\")),1,0)","v":1},{"$f":"IF(A678=0,\"\",IFERROR(IF(OR(検索シート!$F$5=\"\",検索シート!$F$5=\"（指定なし）\"),1,FIND(ASC(検索シート!$F$5),ASC(全国版!D678)))+FIND(ASC(検索シート!$F$6),ASC(全国版!E678))+FIND(ASC(検索シート!$F$7),ASC(全国版!F678)),\"\"))","v":3},{"$f":"IF(B678=\"\",\"-\",COUNT(B$4:$B678))","v":675},"京都府","京都医健専門学校","医療専門課程　理学療法科（昼間部）","2008-02-29","～",null,"2008-02-29"]
[{"$f":"IF(OR(検索シート!$F$9=\"\",検索シート!$F$9=\"（指定なし）\",検索シート!$F$9=全国版!K679,AND(検索シート!$F$9=\"変更等なし\",全国版!K679=\"\")),1,0)","v":1},{"$f":"IF(A679=0,\"\",IFERROR(IF(OR(検索シート!$F$5=\"\",検索シート!$F$5=\"（指定なし）\"),1,FIND(ASC(検索シート!$F$5),ASC(全国版!D679)))+FIND(ASC(検索シート!$F$6),ASC(全国版!E679))+FIND(ASC(検索シート!$F$7),ASC(全国版!F679)),\"\"))","v":3},{"$f":"IF(B679=\"\",\"-\",COUNT(B$4:$B679))","v":676},"京都府","京都医健専門学校","文化・教養専門課程　スポーツマネジメントテクノロジー科","2023-01-27","～",null,"2023-01-27"]
[{"$f":"IF(OR(検索シート!$F$9=\"\",検索シート!$F$9=\"（指定なし）\",検索シート!$F$9=全国版!K680,AND(検索シート!$F$9=\"変更等なし\",全国版!K680=\"\")),1,0)","v":1},{"$f":"IF(A680=0,\"\",IFERROR(IF(OR(検索シート!$F$5=\"\",検索シート!$F$5=\"（指定なし）\"),1,FIND(ASC(検索シート!$F$5),ASC(全国版!D680)))+FIND(ASC(検索シート!$F$6),ASC(全国版!E680))+FIND(ASC(検索シート!$F$7),ASC(全国版!F680)),\"\"))","v":3},{"$f":"IF(B680=\"\",\"-\",COUNT(B$4:$B680))","v":677},"京都府","京都栄養医療専門学校","衛生専門課程　管理栄養士科","2005-12-09","～",null,"2005-12-09"]
[{"$f":"IF(OR(検索シート!$F$9=\"\",検索シート!$F$9=\"（指定なし）\",検索シート!$F$9=全国版!K681,AND(検索シート!$F$9=\"変更等なし\",全国版!K681=\"\")),1,0)","v":1},{"$f":"IF(A681=0,\"\",IFERROR(IF(OR(検索シート!$F$5=\"\",検索シート!$F$5=\"（指定なし）\"),1,FIND(ASC(検索シート!$F$5),ASC(全国版!D681)))+FIND(ASC(検索シート!$F$6),ASC(全国版!E681))+FIND(ASC(検索シート!$F$7),ASC(全国版!F681)),\"\"))","v":3},{"$f":"IF(B681=\"\",\"-\",COUNT(B$4:$B681))","v":678},"京都府","京都芸術デザイン専門学校","商業実務専門課程　デザイン総合学科","2005-12-09","～",null,"2005-12-09"]
[{"$f":"IF(OR(検索シート!$F$9=\"\",検索シート!$F$9=\"（指定なし）\",検索シート!$F$9=全国版!K682,AND(検索シート!$F$9=\"変更等なし\",全国版!K682=\"\")),1,0)","v":1},{"$f":"IF(A682=0,\"\",IFERROR(IF(OR(検索シート!$F$5=\"\",検索シート!$F$5=\"（指定なし）\"),1,FIND(ASC(検索シート!$F$5),ASC(全国版!D682)))+FIND(ASC(検索シート!$F$6),ASC(全国版!E682))+FIND(ASC(検索シート!$F$7),ASC(全国版!F682)),\"\"))","v":3},{"$f":"IF(B682=\"\",\"-\",COUNT(B$4:$B682))","v":679},"京都府","京都コンピュータ学院鴨川校","工業専門課程　芸術情報学科（４年）","2010-02-26","～",null,"2010-02-26"]
[{"$f":"IF(OR(検索シート!$F$9=\"\",検索シート!$F$9=\"（指定なし）\",検索シート!$F$9=全国版!K683,AND(検索シート!$F$9=\"変更等なし\",全国版!K683=\"\")),1,0)","v":1},{"$f":"IF(A683=0,\"\",IFERROR(IF(OR(検索シート!$F$5=\"\",検索シート!$F$5=\"（指定なし）\"),1,FIND(ASC(検索シート!$F$5),ASC(全国版!D683)))+FIND(ASC(検索シート!$F$6),ASC(全国版!E683))+FIND(ASC(検索シート!$F$7),ASC(全国版!F683)),\"\"))","v":3},{"$f":"IF(B683=\"\",\"-\",COUNT(B$4:$B683))","v":680},"京都府","京都コンピュータ学院京都駅前校","工業専門課程　経営情報学科","2010-02-26","～",null,"2010-02-26"]
[{"$f":"IF(OR(検索シート!$F$9=\"\",検索シート!$F$9=\"（指定なし）\",検索シート!$F$9=全国版!K684,AND(検索シート!$F$9=\"変更等なし\",全国版!K684=\"\")),1,0)","v":1},{"$f":"IF(A684=0,\"\",IFERROR(IF(OR(検索シート!$F$5=\"\",検索シート!$F$5=\"（指定なし）\"),1,FIND(ASC(検索シート!$F$5),ASC(全国版!D684)))+FIND(ASC(検索シート!$F$6),ASC(全国版!E684))+FIND(ASC(検索シート!$F$7),ASC(全国版!F684)),\"\"))","v":3},{"$f":"IF(B684=\"\",\"-\",COUNT(B$4:$B684))","v":681},"京都府","京都コンピュータ学院京都駅前校","工業専門課程　ゲーム学科","2010-02-26","～",null,"2010-02-26"]
[{"$f":"IF(OR(検索シート!$F$9=\"\",検索シート!$F$9=\"（指定なし）\",検索シート!$F$9=全国版!K685,AND(検索シート!$F$9=\"変更等なし\",全国版!K685=\"\")),1,0)","v":1},{"$f":"IF(A685=0,\"\",IFERROR(IF(OR(検索シート!$F$5=\"\",検索シート!$F$5=\"（指定なし）\"),1,FIND(ASC(検索シート!$F$5),ASC(全国版!D685)))+FIND(ASC(検索シート!$F$6),ASC(全国版!E685))+FIND(ASC(検索シート!$F$7),ASC(全国版!F685)),\"\"))","v":3},{"$f":"IF(B685=\"\",\"-\",COUNT(B$4:$B685))","v":682},"京都府","京都コンピュータ学院京都駅前校","工業専門課程　情報科学科","2010-02-26","～",null,"2010-02-26"]
[{"$f":"IF(OR(検索シート!$F$9=\"\",検索シート!$F$9=\"（指定なし）\",検索シート!$F$9=全国版!K686,AND(検索シート!$F$9=\"変更等なし\",全国版!K686=\"\")),1,0)","v":1},{"$f":"IF(A686=0,\"\",IFERROR(IF(OR(検索シート!$F$5=\"\",検索シート!$F$5=\"（指定なし）\"),1,FIND(ASC(検索シート!$F$5),ASC(全国版!D686)))+FIND(ASC(検索シート!$F$6),ASC(全国版!E686))+FIND(ASC(検索シート!$F$7),ASC(全国版!F686)),\"\"))","v":3},{"$f":"IF(B686=\"\",\"-\",COUNT(B$4:$B686))","v":683},"京都府","京都コンピュータ学院京都駅前校","工業専門課程　情報学科","2006-06-30","～",null,"2006-06-30"]
[{"$f":"IF(OR(検索シート!$F$9=\"\",検索シート!$F$9=\"（指定なし）\",検索シート!$F$9=全国版!K687,AND(検索シート!$F$9=\"変更等なし\",全国版!K687=\"\")),1,0)","v":1},{"$f":"IF(A687=0,\"\",IFERROR(IF(OR(検索シート!$F$5=\"\",検索シート!$F$5=\"（指定なし）\"),1,FIND(ASC(検索シート!$F$5),ASC(全国版!D687)))+FIND(ASC(検索シート!$F$6),ASC(全国版!E687))+FIND(ASC(検索シート!$F$7),ASC(全国版!F687)),\"\"))","v":3},{"$f":"IF(B687=\"\",\"-\",COUNT(B$4:$B687))","v":684},"京都府","京都コンピュータ学院洛北校","工業専門課程　情報工学科","2005-12-09","～",null,"2005-12-09"]
[{"$f":"IF(OR(検索シート!$F$9=\"\",検索シート!$F$9=\"（指定なし）\",検索シート!$F$9=全国版!K688,AND(検索シート!$F$9=\"変更等なし\",全国版!K688=\"\")),1,0)","v":1},{"$f":"IF(A688=0,\"\",IFERROR(IF(OR(検索シート!$F$5=\"\",検索シート!$F$5=\"（指定なし）\"),1,FIND(ASC(検索シート!$F$5),ASC(全国版!D688)))+FIND(ASC(検索シート!$F$6),ASC(全国版!E688))+FIND(ASC(検索シート!$F$7),ASC(全国版!F688)),\"\"))","v":3},{"$f":"IF(B688=\"\",\"-\",COUNT(B$4:$B688))","v":685},"京都府","京都中央看護保健専門学校","看護・保健専門課程（統合カリキュラム）　看護保健学科","2008-02-29","～","2012-03-31","2008-02-29","名称変更","（専）京都中央看護保健大学校","看護・保健専門課程（統合カリキュラム）　看護保健学科","2012-04-01","2013-01-29"]
[{"$f":"IF(OR(検索シート!$F$9=\"\",検索シート!$F$9=\"（指定なし）\",検索シート!$F$9=全国版!K689,AND(検索シート!$F$9=\"変更等なし\",全国版!K689=\"\")),1,0)","v":1},{"$f":"IF(A689=0,\"\",IFERROR(IF(OR(検索シート!$F$5=\"\",検索シート!$F$5=\"（指定なし）\"),1,FIND(ASC(検索シート!$F$5),ASC(全国版!D689)))+FIND(ASC(検索シート!$F$6),ASC(全国版!E689))+FIND(ASC(検索シート!$F$7),ASC(全国版!F689)),\"\"))","v":3},{"$f":"IF(B689=\"\",\"-\",COUNT(B$4:$B689))","v":686},"京都府","京都デザイン＆テクノロジー専門学校","文化・教養専門課程　スーパーＡＩ＆テクノロジー科","2023-01-27","～",null,"2023-01-27"]
[{"$f":"IF(OR(検索シート!$F$9=\"\",検索シート!$F$9=\"（指定なし）\",検索シート!$F$9=全国版!K690,AND(検索シート!$F$9=\"変更等なし\",全国版!K690=\"\")),1,0)","v":1},{"$f":"IF(A690=0,\"\",IFERROR(IF(OR(検索シート!$F$5=\"\",検索シート!$F$5=\"（指定なし）\"),1,FIND(ASC(検索シート!$F$5),ASC(全国版!D690)))+FIND(ASC(検索シート!$F$6),ASC(全国版!E690))+FIND(ASC(検索シート!$F$7),ASC(全国版!F690)),\"\"))","v":3},{"$f":"IF(B690=\"\",\"-\",COUNT(B$4:$B690))","v":687},"京都府","専門学校日産京都自動車大学校","工業専門課程　自動車整備・カスタマイズ科","2020-02-29","～",null,"2020-02-29"]
[{"$f":"IF(OR(検索シート!$F$9=\"\",検索シート!$F$9=\"（指定なし）\",検索シート!$F$9=全国版!K691,AND(検索シート!$F$9=\"変更等なし\",全国版!K691=\"\")),1,0)","v":1},{"$f":"IF(A691=0,\"\",IFERROR(IF(OR(検索シート!$F$5=\"\",検索シート!$F$5=\"（指定なし）\"),1,FIND(ASC(検索シート!$F$5),ASC(全国版!D691)))+FIND(ASC(検索シート!$F$6),ASC(全国版!E691))+FIND(ASC(検索シート!$F$7),ASC(全国版!F691)),\"\"))","v":3},{"$f":"IF(B691=\"\",\"-\",COUNT(B$4:$B691))","v":688},"京都府","専門学校日産京都自動車大学校","工業専門課程　一級自動車工学科","2007-04-01","～",null,"2008-02-29"]
[{"$f":"IF(OR(検索シート!$F$9=\"\",検索シート!$F$9=\"（指定なし）\",検索シート!$F$9=全国版!K692,AND(検索シート!$F$9=\"変更等なし\",全国版!K692=\"\")),1,0)","v":1},{"$f":"IF(A692=0,\"\",IFERROR(IF(OR(検索シート!$F$5=\"\",検索シート!$F$5=\"（指定なし）\"),1,FIND(ASC(検索シート!$F$5),ASC(全国版!D692)))+FIND(ASC(検索シート!$F$6),ASC(全国版!E692))+FIND(ASC(検索シート!$F$7),ASC(全国版!F692)),\"\"))","v":3},{"$f":"IF(B692=\"\",\"-\",COUNT(B$4:$B692))","v":689},"京都府","ディーズファッション専門学校","服飾・家政専門課程　アパレル総合高度専門士特進科","2008-02-29","～","2017-03-31","2008-02-29","廃止",null,null,"2017-03-31","2021-02-24"]
[{"$f":"IF(OR(検索シート!$F$9=\"\",検索シート!$F$9=\"（指定なし）\",検索シート!$F$9=全国版!K693,AND(検索シート!$F$9=\"変更等なし\",全国版!K693=\"\")),1,0)","v":1},{"$f":"IF(A693=0,\"\",IFERROR(IF(OR(検索シート!$F$5=\"\",検索シート!$F$5=\"（指定なし）\"),1,FIND(ASC(検索シート!$F$5),ASC(全国版!D693)))+FIND(ASC(検索シート!$F$6),ASC(全国版!E693))+FIND(ASC(検索シート!$F$7),ASC(全国版!F693)),\"\"))","v":3},{"$f":"IF(B693=\"\",\"-\",COUNT(B$4:$B693))","v":690},"京都府","日産京都整備専門学校","工業専門課程　一級自動車工学科","2006-06-30","～","2007-03-31","2006-06-30","名称変更","専門学校日産京都自動車大学校","工業専門課程　一級自動車工学科","2007-04-01","2008-02-29"]
[{"$f":"IF(OR(検索シート!$F$9=\"\",検索シート!$F$9=\"（指定なし）\",検索シート!$F$9=全国版!K694,AND(検索シート!$F$9=\"変更等なし\",全国版!K694=\"\")),1,0)","v":1},{"$f":"IF(A694=0,\"\",IFERROR(IF(OR(検索シート!$F$5=\"\",検索シート!$F$5=\"（指定なし）\"),1,FIND(ASC(検索シート!$F$5),ASC(全国版!D694)))+FIND(ASC(検索シート!$F$6),ASC(全国版!E694))+FIND(ASC(検索シート!$F$7),ASC(全国版!F694)),\"\"))","v":3},{"$f":"IF(B694=\"\",\"-\",COUNT(B$4:$B694))","v":691},"大阪府","ＥＣＣ国際外語専門学校","語学ビジネス専門課程　こども教育研究学科","2015-02-19","～",null,"2015-02-19"]
[{"$f":"IF(OR(検索シート!$F$9=\"\",検索シート!$F$9=\"（指定なし）\",検索シート!$F$9=全国版!K695,AND(検索シート!$F$9=\"変更等なし\",全国版!K695=\"\")),1,0)","v":1},{"$f":"IF(A695=0,\"\",IFERROR(IF(OR(検索シート!$F$5=\"\",検索シート!$F$5=\"（指定なし）\"),1,FIND(ASC(検索シート!$F$5),ASC(全国版!D695)))+FIND(ASC(検索シート!$F$6),ASC(全国版!E695))+FIND(ASC(検索シート!$F$7),ASC(全国版!F695)),\"\"))","v":3},{"$f":"IF(B695=\"\",\"-\",COUNT(B$4:$B695))","v":692},"大阪府","ＥＣＣコンピュータ専門学校","工業専門課程　高度情報処理研究学科","2010-11-29","～",null,"2010-11-29"]
[{"$f":"IF(OR(検索シート!$F$9=\"\",検索シート!$F$9=\"（指定なし）\",検索シート!$F$9=全国版!K696,AND(検索シート!$F$9=\"変更等なし\",全国版!K696=\"\")),1,0)","v":1},{"$f":"IF(A696=0,\"\",IFERROR(IF(OR(検索シート!$F$5=\"\",検索シート!$F$5=\"（指定なし）\"),1,FIND(ASC(検索シート!$F$5),ASC(全国版!D696)))+FIND(ASC(検索シート!$F$6),ASC(全国版!E696))+FIND(ASC(検索シート!$F$7),ASC(全国版!F696)),\"\"))","v":3},{"$f":"IF(B696=\"\",\"-\",COUNT(B$4:$B696))","v":693},"大阪府","ＨＡＬ大阪","コンピュータ総合専門課程　ＣＧデザイン学科","2008-04-01","～","2010-03-31","2009-02-27","名称変更","ＨＡＬ大阪","デジタル専門課程　ＣＧデザイン学科","2010-04-01","2010-11-29"]
[{"$f":"IF(OR(検索シート!$F$9=\"\",検索シート!$F$9=\"（指定なし）\",検索シート!$F$9=全国版!K697,AND(検索シート!$F$9=\"変更等なし\",全国版!K697=\"\")),1,0)","v":1},{"$f":"IF(A697=0,\"\",IFERROR(IF(OR(検索シート!$F$5=\"\",検索シート!$F$5=\"（指定なし）\"),1,FIND(ASC(検索シート!$F$5),ASC(全国版!D697)))+FIND(ASC(検索シート!$F$6),ASC(全国版!E697))+FIND(ASC(検索シート!$F$7),ASC(全国版!F697)),\"\"))","v":3},{"$f":"IF(B697=\"\",\"-\",COUNT(B$4:$B697))","v":694},"大阪府","ＨＡＬ大阪","コンピュータ総合専門課程　ＷＥＢ開発学科","2008-04-01","～","2009-03-31","2009-02-27","名称変更","ＨＡＬ大阪","コンピュータ総合専門課程　ＷＥＢ総合学科","2009-04-01","2010-02-26"]
[{"$f":"IF(OR(検索シート!$F$9=\"\",検索シート!$F$9=\"（指定なし）\",検索シート!$F$9=全国版!K698,AND(検索シート!$F$9=\"変更等なし\",全国版!K698=\"\")),1,0)","v":1},{"$f":"IF(A698=0,\"\",IFERROR(IF(OR(検索シート!$F$5=\"\",検索シート!$F$5=\"（指定なし）\"),1,FIND(ASC(検索シート!$F$5),ASC(全国版!D698)))+FIND(ASC(検索シート!$F$6),ASC(全国版!E698))+FIND(ASC(検索シート!$F$7),ASC(全国版!F698)),\"\"))","v":3},{"$f":"IF(B698=\"\",\"-\",COUNT(B$4:$B698))","v":695},"大阪府","ＨＡＬ大阪","コンピュータ総合専門課程　ゲーム開発学科","2008-04-01","～","2010-03-31","2009-02-27","名称変更","ＨＡＬ大阪","デジタル専門課程　ゲーム開発学科","2010-04-01","2010-11-29"]
[{"$f":"IF(OR(検索シート!$F$9=\"\",検索シート!$F$9=\"（指定なし）\",検索シート!$F$9=全国版!K699,AND(検索シート!$F$9=\"変更等なし\",全国版!K699=\"\")),1,0)","v":1},{"$f":"IF(A699=0,\"\",IFERROR(IF(OR(検索シート!$F$5=\"\",検索シート!$F$5=\"（指定なし）\"),1,FIND(ASC(検索シート!$F$5),ASC(全国版!D699)))+FIND(ASC(検索シート!$F$6),ASC(全国版!E699))+FIND(ASC(検索シート!$F$7),ASC(全国版!F699)),\"\"))","v":3},{"$f":"IF(B699=\"\",\"-\",COUNT(B$4:$B699))","v":696},"大阪府","ＨＡＬ大阪","コンピュータ総合専門課程　ゲーム制作学科","2008-04-01","～","2010-03-31","2009-02-27","名称変更","ＨＡＬ大阪","デジタル専門課程　ゲーム制作学科","2010-04-01","2010-11-29"]
[{"$f":"IF(OR(検索シート!$F$9=\"\",検索シート!$F$9=\"（指定なし）\",検索シート!$F$9=全国版!K700,AND(検索シート!$F$9=\"変更等なし\",全国版!K700=\"\")),1,0)","v":1},{"$f":"IF(A700=0,\"\",IFERROR(IF(OR(検索シート!$F$5=\"\",検索シート!$F$5=\"（指定なし）\"),1,FIND(ASC(検索シート!$F$5),ASC(全国版!D700)))+FIND(ASC(検索シート!$F$6),ASC(全国版!E700))+FIND(ASC(検索シート!$F$7),ASC(全国版!F700)),\"\"))","v":3},{"$f":"IF(B700=\"\",\"-\",COUNT(B$4:$B700))","v":697},"大阪府","ＨＡＬ大阪","コンピュータ総合専門課程　ゲームデザイン学科","2009-02-27","～","2010-03-31","2009-02-27","名称変更","ＨＡＬ大阪","デジタル専門課程　ゲームデザイン学科","2010-04-01","2010-11-29"]
[{"$f":"IF(OR(検索シート!$F$9=\"\",検索シート!$F$9=\"（指定なし）\",検索シート!$F$9=全国版!K701,AND(検索シート!$F$9=\"変更等なし\",全国版!K701=\"\")),1,0)","v":1},{"$f":"IF(A701=0,\"\",IFERROR(IF(OR(検索シート!$F$5=\"\",検索シート!$F$5=\"（指定なし）\"),1,FIND(ASC(検索シート!$F$5),ASC(全国版!D701)))+FIND(ASC(検索シート!$F$6),ASC(全国版!E701))+FIND(ASC(検索シート!$F$7),ASC(全国版!F701)),\"\"))","v":3},{"$f":"IF(B701=\"\",\"-\",COUNT(B$4:$B701))","v":698},"大阪府","ＨＡＬ大阪","コンピュータ総合専門課程　高度情報処理学科","2008-04-01","～","2010-03-31","2009-02-27","名称変更","ＨＡＬ大阪","デジタル専門課程　高度情報処理学科","2010-04-01","2010-11-29"]
[{"$f":"IF(OR(検索シート!$F$9=\"\",検索シート!$F$9=\"（指定なし）\",検索シート!$F$9=全国版!K702,AND(検索シート!$F$9=\"変更等なし\",全国版!K702=\"\")),1,0)","v":1},{"$f":"IF(A702=0,\"\",IFERROR(IF(OR(検索シート!$F$5=\"\",検索シート!$F$5=\"（指定なし）\"),1,FIND(ASC(検索シート!$F$5),ASC(全国版!D702)))+FIND(ASC(検索シート!$F$6),ASC(全国版!E702))+FIND(ASC(検索シート!$F$7),ASC(全国版!F702)),\"\"))","v":3},{"$f":"IF(B702=\"\",\"-\",COUNT(B$4:$B702))","v":699},"大阪府","ＨＡＬ大阪","コンピュータ総合専門課程　情報セキュリティ学科","2008-04-01","～","2010-03-31","2009-02-27","名称変更","ＨＡＬ大阪","デジタル専門課程　高度情報セキュリティ学科","2010-04-01","2010-11-29"]
[{"$f":"IF(OR(検索シート!$F$9=\"\",検索シート!$F$9=\"（指定なし）\",検索シート!$F$9=全国版!K703,AND(検索シート!$F$9=\"変更等なし\",全国版!K703=\"\")),1,0)","v":1},{"$f":"IF(A703=0,\"\",IFERROR(IF(OR(検索シート!$F$5=\"\",検索シート!$F$5=\"（指定なし）\"),1,FIND(ASC(検索シート!$F$5),ASC(全国版!D703)))+FIND(ASC(検索シート!$F$6),ASC(全国版!E703))+FIND(ASC(検索シート!$F$7),ASC(全国版!F703)),\"\"))","v":3},{"$f":"IF(B703=\"\",\"-\",COUNT(B$4:$B703))","v":700},"大阪府","ＨＡＬ大阪","コンピュータ総合専門課程　デジタル映像学科","2008-04-01","～","2009-03-31","2009-02-27","名称変更","ＨＡＬ大阪","コンピュータ総合専門課程　３ＤＣＧ映像学科","2009-04-01","2010-02-26"]
[{"$f":"IF(OR(検索シート!$F$9=\"\",検索シート!$F$9=\"（指定なし）\",検索シート!$F$9=全国版!K704,AND(検索シート!$F$9=\"変更等なし\",全国版!K704=\"\")),1,0)","v":1},{"$f":"IF(A704=0,\"\",IFERROR(IF(OR(検索シート!$F$5=\"\",検索シート!$F$5=\"（指定なし）\"),1,FIND(ASC(検索シート!$F$5),ASC(全国版!D704)))+FIND(ASC(検索シート!$F$6),ASC(全国版!E704))+FIND(ASC(検索シート!$F$7),ASC(全国版!F704)),\"\"))","v":3},{"$f":"IF(B704=\"\",\"-\",COUNT(B$4:$B704))","v":701},"大阪府","ＨＡＬ大阪","コンピュータ総合専門課程　ロボティクス学科","2009-02-27","～","2010-03-31","2009-02-27","名称変更","ＨＡＬ大阪","デジタル専門課程　ロボット開発学科","2010-04-01","2010-11-29"]
[{"$f":"IF(OR(検索シート!$F$9=\"\",検索シート!$F$9=\"（指定なし）\",検索シート!$F$9=全国版!K705,AND(検索シート!$F$9=\"変更等なし\",全国版!K705=\"\")),1,0)","v":1},{"$f":"IF(A705=0,\"\",IFERROR(IF(OR(検索シート!$F$5=\"\",検索シート!$F$5=\"（指定なし）\"),1,FIND(ASC(検索シート!$F$5),ASC(全国版!D705)))+FIND(ASC(検索シート!$F$6),ASC(全国版!E705))+FIND(ASC(検索シート!$F$7),ASC(全国版!F705)),\"\"))","v":3},{"$f":"IF(B705=\"\",\"-\",COUNT(B$4:$B705))","v":702},"大阪府","ＨＡＬ大阪","デジタル専門課程　ＣＧ・デザイン・アニメ４年制学科","2021-04-01","～",null,"2022-03-04"]
[{"$f":"IF(OR(検索シート!$F$9=\"\",検索シート!$F$9=\"（指定なし）\",検索シート!$F$9=全国版!K706,AND(検索シート!$F$9=\"変更等なし\",全国版!K706=\"\")),1,0)","v":1},{"$f":"IF(A706=0,\"\",IFERROR(IF(OR(検索シート!$F$5=\"\",検索シート!$F$5=\"（指定なし）\"),1,FIND(ASC(検索シート!$F$5),ASC(全国版!D706)))+FIND(ASC(検索シート!$F$6),ASC(全国版!E706))+FIND(ASC(検索シート!$F$7),ASC(全国版!F706)),\"\"))","v":3},{"$f":"IF(B706=\"\",\"-\",COUNT(B$4:$B706))","v":703},"大阪府","ＨＡＬ大阪","デジタル専門課程　ＣＧ映像アニメーション学科","2013-04-01","～","2015-03-31","2014-01-28","名称変更","ＨＡＬ大阪","デジタル専門課程　ＣＧ映像学科（４年制・昼間部）","2015-04-01","2016-02-29"]
[{"$f":"IF(OR(検索シート!$F$9=\"\",検索シート!$F$9=\"（指定なし）\",検索シート!$F$9=全国版!K707,AND(検索シート!$F$9=\"変更等なし\",全国版!K707=\"\")),1,0)","v":1},{"$f":"IF(A707=0,\"\",IFERROR(IF(OR(検索シート!$F$5=\"\",検索シート!$F$5=\"（指定なし）\"),1,FIND(ASC(検索シート!$F$5),ASC(全国版!D707)))+FIND(ASC(検索シート!$F$6),ASC(全国版!E707))+FIND(ASC(検索シート!$F$7),ASC(全国版!F707)),\"\"))","v":3},{"$f":"IF(B707=\"\",\"-\",COUNT(B$4:$B707))","v":704},"大阪府","ＨＡＬ大阪","デジタル専門課程　ＣＧ映像学科（４年制・昼間部）","2015-04-01","～","2021-03-31","2016-02-29","名称変更","ＨＡＬ大阪","デジタル専門課程　ＣＧ・デザイン・アニメ４年制学科","2021-04-01","2022-03-04"]
[{"$f":"IF(OR(検索シート!$F$9=\"\",検索シート!$F$9=\"（指定なし）\",検索シート!$F$9=全国版!K708,AND(検索シート!$F$9=\"変更等なし\",全国版!K708=\"\")),1,0)","v":1},{"$f":"IF(A708=0,\"\",IFERROR(IF(OR(検索シート!$F$5=\"\",検索シート!$F$5=\"（指定なし）\"),1,FIND(ASC(検索シート!$F$5),ASC(全国版!D708)))+FIND(ASC(検索シート!$F$6),ASC(全国版!E708))+FIND(ASC(検索シート!$F$7),ASC(全国版!F708)),\"\"))","v":3},{"$f":"IF(B708=\"\",\"-\",COUNT(B$4:$B708))","v":705},"大阪府","ＨＡＬ大阪","デジタル専門課程　ＣＧデザイン学科","2010-04-01","～","2015-03-31","2010-11-29","名称変更","ＨＡＬ大阪","デジタル専門課程　グラフィックデザイン学科（４年制・昼間部）","2015-04-01","2016-02-29"]
[{"$f":"IF(OR(検索シート!$F$9=\"\",検索シート!$F$9=\"（指定なし）\",検索シート!$F$9=全国版!K709,AND(検索シート!$F$9=\"変更等なし\",全国版!K709=\"\")),1,0)","v":1},{"$f":"IF(A709=0,\"\",IFERROR(IF(OR(検索シート!$F$5=\"\",検索シート!$F$5=\"（指定なし）\"),1,FIND(ASC(検索シート!$F$5),ASC(全国版!D709)))+FIND(ASC(検索シート!$F$6),ASC(全国版!E709))+FIND(ASC(検索シート!$F$7),ASC(全国版!F709)),\"\"))","v":3},{"$f":"IF(B709=\"\",\"-\",COUNT(B$4:$B709))","v":706},"大阪府","ＨＡＬ大阪","デジタル専門課程　ＷＥＢ開発学科","2010-04-01","～","2022-03-31","2010-11-29","廃止",null,null,"2022-03-31","2023-01-27"]
[{"$f":"IF(OR(検索シート!$F$9=\"\",検索シート!$F$9=\"（指定なし）\",検索シート!$F$9=全国版!K710,AND(検索シート!$F$9=\"変更等なし\",全国版!K710=\"\")),1,0)","v":1},{"$f":"IF(A710=0,\"\",IFERROR(IF(OR(検索シート!$F$5=\"\",検索シート!$F$5=\"（指定なし）\"),1,FIND(ASC(検索シート!$F$5),ASC(全国版!D710)))+FIND(ASC(検索シート!$F$6),ASC(全国版!E710))+FIND(ASC(検索シート!$F$7),ASC(全国版!F710)),\"\"))","v":3},{"$f":"IF(B710=\"\",\"-\",COUNT(B$4:$B710))","v":707},"大阪府","ＨＡＬ大阪","デジタル専門課程　アニメ・イラスト学科","2016-02-29","～",null,"2016-02-29"]
[{"$f":"IF(OR(検索シート!$F$9=\"\",検索シート!$F$9=\"（指定なし）\",検索シート!$F$9=全国版!K711,AND(検索シート!$F$9=\"変更等なし\",全国版!K711=\"\")),1,0)","v":1},{"$f":"IF(A711=0,\"\",IFERROR(IF(OR(検索シート!$F$5=\"\",検索シート!$F$5=\"（指定なし）\"),1,FIND(ASC(検索シート!$F$5),ASC(全国版!D711)))+FIND(ASC(検索シート!$F$6),ASC(全国版!E711))+FIND(ASC(検索シート!$F$7),ASC(全国版!F711)),\"\"))","v":3},{"$f":"IF(B711=\"\",\"-\",COUNT(B$4:$B711))","v":708},"大阪府","ＨＡＬ大阪","デジタル専門課程　カーデザイン学科","2010-11-29","～",null,"2010-11-29"]
[{"$f":"IF(OR(検索シート!$F$9=\"\",検索シート!$F$9=\"（指定なし）\",検索シート!$F$9=全国版!K712,AND(検索シート!$F$9=\"変更等なし\",全国版!K712=\"\")),1,0)","v":1},{"$f":"IF(A712=0,\"\",IFERROR(IF(OR(検索シート!$F$5=\"\",検索シート!$F$5=\"（指定なし）\"),1,FIND(ASC(検索シート!$F$5),ASC(全国版!D712)))+FIND(ASC(検索シート!$F$6),ASC(全国版!E712))+FIND(ASC(検索シート!$F$7),ASC(全国版!F712)),\"\"))","v":3},{"$f":"IF(B712=\"\",\"-\",COUNT(B$4:$B712))","v":709},"大阪府","ＨＡＬ大阪","デジタル専門課程　グラフィックデザイン学科（４年制・昼間部）","2015-04-01","～",null,"2016-02-29"]
[{"$f":"IF(OR(検索シート!$F$9=\"\",検索シート!$F$9=\"（指定なし）\",検索シート!$F$9=全国版!K713,AND(検索シート!$F$9=\"変更等なし\",全国版!K713=\"\")),1,0)","v":1},{"$f":"IF(A713=0,\"\",IFERROR(IF(OR(検索シート!$F$5=\"\",検索シート!$F$5=\"（指定なし）\"),1,FIND(ASC(検索シート!$F$5),ASC(全国版!D713)))+FIND(ASC(検索シート!$F$6),ASC(全国版!E713))+FIND(ASC(検索シート!$F$7),ASC(全国版!F713)),\"\"))","v":3},{"$f":"IF(B713=\"\",\"-\",COUNT(B$4:$B713))","v":710},"大阪府","ＨＡＬ大阪","デジタル専門課程　ゲーム４年制学科","2019-04-01","～",null,"2020-02-29"]
[{"$f":"IF(OR(検索シート!$F$9=\"\",検索シート!$F$9=\"（指定なし）\",検索シート!$F$9=全国版!K714,AND(検索シート!$F$9=\"変更等なし\",全国版!K714=\"\")),1,0)","v":1},{"$f":"IF(A714=0,\"\",IFERROR(IF(OR(検索シート!$F$5=\"\",検索シート!$F$5=\"（指定なし）\"),1,FIND(ASC(検索シート!$F$5),ASC(全国版!D714)))+FIND(ASC(検索シート!$F$6),ASC(全国版!E714))+FIND(ASC(検索シート!$F$7),ASC(全国版!F714)),\"\"))","v":3},{"$f":"IF(B714=\"\",\"-\",COUNT(B$4:$B714))","v":711},"大阪府","ＨＡＬ大阪","デジタル専門課程　ゲーム開発学科","2010-04-01","～","2015-03-31","2010-11-29","名称変更","ＨＡＬ大阪","デジタル専門課程　ゲーム企画学科","2015-04-01","2016-02-29"]
[{"$f":"IF(OR(検索シート!$F$9=\"\",検索シート!$F$9=\"（指定なし）\",検索シート!$F$9=全国版!K715,AND(検索シート!$F$9=\"変更等なし\",全国版!K715=\"\")),1,0)","v":1},{"$f":"IF(A715=0,\"\",IFERROR(IF(OR(検索シート!$F$5=\"\",検索シート!$F$5=\"（指定なし）\"),1,FIND(ASC(検索シート!$F$5),ASC(全国版!D715)))+FIND(ASC(検索シート!$F$6),ASC(全国版!E715))+FIND(ASC(検索シート!$F$7),ASC(全国版!F715)),\"\"))","v":3},{"$f":"IF(B715=\"\",\"-\",COUNT(B$4:$B715))","v":712},"大阪府","ＨＡＬ大阪","デジタル専門課程　ゲーム企画学科","2015-04-01","～","2022-03-31","2016-02-29","廃止",null,null,"2022-03-31","2023-01-27"]
[{"$f":"IF(OR(検索シート!$F$9=\"\",検索シート!$F$9=\"（指定なし）\",検索シート!$F$9=全国版!K716,AND(検索シート!$F$9=\"変更等なし\",全国版!K716=\"\")),1,0)","v":1},{"$f":"IF(A716=0,\"\",IFERROR(IF(OR(検索シート!$F$5=\"\",検索シート!$F$5=\"（指定なし）\"),1,FIND(ASC(検索シート!$F$5),ASC(全国版!D716)))+FIND(ASC(検索シート!$F$6),ASC(全国版!E716))+FIND(ASC(検索シート!$F$7),ASC(全国版!F716)),\"\"))","v":3},{"$f":"IF(B716=\"\",\"-\",COUNT(B$4:$B716))","v":713},"大阪府","ＨＡＬ大阪","デジタル専門課程　ゲーム制作学科","2010-04-01","～","2019-03-31","2010-11-29","名称変更","ＨＡＬ大阪","デジタル専門課程　ゲーム４年制学科","2019-04-01","2020-02-29"]
[{"$f":"IF(OR(検索シート!$F$9=\"\",検索シート!$F$9=\"（指定なし）\",検索シート!$F$9=全国版!K717,AND(検索シート!$F$9=\"変更等なし\",全国版!K717=\"\")),1,0)","v":1},{"$f":"IF(A717=0,\"\",IFERROR(IF(OR(検索シート!$F$5=\"\",検索シート!$F$5=\"（指定なし）\"),1,FIND(ASC(検索シート!$F$5),ASC(全国版!D717)))+FIND(ASC(検索シート!$F$6),ASC(全国版!E717))+FIND(ASC(検索シート!$F$7),ASC(全国版!F717)),\"\"))","v":3},{"$f":"IF(B717=\"\",\"-\",COUNT(B$4:$B717))","v":714},"大阪府","ＨＡＬ大阪","デジタル専門課程　ゲームデザイン学科","2010-04-01","～","2022-03-31","2010-11-29","廃止",null,null,"2022-03-31","2023-01-27"]
[{"$f":"IF(OR(検索シート!$F$9=\"\",検索シート!$F$9=\"（指定なし）\",検索シート!$F$9=全国版!K718,AND(検索シート!$F$9=\"変更等なし\",全国版!K718=\"\")),1,0)","v":1},{"$f":"IF(A718=0,\"\",IFERROR(IF(OR(検索シート!$F$5=\"\",検索シート!$F$5=\"（指定なし）\"),1,FIND(ASC(検索シート!$F$5),ASC(全国版!D718)))+FIND(ASC(検索シート!$F$6),ASC(全国版!E718))+FIND(ASC(検索シート!$F$7),ASC(全国版!F718)),\"\"))","v":3},{"$f":"IF(B718=\"\",\"-\",COUNT(B$4:$B718))","v":715},"大阪府","ＨＡＬ大阪","デジタル専門課程　高度情報学科","2019-04-01","～",null,"2020-02-29"]
[{"$f":"IF(OR(検索シート!$F$9=\"\",検索シート!$F$9=\"（指定なし）\",検索シート!$F$9=全国版!K719,AND(検索シート!$F$9=\"変更等なし\",全国版!K719=\"\")),1,0)","v":1},{"$f":"IF(A719=0,\"\",IFERROR(IF(OR(検索シート!$F$5=\"\",検索シート!$F$5=\"（指定なし）\"),1,FIND(ASC(検索シート!$F$5),ASC(全国版!D719)))+FIND(ASC(検索シート!$F$6),ASC(全国版!E719))+FIND(ASC(検索シート!$F$7),ASC(全国版!F719)),\"\"))","v":3},{"$f":"IF(B719=\"\",\"-\",COUNT(B$4:$B719))","v":716},"大阪府","ＨＡＬ大阪","デジタル専門課程　高度情報処理学科","2010-04-01","～","2019-03-31","2010-11-29","名称変更","ＨＡＬ大阪","デジタル専門課程　高度情報学科","2019-04-01","2020-02-29"]
[{"$f":"IF(OR(検索シート!$F$9=\"\",検索シート!$F$9=\"（指定なし）\",検索シート!$F$9=全国版!K720,AND(検索シート!$F$9=\"変更等なし\",全国版!K720=\"\")),1,0)","v":1},{"$f":"IF(A720=0,\"\",IFERROR(IF(OR(検索シート!$F$5=\"\",検索シート!$F$5=\"（指定なし）\"),1,FIND(ASC(検索シート!$F$5),ASC(全国版!D720)))+FIND(ASC(検索シート!$F$6),ASC(全国版!E720))+FIND(ASC(検索シート!$F$7),ASC(全国版!F720)),\"\"))","v":3},{"$f":"IF(B720=\"\",\"-\",COUNT(B$4:$B720))","v":717},"大阪府","ＨＡＬ大阪","デジタル専門課程　高度情報セキュリティ学科","2010-04-01","～","2017-03-31","2010-11-29","廃止",null,null,"2017-03-31","2018-02-28"]
[{"$f":"IF(OR(検索シート!$F$9=\"\",検索シート!$F$9=\"（指定なし）\",検索シート!$F$9=全国版!K721,AND(検索シート!$F$9=\"変更等なし\",全国版!K721=\"\")),1,0)","v":1},{"$f":"IF(A721=0,\"\",IFERROR(IF(OR(検索シート!$F$5=\"\",検索シート!$F$5=\"（指定なし）\"),1,FIND(ASC(検索シート!$F$5),ASC(全国版!D721)))+FIND(ASC(検索シート!$F$6),ASC(全国版!E721))+FIND(ASC(検索シート!$F$7),ASC(全国版!F721)),\"\"))","v":3},{"$f":"IF(B721=\"\",\"-\",COUNT(B$4:$B721))","v":718},"大阪府","ＨＡＬ大阪","デジタル専門課程　先端ロボット開発学科","2011-04-01","～",null,"2011-12-22"]
[{"$f":"IF(OR(検索シート!$F$9=\"\",検索シート!$F$9=\"（指定なし）\",検索シート!$F$9=全国版!K722,AND(検索シート!$F$9=\"変更等なし\",全国版!K722=\"\")),1,0)","v":1},{"$f":"IF(A722=0,\"\",IFERROR(IF(OR(検索シート!$F$5=\"\",検索シート!$F$5=\"（指定なし）\"),1,FIND(ASC(検索シート!$F$5),ASC(全国版!D722)))+FIND(ASC(検索シート!$F$6),ASC(全国版!E722))+FIND(ASC(検索シート!$F$7),ASC(全国版!F722)),\"\"))","v":3},{"$f":"IF(B722=\"\",\"-\",COUNT(B$4:$B722))","v":719},"大阪府","ＨＡＬ大阪","デジタル専門課程　デジタル映像学科","2010-04-01","～","2013-03-31","2010-11-29","名称変更","ＨＡＬ大阪","デジタル専門課程　ＣＧ映像アニメーション学科","2013-04-01","2014-01-28"]
[{"$f":"IF(OR(検索シート!$F$9=\"\",検索シート!$F$9=\"（指定なし）\",検索シート!$F$9=全国版!K723,AND(検索シート!$F$9=\"変更等なし\",全国版!K723=\"\")),1,0)","v":1},{"$f":"IF(A723=0,\"\",IFERROR(IF(OR(検索シート!$F$5=\"\",検索シート!$F$5=\"（指定なし）\"),1,FIND(ASC(検索シート!$F$5),ASC(全国版!D723)))+FIND(ASC(検索シート!$F$6),ASC(全国版!E723))+FIND(ASC(検索シート!$F$7),ASC(全国版!F723)),\"\"))","v":3},{"$f":"IF(B723=\"\",\"-\",COUNT(B$4:$B723))","v":720},"大阪府","ＨＡＬ大阪","デジタル専門課程　ロボット開発学科","2010-04-01","～","2011-03-31","2010-11-29","名称変更","ＨＡＬ大阪","デジタル専門課程　先端ロボット開発学科","2011-04-01","2011-12-22"]
[{"$f":"IF(OR(検索シート!$F$9=\"\",検索シート!$F$9=\"（指定なし）\",検索シート!$F$9=全国版!K724,AND(検索シート!$F$9=\"変更等なし\",全国版!K724=\"\")),1,0)","v":1},{"$f":"IF(A724=0,\"\",IFERROR(IF(OR(検索シート!$F$5=\"\",検索シート!$F$5=\"（指定なし）\"),1,FIND(ASC(検索シート!$F$5),ASC(全国版!D724)))+FIND(ASC(検索シート!$F$6),ASC(全国版!E724))+FIND(ASC(検索シート!$F$7),ASC(全国版!F724)),\"\"))","v":3},{"$f":"IF(B724=\"\",\"-\",COUNT(B$4:$B724))","v":721},"大阪府","ＨＡＬ大阪","コンピュータ総合専門課程　３ＤＣＧ映像学科","2009-04-01","～","2010-03-31","2010-02-26","名称変更","ＨＡＬ大阪","デジタル専門課程　デジタル映像学科","2010-04-01","2010-11-29"]
[{"$f":"IF(OR(検索シート!$F$9=\"\",検索シート!$F$9=\"（指定なし）\",検索シート!$F$9=全国版!K725,AND(検索シート!$F$9=\"変更等なし\",全国版!K725=\"\")),1,0)","v":1},{"$f":"IF(A725=0,\"\",IFERROR(IF(OR(検索シート!$F$5=\"\",検索シート!$F$5=\"（指定なし）\"),1,FIND(ASC(検索シート!$F$5),ASC(全国版!D725)))+FIND(ASC(検索シート!$F$6),ASC(全国版!E725))+FIND(ASC(検索シート!$F$7),ASC(全国版!F725)),\"\"))","v":3},{"$f":"IF(B725=\"\",\"-\",COUNT(B$4:$B725))","v":722},"大阪府","ＨＡＬ大阪","コンピュータ総合専門課程　ＷＥＢ総合学科","2009-04-01","～","2010-03-31","2010-02-26","名称変更","ＨＡＬ大阪","デジタル専門課程　ＷＥＢ開発学科","2010-04-01","2010-11-29"]
[{"$f":"IF(OR(検索シート!$F$9=\"\",検索シート!$F$9=\"（指定なし）\",検索シート!$F$9=全国版!K726,AND(検索シート!$F$9=\"変更等なし\",全国版!K726=\"\")),1,0)","v":1},{"$f":"IF(A726=0,\"\",IFERROR(IF(OR(検索シート!$F$5=\"\",検索シート!$F$5=\"（指定なし）\"),1,FIND(ASC(検索シート!$F$5),ASC(全国版!D726)))+FIND(ASC(検索シート!$F$6),ASC(全国版!E726))+FIND(ASC(検索シート!$F$7),ASC(全国版!F726)),\"\"))","v":3},{"$f":"IF(B726=\"\",\"-\",COUNT(B$4:$B726))","v":723},"大阪府","ＨＡＬ大阪","コンピュータ総合専門課程　ミュージック学科（４年制）","2008-04-01","～","2010-03-31","2009-02-27","名称変更","ＨＡＬ大阪","デジタル専門課程　ミュージック学科（４年制）","2010-04-01","2010-11-29"]
[{"$f":"IF(OR(検索シート!$F$9=\"\",検索シート!$F$9=\"（指定なし）\",検索シート!$F$9=全国版!K727,AND(検索シート!$F$9=\"変更等なし\",全国版!K727=\"\")),1,0)","v":1},{"$f":"IF(A727=0,\"\",IFERROR(IF(OR(検索シート!$F$5=\"\",検索シート!$F$5=\"（指定なし）\"),1,FIND(ASC(検索シート!$F$5),ASC(全国版!D727)))+FIND(ASC(検索シート!$F$6),ASC(全国版!E727))+FIND(ASC(検索シート!$F$7),ASC(全国版!F727)),\"\"))","v":3},{"$f":"IF(B727=\"\",\"-\",COUNT(B$4:$B727))","v":724},"大阪府","ＨＡＬ大阪","デジタル専門課程　ミュージック学科（４年制）","2010-04-01","～",null,"2010-11-29"]
[{"$f":"IF(OR(検索シート!$F$9=\"\",検索シート!$F$9=\"（指定なし）\",検索シート!$F$9=全国版!K728,AND(検索シート!$F$9=\"変更等なし\",全国版!K728=\"\")),1,0)","v":1},{"$f":"IF(A728=0,\"\",IFERROR(IF(OR(検索シート!$F$5=\"\",検索シート!$F$5=\"（指定なし）\"),1,FIND(ASC(検索シート!$F$5),ASC(全国版!D728)))+FIND(ASC(検索シート!$F$6),ASC(全国版!E728))+FIND(ASC(検索シート!$F$7),ASC(全国版!F728)),\"\"))","v":3},{"$f":"IF(B728=\"\",\"-\",COUNT(B$4:$B728))","v":725},"大阪府","ＯＣＡ大阪デザイン＆ＩＴ専門学校","文化・教養専門課程　スーパーゲームＩＴ科（昼間Ⅰ部）","2020-02-29","～","2021-03-31","2020-02-29","名称変更","ＯＣＡ大阪デザイン＆ＩＴテクノロジー専門学校","文化・教養専門課程　スーパーゲームＩＴ科（昼間Ⅰ部）","2021-04-01","2022-03-04"]
[{"$f":"IF(OR(検索シート!$F$9=\"\",検索シート!$F$9=\"（指定なし）\",検索シート!$F$9=全国版!K729,AND(検索シート!$F$9=\"変更等なし\",全国版!K729=\"\")),1,0)","v":1},{"$f":"IF(A729=0,\"\",IFERROR(IF(OR(検索シート!$F$5=\"\",検索シート!$F$5=\"（指定なし）\"),1,FIND(ASC(検索シート!$F$5),ASC(全国版!D729)))+FIND(ASC(検索シート!$F$6),ASC(全国版!E729))+FIND(ASC(検索シート!$F$7),ASC(全国版!F729)),\"\"))","v":3},{"$f":"IF(B729=\"\",\"-\",COUNT(B$4:$B729))","v":726},"大阪府","ＯＣＡ大阪デザイン＆ＩＴテクノロジー専門学校","文化・教養専門課程　スーパーゲームＩＴ科（昼間Ⅰ部）","2021-04-01","～","2023-03-31","2022-03-04","名称変更","ＯＣＡ大阪デザイン＆テクノロジー専門学校","文化・教養専門課程　スーパーゲームＩＴ科（昼間Ⅰ部）","2023-04-01","2024-01-17"]
[{"$f":"IF(OR(検索シート!$F$9=\"\",検索シート!$F$9=\"（指定なし）\",検索シート!$F$9=全国版!K730,AND(検索シート!$F$9=\"変更等なし\",全国版!K730=\"\")),1,0)","v":1},{"$f":"IF(A730=0,\"\",IFERROR(IF(OR(検索シート!$F$5=\"\",検索シート!$F$5=\"（指定なし）\"),1,FIND(ASC(検索シート!$F$5),ASC(全国版!D730)))+FIND(ASC(検索シート!$F$6),ASC(全国版!E730))+FIND(ASC(検索シート!$F$7),ASC(全国版!F730)),\"\"))","v":3},{"$f":"IF(B730=\"\",\"-\",COUNT(B$4:$B730))","v":727},"大阪府","ＯＣＡ大阪デザイン＆ＩＴテクノロジー専門学校","文化・教養専門課程　スーパーゲームＩＴ科（昼間Ⅱ部）","2022-03-04","～","2023-03-31","2022-03-04","名称変更","ＯＣＡ大阪デザイン＆テクノロジー専門学校","文化・教養専門課程　スーパーゲームＩＴ科（昼間Ⅱ部）","2023-04-01","2024-01-17"]
[{"$f":"IF(OR(検索シート!$F$9=\"\",検索シート!$F$9=\"（指定なし）\",検索シート!$F$9=全国版!K731,AND(検索シート!$F$9=\"変更等なし\",全国版!K731=\"\")),1,0)","v":1},{"$f":"IF(A731=0,\"\",IFERROR(IF(OR(検索シート!$F$5=\"\",検索シート!$F$5=\"（指定なし）\"),1,FIND(ASC(検索シート!$F$5),ASC(全国版!D731)))+FIND(ASC(検索シート!$F$6),ASC(全国版!E731))+FIND(ASC(検索シート!$F$7),ASC(全国版!F731)),\"\"))","v":3},{"$f":"IF(B731=\"\",\"-\",COUNT(B$4:$B731))","v":728},"大阪府","ＯＣＡ大阪デザイン＆テクノロジー専門学校","文化・教養専門課程　スーパーゲームＩＴ科（昼間Ⅰ部）","2023-04-01","～",null,"2024-01-17"]
[{"$f":"IF(OR(検索シート!$F$9=\"\",検索シート!$F$9=\"（指定なし）\",検索シート!$F$9=全国版!K732,AND(検索シート!$F$9=\"変更等なし\",全国版!K732=\"\")),1,0)","v":1},{"$f":"IF(A732=0,\"\",IFERROR(IF(OR(検索シート!$F$5=\"\",検索シート!$F$5=\"（指定なし）\"),1,FIND(ASC(検索シート!$F$5),ASC(全国版!D732)))+FIND(ASC(検索シート!$F$6),ASC(全国版!E732))+FIND(ASC(検索シート!$F$7),ASC(全国版!F732)),\"\"))","v":3},{"$f":"IF(B732=\"\",\"-\",COUNT(B$4:$B732))","v":729},"大阪府","ＯＣＡ大阪デザイン＆テクノロジー専門学校","文化・教養専門課程　スーパーゲームＩＴ科（昼間Ⅱ部）","2023-04-01","～",null,"2024-01-17"]
[{"$f":"IF(OR(検索シート!$F$9=\"\",検索シート!$F$9=\"（指定なし）\",検索シート!$F$9=全国版!K733,AND(検索シート!$F$9=\"変更等なし\",全国版!K733=\"\")),1,0)","v":1},{"$f":"IF(A733=0,\"\",IFERROR(IF(OR(検索シート!$F$5=\"\",検索シート!$F$5=\"（指定なし）\"),1,FIND(ASC(検索シート!$F$5),ASC(全国版!D733)))+FIND(ASC(検索シート!$F$6),ASC(全国版!E733))+FIND(ASC(検索シート!$F$7),ASC(全国版!F733)),\"\"))","v":3},{"$f":"IF(B733=\"\",\"-\",COUNT(B$4:$B733))","v":730},"大阪府","医療法人髙寿会近畿リハビリテーション学院","医療専門課程　第二理学療法学科","2010-11-29","～","2014-03-31","2010-11-29","廃止",null,null,"2014-03-31","2015-02-19"]
[{"$f":"IF(OR(検索シート!$F$9=\"\",検索シート!$F$9=\"（指定なし）\",検索シート!$F$9=全国版!K734,AND(検索シート!$F$9=\"変更等なし\",全国版!K734=\"\")),1,0)","v":1},{"$f":"IF(A734=0,\"\",IFERROR(IF(OR(検索シート!$F$5=\"\",検索シート!$F$5=\"（指定なし）\"),1,FIND(ASC(検索シート!$F$5),ASC(全国版!D734)))+FIND(ASC(検索シート!$F$6),ASC(全国版!E734))+FIND(ASC(検索シート!$F$7),ASC(全国版!F734)),\"\"))","v":3},{"$f":"IF(B734=\"\",\"-\",COUNT(B$4:$B734))","v":731},"大阪府","上田安子服飾専門学校","ファッション専門課程　ファッション・プロデュース学科","2013-01-29","～",null,"2013-01-29"]
[{"$f":"IF(OR(検索シート!$F$9=\"\",検索シート!$F$9=\"（指定なし）\",検索シート!$F$9=全国版!K735,AND(検索シート!$F$9=\"変更等なし\",全国版!K735=\"\")),1,0)","v":1},{"$f":"IF(A735=0,\"\",IFERROR(IF(OR(検索シート!$F$5=\"\",検索シート!$F$5=\"（指定なし）\"),1,FIND(ASC(検索シート!$F$5),ASC(全国版!D735)))+FIND(ASC(検索シート!$F$6),ASC(全国版!E735))+FIND(ASC(検索シート!$F$7),ASC(全国版!F735)),\"\"))","v":3},{"$f":"IF(B735=\"\",\"-\",COUNT(B$4:$B735))","v":732},"大阪府","大阪ＥＣＯ動物海洋専門学校","文化・教養専門課程　エコ・テクノロジー科（昼間Ⅱ部）","2023-01-27","～",null,"2023-01-27"]
[{"$f":"IF(OR(検索シート!$F$9=\"\",検索シート!$F$9=\"（指定なし）\",検索シート!$F$9=全国版!K736,AND(検索シート!$F$9=\"変更等なし\",全国版!K736=\"\")),1,0)","v":1},{"$f":"IF(A736=0,\"\",IFERROR(IF(OR(検索シート!$F$5=\"\",検索シート!$F$5=\"（指定なし）\"),1,FIND(ASC(検索シート!$F$5),ASC(全国版!D736)))+FIND(ASC(検索シート!$F$6),ASC(全国版!E736))+FIND(ASC(検索シート!$F$7),ASC(全国版!F736)),\"\"))","v":3},{"$f":"IF(B736=\"\",\"-\",COUNT(B$4:$B736))","v":733},"大阪府","大阪アニメ・声優＆ｅスポーツ専門学校","文化・教養専門課程　デジタルデザインテクノロジー科（昼間Ⅱ部）","2023-01-27","～",null,"2023-01-27"]
[{"$f":"IF(OR(検索シート!$F$9=\"\",検索シート!$F$9=\"（指定なし）\",検索シート!$F$9=全国版!K737,AND(検索シート!$F$9=\"変更等なし\",全国版!K737=\"\")),1,0)","v":1},{"$f":"IF(A737=0,\"\",IFERROR(IF(OR(検索シート!$F$5=\"\",検索シート!$F$5=\"（指定なし）\"),1,FIND(ASC(検索シート!$F$5),ASC(全国版!D737)))+FIND(ASC(検索シート!$F$6),ASC(全国版!E737))+FIND(ASC(検索シート!$F$7),ASC(全国版!F737)),\"\"))","v":3},{"$f":"IF(B737=\"\",\"-\",COUNT(B$4:$B737))","v":734},"大阪府","大阪医専","医療専門課程　看護保健学科（昼間部）","2005-12-09","～","2019-03-31","2005-12-09","名称変更","大阪医専","医療専門課程　高度看護保健学科","2019-04-01","2020-02-29"]
[{"$f":"IF(OR(検索シート!$F$9=\"\",検索シート!$F$9=\"（指定なし）\",検索シート!$F$9=全国版!K738,AND(検索シート!$F$9=\"変更等なし\",全国版!K738=\"\")),1,0)","v":1},{"$f":"IF(A738=0,\"\",IFERROR(IF(OR(検索シート!$F$5=\"\",検索シート!$F$5=\"（指定なし）\"),1,FIND(ASC(検索シート!$F$5),ASC(全国版!D738)))+FIND(ASC(検索シート!$F$6),ASC(全国版!E738))+FIND(ASC(検索シート!$F$7),ASC(全国版!F738)),\"\"))","v":3},{"$f":"IF(B738=\"\",\"-\",COUNT(B$4:$B738))","v":735},"大阪府","大阪医専","医療専門課程　作業療法学科（昼間部）","2005-12-09","～",null,"2005-12-09"]
[{"$f":"IF(OR(検索シート!$F$9=\"\",検索シート!$F$9=\"（指定なし）\",検索シート!$F$9=全国版!K739,AND(検索シート!$F$9=\"変更等なし\",全国版!K739=\"\")),1,0)","v":1},{"$f":"IF(A739=0,\"\",IFERROR(IF(OR(検索シート!$F$5=\"\",検索シート!$F$5=\"（指定なし）\"),1,FIND(ASC(検索シート!$F$5),ASC(全国版!D739)))+FIND(ASC(検索シート!$F$6),ASC(全国版!E739))+FIND(ASC(検索シート!$F$7),ASC(全国版!F739)),\"\"))","v":3},{"$f":"IF(B739=\"\",\"-\",COUNT(B$4:$B739))","v":736},"大阪府","大阪医専","医療専門課程　作業療法学科（夜間部）","2024-01-17",null,null,"2024-01-17"]
[{"$f":"IF(OR(検索シート!$F$9=\"\",検索シート!$F$9=\"（指定なし）\",検索シート!$F$9=全国版!K740,AND(検索シート!$F$9=\"変更等なし\",全国版!K740=\"\")),1,0)","v":1},{"$f":"IF(A740=0,\"\",IFERROR(IF(OR(検索シート!$F$5=\"\",検索シート!$F$5=\"（指定なし）\"),1,FIND(ASC(検索シート!$F$5),ASC(全国版!D740)))+FIND(ASC(検索シート!$F$6),ASC(全国版!E740))+FIND(ASC(検索シート!$F$7),ASC(全国版!F740)),\"\"))","v":3},{"$f":"IF(B740=\"\",\"-\",COUNT(B$4:$B740))","v":737},"大阪府","大阪医専","医療専門課程　視能療法学科（昼間部）","2005-12-09","～","2015-03-31","2005-12-09","廃止",null,null,"2015-03-31","2016-02-29"]
[{"$f":"IF(OR(検索シート!$F$9=\"\",検索シート!$F$9=\"（指定なし）\",検索シート!$F$9=全国版!K741,AND(検索シート!$F$9=\"変更等なし\",全国版!K741=\"\")),1,0)","v":1},{"$f":"IF(A741=0,\"\",IFERROR(IF(OR(検索シート!$F$5=\"\",検索シート!$F$5=\"（指定なし）\"),1,FIND(ASC(検索シート!$F$5),ASC(全国版!D741)))+FIND(ASC(検索シート!$F$6),ASC(全国版!E741))+FIND(ASC(検索シート!$F$7),ASC(全国版!F741)),\"\"))","v":3},{"$f":"IF(B741=\"\",\"-\",COUNT(B$4:$B741))","v":738},"大阪府","大阪医専","医療専門課程　理学療法学科（昼間部）","2005-12-09","～",null,"2005-12-09"]
[{"$f":"IF(OR(検索シート!$F$9=\"\",検索シート!$F$9=\"（指定なし）\",検索シート!$F$9=全国版!K742,AND(検索シート!$F$9=\"変更等なし\",全国版!K742=\"\")),1,0)","v":1},{"$f":"IF(A742=0,\"\",IFERROR(IF(OR(検索シート!$F$5=\"\",検索シート!$F$5=\"（指定なし）\"),1,FIND(ASC(検索シート!$F$5),ASC(全国版!D742)))+FIND(ASC(検索シート!$F$6),ASC(全国版!E742))+FIND(ASC(検索シート!$F$7),ASC(全国版!F742)),\"\"))","v":3},{"$f":"IF(B742=\"\",\"-\",COUNT(B$4:$B742))","v":739},"大阪府","大阪医専","医療専門課程　臨床工学学科（昼間部）","2005-12-09","～",null,"2005-12-09"]
[{"$f":"IF(OR(検索シート!$F$9=\"\",検索シート!$F$9=\"（指定なし）\",検索シート!$F$9=全国版!K743,AND(検索シート!$F$9=\"変更等なし\",全国版!K743=\"\")),1,0)","v":1},{"$f":"IF(A743=0,\"\",IFERROR(IF(OR(検索シート!$F$5=\"\",検索シート!$F$5=\"（指定なし）\"),1,FIND(ASC(検索シート!$F$5),ASC(全国版!D743)))+FIND(ASC(検索シート!$F$6),ASC(全国版!E743))+FIND(ASC(検索シート!$F$7),ASC(全国版!F743)),\"\"))","v":3},{"$f":"IF(B743=\"\",\"-\",COUNT(B$4:$B743))","v":740},"大阪府","大阪医専","医療専門課程　高度看護保健学科","2019-04-01","～",null,"2020-02-29"]
[{"$f":"IF(OR(検索シート!$F$9=\"\",検索シート!$F$9=\"（指定なし）\",検索シート!$F$9=全国版!K744,AND(検索シート!$F$9=\"変更等なし\",全国版!K744=\"\")),1,0)","v":1},{"$f":"IF(A744=0,\"\",IFERROR(IF(OR(検索シート!$F$5=\"\",検索シート!$F$5=\"（指定なし）\"),1,FIND(ASC(検索シート!$F$5),ASC(全国版!D744)))+FIND(ASC(検索シート!$F$6),ASC(全国版!E744))+FIND(ASC(検索シート!$F$7),ASC(全国版!F744)),\"\"))","v":3},{"$f":"IF(B744=\"\",\"-\",COUNT(B$4:$B744))","v":741},"大阪府","大阪医専","医療専門課程　高度専門看護学科","2017-02-28","～","2021-03-31","2017-02-28","名称変更","大阪医専","医療専門課程　高度専門士看護学科","2021-04-01","2022-03-04"]
[{"$f":"IF(OR(検索シート!$F$9=\"\",検索シート!$F$9=\"（指定なし）\",検索シート!$F$9=全国版!K745,AND(検索シート!$F$9=\"変更等なし\",全国版!K745=\"\")),1,0)","v":1},{"$f":"IF(A745=0,\"\",IFERROR(IF(OR(検索シート!$F$5=\"\",検索シート!$F$5=\"（指定なし）\"),1,FIND(ASC(検索シート!$F$5),ASC(全国版!D745)))+FIND(ASC(検索シート!$F$6),ASC(全国版!E745))+FIND(ASC(検索シート!$F$7),ASC(全国版!F745)),\"\"))","v":3},{"$f":"IF(B745=\"\",\"-\",COUNT(B$4:$B745))","v":742},"大阪府","大阪医専","医療専門課程　高度専門士看護学科","2021-04-01","～",null,"2022-03-04"]
[{"$f":"IF(OR(検索シート!$F$9=\"\",検索シート!$F$9=\"（指定なし）\",検索シート!$F$9=全国版!K746,AND(検索シート!$F$9=\"変更等なし\",全国版!K746=\"\")),1,0)","v":1},{"$f":"IF(A746=0,\"\",IFERROR(IF(OR(検索シート!$F$5=\"\",検索シート!$F$5=\"（指定なし）\"),1,FIND(ASC(検索シート!$F$5),ASC(全国版!D746)))+FIND(ASC(検索シート!$F$6),ASC(全国版!E746))+FIND(ASC(検索シート!$F$7),ASC(全国版!F746)),\"\"))","v":3},{"$f":"IF(B746=\"\",\"-\",COUNT(B$4:$B746))","v":743},"大阪府","大阪医療技術学園専門学校","医療専門課程　言語聴覚士学科","2007-02-28","～","2014-03-31","2007-02-28","廃止",null,null,"2014-03-31","2015-02-19"]
[{"$f":"IF(OR(検索シート!$F$9=\"\",検索シート!$F$9=\"（指定なし）\",検索シート!$F$9=全国版!K747,AND(検索シート!$F$9=\"変更等なし\",全国版!K747=\"\")),1,0)","v":1},{"$f":"IF(A747=0,\"\",IFERROR(IF(OR(検索シート!$F$5=\"\",検索シート!$F$5=\"（指定なし）\"),1,FIND(ASC(検索シート!$F$5),ASC(全国版!D747)))+FIND(ASC(検索シート!$F$6),ASC(全国版!E747))+FIND(ASC(検索シート!$F$7),ASC(全国版!F747)),\"\"))","v":3},{"$f":"IF(B747=\"\",\"-\",COUNT(B$4:$B747))","v":744},"大阪府","大阪医療技術学園専門学校","医療専門課程　鍼灸健康美容学科","2009-02-27","～","2014-03-31","2009-02-27","廃止",null,null,"2014-03-31","2015-02-19"]
[{"$f":"IF(OR(検索シート!$F$9=\"\",検索シート!$F$9=\"（指定なし）\",検索シート!$F$9=全国版!K748,AND(検索シート!$F$9=\"変更等なし\",全国版!K748=\"\")),1,0)","v":1},{"$f":"IF(A748=0,\"\",IFERROR(IF(OR(検索シート!$F$5=\"\",検索シート!$F$5=\"（指定なし）\"),1,FIND(ASC(検索シート!$F$5),ASC(全国版!D748)))+FIND(ASC(検索シート!$F$6),ASC(全国版!E748))+FIND(ASC(検索シート!$F$7),ASC(全国版!F748)),\"\"))","v":3},{"$f":"IF(B748=\"\",\"-\",COUNT(B$4:$B748))","v":745},"大阪府","大阪医療福祉専門学校","医療専門課程　作業療法士学科（昼間部４年制）","2024-01-17",null,null,"2024-01-17"]
[{"$f":"IF(OR(検索シート!$F$9=\"\",検索シート!$F$9=\"（指定なし）\",検索シート!$F$9=全国版!K749,AND(検索シート!$F$9=\"変更等なし\",全国版!K749=\"\")),1,0)","v":1},{"$f":"IF(A749=0,\"\",IFERROR(IF(OR(検索シート!$F$5=\"\",検索シート!$F$5=\"（指定なし）\"),1,FIND(ASC(検索シート!$F$5),ASC(全国版!D749)))+FIND(ASC(検索シート!$F$6),ASC(全国版!E749))+FIND(ASC(検索シート!$F$7),ASC(全国版!F749)),\"\"))","v":3},{"$f":"IF(B749=\"\",\"-\",COUNT(B$4:$B749))","v":746},"大阪府","大阪医療福祉専門学校","医療専門課程　視能訓練士学科（４年制）（昼間部）","2008-02-29","～","2015-03-31","2008-02-29","廃止",null,null,"2015-03-31","2016-02-29"]
[{"$f":"IF(OR(検索シート!$F$9=\"\",検索シート!$F$9=\"（指定なし）\",検索シート!$F$9=全国版!K750,AND(検索シート!$F$9=\"変更等なし\",全国版!K750=\"\")),1,0)","v":1},{"$f":"IF(A750=0,\"\",IFERROR(IF(OR(検索シート!$F$5=\"\",検索シート!$F$5=\"（指定なし）\"),1,FIND(ASC(検索シート!$F$5),ASC(全国版!D750)))+FIND(ASC(検索シート!$F$6),ASC(全国版!E750))+FIND(ASC(検索シート!$F$7),ASC(全国版!F750)),\"\"))","v":3},{"$f":"IF(B750=\"\",\"-\",COUNT(B$4:$B750))","v":747},"大阪府","大阪医療福祉専門学校","医療専門課程　理学療法士学科（昼間部４年制）","2024-01-17",null,null,"2024-01-17"]
[{"$f":"IF(OR(検索シート!$F$9=\"\",検索シート!$F$9=\"（指定なし）\",検索シート!$F$9=全国版!K751,AND(検索シート!$F$9=\"変更等なし\",全国版!K751=\"\")),1,0)","v":1},{"$f":"IF(A751=0,\"\",IFERROR(IF(OR(検索シート!$F$5=\"\",検索シート!$F$5=\"（指定なし）\"),1,FIND(ASC(検索シート!$F$5),ASC(全国版!D751)))+FIND(ASC(検索シート!$F$6),ASC(全国版!E751))+FIND(ASC(検索シート!$F$7),ASC(全国版!F751)),\"\"))","v":3},{"$f":"IF(B751=\"\",\"-\",COUNT(B$4:$B751))","v":748},"大阪府","大阪医療福祉専門学校","教育・社会福祉専門課程　医療経営情報学科","2010-02-26","～","2015-03-31","2010-02-26","廃止",null,null,"2015-03-31","2016-02-29"]
[{"$f":"IF(OR(検索シート!$F$9=\"\",検索シート!$F$9=\"（指定なし）\",検索シート!$F$9=全国版!K752,AND(検索シート!$F$9=\"変更等なし\",全国版!K752=\"\")),1,0)","v":1},{"$f":"IF(A752=0,\"\",IFERROR(IF(OR(検索シート!$F$5=\"\",検索シート!$F$5=\"（指定なし）\"),1,FIND(ASC(検索シート!$F$5),ASC(全国版!D752)))+FIND(ASC(検索シート!$F$6),ASC(全国版!E752))+FIND(ASC(検索シート!$F$7),ASC(全国版!F752)),\"\"))","v":3},{"$f":"IF(B752=\"\",\"-\",COUNT(B$4:$B752))","v":749},"大阪府","大阪医療福祉専門学校","教育・社会福祉専門課程　医療福祉管理学科","2005-12-09","～","2012-03-31","2005-12-09","廃止",null,null,"2012-03-31","2013-01-29"]
[{"$f":"IF(OR(検索シート!$F$9=\"\",検索シート!$F$9=\"（指定なし）\",検索シート!$F$9=全国版!K753,AND(検索シート!$F$9=\"変更等なし\",全国版!K753=\"\")),1,0)","v":1},{"$f":"IF(A753=0,\"\",IFERROR(IF(OR(検索シート!$F$5=\"\",検索シート!$F$5=\"（指定なし）\"),1,FIND(ASC(検索シート!$F$5),ASC(全国版!D753)))+FIND(ASC(検索シート!$F$6),ASC(全国版!E753))+FIND(ASC(検索シート!$F$7),ASC(全国版!F753)),\"\"))","v":3},{"$f":"IF(B753=\"\",\"-\",COUNT(B$4:$B753))","v":750},"大阪府","大阪ウェディング＆ホテル・ＩＲ専門学校","文化・教養専門課程　ＩＲ・ＭＩＣＥマネジメント科（昼間Ⅰ部）","2022-03-04","～","2022-03-31","2022-03-04","名称変更","大阪ウェディング＆ホテル・ＩＲ専門学校","文化・教養専門課程　ホスピタリティマネジメント科（昼間Ⅰ部）","2022-04-01","2023-01-27"]
[{"$f":"IF(OR(検索シート!$F$9=\"\",検索シート!$F$9=\"（指定なし）\",検索シート!$F$9=全国版!K754,AND(検索シート!$F$9=\"変更等なし\",全国版!K754=\"\")),1,0)","v":1},{"$f":"IF(A754=0,\"\",IFERROR(IF(OR(検索シート!$F$5=\"\",検索シート!$F$5=\"（指定なし）\"),1,FIND(ASC(検索シート!$F$5),ASC(全国版!D754)))+FIND(ASC(検索シート!$F$6),ASC(全国版!E754))+FIND(ASC(検索シート!$F$7),ASC(全国版!F754)),\"\"))","v":3},{"$f":"IF(B754=\"\",\"-\",COUNT(B$4:$B754))","v":751},"大阪府","大阪ウェディング＆ホテル・ＩＲ専門学校","文化・教養専門課程　ホスピタリティマネジメント科（昼間Ⅰ部）","2022-04-01","～","2023-03-31","2023-01-27","名称変更","大阪ホテル・観光＆ウェディング専門学校","文化・教養専門課程　ホスピタリティマネジメント科（昼間Ⅰ部）","2023-04-01","2024-01-17"]
[{"$f":"IF(OR(検索シート!$F$9=\"\",検索シート!$F$9=\"（指定なし）\",検索シート!$F$9=全国版!K755,AND(検索シート!$F$9=\"変更等なし\",全国版!K755=\"\")),1,0)","v":1},{"$f":"IF(A755=0,\"\",IFERROR(IF(OR(検索シート!$F$5=\"\",検索シート!$F$5=\"（指定なし）\"),1,FIND(ASC(検索シート!$F$5),ASC(全国版!D755)))+FIND(ASC(検索シート!$F$6),ASC(全国版!E755))+FIND(ASC(検索シート!$F$7),ASC(全国版!F755)),\"\"))","v":3},{"$f":"IF(B755=\"\",\"-\",COUNT(B$4:$B755))","v":752},"大阪府","大阪外語専門学校","外国語専門課程　総合エアライン科","2007-02-28","～","2010-03-31","2007-02-28","廃止",null,null,"2010-03-31","2010-11-29"]
[{"$f":"IF(OR(検索シート!$F$9=\"\",検索シート!$F$9=\"（指定なし）\",検索シート!$F$9=全国版!K756,AND(検索シート!$F$9=\"変更等なし\",全国版!K756=\"\")),1,0)","v":1},{"$f":"IF(A756=0,\"\",IFERROR(IF(OR(検索シート!$F$5=\"\",検索シート!$F$5=\"（指定なし）\"),1,FIND(ASC(検索シート!$F$5),ASC(全国版!D756)))+FIND(ASC(検索シート!$F$6),ASC(全国版!E756))+FIND(ASC(検索シート!$F$7),ASC(全国版!F756)),\"\"))","v":3},{"$f":"IF(B756=\"\",\"-\",COUNT(B$4:$B756))","v":753},"大阪府","大阪健康ほいく専門学校","福祉専門課程　初等教育科","2019-01-25","～","2023-04-01","2019-01-25","廃止",null,null,"2023-04-01"]
[{"$f":"IF(OR(検索シート!$F$9=\"\",検索シート!$F$9=\"（指定なし）\",検索シート!$F$9=全国版!K757,AND(検索シート!$F$9=\"変更等なし\",全国版!K757=\"\")),1,0)","v":1},{"$f":"IF(A757=0,\"\",IFERROR(IF(OR(検索シート!$F$5=\"\",検索シート!$F$5=\"（指定なし）\"),1,FIND(ASC(検索シート!$F$5),ASC(全国版!D757)))+FIND(ASC(検索シート!$F$6),ASC(全国版!E757))+FIND(ASC(検索シート!$F$7),ASC(全国版!F757)),\"\"))","v":3},{"$f":"IF(B757=\"\",\"-\",COUNT(B$4:$B757))","v":754},"大阪府","大阪情報コンピュータ専門学校","情報処理専門課程　総合情報メディア学科","2005-12-09","～",null,"2005-12-09"]
[{"$f":"IF(OR(検索シート!$F$9=\"\",検索シート!$F$9=\"（指定なし）\",検索シート!$F$9=全国版!K758,AND(検索シート!$F$9=\"変更等なし\",全国版!K758=\"\")),1,0)","v":1},{"$f":"IF(A758=0,\"\",IFERROR(IF(OR(検索シート!$F$5=\"\",検索シート!$F$5=\"（指定なし）\"),1,FIND(ASC(検索シート!$F$5),ASC(全国版!D758)))+FIND(ASC(検索シート!$F$6),ASC(全国版!E758))+FIND(ASC(検索シート!$F$7),ASC(全国版!F758)),\"\"))","v":3},{"$f":"IF(B758=\"\",\"-\",COUNT(B$4:$B758))","v":755},"大阪府","大阪情報専門学校","工業専門課程　大学併修学科","2015-04-01","～",null,"2016-02-29"]
[{"$f":"IF(OR(検索シート!$F$9=\"\",検索シート!$F$9=\"（指定なし）\",検索シート!$F$9=全国版!K759,AND(検索シート!$F$9=\"変更等なし\",全国版!K759=\"\")),1,0)","v":1},{"$f":"IF(A759=0,\"\",IFERROR(IF(OR(検索シート!$F$5=\"\",検索シート!$F$5=\"（指定なし）\"),1,FIND(ASC(検索シート!$F$5),ASC(全国版!D759)))+FIND(ASC(検索シート!$F$6),ASC(全国版!E759))+FIND(ASC(検索シート!$F$7),ASC(全国版!F759)),\"\"))","v":3},{"$f":"IF(B759=\"\",\"-\",COUNT(B$4:$B759))","v":756},"大阪府","大阪情報専門学校","工業専門課程　大学併修科","2005-12-09","～","2015-03-31","2005-12-09","名称変更","大阪情報専門学校","工業専門課程　大学併修学科","2015-04-01","2016-02-29"]
[{"$f":"IF(OR(検索シート!$F$9=\"\",検索シート!$F$9=\"（指定なし）\",検索シート!$F$9=全国版!K760,AND(検索シート!$F$9=\"変更等なし\",全国版!K760=\"\")),1,0)","v":1},{"$f":"IF(A760=0,\"\",IFERROR(IF(OR(検索シート!$F$5=\"\",検索シート!$F$5=\"（指定なし）\"),1,FIND(ASC(検索シート!$F$5),ASC(全国版!D760)))+FIND(ASC(検索シート!$F$6),ASC(全国版!E760))+FIND(ASC(検索シート!$F$7),ASC(全国版!F760)),\"\"))","v":3},{"$f":"IF(B760=\"\",\"-\",COUNT(B$4:$B760))","v":757},"大阪府","大阪スクールオブミュージック専門学校","文化・教養専門課程　スーパーｅエンターテイメント科（昼間Ⅰ部）","2022-03-04","～",null,"2022-03-04"]
[{"$f":"IF(OR(検索シート!$F$9=\"\",検索シート!$F$9=\"（指定なし）\",検索シート!$F$9=全国版!K761,AND(検索シート!$F$9=\"変更等なし\",全国版!K761=\"\")),1,0)","v":1},{"$f":"IF(A761=0,\"\",IFERROR(IF(OR(検索シート!$F$5=\"\",検索シート!$F$5=\"（指定なし）\"),1,FIND(ASC(検索シート!$F$5),ASC(全国版!D761)))+FIND(ASC(検索シート!$F$6),ASC(全国版!E761))+FIND(ASC(検索シート!$F$7),ASC(全国版!F761)),\"\"))","v":3},{"$f":"IF(B761=\"\",\"-\",COUNT(B$4:$B761))","v":758},"大阪府","大阪スクールオブミュージック専門学校","文化・教養専門課程　スーパーｅエンターテイメント科（昼間Ⅱ部）","2022-03-04","～",null,"2022-03-04"]
[{"$f":"IF(OR(検索シート!$F$9=\"\",検索シート!$F$9=\"（指定なし）\",検索シート!$F$9=全国版!K762,AND(検索シート!$F$9=\"変更等なし\",全国版!K762=\"\")),1,0)","v":1},{"$f":"IF(A762=0,\"\",IFERROR(IF(OR(検索シート!$F$5=\"\",検索シート!$F$5=\"（指定なし）\"),1,FIND(ASC(検索シート!$F$5),ASC(全国版!D762)))+FIND(ASC(検索シート!$F$6),ASC(全国版!E762))+FIND(ASC(検索シート!$F$7),ASC(全国版!F762)),\"\"))","v":3},{"$f":"IF(B762=\"\",\"-\",COUNT(B$4:$B762))","v":759},"大阪府","大阪総合デザイン専門学校","デザイン専門課程　ブランド創造学科","2010-11-29","～","2020-03-31","2010-11-29","廃止",null,null,"2020-03-31","2021-02-24"]
[{"$f":"IF(OR(検索シート!$F$9=\"\",検索シート!$F$9=\"（指定なし）\",検索シート!$F$9=全国版!K763,AND(検索シート!$F$9=\"変更等なし\",全国版!K763=\"\")),1,0)","v":1},{"$f":"IF(A763=0,\"\",IFERROR(IF(OR(検索シート!$F$5=\"\",検索シート!$F$5=\"（指定なし）\"),1,FIND(ASC(検索シート!$F$5),ASC(全国版!D763)))+FIND(ASC(検索シート!$F$6),ASC(全国版!E763))+FIND(ASC(検索シート!$F$7),ASC(全国版!F763)),\"\"))","v":3},{"$f":"IF(B763=\"\",\"-\",COUNT(B$4:$B763))","v":760},"大阪府","大阪ダンス＆アクターズ専門学校","文化・教養専門課程　スーパーダンス科（昼間部Ⅰ部）","2022-03-04","～","2022-03-31","2022-03-04","名称変更","大阪ダンス・俳優＆舞台芸術専門学校","文化・教養専門課程　スーパーダンス科（昼間部Ⅰ部）","2022-04-01","2023-01-27"]
[{"$f":"IF(OR(検索シート!$F$9=\"\",検索シート!$F$9=\"（指定なし）\",検索シート!$F$9=全国版!K764,AND(検索シート!$F$9=\"変更等なし\",全国版!K764=\"\")),1,0)","v":1},{"$f":"IF(A764=0,\"\",IFERROR(IF(OR(検索シート!$F$5=\"\",検索シート!$F$5=\"（指定なし）\"),1,FIND(ASC(検索シート!$F$5),ASC(全国版!D764)))+FIND(ASC(検索シート!$F$6),ASC(全国版!E764))+FIND(ASC(検索シート!$F$7),ASC(全国版!F764)),\"\"))","v":3},{"$f":"IF(B764=\"\",\"-\",COUNT(B$4:$B764))","v":761},"大阪府","大阪ダンス・俳優＆舞台芸術専門学校","文化・教養専門課程　スーパーダンス科（昼間部Ⅰ部）","2022-04-01","～",null,"2023-01-27"]
[{"$f":"IF(OR(検索シート!$F$9=\"\",検索シート!$F$9=\"（指定なし）\",検索シート!$F$9=全国版!K765,AND(検索シート!$F$9=\"変更等なし\",全国版!K765=\"\")),1,0)","v":1},{"$f":"IF(A765=0,\"\",IFERROR(IF(OR(検索シート!$F$5=\"\",検索シート!$F$5=\"（指定なし）\"),1,FIND(ASC(検索シート!$F$5),ASC(全国版!D765)))+FIND(ASC(検索シート!$F$6),ASC(全国版!E765))+FIND(ASC(検索シート!$F$7),ASC(全国版!F765)),\"\"))","v":3},{"$f":"IF(B765=\"\",\"-\",COUNT(B$4:$B765))","v":762},"大阪府","大阪ダンス・俳優＆舞台芸術専門学校","文化・教養専門課程　スーパーダンス科（昼間部Ⅱ部）","2023-01-27","～",null,"2023-01-27"]
[{"$f":"IF(OR(検索シート!$F$9=\"\",検索シート!$F$9=\"（指定なし）\",検索シート!$F$9=全国版!K766,AND(検索シート!$F$9=\"変更等なし\",全国版!K766=\"\")),1,0)","v":1},{"$f":"IF(A766=0,\"\",IFERROR(IF(OR(検索シート!$F$5=\"\",検索シート!$F$5=\"（指定なし）\"),1,FIND(ASC(検索シート!$F$5),ASC(全国版!D766)))+FIND(ASC(検索シート!$F$6),ASC(全国版!E766))+FIND(ASC(検索シート!$F$7),ASC(全国版!F766)),\"\"))","v":3},{"$f":"IF(B766=\"\",\"-\",COUNT(B$4:$B766))","v":763},"大阪府","大阪農業園芸・食テクノロジー専門学校","農業専門課程　農芸テクノロジー科（昼間Ⅱ部）","2024-01-17",null,null,"2024-01-17"]
[{"$f":"IF(OR(検索シート!$F$9=\"\",検索シート!$F$9=\"（指定なし）\",検索シート!$F$9=全国版!K767,AND(検索シート!$F$9=\"変更等なし\",全国版!K767=\"\")),1,0)","v":1},{"$f":"IF(A767=0,\"\",IFERROR(IF(OR(検索シート!$F$5=\"\",検索シート!$F$5=\"（指定なし）\"),1,FIND(ASC(検索シート!$F$5),ASC(全国版!D767)))+FIND(ASC(検索シート!$F$6),ASC(全国版!E767))+FIND(ASC(検索シート!$F$7),ASC(全国版!F767)),\"\"))","v":3},{"$f":"IF(B767=\"\",\"-\",COUNT(B$4:$B767))","v":764},"大阪府","大阪ハイテクノロジー専門学校","医療専門課程　診療放射線技師学科（昼間部）","2020-02-29","～",null,"2020-02-29"]
[{"$f":"IF(OR(検索シート!$F$9=\"\",検索シート!$F$9=\"（指定なし）\",検索シート!$F$9=全国版!K768,AND(検索シート!$F$9=\"変更等なし\",全国版!K768=\"\")),1,0)","v":1},{"$f":"IF(A768=0,\"\",IFERROR(IF(OR(検索シート!$F$5=\"\",検索シート!$F$5=\"（指定なし）\"),1,FIND(ASC(検索シート!$F$5),ASC(全国版!D768)))+FIND(ASC(検索シート!$F$6),ASC(全国版!E768))+FIND(ASC(検索シート!$F$7),ASC(全国版!F768)),\"\"))","v":3},{"$f":"IF(B768=\"\",\"-\",COUNT(B$4:$B768))","v":765},"大阪府","大阪ハイテクノロジー専門学校","医療専門課程　柔道整復トレーナー学科","2009-02-27","～","2013-03-31","2009-02-27","廃止",null,null,"2013-03-31","2014-01-28"]
[{"$f":"IF(OR(検索シート!$F$9=\"\",検索シート!$F$9=\"（指定なし）\",検索シート!$F$9=全国版!K769,AND(検索シート!$F$9=\"変更等なし\",全国版!K769=\"\")),1,0)","v":1},{"$f":"IF(A769=0,\"\",IFERROR(IF(OR(検索シート!$F$5=\"\",検索シート!$F$5=\"（指定なし）\"),1,FIND(ASC(検索シート!$F$5),ASC(全国版!D769)))+FIND(ASC(検索シート!$F$6),ASC(全国版!E769))+FIND(ASC(検索シート!$F$7),ASC(全国版!F769)),\"\"))","v":3},{"$f":"IF(B769=\"\",\"-\",COUNT(B$4:$B769))","v":766},"大阪府","大阪ハイテクノロジー専門学校","医療専門課程　鍼灸スポーツトレーナー学科","2008-02-29","～","2013-03-31","2008-02-29","廃止",null,null,"2013-03-31","2014-01-28"]
[{"$f":"IF(OR(検索シート!$F$9=\"\",検索シート!$F$9=\"（指定なし）\",検索シート!$F$9=全国版!K770,AND(検索シート!$F$9=\"変更等なし\",全国版!K770=\"\")),1,0)","v":1},{"$f":"IF(A770=0,\"\",IFERROR(IF(OR(検索シート!$F$5=\"\",検索シート!$F$5=\"（指定なし）\"),1,FIND(ASC(検索シート!$F$5),ASC(全国版!D770)))+FIND(ASC(検索シート!$F$6),ASC(全国版!E770))+FIND(ASC(検索シート!$F$7),ASC(全国版!F770)),\"\"))","v":3},{"$f":"IF(B770=\"\",\"-\",COUNT(B$4:$B770))","v":767},"大阪府","大阪ハイテクノロジー専門学校","医療専門課程　臨床工学技士科（４年制・昼間部）","2007-02-28","～","2013-03-31","2007-02-28","廃止",null,null,"2013-03-31","2014-01-28"]
[{"$f":"IF(OR(検索シート!$F$9=\"\",検索シート!$F$9=\"（指定なし）\",検索シート!$F$9=全国版!K771,AND(検索シート!$F$9=\"変更等なし\",全国版!K771=\"\")),1,0)","v":1},{"$f":"IF(A771=0,\"\",IFERROR(IF(OR(検索シート!$F$5=\"\",検索シート!$F$5=\"（指定なし）\"),1,FIND(ASC(検索シート!$F$5),ASC(全国版!D771)))+FIND(ASC(検索シート!$F$6),ASC(全国版!E771))+FIND(ASC(検索シート!$F$7),ASC(全国版!F771)),\"\"))","v":3},{"$f":"IF(B771=\"\",\"-\",COUNT(B$4:$B771))","v":768},"大阪府","大阪ハイテクノロジー専門学校","教育・社会福祉専門課程　健康産業心理科","2008-04-01","～","2009-03-31","2009-02-27","名称変更","大阪ハイテクノロジー専門学校","教育・社会福祉専門課程　健康福祉科学科","2009-04-01","2010-02-26"]
[{"$f":"IF(OR(検索シート!$F$9=\"\",検索シート!$F$9=\"（指定なし）\",検索シート!$F$9=全国版!K772,AND(検索シート!$F$9=\"変更等なし\",全国版!K772=\"\")),1,0)","v":1},{"$f":"IF(A772=0,\"\",IFERROR(IF(OR(検索シート!$F$5=\"\",検索シート!$F$5=\"（指定なし）\"),1,FIND(ASC(検索シート!$F$5),ASC(全国版!D772)))+FIND(ASC(検索シート!$F$6),ASC(全国版!E772))+FIND(ASC(検索シート!$F$7),ASC(全国版!F772)),\"\"))","v":3},{"$f":"IF(B772=\"\",\"-\",COUNT(B$4:$B772))","v":769},"大阪府","大阪ハイテクノロジー専門学校","教育・社会福祉専門課程　健康福祉科学科","2009-04-01","～","2010-03-31","2010-02-26","廃止",null,null,"2010-03-31","2010-11-29"]
[{"$f":"IF(OR(検索シート!$F$9=\"\",検索シート!$F$9=\"（指定なし）\",検索シート!$F$9=全国版!K773,AND(検索シート!$F$9=\"変更等なし\",全国版!K773=\"\")),1,0)","v":1},{"$f":"IF(A773=0,\"\",IFERROR(IF(OR(検索シート!$F$5=\"\",検索シート!$F$5=\"（指定なし）\"),1,FIND(ASC(検索シート!$F$5),ASC(全国版!D773)))+FIND(ASC(検索シート!$F$6),ASC(全国版!E773))+FIND(ASC(検索シート!$F$7),ASC(全国版!F773)),\"\"))","v":3},{"$f":"IF(B773=\"\",\"-\",COUNT(B$4:$B773))","v":770},"大阪府","大阪ハイテクノロジー専門学校","教育・社会福祉専門課程　保健心理学科","2007-04-01","～","2008-03-31","2008-02-29","名称変更","大阪ハイテクノロジー専門学校","教育・社会福祉専門課程　健康産業心理科","2008-04-01","2009-02-27"]
[{"$f":"IF(OR(検索シート!$F$9=\"\",検索シート!$F$9=\"（指定なし）\",検索シート!$F$9=全国版!K774,AND(検索シート!$F$9=\"変更等なし\",全国版!K774=\"\")),1,0)","v":1},{"$f":"IF(A774=0,\"\",IFERROR(IF(OR(検索シート!$F$5=\"\",検索シート!$F$5=\"（指定なし）\"),1,FIND(ASC(検索シート!$F$5),ASC(全国版!D774)))+FIND(ASC(検索シート!$F$6),ASC(全国版!E774))+FIND(ASC(検索シート!$F$7),ASC(全国版!F774)),\"\"))","v":3},{"$f":"IF(B774=\"\",\"-\",COUNT(B$4:$B774))","v":771},"大阪府","大阪ハイテクノロジー専門学校","教育・社会福祉専門課程　保健福祉心理科","2006-06-30","～","2007-03-31","2006-06-30","名称変更","大阪ハイテクノロジー専門学校","教育・社会福祉専門課程　保健心理学科","2007-04-01","2008-02-29"]
[{"$f":"IF(OR(検索シート!$F$9=\"\",検索シート!$F$9=\"（指定なし）\",検索シート!$F$9=全国版!K775,AND(検索シート!$F$9=\"変更等なし\",全国版!K775=\"\")),1,0)","v":1},{"$f":"IF(A775=0,\"\",IFERROR(IF(OR(検索シート!$F$5=\"\",検索シート!$F$5=\"（指定なし）\"),1,FIND(ASC(検索シート!$F$5),ASC(全国版!D775)))+FIND(ASC(検索シート!$F$6),ASC(全国版!E775))+FIND(ASC(検索シート!$F$7),ASC(全国版!F775)),\"\"))","v":3},{"$f":"IF(B775=\"\",\"-\",COUNT(B$4:$B775))","v":772},"大阪府","大阪ハイテクノロジー専門学校","文化教養専門課程　バイオテクノロジー学科","2008-02-29","～","2013-03-31","2008-02-29","廃止",null,null,"2013-03-31","2014-01-28"]
[{"$f":"IF(OR(検索シート!$F$9=\"\",検索シート!$F$9=\"（指定なし）\",検索シート!$F$9=全国版!K776,AND(検索シート!$F$9=\"変更等なし\",全国版!K776=\"\")),1,0)","v":1},{"$f":"IF(A776=0,\"\",IFERROR(IF(OR(検索シート!$F$5=\"\",検索シート!$F$5=\"（指定なし）\"),1,FIND(ASC(検索シート!$F$5),ASC(全国版!D776)))+FIND(ASC(検索シート!$F$6),ASC(全国版!E776))+FIND(ASC(検索シート!$F$7),ASC(全国版!F776)),\"\"))","v":3},{"$f":"IF(B776=\"\",\"-\",COUNT(B$4:$B776))","v":773},"大阪府","大阪府柔道整復師会医療スポーツ専門学校","医療専門課程　柔道整復学科（単位制）","2023-04-01","～",null,"2024-01-17"]
[{"$f":"IF(OR(検索シート!$F$9=\"\",検索シート!$F$9=\"（指定なし）\",検索シート!$F$9=全国版!K777,AND(検索シート!$F$9=\"変更等なし\",全国版!K777=\"\")),1,0)","v":1},{"$f":"IF(A777=0,\"\",IFERROR(IF(OR(検索シート!$F$5=\"\",検索シート!$F$5=\"（指定なし）\"),1,FIND(ASC(検索シート!$F$5),ASC(全国版!D777)))+FIND(ASC(検索シート!$F$6),ASC(全国版!E777))+FIND(ASC(検索シート!$F$7),ASC(全国版!F777)),\"\"))","v":3},{"$f":"IF(B777=\"\",\"-\",COUNT(B$4:$B777))","v":774},"大阪府","大阪府柔道整復師会専門学院","医療専門課程　柔道整復学科","2010-11-29","～","2013-03-31","2010-11-29","名称変更","大阪府柔道整復師会専門学校","医療専門課程　柔道整復学科（単位制）","2013-04-01","2014-01-28"]
[{"$f":"IF(OR(検索シート!$F$9=\"\",検索シート!$F$9=\"（指定なし）\",検索シート!$F$9=全国版!K778,AND(検索シート!$F$9=\"変更等なし\",全国版!K778=\"\")),1,0)","v":1},{"$f":"IF(A778=0,\"\",IFERROR(IF(OR(検索シート!$F$5=\"\",検索シート!$F$5=\"（指定なし）\"),1,FIND(ASC(検索シート!$F$5),ASC(全国版!D778)))+FIND(ASC(検索シート!$F$6),ASC(全国版!E778))+FIND(ASC(検索シート!$F$7),ASC(全国版!F778)),\"\"))","v":3},{"$f":"IF(B778=\"\",\"-\",COUNT(B$4:$B778))","v":775},"大阪府","大阪府柔道整復師会専門学校","医療専門課程　柔道整復学科（単位制）","2013-04-01","～","2023-03-31","2014-01-28","名称変更","大阪府柔道整復師会医療スポーツ専門学校","医療専門課程　柔道整復学科（単位制）","2023-04-01","2024-01-17"]
[{"$f":"IF(OR(検索シート!$F$9=\"\",検索シート!$F$9=\"（指定なし）\",検索シート!$F$9=全国版!K779,AND(検索シート!$F$9=\"変更等なし\",全国版!K779=\"\")),1,0)","v":1},{"$f":"IF(A779=0,\"\",IFERROR(IF(OR(検索シート!$F$5=\"\",検索シート!$F$5=\"（指定なし）\"),1,FIND(ASC(検索シート!$F$5),ASC(全国版!D779)))+FIND(ASC(検索シート!$F$6),ASC(全国版!E779))+FIND(ASC(検索シート!$F$7),ASC(全国版!F779)),\"\"))","v":3},{"$f":"IF(B779=\"\",\"-\",COUNT(B$4:$B779))","v":776},"大阪府","大阪文化服装学院","ファッション専門課程　スーパーデザイナー学科","2009-02-27","～",null,"2009-02-27"]
[{"$f":"IF(OR(検索シート!$F$9=\"\",検索シート!$F$9=\"（指定なし）\",検索シート!$F$9=全国版!K780,AND(検索シート!$F$9=\"変更等なし\",全国版!K780=\"\")),1,0)","v":1},{"$f":"IF(A780=0,\"\",IFERROR(IF(OR(検索シート!$F$5=\"\",検索シート!$F$5=\"（指定なし）\"),1,FIND(ASC(検索シート!$F$5),ASC(全国版!D780)))+FIND(ASC(検索シート!$F$6),ASC(全国版!E780))+FIND(ASC(検索シート!$F$7),ASC(全国版!F780)),\"\"))","v":3},{"$f":"IF(B780=\"\",\"-\",COUNT(B$4:$B780))","v":777},"大阪府","大阪保健医療大学附属大阪リハビリテーション専門学校","医療専門課程　作業療法学科（昼間部）","2009-04-01","～","2012-03-31","2010-11-29","廃止",null,null,"2012-03-31","2013-01-29"]
[{"$f":"IF(OR(検索シート!$F$9=\"\",検索シート!$F$9=\"（指定なし）\",検索シート!$F$9=全国版!K781,AND(検索シート!$F$9=\"変更等なし\",全国版!K781=\"\")),1,0)","v":1},{"$f":"IF(A781=0,\"\",IFERROR(IF(OR(検索シート!$F$5=\"\",検索シート!$F$5=\"（指定なし）\"),1,FIND(ASC(検索シート!$F$5),ASC(全国版!D781)))+FIND(ASC(検索シート!$F$6),ASC(全国版!E781))+FIND(ASC(検索シート!$F$7),ASC(全国版!F781)),\"\"))","v":3},{"$f":"IF(B781=\"\",\"-\",COUNT(B$4:$B781))","v":778},"大阪府","大阪保健医療大学附属大阪リハビリテーション専門学校","医療専門課程　作業療法学科（夜間部）","2009-04-01","～","2012-03-31","2010-11-29","廃止",null,null,"2012-03-31","2013-01-29"]
[{"$f":"IF(OR(検索シート!$F$9=\"\",検索シート!$F$9=\"（指定なし）\",検索シート!$F$9=全国版!K782,AND(検索シート!$F$9=\"変更等なし\",全国版!K782=\"\")),1,0)","v":1},{"$f":"IF(A782=0,\"\",IFERROR(IF(OR(検索シート!$F$5=\"\",検索シート!$F$5=\"（指定なし）\"),1,FIND(ASC(検索シート!$F$5),ASC(全国版!D782)))+FIND(ASC(検索シート!$F$6),ASC(全国版!E782))+FIND(ASC(検索シート!$F$7),ASC(全国版!F782)),\"\"))","v":3},{"$f":"IF(B782=\"\",\"-\",COUNT(B$4:$B782))","v":779},"大阪府","大阪保健医療大学附属大阪リハビリテーション専門学校","医療専門課程　理学療法学科（昼間部）","2009-04-01","～","2012-03-31","2010-11-29","廃止",null,null,"2012-03-31","2013-01-29"]
[{"$f":"IF(OR(検索シート!$F$9=\"\",検索シート!$F$9=\"（指定なし）\",検索シート!$F$9=全国版!K783,AND(検索シート!$F$9=\"変更等なし\",全国版!K783=\"\")),1,0)","v":1},{"$f":"IF(A783=0,\"\",IFERROR(IF(OR(検索シート!$F$5=\"\",検索シート!$F$5=\"（指定なし）\"),1,FIND(ASC(検索シート!$F$5),ASC(全国版!D783)))+FIND(ASC(検索シート!$F$6),ASC(全国版!E783))+FIND(ASC(検索シート!$F$7),ASC(全国版!F783)),\"\"))","v":3},{"$f":"IF(B783=\"\",\"-\",COUNT(B$4:$B783))","v":780},"大阪府","大阪保健医療大学附属大阪リハビリテーション専門学校","医療専門課程　理学療法学科（夜間部）","2009-04-01","～","2012-03-31","2010-11-29","名称変更","大阪リハビリテーション専門学校","医療専門課程（Ⅱ部）　理学療法学科（４年制）","2012-04-01","2013-01-29"]
[{"$f":"IF(OR(検索シート!$F$9=\"\",検索シート!$F$9=\"（指定なし）\",検索シート!$F$9=全国版!K784,AND(検索シート!$F$9=\"変更等なし\",全国版!K784=\"\")),1,0)","v":1},{"$f":"IF(A784=0,\"\",IFERROR(IF(OR(検索シート!$F$5=\"\",検索シート!$F$5=\"（指定なし）\"),1,FIND(ASC(検索シート!$F$5),ASC(全国版!D784)))+FIND(ASC(検索シート!$F$6),ASC(全国版!E784))+FIND(ASC(検索シート!$F$7),ASC(全国版!F784)),\"\"))","v":3},{"$f":"IF(B784=\"\",\"-\",COUNT(B$4:$B784))","v":781},"大阪府","大阪保健福祉専門学校","医療専門課程　保健看護学科","2009-02-27","～","2015-03-31","2009-02-27","廃止",null,null,"2015-03-31","2016-02-29"]
[{"$f":"IF(OR(検索シート!$F$9=\"\",検索シート!$F$9=\"（指定なし）\",検索シート!$F$9=全国版!K785,AND(検索シート!$F$9=\"変更等なし\",全国版!K785=\"\")),1,0)","v":1},{"$f":"IF(A785=0,\"\",IFERROR(IF(OR(検索シート!$F$5=\"\",検索シート!$F$5=\"（指定なし）\"),1,FIND(ASC(検索シート!$F$5),ASC(全国版!D785)))+FIND(ASC(検索シート!$F$6),ASC(全国版!E785))+FIND(ASC(検索シート!$F$7),ASC(全国版!F785)),\"\"))","v":3},{"$f":"IF(B785=\"\",\"-\",COUNT(B$4:$B785))","v":782},"大阪府","大阪保健福祉専門学校","教育・社会福祉専門課程　社会福祉科（４年制）","2008-02-29","～",null,"2008-02-29"]
[{"$f":"IF(OR(検索シート!$F$9=\"\",検索シート!$F$9=\"（指定なし）\",検索シート!$F$9=全国版!K786,AND(検索シート!$F$9=\"変更等なし\",全国版!K786=\"\")),1,0)","v":1},{"$f":"IF(A786=0,\"\",IFERROR(IF(OR(検索シート!$F$5=\"\",検索シート!$F$5=\"（指定なし）\"),1,FIND(ASC(検索シート!$F$5),ASC(全国版!D786)))+FIND(ASC(検索シート!$F$6),ASC(全国版!E786))+FIND(ASC(検索シート!$F$7),ASC(全国版!F786)),\"\"))","v":3},{"$f":"IF(B786=\"\",\"-\",COUNT(B$4:$B786))","v":783},"大阪府","大阪ホテル・観光＆ウェディング専門学校","文化・教養専門課程　ホスピタリティマネジメント科（昼間Ⅰ部）","2023-04-01","～",null,"2024-01-17"]
[{"$f":"IF(OR(検索シート!$F$9=\"\",検索シート!$F$9=\"（指定なし）\",検索シート!$F$9=全国版!K787,AND(検索シート!$F$9=\"変更等なし\",全国版!K787=\"\")),1,0)","v":1},{"$f":"IF(A787=0,\"\",IFERROR(IF(OR(検索シート!$F$5=\"\",検索シート!$F$5=\"（指定なし）\"),1,FIND(ASC(検索シート!$F$5),ASC(全国版!D787)))+FIND(ASC(検索シート!$F$6),ASC(全国版!E787))+FIND(ASC(検索シート!$F$7),ASC(全国版!F787)),\"\"))","v":3},{"$f":"IF(B787=\"\",\"-\",COUNT(B$4:$B787))","v":784},"大阪府","大阪モード学園","ファッション専門課程　ファッションデザイン学科（４年制）","2009-02-27","～",null,"2009-02-27"]
[{"$f":"IF(OR(検索シート!$F$9=\"\",検索シート!$F$9=\"（指定なし）\",検索シート!$F$9=全国版!K788,AND(検索シート!$F$9=\"変更等なし\",全国版!K788=\"\")),1,0)","v":1},{"$f":"IF(A788=0,\"\",IFERROR(IF(OR(検索シート!$F$5=\"\",検索シート!$F$5=\"（指定なし）\"),1,FIND(ASC(検索シート!$F$5),ASC(全国版!D788)))+FIND(ASC(検索シート!$F$6),ASC(全国版!E788))+FIND(ASC(検索シート!$F$7),ASC(全国版!F788)),\"\"))","v":3},{"$f":"IF(B788=\"\",\"-\",COUNT(B$4:$B788))","v":785},"大阪府","大阪リハビリテーション専門学校","医療専門課程（Ⅱ部）　理学療法学科（４年制）","2012-04-01","～","2015-03-31","2013-01-29","廃止",null,null,"2015-03-31","2016-02-29"]
[{"$f":"IF(OR(検索シート!$F$9=\"\",検索シート!$F$9=\"（指定なし）\",検索シート!$F$9=全国版!K789,AND(検索シート!$F$9=\"変更等なし\",全国版!K789=\"\")),1,0)","v":1},{"$f":"IF(A789=0,\"\",IFERROR(IF(OR(検索シート!$F$5=\"\",検索シート!$F$5=\"（指定なし）\"),1,FIND(ASC(検索シート!$F$5),ASC(全国版!D789)))+FIND(ASC(検索シート!$F$6),ASC(全国版!E789))+FIND(ASC(検索シート!$F$7),ASC(全国版!F789)),\"\"))","v":3},{"$f":"IF(B789=\"\",\"-\",COUNT(B$4:$B789))","v":786},"大阪府","大阪リハビリテーション専門学校","医療専門課程　作業療法学科（昼間部）","2005-12-09","～","2009-03-31","2005-12-09","名称変更","大阪保健医療大学附属大阪リハビリテーション専門学校","医療専門課程　作業療法学科（昼間部）","2009-04-01","2010-11-29"]
[{"$f":"IF(OR(検索シート!$F$9=\"\",検索シート!$F$9=\"（指定なし）\",検索シート!$F$9=全国版!K790,AND(検索シート!$F$9=\"変更等なし\",全国版!K790=\"\")),1,0)","v":1},{"$f":"IF(A790=0,\"\",IFERROR(IF(OR(検索シート!$F$5=\"\",検索シート!$F$5=\"（指定なし）\"),1,FIND(ASC(検索シート!$F$5),ASC(全国版!D790)))+FIND(ASC(検索シート!$F$6),ASC(全国版!E790))+FIND(ASC(検索シート!$F$7),ASC(全国版!F790)),\"\"))","v":3},{"$f":"IF(B790=\"\",\"-\",COUNT(B$4:$B790))","v":787},"大阪府","大阪リハビリテーション専門学校","医療専門課程　作業療法学科（夜間部）","2006-06-30","～","2009-03-31","2006-06-30","名称変更","大阪保健医療大学附属大阪リハビリテーション専門学校","医療専門課程　作業療法学科（夜間部）","2009-04-01","2010-11-29"]
[{"$f":"IF(OR(検索シート!$F$9=\"\",検索シート!$F$9=\"（指定なし）\",検索シート!$F$9=全国版!K791,AND(検索シート!$F$9=\"変更等なし\",全国版!K791=\"\")),1,0)","v":1},{"$f":"IF(A791=0,\"\",IFERROR(IF(OR(検索シート!$F$5=\"\",検索シート!$F$5=\"（指定なし）\"),1,FIND(ASC(検索シート!$F$5),ASC(全国版!D791)))+FIND(ASC(検索シート!$F$6),ASC(全国版!E791))+FIND(ASC(検索シート!$F$7),ASC(全国版!F791)),\"\"))","v":3},{"$f":"IF(B791=\"\",\"-\",COUNT(B$4:$B791))","v":788},"大阪府","大阪リハビリテーション専門学校","医療専門課程　理学療法学科（昼間部）","2005-12-09","～","2009-03-31","2005-12-09","名称変更","大阪保健医療大学附属大阪リハビリテーション専門学校","医療専門課程　理学療法学科（昼間部）","2009-04-01","2010-11-29"]
[{"$f":"IF(OR(検索シート!$F$9=\"\",検索シート!$F$9=\"（指定なし）\",検索シート!$F$9=全国版!K792,AND(検索シート!$F$9=\"変更等なし\",全国版!K792=\"\")),1,0)","v":1},{"$f":"IF(A792=0,\"\",IFERROR(IF(OR(検索シート!$F$5=\"\",検索シート!$F$5=\"（指定なし）\"),1,FIND(ASC(検索シート!$F$5),ASC(全国版!D792)))+FIND(ASC(検索シート!$F$6),ASC(全国版!E792))+FIND(ASC(検索シート!$F$7),ASC(全国版!F792)),\"\"))","v":3},{"$f":"IF(B792=\"\",\"-\",COUNT(B$4:$B792))","v":789},"大阪府","大阪リハビリテーション専門学校","医療専門課程　理学療法学科（夜間部）","2006-06-30","～","2009-03-31","2006-06-30","名称変更","大阪保健医療大学附属大阪リハビリテーション専門学校","医療専門課程　理学療法学科（夜間部）","2009-04-01","2010-11-29"]
[{"$f":"IF(OR(検索シート!$F$9=\"\",検索シート!$F$9=\"（指定なし）\",検索シート!$F$9=全国版!K793,AND(検索シート!$F$9=\"変更等なし\",全国版!K793=\"\")),1,0)","v":1},{"$f":"IF(A793=0,\"\",IFERROR(IF(OR(検索シート!$F$5=\"\",検索シート!$F$5=\"（指定なし）\"),1,FIND(ASC(検索シート!$F$5),ASC(全国版!D793)))+FIND(ASC(検索シート!$F$6),ASC(全国版!E793))+FIND(ASC(検索シート!$F$7),ASC(全国版!F793)),\"\"))","v":3},{"$f":"IF(B793=\"\",\"-\",COUNT(B$4:$B793))","v":790},"大阪府","大手前栄養学院専門学校","衛生専門課程　管理栄養学科","2005-12-09","～","2016-03-31","2005-12-09","名称変更","大手前栄養製菓学院専門学校","衛生専門課程　管理栄養学科","2016-04-01","2017-02-28"]
[{"$f":"IF(OR(検索シート!$F$9=\"\",検索シート!$F$9=\"（指定なし）\",検索シート!$F$9=全国版!K794,AND(検索シート!$F$9=\"変更等なし\",全国版!K794=\"\")),1,0)","v":1},{"$f":"IF(A794=0,\"\",IFERROR(IF(OR(検索シート!$F$5=\"\",検索シート!$F$5=\"（指定なし）\"),1,FIND(ASC(検索シート!$F$5),ASC(全国版!D794)))+FIND(ASC(検索シート!$F$6),ASC(全国版!E794))+FIND(ASC(検索シート!$F$7),ASC(全国版!F794)),\"\"))","v":3},{"$f":"IF(B794=\"\",\"-\",COUNT(B$4:$B794))","v":791},"大阪府","大手前栄養製菓学院専門学校","衛生専門課程　管理栄養学科","2016-04-01","～","2019-03-31","2017-02-28","廃止",null,null,"2019-03-31","2020-02-29"]
[{"$f":"IF(OR(検索シート!$F$9=\"\",検索シート!$F$9=\"（指定なし）\",検索シート!$F$9=全国版!K795,AND(検索シート!$F$9=\"変更等なし\",全国版!K795=\"\")),1,0)","v":1},{"$f":"IF(A795=0,\"\",IFERROR(IF(OR(検索シート!$F$5=\"\",検索シート!$F$5=\"（指定なし）\"),1,FIND(ASC(検索シート!$F$5),ASC(全国版!D795)))+FIND(ASC(検索シート!$F$6),ASC(全国版!E795))+FIND(ASC(検索シート!$F$7),ASC(全国版!F795)),\"\"))","v":3},{"$f":"IF(B795=\"\",\"-\",COUNT(B$4:$B795))","v":792},"大阪府","大原簿記専門学校大阪校","商業実務専門課程　税理士・公認会計士学科（４年制）","2008-02-29","～","2013-03-31","2008-02-29","廃止",null,null,"2013-03-31","2014-01-28"]
[{"$f":"IF(OR(検索シート!$F$9=\"\",検索シート!$F$9=\"（指定なし）\",検索シート!$F$9=全国版!K796,AND(検索シート!$F$9=\"変更等なし\",全国版!K796=\"\")),1,0)","v":1},{"$f":"IF(A796=0,\"\",IFERROR(IF(OR(検索シート!$F$5=\"\",検索シート!$F$5=\"（指定なし）\"),1,FIND(ASC(検索シート!$F$5),ASC(全国版!D796)))+FIND(ASC(検索シート!$F$6),ASC(全国版!E796))+FIND(ASC(検索シート!$F$7),ASC(全国版!F796)),\"\"))","v":3},{"$f":"IF(B796=\"\",\"-\",COUNT(B$4:$B796))","v":793},"大阪府","関西医科専門学校","医療専門課程　理学療法学科（夜間部）","2009-02-27","～",null,"2009-02-27"]
[{"$f":"IF(OR(検索シート!$F$9=\"\",検索シート!$F$9=\"（指定なし）\",検索シート!$F$9=全国版!K797,AND(検索シート!$F$9=\"変更等なし\",全国版!K797=\"\")),1,0)","v":1},{"$f":"IF(A797=0,\"\",IFERROR(IF(OR(検索シート!$F$5=\"\",検索シート!$F$5=\"（指定なし）\"),1,FIND(ASC(検索シート!$F$5),ASC(全国版!D797)))+FIND(ASC(検索シート!$F$6),ASC(全国版!E797))+FIND(ASC(検索シート!$F$7),ASC(全国版!F797)),\"\"))","v":3},{"$f":"IF(B797=\"\",\"-\",COUNT(B$4:$B797))","v":794},"大阪府","関西外語専門学校","国際文化専門課程　高度国際英語学科","2008-02-29","～",null,"2008-02-29"]
[{"$f":"IF(OR(検索シート!$F$9=\"\",検索シート!$F$9=\"（指定なし）\",検索シート!$F$9=全国版!K798,AND(検索シート!$F$9=\"変更等なし\",全国版!K798=\"\")),1,0)","v":1},{"$f":"IF(A798=0,\"\",IFERROR(IF(OR(検索シート!$F$5=\"\",検索シート!$F$5=\"（指定なし）\"),1,FIND(ASC(検索シート!$F$5),ASC(全国版!D798)))+FIND(ASC(検索シート!$F$6),ASC(全国版!E798))+FIND(ASC(検索シート!$F$7),ASC(全国版!F798)),\"\"))","v":3},{"$f":"IF(B798=\"\",\"-\",COUNT(B$4:$B798))","v":795},"大阪府","近畿コンピュータ電子専門学校","情報処理専門課程　情報クリエイタ工学科（４年制）","2005-12-09","～",null,"2005-12-09"]
[{"$f":"IF(OR(検索シート!$F$9=\"\",検索シート!$F$9=\"（指定なし）\",検索シート!$F$9=全国版!K799,AND(検索シート!$F$9=\"変更等なし\",全国版!K799=\"\")),1,0)","v":1},{"$f":"IF(A799=0,\"\",IFERROR(IF(OR(検索シート!$F$5=\"\",検索シート!$F$5=\"（指定なし）\"),1,FIND(ASC(検索シート!$F$5),ASC(全国版!D799)))+FIND(ASC(検索シート!$F$6),ASC(全国版!E799))+FIND(ASC(検索シート!$F$7),ASC(全国版!F799)),\"\"))","v":3},{"$f":"IF(B799=\"\",\"-\",COUNT(B$4:$B799))","v":796},"大阪府","コンピュータ総合学園ＨＡＬ専門学校","コンピュータ総合専門課程　ＣＧ映像学科","2005-12-09","～","2008-03-31","2005-12-09","名称変更","ＨＡＬ大阪","コンピュータ総合専門課程　デジタル映像学科","2008-04-01","2009-02-27"]
[{"$f":"IF(OR(検索シート!$F$9=\"\",検索シート!$F$9=\"（指定なし）\",検索シート!$F$9=全国版!K800,AND(検索シート!$F$9=\"変更等なし\",全国版!K800=\"\")),1,0)","v":1},{"$f":"IF(A800=0,\"\",IFERROR(IF(OR(検索シート!$F$5=\"\",検索シート!$F$5=\"（指定なし）\"),1,FIND(ASC(検索シート!$F$5),ASC(全国版!D800)))+FIND(ASC(検索シート!$F$6),ASC(全国版!E800))+FIND(ASC(検索シート!$F$7),ASC(全国版!F800)),\"\"))","v":3},{"$f":"IF(B800=\"\",\"-\",COUNT(B$4:$B800))","v":797},"大阪府","コンピュータ総合学園ＨＡＬ専門学校","コンピュータ総合専門課程　ＣＧデザイン学科","2005-12-09","～","2008-03-31","2005-12-09","名称変更","ＨＡＬ大阪","コンピュータ総合専門課程　ＣＧデザイン学科","2008-04-01","2009-02-27"]
[{"$f":"IF(OR(検索シート!$F$9=\"\",検索シート!$F$9=\"（指定なし）\",検索シート!$F$9=全国版!K801,AND(検索シート!$F$9=\"変更等なし\",全国版!K801=\"\")),1,0)","v":1},{"$f":"IF(A801=0,\"\",IFERROR(IF(OR(検索シート!$F$5=\"\",検索シート!$F$5=\"（指定なし）\"),1,FIND(ASC(検索シート!$F$5),ASC(全国版!D801)))+FIND(ASC(検索シート!$F$6),ASC(全国版!E801))+FIND(ASC(検索シート!$F$7),ASC(全国版!F801)),\"\"))","v":3},{"$f":"IF(B801=\"\",\"-\",COUNT(B$4:$B801))","v":798},"大阪府","コンピュータ総合学園ＨＡＬ専門学校","コンピュータ総合専門課程　ゲーム開発学科","2005-12-09","～","2008-03-31","2005-12-09","名称変更","ＨＡＬ大阪","コンピュータ総合専門課程　ゲーム開発学科","2008-04-01","2009-02-27"]
[{"$f":"IF(OR(検索シート!$F$9=\"\",検索シート!$F$9=\"（指定なし）\",検索シート!$F$9=全国版!K802,AND(検索シート!$F$9=\"変更等なし\",全国版!K802=\"\")),1,0)","v":1},{"$f":"IF(A802=0,\"\",IFERROR(IF(OR(検索シート!$F$5=\"\",検索シート!$F$5=\"（指定なし）\"),1,FIND(ASC(検索シート!$F$5),ASC(全国版!D802)))+FIND(ASC(検索シート!$F$6),ASC(全国版!E802))+FIND(ASC(検索シート!$F$7),ASC(全国版!F802)),\"\"))","v":3},{"$f":"IF(B802=\"\",\"-\",COUNT(B$4:$B802))","v":799},"大阪府","コンピュータ総合学園ＨＡＬ専門学校","コンピュータ総合専門課程　ゲーム制作学科","2005-12-09","～","2008-03-31","2005-12-09","名称変更","ＨＡＬ大阪","コンピュータ総合専門課程　ゲーム制作学科","2008-04-01","2009-02-27"]
[{"$f":"IF(OR(検索シート!$F$9=\"\",検索シート!$F$9=\"（指定なし）\",検索シート!$F$9=全国版!K803,AND(検索シート!$F$9=\"変更等なし\",全国版!K803=\"\")),1,0)","v":1},{"$f":"IF(A803=0,\"\",IFERROR(IF(OR(検索シート!$F$5=\"\",検索シート!$F$5=\"（指定なし）\"),1,FIND(ASC(検索シート!$F$5),ASC(全国版!D803)))+FIND(ASC(検索シート!$F$6),ASC(全国版!E803))+FIND(ASC(検索シート!$F$7),ASC(全国版!F803)),\"\"))","v":3},{"$f":"IF(B803=\"\",\"-\",COUNT(B$4:$B803))","v":800},"大阪府","コンピュータ総合学園ＨＡＬ専門学校","コンピュータ総合専門課程　情報サイエンス工学科","2005-12-09","～","2008-03-31","2005-12-09","名称変更","ＨＡＬ大阪","コンピュータ総合専門課程　高度情報処理学科","2008-04-01","2009-02-27"]
[{"$f":"IF(OR(検索シート!$F$9=\"\",検索シート!$F$9=\"（指定なし）\",検索シート!$F$9=全国版!K804,AND(検索シート!$F$9=\"変更等なし\",全国版!K804=\"\")),1,0)","v":1},{"$f":"IF(A804=0,\"\",IFERROR(IF(OR(検索シート!$F$5=\"\",検索シート!$F$5=\"（指定なし）\"),1,FIND(ASC(検索シート!$F$5),ASC(全国版!D804)))+FIND(ASC(検索シート!$F$6),ASC(全国版!E804))+FIND(ASC(検索シート!$F$7),ASC(全国版!F804)),\"\"))","v":3},{"$f":"IF(B804=\"\",\"-\",COUNT(B$4:$B804))","v":801},"大阪府","コンピュータ総合学園ＨＡＬ専門学校","コンピュータ総合専門課程　情報マネジメント学科","2005-12-09","～","2008-03-31","2005-12-09","名称変更","ＨＡＬ大阪","コンピュータ総合専門課程　情報セキュリティ学科","2008-04-01","2009-02-27"]
[{"$f":"IF(OR(検索シート!$F$9=\"\",検索シート!$F$9=\"（指定なし）\",検索シート!$F$9=全国版!K805,AND(検索シート!$F$9=\"変更等なし\",全国版!K805=\"\")),1,0)","v":1},{"$f":"IF(A805=0,\"\",IFERROR(IF(OR(検索シート!$F$5=\"\",検索シート!$F$5=\"（指定なし）\"),1,FIND(ASC(検索シート!$F$5),ASC(全国版!D805)))+FIND(ASC(検索シート!$F$6),ASC(全国版!E805))+FIND(ASC(検索シート!$F$7),ASC(全国版!F805)),\"\"))","v":3},{"$f":"IF(B805=\"\",\"-\",COUNT(B$4:$B805))","v":802},"大阪府","コンピュータ総合学園ＨＡＬ専門学校","コンピュータ総合専門課程　マルチメディア学科","2005-12-09","～","2008-03-31","2005-12-09","名称変更","ＨＡＬ大阪","コンピュータ総合専門課程　ＷＥＢ開発学科","2008-04-01","2009-02-27"]
[{"$f":"IF(OR(検索シート!$F$9=\"\",検索シート!$F$9=\"（指定なし）\",検索シート!$F$9=全国版!K806,AND(検索シート!$F$9=\"変更等なし\",全国版!K806=\"\")),1,0)","v":1},{"$f":"IF(A806=0,\"\",IFERROR(IF(OR(検索シート!$F$5=\"\",検索シート!$F$5=\"（指定なし）\"),1,FIND(ASC(検索シート!$F$5),ASC(全国版!D806)))+FIND(ASC(検索シート!$F$6),ASC(全国版!E806))+FIND(ASC(検索シート!$F$7),ASC(全国版!F806)),\"\"))","v":3},{"$f":"IF(B806=\"\",\"-\",COUNT(B$4:$B806))","v":803},"大阪府","コンピュータ総合学園ＨＡＬ専門学校","コンピュータ総合専門課程　ミュージック学科（４年制）","2005-12-09","～","2008-03-31","2005-12-09","名称変更","ＨＡＬ大阪","コンピュータ総合専門課程　ミュージック学科（４年制）","2008-04-01","2009-02-27"]
[{"$f":"IF(OR(検索シート!$F$9=\"\",検索シート!$F$9=\"（指定なし）\",検索シート!$F$9=全国版!K807,AND(検索シート!$F$9=\"変更等なし\",全国版!K807=\"\")),1,0)","v":1},{"$f":"IF(A807=0,\"\",IFERROR(IF(OR(検索シート!$F$5=\"\",検索シート!$F$5=\"（指定なし）\"),1,FIND(ASC(検索シート!$F$5),ASC(全国版!D807)))+FIND(ASC(検索シート!$F$6),ASC(全国版!E807))+FIND(ASC(検索シート!$F$7),ASC(全国版!F807)),\"\"))","v":3},{"$f":"IF(B807=\"\",\"-\",COUNT(B$4:$B807))","v":804},"大阪府","清風情報工科学院","工業専門課程　コンピュータ総合学科（４年制）","2011-04-01","～","2016-03-31","2013-01-29","名称変更","清風情報工科学院","工業専門課程　デザイン・コンピュータ学科（４年制）","2016-04-01","2017-02-28"]
[{"$f":"IF(OR(検索シート!$F$9=\"\",検索シート!$F$9=\"（指定なし）\",検索シート!$F$9=全国版!K808,AND(検索シート!$F$9=\"変更等なし\",全国版!K808=\"\")),1,0)","v":1},{"$f":"IF(A808=0,\"\",IFERROR(IF(OR(検索シート!$F$5=\"\",検索シート!$F$5=\"（指定なし）\"),1,FIND(ASC(検索シート!$F$5),ASC(全国版!D808)))+FIND(ASC(検索シート!$F$6),ASC(全国版!E808))+FIND(ASC(検索シート!$F$7),ASC(全国版!F808)),\"\"))","v":3},{"$f":"IF(B808=\"\",\"-\",COUNT(B$4:$B808))","v":805},"大阪府","清風情報工科学院","工業専門課程　デザイン・コンピュータ学科（４年制）","2016-04-01","～",null,"2017-02-28"]
[{"$f":"IF(OR(検索シート!$F$9=\"\",検索シート!$F$9=\"（指定なし）\",検索シート!$F$9=全国版!K809,AND(検索シート!$F$9=\"変更等なし\",全国版!K809=\"\")),1,0)","v":1},{"$f":"IF(A809=0,\"\",IFERROR(IF(OR(検索シート!$F$5=\"\",検索シート!$F$5=\"（指定なし）\"),1,FIND(ASC(検索シート!$F$5),ASC(全国版!D809)))+FIND(ASC(検索シート!$F$6),ASC(全国版!E809))+FIND(ASC(検索シート!$F$7),ASC(全国版!F809)),\"\"))","v":3},{"$f":"IF(B809=\"\",\"-\",COUNT(B$4:$B809))","v":806},"大阪府","清風情報工科学院","工業専門課程　総合コンピュータ学科（４年制）","2006-06-30","～","2011-03-31","2006-06-30","名称変更","清風情報工科学院","工業専門課程　コンピュータ総合学科（４年制）","2011-04-01","2013-01-29"]
[{"$f":"IF(OR(検索シート!$F$9=\"\",検索シート!$F$9=\"（指定なし）\",検索シート!$F$9=全国版!K810,AND(検索シート!$F$9=\"変更等なし\",全国版!K810=\"\")),1,0)","v":1},{"$f":"IF(A810=0,\"\",IFERROR(IF(OR(検索シート!$F$5=\"\",検索シート!$F$5=\"（指定なし）\"),1,FIND(ASC(検索シート!$F$5),ASC(全国版!D810)))+FIND(ASC(検索シート!$F$6),ASC(全国版!E810))+FIND(ASC(検索シート!$F$7),ASC(全国版!F810)),\"\"))","v":3},{"$f":"IF(B810=\"\",\"-\",COUNT(B$4:$B810))","v":807},"大阪府","専門学校ベルランド看護助産大学校","看護専門課程　高度専門看護学科","2019-01-25","～",null,"2019-01-25"]
[{"$f":"IF(OR(検索シート!$F$9=\"\",検索シート!$F$9=\"（指定なし）\",検索シート!$F$9=全国版!K811,AND(検索シート!$F$9=\"変更等なし\",全国版!K811=\"\")),1,0)","v":1},{"$f":"IF(A811=0,\"\",IFERROR(IF(OR(検索シート!$F$5=\"\",検索シート!$F$5=\"（指定なし）\"),1,FIND(ASC(検索シート!$F$5),ASC(全国版!D811)))+FIND(ASC(検索シート!$F$6),ASC(全国版!E811))+FIND(ASC(検索シート!$F$7),ASC(全国版!F811)),\"\"))","v":3},{"$f":"IF(B811=\"\",\"-\",COUNT(B$4:$B811))","v":808},"大阪府","中央工学校ＯＳＡＫＡ","工業専門課程　建築工学システム学科","2008-02-29","～","2011-03-31","2008-02-29","廃止",null,null,"2011-03-31","2011-12-22"]
[{"$f":"IF(OR(検索シート!$F$9=\"\",検索シート!$F$9=\"（指定なし）\",検索シート!$F$9=全国版!K812,AND(検索シート!$F$9=\"変更等なし\",全国版!K812=\"\")),1,0)","v":1},{"$f":"IF(A812=0,\"\",IFERROR(IF(OR(検索シート!$F$5=\"\",検索シート!$F$5=\"（指定なし）\"),1,FIND(ASC(検索シート!$F$5),ASC(全国版!D812)))+FIND(ASC(検索シート!$F$6),ASC(全国版!E812))+FIND(ASC(検索シート!$F$7),ASC(全国版!F812)),\"\"))","v":3},{"$f":"IF(B812=\"\",\"-\",COUNT(B$4:$B812))","v":809},"大阪府","トライデントコンピュータ専門学校大阪","情報処理専門課程　情報セキュリティ学科","2010-02-26","～","2010-03-31","2010-02-26","廃止",null,null,"2010-03-31","2010-11-29"]
[{"$f":"IF(OR(検索シート!$F$9=\"\",検索シート!$F$9=\"（指定なし）\",検索シート!$F$9=全国版!K813,AND(検索シート!$F$9=\"変更等なし\",全国版!K813=\"\")),1,0)","v":1},{"$f":"IF(A813=0,\"\",IFERROR(IF(OR(検索シート!$F$5=\"\",検索シート!$F$5=\"（指定なし）\"),1,FIND(ASC(検索シート!$F$5),ASC(全国版!D813)))+FIND(ASC(検索シート!$F$6),ASC(全国版!E813))+FIND(ASC(検索シート!$F$7),ASC(全国版!F813)),\"\"))","v":3},{"$f":"IF(B813=\"\",\"-\",COUNT(B$4:$B813))","v":810},"大阪府","日本コンピュータ専門学校","工業専門課程　Ｗｅｂスペシャリスト科（４年制）","2007-02-28","～",null,"2007-02-28"]
[{"$f":"IF(OR(検索シート!$F$9=\"\",検索シート!$F$9=\"（指定なし）\",検索シート!$F$9=全国版!K814,AND(検索シート!$F$9=\"変更等なし\",全国版!K814=\"\")),1,0)","v":1},{"$f":"IF(A814=0,\"\",IFERROR(IF(OR(検索シート!$F$5=\"\",検索シート!$F$5=\"（指定なし）\"),1,FIND(ASC(検索シート!$F$5),ASC(全国版!D814)))+FIND(ASC(検索シート!$F$6),ASC(全国版!E814))+FIND(ASC(検索シート!$F$7),ASC(全国版!F814)),\"\"))","v":3},{"$f":"IF(B814=\"\",\"-\",COUNT(B$4:$B814))","v":811},"大阪府","日本分析化学専門学校","工業専門課程　医療からだ高度分析学科","2010-02-26","～","2019-03-31","2010-02-26","廃止",null,null,"2019-03-31","2020-02-29"]
[{"$f":"IF(OR(検索シート!$F$9=\"\",検索シート!$F$9=\"（指定なし）\",検索シート!$F$9=全国版!K815,AND(検索シート!$F$9=\"変更等なし\",全国版!K815=\"\")),1,0)","v":1},{"$f":"IF(A815=0,\"\",IFERROR(IF(OR(検索シート!$F$5=\"\",検索シート!$F$5=\"（指定なし）\"),1,FIND(ASC(検索シート!$F$5),ASC(全国版!D815)))+FIND(ASC(検索シート!$F$6),ASC(全国版!E815))+FIND(ASC(検索シート!$F$7),ASC(全国版!F815)),\"\"))","v":3},{"$f":"IF(B815=\"\",\"-\",COUNT(B$4:$B815))","v":812},"大阪府","日本理工情報専門学校","工業専門課程　ロボットシステム科","2010-02-26","～",null,"2010-02-26"]
[{"$f":"IF(OR(検索シート!$F$9=\"\",検索シート!$F$9=\"（指定なし）\",検索シート!$F$9=全国版!K816,AND(検索シート!$F$9=\"変更等なし\",全国版!K816=\"\")),1,0)","v":1},{"$f":"IF(A816=0,\"\",IFERROR(IF(OR(検索シート!$F$5=\"\",検索シート!$F$5=\"（指定なし）\"),1,FIND(ASC(検索シート!$F$5),ASC(全国版!D816)))+FIND(ASC(検索シート!$F$6),ASC(全国版!E816))+FIND(ASC(検索シート!$F$7),ASC(全国版!F816)),\"\"))","v":3},{"$f":"IF(B816=\"\",\"-\",COUNT(B$4:$B816))","v":813},"大阪府","放送芸術学院専門学校","文化・教養専門課程　映像・音響テクノロジー科（昼間Ⅱ部）","2022-03-04","～",null,"2022-03-04"]
[{"$f":"IF(OR(検索シート!$F$9=\"\",検索シート!$F$9=\"（指定なし）\",検索シート!$F$9=全国版!K817,AND(検索シート!$F$9=\"変更等なし\",全国版!K817=\"\")),1,0)","v":1},{"$f":"IF(A817=0,\"\",IFERROR(IF(OR(検索シート!$F$5=\"\",検索シート!$F$5=\"（指定なし）\"),1,FIND(ASC(検索シート!$F$5),ASC(全国版!D817)))+FIND(ASC(検索シート!$F$6),ASC(全国版!E817))+FIND(ASC(検索シート!$F$7),ASC(全国版!F817)),\"\"))","v":3},{"$f":"IF(B817=\"\",\"-\",COUNT(B$4:$B817))","v":814},"大阪府","ホンダテクニカルカレッジ関西","工業専門課程　一級自動車研究開発学科","2020-04-01","～",null,"2022-03-04"]
[{"$f":"IF(OR(検索シート!$F$9=\"\",検索シート!$F$9=\"（指定なし）\",検索シート!$F$9=全国版!K818,AND(検索シート!$F$9=\"変更等なし\",全国版!K818=\"\")),1,0)","v":1},{"$f":"IF(A818=0,\"\",IFERROR(IF(OR(検索シート!$F$5=\"\",検索シート!$F$5=\"（指定なし）\"),1,FIND(ASC(検索シート!$F$5),ASC(全国版!D818)))+FIND(ASC(検索シート!$F$6),ASC(全国版!E818))+FIND(ASC(検索シート!$F$7),ASC(全国版!F818)),\"\"))","v":3},{"$f":"IF(B818=\"\",\"-\",COUNT(B$4:$B818))","v":815},"大阪府","ホンダテクニカルカレッジ関西","工業専門課程　一級自動車整備研究科","2006-06-30","～","2020-03-31","2006-06-30","名称変更","ホンダテクニカルカレッジ関西","工業専門課程　一級自動車研究開発学科","2020-04-01","2022-03-04"]
[{"$f":"IF(OR(検索シート!$F$9=\"\",検索シート!$F$9=\"（指定なし）\",検索シート!$F$9=全国版!K819,AND(検索シート!$F$9=\"変更等なし\",全国版!K819=\"\")),1,0)","v":1},{"$f":"IF(A819=0,\"\",IFERROR(IF(OR(検索シート!$F$5=\"\",検索シート!$F$5=\"（指定なし）\"),1,FIND(ASC(検索シート!$F$5),ASC(全国版!D819)))+FIND(ASC(検索シート!$F$6),ASC(全国版!E819))+FIND(ASC(検索シート!$F$7),ASC(全国版!F819)),\"\"))","v":3},{"$f":"IF(B819=\"\",\"-\",COUNT(B$4:$B819))","v":816},"大阪府","マロニエファッションデザイン専門学校","服飾専門課程　ファッションマスター学科","2006-06-30","～",null,"2006-06-30"]
[{"$f":"IF(OR(検索シート!$F$9=\"\",検索シート!$F$9=\"（指定なし）\",検索シート!$F$9=全国版!K820,AND(検索シート!$F$9=\"変更等なし\",全国版!K820=\"\")),1,0)","v":1},{"$f":"IF(A820=0,\"\",IFERROR(IF(OR(検索シート!$F$5=\"\",検索シート!$F$5=\"（指定なし）\"),1,FIND(ASC(検索シート!$F$5),ASC(全国版!D820)))+FIND(ASC(検索シート!$F$6),ASC(全国版!E820))+FIND(ASC(検索シート!$F$7),ASC(全国版!F820)),\"\"))","v":3},{"$f":"IF(B820=\"\",\"-\",COUNT(B$4:$B820))","v":817},"大阪府","履正社医療スポーツ専門学校","医療専門課程　理学療法学科（昼間部）","2008-04-01","～","2022-03-31","2009-02-27","名称変更","履正社国際医療スポーツ専門学校","医療専門課程　理学療法学科（昼間部）","2022-04-01","2023-01-27"]
[{"$f":"IF(OR(検索シート!$F$9=\"\",検索シート!$F$9=\"（指定なし）\",検索シート!$F$9=全国版!K821,AND(検索シート!$F$9=\"変更等なし\",全国版!K821=\"\")),1,0)","v":1},{"$f":"IF(A821=0,\"\",IFERROR(IF(OR(検索シート!$F$5=\"\",検索シート!$F$5=\"（指定なし）\"),1,FIND(ASC(検索シート!$F$5),ASC(全国版!D821)))+FIND(ASC(検索シート!$F$6),ASC(全国版!E821))+FIND(ASC(検索シート!$F$7),ASC(全国版!F821)),\"\"))","v":3},{"$f":"IF(B821=\"\",\"-\",COUNT(B$4:$B821))","v":818},"大阪府","履正社医療スポーツ専門学校","医療専門課程　理学療法学科（夜間部）","2008-04-01","～","2022-03-31","2009-02-27","名称変更","履正社国際医療スポーツ専門学校","医療専門課程　理学療法学科（夜間部）","2022-04-01","2023-01-27"]
[{"$f":"IF(OR(検索シート!$F$9=\"\",検索シート!$F$9=\"（指定なし）\",検索シート!$F$9=全国版!K822,AND(検索シート!$F$9=\"変更等なし\",全国版!K822=\"\")),1,0)","v":1},{"$f":"IF(A822=0,\"\",IFERROR(IF(OR(検索シート!$F$5=\"\",検索シート!$F$5=\"（指定なし）\"),1,FIND(ASC(検索シート!$F$5),ASC(全国版!D822)))+FIND(ASC(検索シート!$F$6),ASC(全国版!E822))+FIND(ASC(検索シート!$F$7),ASC(全国版!F822)),\"\"))","v":3},{"$f":"IF(B822=\"\",\"-\",COUNT(B$4:$B822))","v":819},"大阪府","履正社学園コミュニティ・スポーツ専門学校","医療専門課程　理学療法学科（昼間部）","2007-02-28","～","2008-03-31","2007-02-28","名称変更","履正社医療スポーツ専門学校","医療専門課程　理学療法学科（昼間部）","2008-04-01","2009-02-27"]
[{"$f":"IF(OR(検索シート!$F$9=\"\",検索シート!$F$9=\"（指定なし）\",検索シート!$F$9=全国版!K823,AND(検索シート!$F$9=\"変更等なし\",全国版!K823=\"\")),1,0)","v":1},{"$f":"IF(A823=0,\"\",IFERROR(IF(OR(検索シート!$F$5=\"\",検索シート!$F$5=\"（指定なし）\"),1,FIND(ASC(検索シート!$F$5),ASC(全国版!D823)))+FIND(ASC(検索シート!$F$6),ASC(全国版!E823))+FIND(ASC(検索シート!$F$7),ASC(全国版!F823)),\"\"))","v":3},{"$f":"IF(B823=\"\",\"-\",COUNT(B$4:$B823))","v":820},"大阪府","履正社学園コミュニティ・スポーツ専門学校","医療専門課程　理学療法学科（夜間部）","2007-02-28","～","2008-03-31","2007-02-28","名称変更","履正社医療スポーツ専門学校","医療専門課程　理学療法学科（夜間部）","2008-04-01","2009-02-27"]
[{"$f":"IF(OR(検索シート!$F$9=\"\",検索シート!$F$9=\"（指定なし）\",検索シート!$F$9=全国版!K824,AND(検索シート!$F$9=\"変更等なし\",全国版!K824=\"\")),1,0)","v":1},{"$f":"IF(A824=0,\"\",IFERROR(IF(OR(検索シート!$F$5=\"\",検索シート!$F$5=\"（指定なし）\"),1,FIND(ASC(検索シート!$F$5),ASC(全国版!D824)))+FIND(ASC(検索シート!$F$6),ASC(全国版!E824))+FIND(ASC(検索シート!$F$7),ASC(全国版!F824)),\"\"))","v":3},{"$f":"IF(B824=\"\",\"-\",COUNT(B$4:$B824))","v":821},"大阪府","履正社国際医療スポーツ専門学校","医療専門課程　理学療法学科（昼間部）","2022-04-01","～",null,"2023-01-27"]
[{"$f":"IF(OR(検索シート!$F$9=\"\",検索シート!$F$9=\"（指定なし）\",検索シート!$F$9=全国版!K825,AND(検索シート!$F$9=\"変更等なし\",全国版!K825=\"\")),1,0)","v":1},{"$f":"IF(A825=0,\"\",IFERROR(IF(OR(検索シート!$F$5=\"\",検索シート!$F$5=\"（指定なし）\"),1,FIND(ASC(検索シート!$F$5),ASC(全国版!D825)))+FIND(ASC(検索シート!$F$6),ASC(全国版!E825))+FIND(ASC(検索シート!$F$7),ASC(全国版!F825)),\"\"))","v":3},{"$f":"IF(B825=\"\",\"-\",COUNT(B$4:$B825))","v":822},"大阪府","履正社国際医療スポーツ専門学校","医療専門課程　理学療法学科（夜間部）","2022-04-01","～",null,"2023-01-27"]
[{"$f":"IF(OR(検索シート!$F$9=\"\",検索シート!$F$9=\"（指定なし）\",検索シート!$F$9=全国版!K826,AND(検索シート!$F$9=\"変更等なし\",全国版!K826=\"\")),1,0)","v":1},{"$f":"IF(A826=0,\"\",IFERROR(IF(OR(検索シート!$F$5=\"\",検索シート!$F$5=\"（指定なし）\"),1,FIND(ASC(検索シート!$F$5),ASC(全国版!D826)))+FIND(ASC(検索シート!$F$6),ASC(全国版!E826))+FIND(ASC(検索シート!$F$7),ASC(全国版!F826)),\"\"))","v":3},{"$f":"IF(B826=\"\",\"-\",COUNT(B$4:$B826))","v":823},"兵庫県","愛甲学院専門学校","文化・教養専門課程　法律学科","2010-11-29","～",null,"2010-11-29"]
[{"$f":"IF(OR(検索シート!$F$9=\"\",検索シート!$F$9=\"（指定なし）\",検索シート!$F$9=全国版!K827,AND(検索シート!$F$9=\"変更等なし\",全国版!K827=\"\")),1,0)","v":1},{"$f":"IF(A827=0,\"\",IFERROR(IF(OR(検索シート!$F$5=\"\",検索シート!$F$5=\"（指定なし）\"),1,FIND(ASC(検索シート!$F$5),ASC(全国版!D827)))+FIND(ASC(検索シート!$F$6),ASC(全国版!E827))+FIND(ASC(検索シート!$F$7),ASC(全国版!F827)),\"\"))","v":3},{"$f":"IF(B827=\"\",\"-\",COUNT(B$4:$B827))","v":824},"兵庫県","神戸医療福祉専門学校三田校","医療専門課程　言語聴覚士科","2014-01-28","～",null,"2014-01-28"]
[{"$f":"IF(OR(検索シート!$F$9=\"\",検索シート!$F$9=\"（指定なし）\",検索シート!$F$9=全国版!K828,AND(検索シート!$F$9=\"変更等なし\",全国版!K828=\"\")),1,0)","v":1},{"$f":"IF(A828=0,\"\",IFERROR(IF(OR(検索シート!$F$5=\"\",検索シート!$F$5=\"（指定なし）\"),1,FIND(ASC(検索シート!$F$5),ASC(全国版!D828)))+FIND(ASC(検索シート!$F$6),ASC(全国版!E828))+FIND(ASC(検索シート!$F$7),ASC(全国版!F828)),\"\"))","v":3},{"$f":"IF(B828=\"\",\"-\",COUNT(B$4:$B828))","v":825},"兵庫県","神戸医療福祉専門学校須磨校","医療専門課程　言語聴覚士科","2005-12-09","～","2013-03-31","2005-12-09","廃止",null,null,"2013-03-31","2014-01-28"]
[{"$f":"IF(OR(検索シート!$F$9=\"\",検索シート!$F$9=\"（指定なし）\",検索シート!$F$9=全国版!K829,AND(検索シート!$F$9=\"変更等なし\",全国版!K829=\"\")),1,0)","v":1},{"$f":"IF(A829=0,\"\",IFERROR(IF(OR(検索シート!$F$5=\"\",検索シート!$F$5=\"（指定なし）\"),1,FIND(ASC(検索シート!$F$5),ASC(全国版!D829)))+FIND(ASC(検索シート!$F$6),ASC(全国版!E829))+FIND(ASC(検索シート!$F$7),ASC(全国版!F829)),\"\"))","v":3},{"$f":"IF(B829=\"\",\"-\",COUNT(B$4:$B829))","v":826},"兵庫県","神戸医療福祉専門学校三田校","医療専門課程　義肢装具士科４年制","2011-12-22","～",null,"2011-12-22"]
[{"$f":"IF(OR(検索シート!$F$9=\"\",検索シート!$F$9=\"（指定なし）\",検索シート!$F$9=全国版!K830,AND(検索シート!$F$9=\"変更等なし\",全国版!K830=\"\")),1,0)","v":1},{"$f":"IF(A830=0,\"\",IFERROR(IF(OR(検索シート!$F$5=\"\",検索シート!$F$5=\"（指定なし）\"),1,FIND(ASC(検索シート!$F$5),ASC(全国版!D830)))+FIND(ASC(検索シート!$F$6),ASC(全国版!E830))+FIND(ASC(検索シート!$F$7),ASC(全国版!F830)),\"\"))","v":3},{"$f":"IF(B830=\"\",\"-\",COUNT(B$4:$B830))","v":827},"兵庫県","神戸医療福祉専門学校三田校","医療専門課程　作業療法士科","2011-12-22","～",null,"2011-12-22"]
[{"$f":"IF(OR(検索シート!$F$9=\"\",検索シート!$F$9=\"（指定なし）\",検索シート!$F$9=全国版!K831,AND(検索シート!$F$9=\"変更等なし\",全国版!K831=\"\")),1,0)","v":1},{"$f":"IF(A831=0,\"\",IFERROR(IF(OR(検索シート!$F$5=\"\",検索シート!$F$5=\"（指定なし）\"),1,FIND(ASC(検索シート!$F$5),ASC(全国版!D831)))+FIND(ASC(検索シート!$F$6),ASC(全国版!E831))+FIND(ASC(検索シート!$F$7),ASC(全国版!F831)),\"\"))","v":3},{"$f":"IF(B831=\"\",\"-\",COUNT(B$4:$B831))","v":828},"兵庫県","神戸医療福祉専門学校三田校","医療専門課程　理学療法士科","2005-12-09","～",null,"2005-12-09"]
[{"$f":"IF(OR(検索シート!$F$9=\"\",検索シート!$F$9=\"（指定なし）\",検索シート!$F$9=全国版!K832,AND(検索シート!$F$9=\"変更等なし\",全国版!K832=\"\")),1,0)","v":1},{"$f":"IF(A832=0,\"\",IFERROR(IF(OR(検索シート!$F$5=\"\",検索シート!$F$5=\"（指定なし）\"),1,FIND(ASC(検索シート!$F$5),ASC(全国版!D832)))+FIND(ASC(検索シート!$F$6),ASC(全国版!E832))+FIND(ASC(検索シート!$F$7),ASC(全国版!F832)),\"\"))","v":3},{"$f":"IF(B832=\"\",\"-\",COUNT(B$4:$B832))","v":829},"兵庫県","神戸・甲陽音楽＆ダンス専門学校","文化・教養専門課程　音楽テクノロジー科","2024-01-17",null,null,"2024-01-17"]
[{"$f":"IF(OR(検索シート!$F$9=\"\",検索シート!$F$9=\"（指定なし）\",検索シート!$F$9=全国版!K833,AND(検索シート!$F$9=\"変更等なし\",全国版!K833=\"\")),1,0)","v":1},{"$f":"IF(A833=0,\"\",IFERROR(IF(OR(検索シート!$F$5=\"\",検索シート!$F$5=\"（指定なし）\"),1,FIND(ASC(検索シート!$F$5),ASC(全国版!D833)))+FIND(ASC(検索シート!$F$6),ASC(全国版!E833))+FIND(ASC(検索シート!$F$7),ASC(全国版!F833)),\"\"))","v":3},{"$f":"IF(B833=\"\",\"-\",COUNT(B$4:$B833))","v":830},"兵庫県","神戸電子専門学校","工業専門課程　ゲーム開発研究学科","2023-01-27","～",null,"2023-01-27"]
[{"$f":"IF(OR(検索シート!$F$9=\"\",検索シート!$F$9=\"（指定なし）\",検索シート!$F$9=全国版!K834,AND(検索シート!$F$9=\"変更等なし\",全国版!K834=\"\")),1,0)","v":1},{"$f":"IF(A834=0,\"\",IFERROR(IF(OR(検索シート!$F$5=\"\",検索シート!$F$5=\"（指定なし）\"),1,FIND(ASC(検索シート!$F$5),ASC(全国版!D834)))+FIND(ASC(検索シート!$F$6),ASC(全国版!E834))+FIND(ASC(検索シート!$F$7),ASC(全国版!F834)),\"\"))","v":3},{"$f":"IF(B834=\"\",\"-\",COUNT(B$4:$B834))","v":831},"兵庫県","神戸電子専門学校","工業専門課程　ＩＴエキスパート学科","2009-02-27","～",null,"2009-02-27"]
[{"$f":"IF(OR(検索シート!$F$9=\"\",検索シート!$F$9=\"（指定なし）\",検索シート!$F$9=全国版!K835,AND(検索シート!$F$9=\"変更等なし\",全国版!K835=\"\")),1,0)","v":1},{"$f":"IF(A835=0,\"\",IFERROR(IF(OR(検索シート!$F$5=\"\",検索シート!$F$5=\"（指定なし）\"),1,FIND(ASC(検索シート!$F$5),ASC(全国版!D835)))+FIND(ASC(検索シート!$F$6),ASC(全国版!E835))+FIND(ASC(検索シート!$F$7),ASC(全国版!F835)),\"\"))","v":3},{"$f":"IF(B835=\"\",\"-\",COUNT(B$4:$B835))","v":832},"兵庫県","専門学校トヨタ神戸自動車大学校","工業専門課程　高度自動車科","2007-04-01","～",null,"2008-02-29"]
[{"$f":"IF(OR(検索シート!$F$9=\"\",検索シート!$F$9=\"（指定なし）\",検索シート!$F$9=全国版!K836,AND(検索シート!$F$9=\"変更等なし\",全国版!K836=\"\")),1,0)","v":1},{"$f":"IF(A836=0,\"\",IFERROR(IF(OR(検索シート!$F$5=\"\",検索シート!$F$5=\"（指定なし）\"),1,FIND(ASC(検索シート!$F$5),ASC(全国版!D836)))+FIND(ASC(検索シート!$F$6),ASC(全国版!E836))+FIND(ASC(検索シート!$F$7),ASC(全国版!F836)),\"\"))","v":3},{"$f":"IF(B836=\"\",\"-\",COUNT(B$4:$B836))","v":833},"兵庫県","専門学校日本工科大学校","工業専門課程　一級自動車工学科","2013-04-01","～",null,"2014-01-28"]
[{"$f":"IF(OR(検索シート!$F$9=\"\",検索シート!$F$9=\"（指定なし）\",検索シート!$F$9=全国版!K837,AND(検索シート!$F$9=\"変更等なし\",全国版!K837=\"\")),1,0)","v":1},{"$f":"IF(A837=0,\"\",IFERROR(IF(OR(検索シート!$F$5=\"\",検索シート!$F$5=\"（指定なし）\"),1,FIND(ASC(検索シート!$F$5),ASC(全国版!D837)))+FIND(ASC(検索シート!$F$6),ASC(全国版!E837))+FIND(ASC(検索シート!$F$7),ASC(全国版!F837)),\"\"))","v":3},{"$f":"IF(B837=\"\",\"-\",COUNT(B$4:$B837))","v":834},"兵庫県","専門学校日本工科大学校","工業専門課程　カスタム自動車工学科","2023-01-27","～",null,"2023-01-27"]
[{"$f":"IF(OR(検索シート!$F$9=\"\",検索シート!$F$9=\"（指定なし）\",検索シート!$F$9=全国版!K838,AND(検索シート!$F$9=\"変更等なし\",全国版!K838=\"\")),1,0)","v":1},{"$f":"IF(A838=0,\"\",IFERROR(IF(OR(検索シート!$F$5=\"\",検索シート!$F$5=\"（指定なし）\"),1,FIND(ASC(検索シート!$F$5),ASC(全国版!D838)))+FIND(ASC(検索シート!$F$6),ASC(全国版!E838))+FIND(ASC(検索シート!$F$7),ASC(全国版!F838)),\"\"))","v":3},{"$f":"IF(B838=\"\",\"-\",COUNT(B$4:$B838))","v":835},"兵庫県","東亜経理専門学校神戸駅前校","経理専門課程　経営ビジネス科","2014-01-28","～",null,"2014-01-28"]
[{"$f":"IF(OR(検索シート!$F$9=\"\",検索シート!$F$9=\"（指定なし）\",検索シート!$F$9=全国版!K839,AND(検索シート!$F$9=\"変更等なし\",全国版!K839=\"\")),1,0)","v":1},{"$f":"IF(A839=0,\"\",IFERROR(IF(OR(検索シート!$F$5=\"\",検索シート!$F$5=\"（指定なし）\"),1,FIND(ASC(検索シート!$F$5),ASC(全国版!D839)))+FIND(ASC(検索シート!$F$6),ASC(全国版!E839))+FIND(ASC(検索シート!$F$7),ASC(全国版!F839)),\"\"))","v":3},{"$f":"IF(B839=\"\",\"-\",COUNT(B$4:$B839))","v":836},"兵庫県","トヨタ神戸整備専門学校","工業専門課程　高度自動車科","2006-06-30","～","2007-03-31","2006-06-30","名称変更","専門学校トヨタ神戸自動車大学校","工業専門課程　高度自動車科","2007-04-01","2008-02-29"]
[{"$f":"IF(OR(検索シート!$F$9=\"\",検索シート!$F$9=\"（指定なし）\",検索シート!$F$9=全国版!K840,AND(検索シート!$F$9=\"変更等なし\",全国版!K840=\"\")),1,0)","v":1},{"$f":"IF(A840=0,\"\",IFERROR(IF(OR(検索シート!$F$5=\"\",検索シート!$F$5=\"（指定なし）\"),1,FIND(ASC(検索シート!$F$5),ASC(全国版!D840)))+FIND(ASC(検索シート!$F$6),ASC(全国版!E840))+FIND(ASC(検索シート!$F$7),ASC(全国版!F840)),\"\"))","v":3},{"$f":"IF(B840=\"\",\"-\",COUNT(B$4:$B840))","v":837},"兵庫県","日本工科専門学校","工業専門課程　一級自動車工学科","2013-01-29","～","2013-03-31","2013-01-29","名称変更","専門学校日本工科大学校","工業専門課程　一級自動車工学科","2013-04-01","2014-01-28"]
[{"$f":"IF(OR(検索シート!$F$9=\"\",検索シート!$F$9=\"（指定なし）\",検索シート!$F$9=全国版!K841,AND(検索シート!$F$9=\"変更等なし\",全国版!K841=\"\")),1,0)","v":1},{"$f":"IF(A841=0,\"\",IFERROR(IF(OR(検索シート!$F$5=\"\",検索シート!$F$5=\"（指定なし）\"),1,FIND(ASC(検索シート!$F$5),ASC(全国版!D841)))+FIND(ASC(検索シート!$F$6),ASC(全国版!E841))+FIND(ASC(検索シート!$F$7),ASC(全国版!F841)),\"\"))","v":3},{"$f":"IF(B841=\"\",\"-\",COUNT(B$4:$B841))","v":838},"兵庫県","ハーベスト医療福祉専門学校","医療専門課程　理学療法学科（夜間部）","2009-02-27","～","2013-03-31","2009-02-27","廃止",null,null,"2013-03-31","2014-01-28"]
[{"$f":"IF(OR(検索シート!$F$9=\"\",検索シート!$F$9=\"（指定なし）\",検索シート!$F$9=全国版!K842,AND(検索シート!$F$9=\"変更等なし\",全国版!K842=\"\")),1,0)","v":1},{"$f":"IF(A842=0,\"\",IFERROR(IF(OR(検索シート!$F$5=\"\",検索シート!$F$5=\"（指定なし）\"),1,FIND(ASC(検索シート!$F$5),ASC(全国版!D842)))+FIND(ASC(検索シート!$F$6),ASC(全国版!E842))+FIND(ASC(検索シート!$F$7),ASC(全国版!F842)),\"\"))","v":3},{"$f":"IF(B842=\"\",\"-\",COUNT(B$4:$B842))","v":839},"兵庫県","ビジネス専門学校キャリアカレッジ但馬","商業実務専門課程　経営情報学科","2005-12-09","～","2017-03-31","2005-12-09","廃止",null,null,"2017-03-31","2018-02-28"]
[{"$f":"IF(OR(検索シート!$F$9=\"\",検索シート!$F$9=\"（指定なし）\",検索シート!$F$9=全国版!K843,AND(検索シート!$F$9=\"変更等なし\",全国版!K843=\"\")),1,0)","v":1},{"$f":"IF(A843=0,\"\",IFERROR(IF(OR(検索シート!$F$5=\"\",検索シート!$F$5=\"（指定なし）\"),1,FIND(ASC(検索シート!$F$5),ASC(全国版!D843)))+FIND(ASC(検索シート!$F$6),ASC(全国版!E843))+FIND(ASC(検索シート!$F$7),ASC(全国版!F843)),\"\"))","v":3},{"$f":"IF(B843=\"\",\"-\",COUNT(B$4:$B843))","v":840},"兵庫県","平成リハビリテーション専門学校","医療専門課程　作業療法学科（４年制・昼間部）","2010-04-01","～","2014-03-31","2015-02-19","廃止",null,null,"2014-03-31","2015-02-19"]
[{"$f":"IF(OR(検索シート!$F$9=\"\",検索シート!$F$9=\"（指定なし）\",検索シート!$F$9=全国版!K844,AND(検索シート!$F$9=\"変更等なし\",全国版!K844=\"\")),1,0)","v":1},{"$f":"IF(A844=0,\"\",IFERROR(IF(OR(検索シート!$F$5=\"\",検索シート!$F$5=\"（指定なし）\"),1,FIND(ASC(検索シート!$F$5),ASC(全国版!D844)))+FIND(ASC(検索シート!$F$6),ASC(全国版!E844))+FIND(ASC(検索シート!$F$7),ASC(全国版!F844)),\"\"))","v":3},{"$f":"IF(B844=\"\",\"-\",COUNT(B$4:$B844))","v":841},"兵庫県","平成リハビリテーション専門学校","医療専門課程　作業療法学科（４年制・夜間部）","2009-04-01","～","2013-03-31","2015-02-19","廃止",null,null,"2013-03-31","2015-02-19"]
[{"$f":"IF(OR(検索シート!$F$9=\"\",検索シート!$F$9=\"（指定なし）\",検索シート!$F$9=全国版!K845,AND(検索シート!$F$9=\"変更等なし\",全国版!K845=\"\")),1,0)","v":1},{"$f":"IF(A845=0,\"\",IFERROR(IF(OR(検索シート!$F$5=\"\",検索シート!$F$5=\"（指定なし）\"),1,FIND(ASC(検索シート!$F$5),ASC(全国版!D845)))+FIND(ASC(検索シート!$F$6),ASC(全国版!E845))+FIND(ASC(検索シート!$F$7),ASC(全国版!F845)),\"\"))","v":3},{"$f":"IF(B845=\"\",\"-\",COUNT(B$4:$B845))","v":842},"兵庫県","平成リハビリテーション専門学校","医療専門課程　理学療法学科（４年制・昼間部）","2010-04-01","～","2014-03-31","2015-02-19","廃止",null,null,"2014-03-31","2015-02-19"]
[{"$f":"IF(OR(検索シート!$F$9=\"\",検索シート!$F$9=\"（指定なし）\",検索シート!$F$9=全国版!K846,AND(検索シート!$F$9=\"変更等なし\",全国版!K846=\"\")),1,0)","v":1},{"$f":"IF(A846=0,\"\",IFERROR(IF(OR(検索シート!$F$5=\"\",検索シート!$F$5=\"（指定なし）\"),1,FIND(ASC(検索シート!$F$5),ASC(全国版!D846)))+FIND(ASC(検索シート!$F$6),ASC(全国版!E846))+FIND(ASC(検索シート!$F$7),ASC(全国版!F846)),\"\"))","v":3},{"$f":"IF(B846=\"\",\"-\",COUNT(B$4:$B846))","v":843},"兵庫県","平成リハビリテーション専門学校","医療専門課程　理学療法学科（４年制・夜間部）","2009-04-01","～","2013-03-31","2015-02-19","廃止",null,null,"2013-03-31","2015-02-19"]
[{"$f":"IF(OR(検索シート!$F$9=\"\",検索シート!$F$9=\"（指定なし）\",検索シート!$F$9=全国版!K847,AND(検索シート!$F$9=\"変更等なし\",全国版!K847=\"\")),1,0)","v":1},{"$f":"IF(A847=0,\"\",IFERROR(IF(OR(検索シート!$F$5=\"\",検索シート!$F$5=\"（指定なし）\"),1,FIND(ASC(検索シート!$F$5),ASC(全国版!D847)))+FIND(ASC(検索シート!$F$6),ASC(全国版!E847))+FIND(ASC(検索シート!$F$7),ASC(全国版!F847)),\"\"))","v":3},{"$f":"IF(B847=\"\",\"-\",COUNT(B$4:$B847))","v":844},"兵庫県","平成リハビリテーション専門学校","医療専門課程　作業療法学科（昼間部）","2007-02-28","～","2010-03-31","2007-02-28","名称変更","平成リハビリテーション専門学校","医療専門課程　作業療法学科（４年制・昼間部）","2010-04-01","2015-02-19"]
[{"$f":"IF(OR(検索シート!$F$9=\"\",検索シート!$F$9=\"（指定なし）\",検索シート!$F$9=全国版!K848,AND(検索シート!$F$9=\"変更等なし\",全国版!K848=\"\")),1,0)","v":1},{"$f":"IF(A848=0,\"\",IFERROR(IF(OR(検索シート!$F$5=\"\",検索シート!$F$5=\"（指定なし）\"),1,FIND(ASC(検索シート!$F$5),ASC(全国版!D848)))+FIND(ASC(検索シート!$F$6),ASC(全国版!E848))+FIND(ASC(検索シート!$F$7),ASC(全国版!F848)),\"\"))","v":3},{"$f":"IF(B848=\"\",\"-\",COUNT(B$4:$B848))","v":845},"兵庫県","平成リハビリテーション専門学校","医療専門課程　作業療法学科（夜間部）","2007-02-28","～","2009-03-31","2007-02-28","名称変更","平成リハビリテーション専門学校","医療専門課程　作業療法学科（４年制・夜間部）","2009-04-01","2015-02-19"]
[{"$f":"IF(OR(検索シート!$F$9=\"\",検索シート!$F$9=\"（指定なし）\",検索シート!$F$9=全国版!K849,AND(検索シート!$F$9=\"変更等なし\",全国版!K849=\"\")),1,0)","v":1},{"$f":"IF(A849=0,\"\",IFERROR(IF(OR(検索シート!$F$5=\"\",検索シート!$F$5=\"（指定なし）\"),1,FIND(ASC(検索シート!$F$5),ASC(全国版!D849)))+FIND(ASC(検索シート!$F$6),ASC(全国版!E849))+FIND(ASC(検索シート!$F$7),ASC(全国版!F849)),\"\"))","v":3},{"$f":"IF(B849=\"\",\"-\",COUNT(B$4:$B849))","v":846},"兵庫県","平成リハビリテーション専門学校","医療専門課程　理学療法学科（昼間部）","2007-02-28","～","2010-03-31","2007-02-28","名称変更","平成リハビリテーション専門学校","医療専門課程　理学療法学科（４年制・昼間部）","2010-04-01","2015-02-19"]
[{"$f":"IF(OR(検索シート!$F$9=\"\",検索シート!$F$9=\"（指定なし）\",検索シート!$F$9=全国版!K850,AND(検索シート!$F$9=\"変更等なし\",全国版!K850=\"\")),1,0)","v":1},{"$f":"IF(A850=0,\"\",IFERROR(IF(OR(検索シート!$F$5=\"\",検索シート!$F$5=\"（指定なし）\"),1,FIND(ASC(検索シート!$F$5),ASC(全国版!D850)))+FIND(ASC(検索シート!$F$6),ASC(全国版!E850))+FIND(ASC(検索シート!$F$7),ASC(全国版!F850)),\"\"))","v":3},{"$f":"IF(B850=\"\",\"-\",COUNT(B$4:$B850))","v":847},"兵庫県","平成リハビリテーション専門学校","医療専門課程　理学療法学科（夜間部）","2007-02-28","～","2009-03-31","2007-02-28","名称変更","平成リハビリテーション専門学校","医療専門課程　理学療法学科（４年制・夜間部）","2009-04-01","2015-02-19"]
[{"$f":"IF(OR(検索シート!$F$9=\"\",検索シート!$F$9=\"（指定なし）\",検索シート!$F$9=全国版!K851,AND(検索シート!$F$9=\"変更等なし\",全国版!K851=\"\")),1,0)","v":1},{"$f":"IF(A851=0,\"\",IFERROR(IF(OR(検索シート!$F$5=\"\",検索シート!$F$5=\"（指定なし）\"),1,FIND(ASC(検索シート!$F$5),ASC(全国版!D851)))+FIND(ASC(検索シート!$F$6),ASC(全国版!E851))+FIND(ASC(検索シート!$F$7),ASC(全国版!F851)),\"\"))","v":3},{"$f":"IF(B851=\"\",\"-\",COUNT(B$4:$B851))","v":848},"奈良県","大原和服専門学園","家政専門課程　和裁研究科","2018-02-28","～",null,"2018-02-28"]
[{"$f":"IF(OR(検索シート!$F$9=\"\",検索シート!$F$9=\"（指定なし）\",検索シート!$F$9=全国版!K852,AND(検索シート!$F$9=\"変更等なし\",全国版!K852=\"\")),1,0)","v":1},{"$f":"IF(A852=0,\"\",IFERROR(IF(OR(検索シート!$F$5=\"\",検索シート!$F$5=\"（指定なし）\"),1,FIND(ASC(検索シート!$F$5),ASC(全国版!D852)))+FIND(ASC(検索シート!$F$6),ASC(全国版!E852))+FIND(ASC(検索シート!$F$7),ASC(全国版!F852)),\"\"))","v":3},{"$f":"IF(B852=\"\",\"-\",COUNT(B$4:$B852))","v":849},"奈良県","奈良看護大学校","医療専門課程　看護学科（４年制）","2023-01-27","～",null,"2023-01-27"]
[{"$f":"IF(OR(検索シート!$F$9=\"\",検索シート!$F$9=\"（指定なし）\",検索シート!$F$9=全国版!K853,AND(検索シート!$F$9=\"変更等なし\",全国版!K853=\"\")),1,0)","v":1},{"$f":"IF(A853=0,\"\",IFERROR(IF(OR(検索シート!$F$5=\"\",検索シート!$F$5=\"（指定なし）\"),1,FIND(ASC(検索シート!$F$5),ASC(全国版!D853)))+FIND(ASC(検索シート!$F$6),ASC(全国版!E853))+FIND(ASC(検索シート!$F$7),ASC(全国版!F853)),\"\"))","v":3},{"$f":"IF(B853=\"\",\"-\",COUNT(B$4:$B853))","v":850},"奈良県","奈良きもの芸術専門学校","家政専門課程　和裁総合科","2008-02-29","～",null,"2008-02-29"]
[{"$f":"IF(OR(検索シート!$F$9=\"\",検索シート!$F$9=\"（指定なし）\",検索シート!$F$9=全国版!K854,AND(検索シート!$F$9=\"変更等なし\",全国版!K854=\"\")),1,0)","v":1},{"$f":"IF(A854=0,\"\",IFERROR(IF(OR(検索シート!$F$5=\"\",検索シート!$F$5=\"（指定なし）\"),1,FIND(ASC(検索シート!$F$5),ASC(全国版!D854)))+FIND(ASC(検索シート!$F$6),ASC(全国版!E854))+FIND(ASC(検索シート!$F$7),ASC(全国版!F854)),\"\"))","v":3},{"$f":"IF(B854=\"\",\"-\",COUNT(B$4:$B854))","v":851},"和歌山県","和歌山国際厚生学院","理学療法士養成専門課程　理学療法学科","2009-02-27","～",null,"2009-02-27"]
[{"$f":"IF(OR(検索シート!$F$9=\"\",検索シート!$F$9=\"（指定なし）\",検索シート!$F$9=全国版!K855,AND(検索シート!$F$9=\"変更等なし\",全国版!K855=\"\")),1,0)","v":1},{"$f":"IF(A855=0,\"\",IFERROR(IF(OR(検索シート!$F$5=\"\",検索シート!$F$5=\"（指定なし）\"),1,FIND(ASC(検索シート!$F$5),ASC(全国版!D855)))+FIND(ASC(検索シート!$F$6),ASC(全国版!E855))+FIND(ASC(検索シート!$F$7),ASC(全国版!F855)),\"\"))","v":3},{"$f":"IF(B855=\"\",\"-\",COUNT(B$4:$B855))","v":852},"和歌山県","和歌山コンピュータビジネス専門学校","工業専門課程　ＩＴ科（４年制）","2024-01-17",null,null,"2024-01-17"]
[{"$f":"IF(OR(検索シート!$F$9=\"\",検索シート!$F$9=\"（指定なし）\",検索シート!$F$9=全国版!K856,AND(検索シート!$F$9=\"変更等なし\",全国版!K856=\"\")),1,0)","v":1},{"$f":"IF(A856=0,\"\",IFERROR(IF(OR(検索シート!$F$5=\"\",検索シート!$F$5=\"（指定なし）\"),1,FIND(ASC(検索シート!$F$5),ASC(全国版!D856)))+FIND(ASC(検索シート!$F$6),ASC(全国版!E856))+FIND(ASC(検索シート!$F$7),ASC(全国版!F856)),\"\"))","v":3},{"$f":"IF(B856=\"\",\"-\",COUNT(B$4:$B856))","v":853},"鳥取県","ＹＭＣＡ米子医療福祉専門学校","医療専門課程　作業療法士科","2005-12-09","～",null,"2005-12-09"]
[{"$f":"IF(OR(検索シート!$F$9=\"\",検索シート!$F$9=\"（指定なし）\",検索シート!$F$9=全国版!K857,AND(検索シート!$F$9=\"変更等なし\",全国版!K857=\"\")),1,0)","v":1},{"$f":"IF(A857=0,\"\",IFERROR(IF(OR(検索シート!$F$5=\"\",検索シート!$F$5=\"（指定なし）\"),1,FIND(ASC(検索シート!$F$5),ASC(全国版!D857)))+FIND(ASC(検索シート!$F$6),ASC(全国版!E857))+FIND(ASC(検索シート!$F$7),ASC(全国版!F857)),\"\"))","v":3},{"$f":"IF(B857=\"\",\"-\",COUNT(B$4:$B857))","v":854},"鳥取県","ＹＭＣＡ米子医療福祉専門学校","医療専門課程　理学療法士科","2005-12-09","～",null,"2005-12-09"]
[{"$f":"IF(OR(検索シート!$F$9=\"\",検索シート!$F$9=\"（指定なし）\",検索シート!$F$9=全国版!K858,AND(検索シート!$F$9=\"変更等なし\",全国版!K858=\"\")),1,0)","v":1},{"$f":"IF(A858=0,\"\",IFERROR(IF(OR(検索シート!$F$5=\"\",検索シート!$F$5=\"（指定なし）\"),1,FIND(ASC(検索シート!$F$5),ASC(全国版!D858)))+FIND(ASC(検索シート!$F$6),ASC(全国版!E858))+FIND(ASC(検索シート!$F$7),ASC(全国版!F858)),\"\"))","v":3},{"$f":"IF(B858=\"\",\"-\",COUNT(B$4:$B858))","v":855},"島根県","山陰中央専門大学校","工業専門課程　国際自動車整備士学科１級自動車整備士コース","2021-04-01","～","2022-03-31","2022-03-04","名称変更","専門学校坪内総合ビジネスカレッジ","工業専門課程　国際自動車整備士学科１級自動車整備士コース","2022-04-01","2023-01-27"]
[{"$f":"IF(OR(検索シート!$F$9=\"\",検索シート!$F$9=\"（指定なし）\",検索シート!$F$9=全国版!K859,AND(検索シート!$F$9=\"変更等なし\",全国版!K859=\"\")),1,0)","v":1},{"$f":"IF(A859=0,\"\",IFERROR(IF(OR(検索シート!$F$5=\"\",検索シート!$F$5=\"（指定なし）\"),1,FIND(ASC(検索シート!$F$5),ASC(全国版!D859)))+FIND(ASC(検索シート!$F$6),ASC(全国版!E859))+FIND(ASC(検索シート!$F$7),ASC(全国版!F859)),\"\"))","v":3},{"$f":"IF(B859=\"\",\"-\",COUNT(B$4:$B859))","v":856},"島根県","山陰中央専門大学校","工業専門課程　自動車整備学科１級自動車整備士コース","2011-04-01","～","2014-03-31","2011-12-22","名称変更","山陰中央専門大学校","工業専門課程　自動車総合学科１級自動車整備士コース","2014-04-01","2015-02-19"]
[{"$f":"IF(OR(検索シート!$F$9=\"\",検索シート!$F$9=\"（指定なし）\",検索シート!$F$9=全国版!K860,AND(検索シート!$F$9=\"変更等なし\",全国版!K860=\"\")),1,0)","v":1},{"$f":"IF(A860=0,\"\",IFERROR(IF(OR(検索シート!$F$5=\"\",検索シート!$F$5=\"（指定なし）\"),1,FIND(ASC(検索シート!$F$5),ASC(全国版!D860)))+FIND(ASC(検索シート!$F$6),ASC(全国版!E860))+FIND(ASC(検索シート!$F$7),ASC(全国版!F860)),\"\"))","v":3},{"$f":"IF(B860=\"\",\"-\",COUNT(B$4:$B860))","v":857},"島根県","山陰中央専門大学校","工業専門課程　自動車総合学科１級自動車整備士コース","2014-04-01","～","2021-03-31","2015-02-19","名称変更","山陰中央専門大学校","工業専門課程　国際自動車整備士学科１級自動車整備士コース","2021-04-01","2022-03-04"]
[{"$f":"IF(OR(検索シート!$F$9=\"\",検索シート!$F$9=\"（指定なし）\",検索シート!$F$9=全国版!K861,AND(検索シート!$F$9=\"変更等なし\",全国版!K861=\"\")),1,0)","v":1},{"$f":"IF(A861=0,\"\",IFERROR(IF(OR(検索シート!$F$5=\"\",検索シート!$F$5=\"（指定なし）\"),1,FIND(ASC(検索シート!$F$5),ASC(全国版!D861)))+FIND(ASC(検索シート!$F$6),ASC(全国版!E861))+FIND(ASC(検索シート!$F$7),ASC(全国版!F861)),\"\"))","v":3},{"$f":"IF(B861=\"\",\"-\",COUNT(B$4:$B861))","v":858},"島根県","島根リハビリテーション学院","医療専門課程　作業療法学科","2005-12-09","～",null,"2005-12-09"]
[{"$f":"IF(OR(検索シート!$F$9=\"\",検索シート!$F$9=\"（指定なし）\",検索シート!$F$9=全国版!K862,AND(検索シート!$F$9=\"変更等なし\",全国版!K862=\"\")),1,0)","v":1},{"$f":"IF(A862=0,\"\",IFERROR(IF(OR(検索シート!$F$5=\"\",検索シート!$F$5=\"（指定なし）\"),1,FIND(ASC(検索シート!$F$5),ASC(全国版!D862)))+FIND(ASC(検索シート!$F$6),ASC(全国版!E862))+FIND(ASC(検索シート!$F$7),ASC(全国版!F862)),\"\"))","v":3},{"$f":"IF(B862=\"\",\"-\",COUNT(B$4:$B862))","v":859},"島根県","島根リハビリテーション学院","医療専門課程　理学療法学科","2005-12-09","～",null,"2005-12-09"]
[{"$f":"IF(OR(検索シート!$F$9=\"\",検索シート!$F$9=\"（指定なし）\",検索シート!$F$9=全国版!K863,AND(検索シート!$F$9=\"変更等なし\",全国版!K863=\"\")),1,0)","v":1},{"$f":"IF(A863=0,\"\",IFERROR(IF(OR(検索シート!$F$5=\"\",検索シート!$F$5=\"（指定なし）\"),1,FIND(ASC(検索シート!$F$5),ASC(全国版!D863)))+FIND(ASC(検索シート!$F$6),ASC(全国版!E863))+FIND(ASC(検索シート!$F$7),ASC(全国版!F863)),\"\"))","v":3},{"$f":"IF(B863=\"\",\"-\",COUNT(B$4:$B863))","v":860},"島根県","専門学校島根自動車工学専門大学校","工業専門課程　自動車整備学科１級コース","2007-02-28","～","2011-03-31","2007-02-28","名称変更","山陰中央専門大学校","工業専門課程　自動車整備学科１級自動車整備士コース","2011-04-01","2011-12-22"]
[{"$f":"IF(OR(検索シート!$F$9=\"\",検索シート!$F$9=\"（指定なし）\",検索シート!$F$9=全国版!K864,AND(検索シート!$F$9=\"変更等なし\",全国版!K864=\"\")),1,0)","v":1},{"$f":"IF(A864=0,\"\",IFERROR(IF(OR(検索シート!$F$5=\"\",検索シート!$F$5=\"（指定なし）\"),1,FIND(ASC(検索シート!$F$5),ASC(全国版!D864)))+FIND(ASC(検索シート!$F$6),ASC(全国版!E864))+FIND(ASC(検索シート!$F$7),ASC(全国版!F864)),\"\"))","v":3},{"$f":"IF(B864=\"\",\"-\",COUNT(B$4:$B864))","v":861},"島根県","専門学校坪内総合ビジネスカレッジ","工業専門課程　国際自動車整備士学科１級自動車整備士コース","2022-04-01","～",null,"2023-01-27"]
[{"$f":"IF(OR(検索シート!$F$9=\"\",検索シート!$F$9=\"（指定なし）\",検索シート!$F$9=全国版!K865,AND(検索シート!$F$9=\"変更等なし\",全国版!K865=\"\")),1,0)","v":1},{"$f":"IF(A865=0,\"\",IFERROR(IF(OR(検索シート!$F$5=\"\",検索シート!$F$5=\"（指定なし）\"),1,FIND(ASC(検索シート!$F$5),ASC(全国版!D865)))+FIND(ASC(検索シート!$F$6),ASC(全国版!E865))+FIND(ASC(検索シート!$F$7),ASC(全国版!F865)),\"\"))","v":3},{"$f":"IF(B865=\"\",\"-\",COUNT(B$4:$B865))","v":862},"島根県","リハビリテーションカレッジ島根","医療専門課程　言語聴覚学科","2005-12-09","～",null,"2005-12-09"]
[{"$f":"IF(OR(検索シート!$F$9=\"\",検索シート!$F$9=\"（指定なし）\",検索シート!$F$9=全国版!K866,AND(検索シート!$F$9=\"変更等なし\",全国版!K866=\"\")),1,0)","v":1},{"$f":"IF(A866=0,\"\",IFERROR(IF(OR(検索シート!$F$5=\"\",検索シート!$F$5=\"（指定なし）\"),1,FIND(ASC(検索シート!$F$5),ASC(全国版!D866)))+FIND(ASC(検索シート!$F$6),ASC(全国版!E866))+FIND(ASC(検索シート!$F$7),ASC(全国版!F866)),\"\"))","v":3},{"$f":"IF(B866=\"\",\"-\",COUNT(B$4:$B866))","v":863},"島根県","リハビリテーションカレッジ島根","医療専門課程　作業療法学科","2005-12-09","～",null,"2005-12-09"]
[{"$f":"IF(OR(検索シート!$F$9=\"\",検索シート!$F$9=\"（指定なし）\",検索シート!$F$9=全国版!K867,AND(検索シート!$F$9=\"変更等なし\",全国版!K867=\"\")),1,0)","v":1},{"$f":"IF(A867=0,\"\",IFERROR(IF(OR(検索シート!$F$5=\"\",検索シート!$F$5=\"（指定なし）\"),1,FIND(ASC(検索シート!$F$5),ASC(全国版!D867)))+FIND(ASC(検索シート!$F$6),ASC(全国版!E867))+FIND(ASC(検索シート!$F$7),ASC(全国版!F867)),\"\"))","v":3},{"$f":"IF(B867=\"\",\"-\",COUNT(B$4:$B867))","v":864},"島根県","リハビリテーションカレッジ島根","医療専門課程　理学療法学科","2005-12-09","～",null,"2005-12-09"]
[{"$f":"IF(OR(検索シート!$F$9=\"\",検索シート!$F$9=\"（指定なし）\",検索シート!$F$9=全国版!K868,AND(検索シート!$F$9=\"変更等なし\",全国版!K868=\"\")),1,0)","v":1},{"$f":"IF(A868=0,\"\",IFERROR(IF(OR(検索シート!$F$5=\"\",検索シート!$F$5=\"（指定なし）\"),1,FIND(ASC(検索シート!$F$5),ASC(全国版!D868)))+FIND(ASC(検索シート!$F$6),ASC(全国版!E868))+FIND(ASC(検索シート!$F$7),ASC(全国版!F868)),\"\"))","v":3},{"$f":"IF(B868=\"\",\"-\",COUNT(B$4:$B868))","v":865},"岡山県","朝日医療大学校","医療専門課程　看護学科","2018-02-28","～",null,"2018-02-28"]
[{"$f":"IF(OR(検索シート!$F$9=\"\",検索シート!$F$9=\"（指定なし）\",検索シート!$F$9=全国版!K869,AND(検索シート!$F$9=\"変更等なし\",全国版!K869=\"\")),1,0)","v":1},{"$f":"IF(A869=0,\"\",IFERROR(IF(OR(検索シート!$F$5=\"\",検索シート!$F$5=\"（指定なし）\"),1,FIND(ASC(検索シート!$F$5),ASC(全国版!D869)))+FIND(ASC(検索シート!$F$6),ASC(全国版!E869))+FIND(ASC(検索シート!$F$7),ASC(全国版!F869)),\"\"))","v":3},{"$f":"IF(B869=\"\",\"-\",COUNT(B$4:$B869))","v":866},"岡山県","朝日医療大学校","医療専門課程　理学療法学科（昼間部）","2016-04-01","～",null,"2017-02-28"]
[{"$f":"IF(OR(検索シート!$F$9=\"\",検索シート!$F$9=\"（指定なし）\",検索シート!$F$9=全国版!K870,AND(検索シート!$F$9=\"変更等なし\",全国版!K870=\"\")),1,0)","v":1},{"$f":"IF(A870=0,\"\",IFERROR(IF(OR(検索シート!$F$5=\"\",検索シート!$F$5=\"（指定なし）\"),1,FIND(ASC(検索シート!$F$5),ASC(全国版!D870)))+FIND(ASC(検索シート!$F$6),ASC(全国版!E870))+FIND(ASC(検索シート!$F$7),ASC(全国版!F870)),\"\"))","v":3},{"$f":"IF(B870=\"\",\"-\",COUNT(B$4:$B870))","v":867},"岡山県","朝日医療大学校","医療専門課程　理学療法学科（夜間部）","2016-04-01","～","2022-03-31","2017-02-28","廃止",null,null,"2022-03-31","2023-01-27"]
[{"$f":"IF(OR(検索シート!$F$9=\"\",検索シート!$F$9=\"（指定なし）\",検索シート!$F$9=全国版!K871,AND(検索シート!$F$9=\"変更等なし\",全国版!K871=\"\")),1,0)","v":1},{"$f":"IF(A871=0,\"\",IFERROR(IF(OR(検索シート!$F$5=\"\",検索シート!$F$5=\"（指定なし）\"),1,FIND(ASC(検索シート!$F$5),ASC(全国版!D871)))+FIND(ASC(検索シート!$F$6),ASC(全国版!E871))+FIND(ASC(検索シート!$F$7),ASC(全国版!F871)),\"\"))","v":3},{"$f":"IF(B871=\"\",\"-\",COUNT(B$4:$B871))","v":868},"岡山県","朝日リハビリテーション専門学校","医療専門課程　理学療法学科（昼間部）","2007-02-28","～","2016-03-31","2007-02-28","名称変更","朝日医療大学校","医療専門課程　理学療法学科（昼間部）","2016-04-01","2017-02-28"]
[{"$f":"IF(OR(検索シート!$F$9=\"\",検索シート!$F$9=\"（指定なし）\",検索シート!$F$9=全国版!K872,AND(検索シート!$F$9=\"変更等なし\",全国版!K872=\"\")),1,0)","v":1},{"$f":"IF(A872=0,\"\",IFERROR(IF(OR(検索シート!$F$5=\"\",検索シート!$F$5=\"（指定なし）\"),1,FIND(ASC(検索シート!$F$5),ASC(全国版!D872)))+FIND(ASC(検索シート!$F$6),ASC(全国版!E872))+FIND(ASC(検索シート!$F$7),ASC(全国版!F872)),\"\"))","v":3},{"$f":"IF(B872=\"\",\"-\",COUNT(B$4:$B872))","v":869},"岡山県","朝日リハビリテーション専門学校","医療専門課程　理学療法学科（夜間部）","2007-02-28","～","2016-03-31","2007-02-28","名称変更","朝日医療大学校","医療専門課程　理学療法学科（夜間部）","2016-04-01","2017-02-28"]
[{"$f":"IF(OR(検索シート!$F$9=\"\",検索シート!$F$9=\"（指定なし）\",検索シート!$F$9=全国版!K873,AND(検索シート!$F$9=\"変更等なし\",全国版!K873=\"\")),1,0)","v":1},{"$f":"IF(A873=0,\"\",IFERROR(IF(OR(検索シート!$F$5=\"\",検索シート!$F$5=\"（指定なし）\"),1,FIND(ASC(検索シート!$F$5),ASC(全国版!D873)))+FIND(ASC(検索シート!$F$6),ASC(全国版!E873))+FIND(ASC(検索シート!$F$7),ASC(全国版!F873)),\"\"))","v":3},{"$f":"IF(B873=\"\",\"-\",COUNT(B$4:$B873))","v":870},"岡山県","岡山医療福祉専門学校","看護・保健専門課程（統合カリキュラム）　保健看護学科","2009-04-01","～","2013-01-28","2010-02-26","不適合",null,null,"2013-01-29","2013-01-29"]
[{"$f":"IF(OR(検索シート!$F$9=\"\",検索シート!$F$9=\"（指定なし）\",検索シート!$F$9=全国版!K874,AND(検索シート!$F$9=\"変更等なし\",全国版!K874=\"\")),1,0)","v":1},{"$f":"IF(A874=0,\"\",IFERROR(IF(OR(検索シート!$F$5=\"\",検索シート!$F$5=\"（指定なし）\"),1,FIND(ASC(検索シート!$F$5),ASC(全国版!D874)))+FIND(ASC(検索シート!$F$6),ASC(全国版!E874))+FIND(ASC(検索シート!$F$7),ASC(全国版!F874)),\"\"))","v":3},{"$f":"IF(B874=\"\",\"-\",COUNT(B$4:$B874))","v":871},"岡山県","岡山科学技術専門学校","工業専門課程　一級自動車工学科","2011-12-22","～","2021-03-31","2011-12-22","廃止",null,null,"2021-03-31","2022-03-04"]
[{"$f":"IF(OR(検索シート!$F$9=\"\",検索シート!$F$9=\"（指定なし）\",検索シート!$F$9=全国版!K875,AND(検索シート!$F$9=\"変更等なし\",全国版!K875=\"\")),1,0)","v":1},{"$f":"IF(A875=0,\"\",IFERROR(IF(OR(検索シート!$F$5=\"\",検索シート!$F$5=\"（指定なし）\"),1,FIND(ASC(検索シート!$F$5),ASC(全国版!D875)))+FIND(ASC(検索シート!$F$6),ASC(全国版!E875))+FIND(ASC(検索シート!$F$7),ASC(全国版!F875)),\"\"))","v":3},{"$f":"IF(B875=\"\",\"-\",COUNT(B$4:$B875))","v":872},"岡山県","専門学校岡山自動車大学校","工業専門課程　一級自動車整備科","2009-02-27","～",null,"2009-02-27"]
[{"$f":"IF(OR(検索シート!$F$9=\"\",検索シート!$F$9=\"（指定なし）\",検索シート!$F$9=全国版!K876,AND(検索シート!$F$9=\"変更等なし\",全国版!K876=\"\")),1,0)","v":1},{"$f":"IF(A876=0,\"\",IFERROR(IF(OR(検索シート!$F$5=\"\",検索シート!$F$5=\"（指定なし）\"),1,FIND(ASC(検索シート!$F$5),ASC(全国版!D876)))+FIND(ASC(検索シート!$F$6),ASC(全国版!E876))+FIND(ASC(検索シート!$F$7),ASC(全国版!F876)),\"\"))","v":3},{"$f":"IF(B876=\"\",\"-\",COUNT(B$4:$B876))","v":873},"岡山県","専門学校岡山ファッションスクール","服飾専門課程　ファッション高度専門士科","2022-03-04","～",null,"2022-03-04"]
[{"$f":"IF(OR(検索シート!$F$9=\"\",検索シート!$F$9=\"（指定なし）\",検索シート!$F$9=全国版!K877,AND(検索シート!$F$9=\"変更等なし\",全国版!K877=\"\")),1,0)","v":1},{"$f":"IF(A877=0,\"\",IFERROR(IF(OR(検索シート!$F$5=\"\",検索シート!$F$5=\"（指定なし）\"),1,FIND(ASC(検索シート!$F$5),ASC(全国版!D877)))+FIND(ASC(検索シート!$F$6),ASC(全国版!E877))+FIND(ASC(検索シート!$F$7),ASC(全国版!F877)),\"\"))","v":3},{"$f":"IF(B877=\"\",\"-\",COUNT(B$4:$B877))","v":874},"岡山県","専門学校倉敷リハビリテーション学院","医療専門課程　作業療法学科","2014-04-01","～","2015-03-31","2015-02-19","廃止",null,null,"2015-03-31","2017-02-28"]
[{"$f":"IF(OR(検索シート!$F$9=\"\",検索シート!$F$9=\"（指定なし）\",検索シート!$F$9=全国版!K878,AND(検索シート!$F$9=\"変更等なし\",全国版!K878=\"\")),1,0)","v":1},{"$f":"IF(A878=0,\"\",IFERROR(IF(OR(検索シート!$F$5=\"\",検索シート!$F$5=\"（指定なし）\"),1,FIND(ASC(検索シート!$F$5),ASC(全国版!D878)))+FIND(ASC(検索シート!$F$6),ASC(全国版!E878))+FIND(ASC(検索シート!$F$7),ASC(全国版!F878)),\"\"))","v":3},{"$f":"IF(B878=\"\",\"-\",COUNT(B$4:$B878))","v":875},"岡山県","専門学校倉敷リハビリテーション学院","医療専門課程　理学療法学科（４年制）","2014-04-01","～",null,"2015-02-19"]
[{"$f":"IF(OR(検索シート!$F$9=\"\",検索シート!$F$9=\"（指定なし）\",検索シート!$F$9=全国版!K879,AND(検索シート!$F$9=\"変更等なし\",全国版!K879=\"\")),1,0)","v":1},{"$f":"IF(A879=0,\"\",IFERROR(IF(OR(検索シート!$F$5=\"\",検索シート!$F$5=\"（指定なし）\"),1,FIND(ASC(検索シート!$F$5),ASC(全国版!D879)))+FIND(ASC(検索シート!$F$6),ASC(全国版!E879))+FIND(ASC(検索シート!$F$7),ASC(全国版!F879)),\"\"))","v":3},{"$f":"IF(B879=\"\",\"-\",COUNT(B$4:$B879))","v":876},"岡山県","専門学校福嶋リハビリテーション学院","医療専門課程　作業療法学科","2007-02-28","～","2014-03-31","2007-02-28","名称変更","専門学校倉敷リハビリテーション学院","医療専門課程　作業療法学科","2014-04-01","2015-02-19"]
[{"$f":"IF(OR(検索シート!$F$9=\"\",検索シート!$F$9=\"（指定なし）\",検索シート!$F$9=全国版!K880,AND(検索シート!$F$9=\"変更等なし\",全国版!K880=\"\")),1,0)","v":1},{"$f":"IF(A880=0,\"\",IFERROR(IF(OR(検索シート!$F$5=\"\",検索シート!$F$5=\"（指定なし）\"),1,FIND(ASC(検索シート!$F$5),ASC(全国版!D880)))+FIND(ASC(検索シート!$F$6),ASC(全国版!E880))+FIND(ASC(検索シート!$F$7),ASC(全国版!F880)),\"\"))","v":3},{"$f":"IF(B880=\"\",\"-\",COUNT(B$4:$B880))","v":877},"岡山県","専門学校福嶋リハビリテーション学院","医療専門課程　理学療法学科","2007-02-28","～","2014-03-31","2007-02-28","名称変更","専門学校倉敷リハビリテーション学院","医療専門課程　理学療法学科（４年制）","2014-04-01","2015-02-19"]
[{"$f":"IF(OR(検索シート!$F$9=\"\",検索シート!$F$9=\"（指定なし）\",検索シート!$F$9=全国版!K881,AND(検索シート!$F$9=\"変更等なし\",全国版!K881=\"\")),1,0)","v":1},{"$f":"IF(A881=0,\"\",IFERROR(IF(OR(検索シート!$F$5=\"\",検索シート!$F$5=\"（指定なし）\"),1,FIND(ASC(検索シート!$F$5),ASC(全国版!D881)))+FIND(ASC(検索シート!$F$6),ASC(全国版!E881))+FIND(ASC(検索シート!$F$7),ASC(全国版!F881)),\"\"))","v":3},{"$f":"IF(B881=\"\",\"-\",COUNT(B$4:$B881))","v":878},"岡山県","玉野総合医療専門学校","医療専門課程　作業療法学科","2005-12-09","～",null,"2005-12-09"]
[{"$f":"IF(OR(検索シート!$F$9=\"\",検索シート!$F$9=\"（指定なし）\",検索シート!$F$9=全国版!K882,AND(検索シート!$F$9=\"変更等なし\",全国版!K882=\"\")),1,0)","v":1},{"$f":"IF(A882=0,\"\",IFERROR(IF(OR(検索シート!$F$5=\"\",検索シート!$F$5=\"（指定なし）\"),1,FIND(ASC(検索シート!$F$5),ASC(全国版!D882)))+FIND(ASC(検索シート!$F$6),ASC(全国版!E882))+FIND(ASC(検索シート!$F$7),ASC(全国版!F882)),\"\"))","v":3},{"$f":"IF(B882=\"\",\"-\",COUNT(B$4:$B882))","v":879},"岡山県","玉野総合医療専門学校","医療専門課程　保健看護学科","2005-12-09","～",null,"2005-12-09"]
[{"$f":"IF(OR(検索シート!$F$9=\"\",検索シート!$F$9=\"（指定なし）\",検索シート!$F$9=全国版!K883,AND(検索シート!$F$9=\"変更等なし\",全国版!K883=\"\")),1,0)","v":1},{"$f":"IF(A883=0,\"\",IFERROR(IF(OR(検索シート!$F$5=\"\",検索シート!$F$5=\"（指定なし）\"),1,FIND(ASC(検索シート!$F$5),ASC(全国版!D883)))+FIND(ASC(検索シート!$F$6),ASC(全国版!E883))+FIND(ASC(検索シート!$F$7),ASC(全国版!F883)),\"\"))","v":3},{"$f":"IF(B883=\"\",\"-\",COUNT(B$4:$B883))","v":880},"岡山県","玉野総合医療専門学校","医療専門課程　理学療法学科","2005-12-09","～",null,"2005-12-09"]
[{"$f":"IF(OR(検索シート!$F$9=\"\",検索シート!$F$9=\"（指定なし）\",検索シート!$F$9=全国版!K884,AND(検索シート!$F$9=\"変更等なし\",全国版!K884=\"\")),1,0)","v":1},{"$f":"IF(A884=0,\"\",IFERROR(IF(OR(検索シート!$F$5=\"\",検索シート!$F$5=\"（指定なし）\"),1,FIND(ASC(検索シート!$F$5),ASC(全国版!D884)))+FIND(ASC(検索シート!$F$6),ASC(全国版!E884))+FIND(ASC(検索シート!$F$7),ASC(全国版!F884)),\"\"))","v":3},{"$f":"IF(B884=\"\",\"-\",COUNT(B$4:$B884))","v":881},"岡山県","中国デザイン専門学校","造形専門課程　総合デザイン科","2007-02-28","～",null,"2007-02-28"]
[{"$f":"IF(OR(検索シート!$F$9=\"\",検索シート!$F$9=\"（指定なし）\",検索シート!$F$9=全国版!K885,AND(検索シート!$F$9=\"変更等なし\",全国版!K885=\"\")),1,0)","v":1},{"$f":"IF(A885=0,\"\",IFERROR(IF(OR(検索シート!$F$5=\"\",検索シート!$F$5=\"（指定なし）\"),1,FIND(ASC(検索シート!$F$5),ASC(全国版!D885)))+FIND(ASC(検索シート!$F$6),ASC(全国版!E885))+FIND(ASC(検索シート!$F$7),ASC(全国版!F885)),\"\"))","v":3},{"$f":"IF(B885=\"\",\"-\",COUNT(B$4:$B885))","v":882},"岡山県","ベル総合福祉専門学校","看護・保健専門課程（統合カリキュラム）　保健看護学科","2007-02-28","～","2009-03-31","2007-02-28","名称変更","岡山医療福祉専門学校","看護・保健専門課程（統合カリキュラム）　保健看護学科","2009-04-01","2010-02-26"]
[{"$f":"IF(OR(検索シート!$F$9=\"\",検索シート!$F$9=\"（指定なし）\",検索シート!$F$9=全国版!K886,AND(検索シート!$F$9=\"変更等なし\",全国版!K886=\"\")),1,0)","v":1},{"$f":"IF(A886=0,\"\",IFERROR(IF(OR(検索シート!$F$5=\"\",検索シート!$F$5=\"（指定なし）\"),1,FIND(ASC(検索シート!$F$5),ASC(全国版!D886)))+FIND(ASC(検索シート!$F$6),ASC(全国版!E886))+FIND(ASC(検索シート!$F$7),ASC(全国版!F886)),\"\"))","v":3},{"$f":"IF(B886=\"\",\"-\",COUNT(B$4:$B886))","v":883},"岡山県","美作市スポーツ医療看護専門学校","医療専門課程　柔道整復スポーツトレーナー学科","2019-01-25","～","2023-04-01","2019-01-25","不適合",null,null,"2023-04-01"]
[{"$f":"IF(OR(検索シート!$F$9=\"\",検索シート!$F$9=\"（指定なし）\",検索シート!$F$9=全国版!K887,AND(検索シート!$F$9=\"変更等なし\",全国版!K887=\"\")),1,0)","v":1},{"$f":"IF(A887=0,\"\",IFERROR(IF(OR(検索シート!$F$5=\"\",検索シート!$F$5=\"（指定なし）\"),1,FIND(ASC(検索シート!$F$5),ASC(全国版!D887)))+FIND(ASC(検索シート!$F$6),ASC(全国版!E887))+FIND(ASC(検索シート!$F$7),ASC(全国版!F887)),\"\"))","v":3},{"$f":"IF(B887=\"\",\"-\",COUNT(B$4:$B887))","v":884},"広島県","ＣＡＣ医療技術専門学校","医療専門課程　作業療法学科（昼間部）","2005-12-09","～","2009-04-30","2005-12-09","名称変更","朝日医療専門学校福山校","医療専門課程　作業療法学科（昼間部）","2009-05-01","2010-02-26"]
[{"$f":"IF(OR(検索シート!$F$9=\"\",検索シート!$F$9=\"（指定なし）\",検索シート!$F$9=全国版!K888,AND(検索シート!$F$9=\"変更等なし\",全国版!K888=\"\")),1,0)","v":1},{"$f":"IF(A888=0,\"\",IFERROR(IF(OR(検索シート!$F$5=\"\",検索シート!$F$5=\"（指定なし）\"),1,FIND(ASC(検索シート!$F$5),ASC(全国版!D888)))+FIND(ASC(検索シート!$F$6),ASC(全国版!E888))+FIND(ASC(検索シート!$F$7),ASC(全国版!F888)),\"\"))","v":3},{"$f":"IF(B888=\"\",\"-\",COUNT(B$4:$B888))","v":885},"広島県","ＣＡＣ医療技術専門学校","医療専門課程　理学療法学科（昼間部）","2005-12-09","～","2009-04-30","2005-12-09","名称変更","朝日医療専門学校福山校","医療専門課程　理学療法学科（昼間部）","2009-05-01","2010-02-26"]
[{"$f":"IF(OR(検索シート!$F$9=\"\",検索シート!$F$9=\"（指定なし）\",検索シート!$F$9=全国版!K889,AND(検索シート!$F$9=\"変更等なし\",全国版!K889=\"\")),1,0)","v":1},{"$f":"IF(A889=0,\"\",IFERROR(IF(OR(検索シート!$F$5=\"\",検索シート!$F$5=\"（指定なし）\"),1,FIND(ASC(検索シート!$F$5),ASC(全国版!D889)))+FIND(ASC(検索シート!$F$6),ASC(全国版!E889))+FIND(ASC(検索シート!$F$7),ASC(全国版!F889)),\"\"))","v":3},{"$f":"IF(B889=\"\",\"-\",COUNT(B$4:$B889))","v":886},"広島県","朝日医療専門学校福山校","医療専門課程　作業療法学科（昼間部）","2009-05-01","～","2016-03-31","2010-02-26","名称変更","福山医療専門学校","医療専門課程　作業療法学科","2016-04-01","2017-02-28"]
[{"$f":"IF(OR(検索シート!$F$9=\"\",検索シート!$F$9=\"（指定なし）\",検索シート!$F$9=全国版!K890,AND(検索シート!$F$9=\"変更等なし\",全国版!K890=\"\")),1,0)","v":1},{"$f":"IF(A890=0,\"\",IFERROR(IF(OR(検索シート!$F$5=\"\",検索シート!$F$5=\"（指定なし）\"),1,FIND(ASC(検索シート!$F$5),ASC(全国版!D890)))+FIND(ASC(検索シート!$F$6),ASC(全国版!E890))+FIND(ASC(検索シート!$F$7),ASC(全国版!F890)),\"\"))","v":3},{"$f":"IF(B890=\"\",\"-\",COUNT(B$4:$B890))","v":887},"広島県","朝日医療専門学校福山校","医療専門課程　理学療法学科（昼間部）","2009-05-01","～","2016-03-31","2010-02-26","名称変更","福山医療専門学校","医療専門課程　理学療法学科（昼間部）","2016-04-01","2017-02-28"]
[{"$f":"IF(OR(検索シート!$F$9=\"\",検索シート!$F$9=\"（指定なし）\",検索シート!$F$9=全国版!K891,AND(検索シート!$F$9=\"変更等なし\",全国版!K891=\"\")),1,0)","v":1},{"$f":"IF(A891=0,\"\",IFERROR(IF(OR(検索シート!$F$5=\"\",検索シート!$F$5=\"（指定なし）\"),1,FIND(ASC(検索シート!$F$5),ASC(全国版!D891)))+FIND(ASC(検索シート!$F$6),ASC(全国版!E891))+FIND(ASC(検索シート!$F$7),ASC(全国版!F891)),\"\"))","v":3},{"$f":"IF(B891=\"\",\"-\",COUNT(B$4:$B891))","v":888},"広島県","石田あさきトータルファッション専門学校","家政専門課程　高度アパレル専門学科","2009-02-27","～",null,"2009-02-27"]
[{"$f":"IF(OR(検索シート!$F$9=\"\",検索シート!$F$9=\"（指定なし）\",検索シート!$F$9=全国版!K892,AND(検索シート!$F$9=\"変更等なし\",全国版!K892=\"\")),1,0)","v":1},{"$f":"IF(A892=0,\"\",IFERROR(IF(OR(検索シート!$F$5=\"\",検索シート!$F$5=\"（指定なし）\"),1,FIND(ASC(検索シート!$F$5),ASC(全国版!D892)))+FIND(ASC(検索シート!$F$6),ASC(全国版!E892))+FIND(ASC(検索シート!$F$7),ASC(全国版!F892)),\"\"))","v":3},{"$f":"IF(B892=\"\",\"-\",COUNT(B$4:$B892))","v":889},"広島県","小井手学園広島ファッションビジネス専門学校","家政専門課程　プロフェッショナル科","2008-02-29","～","2011-03-31","2008-02-29","名称変更","小井手ファッションビューティ専門学校","家政専門課程　プロフェッショナル科","2011-04-01","2011-12-22"]
[{"$f":"IF(OR(検索シート!$F$9=\"\",検索シート!$F$9=\"（指定なし）\",検索シート!$F$9=全国版!K893,AND(検索シート!$F$9=\"変更等なし\",全国版!K893=\"\")),1,0)","v":1},{"$f":"IF(A893=0,\"\",IFERROR(IF(OR(検索シート!$F$5=\"\",検索シート!$F$5=\"（指定なし）\"),1,FIND(ASC(検索シート!$F$5),ASC(全国版!D893)))+FIND(ASC(検索シート!$F$6),ASC(全国版!E893))+FIND(ASC(検索シート!$F$7),ASC(全国版!F893)),\"\"))","v":3},{"$f":"IF(B893=\"\",\"-\",COUNT(B$4:$B893))","v":890},"広島県","小井手ファッションビューティ専門学校","家政専門課程　プロフェッショナル科","2011-04-01","～",null,"2011-12-22"]
[{"$f":"IF(OR(検索シート!$F$9=\"\",検索シート!$F$9=\"（指定なし）\",検索シート!$F$9=全国版!K894,AND(検索シート!$F$9=\"変更等なし\",全国版!K894=\"\")),1,0)","v":1},{"$f":"IF(A894=0,\"\",IFERROR(IF(OR(検索シート!$F$5=\"\",検索シート!$F$5=\"（指定なし）\"),1,FIND(ASC(検索シート!$F$5),ASC(全国版!D894)))+FIND(ASC(検索シート!$F$6),ASC(全国版!E894))+FIND(ASC(検索シート!$F$7),ASC(全国版!F894)),\"\"))","v":3},{"$f":"IF(B894=\"\",\"-\",COUNT(B$4:$B894))","v":891},"広島県","専門学校広島工学院大学校","工業専門課程　自動車整備科１級自動車整備士コース","2014-01-28","～",null,"2014-01-28"]
[{"$f":"IF(OR(検索シート!$F$9=\"\",検索シート!$F$9=\"（指定なし）\",検索シート!$F$9=全国版!K895,AND(検索シート!$F$9=\"変更等なし\",全国版!K895=\"\")),1,0)","v":1},{"$f":"IF(A895=0,\"\",IFERROR(IF(OR(検索シート!$F$5=\"\",検索シート!$F$5=\"（指定なし）\"),1,FIND(ASC(検索シート!$F$5),ASC(全国版!D895)))+FIND(ASC(検索シート!$F$6),ASC(全国版!E895))+FIND(ASC(検索シート!$F$7),ASC(全国版!F895)),\"\"))","v":3},{"$f":"IF(B895=\"\",\"-\",COUNT(B$4:$B895))","v":892},"広島県","専門学校広島自動車大学校","工業専門課程　自動車整備科１級自動車整備士コース","2009-02-27","～",null,"2009-02-27"]
[{"$f":"IF(OR(検索シート!$F$9=\"\",検索シート!$F$9=\"（指定なし）\",検索シート!$F$9=全国版!K896,AND(検索シート!$F$9=\"変更等なし\",全国版!K896=\"\")),1,0)","v":1},{"$f":"IF(A896=0,\"\",IFERROR(IF(OR(検索シート!$F$5=\"\",検索シート!$F$5=\"（指定なし）\"),1,FIND(ASC(検索シート!$F$5),ASC(全国版!D896)))+FIND(ASC(検索シート!$F$6),ASC(全国版!E896))+FIND(ASC(検索シート!$F$7),ASC(全国版!F896)),\"\"))","v":3},{"$f":"IF(B896=\"\",\"-\",COUNT(B$4:$B896))","v":893},"広島県","総合フラワーデザイン専門学校","文化・教養専門課程　高度専門学科","2010-02-26","～","2017-03-31","2010-02-26","廃止",null,null,"2017-03-31","2018-02-28"]
[{"$f":"IF(OR(検索シート!$F$9=\"\",検索シート!$F$9=\"（指定なし）\",検索シート!$F$9=全国版!K897,AND(検索シート!$F$9=\"変更等なし\",全国版!K897=\"\")),1,0)","v":1},{"$f":"IF(A897=0,\"\",IFERROR(IF(OR(検索シート!$F$5=\"\",検索シート!$F$5=\"（指定なし）\"),1,FIND(ASC(検索シート!$F$5),ASC(全国版!D897)))+FIND(ASC(検索シート!$F$6),ASC(全国版!E897))+FIND(ASC(検索シート!$F$7),ASC(全国版!F897)),\"\"))","v":3},{"$f":"IF(B897=\"\",\"-\",COUNT(B$4:$B897))","v":894},"広島県","広島医療保健専門学校","医療専門課程　作業療法学科","2005-12-09","～","2016-03-31","2005-12-09","廃止",null,null,"2016-03-31","2017-02-28"]
[{"$f":"IF(OR(検索シート!$F$9=\"\",検索シート!$F$9=\"（指定なし）\",検索シート!$F$9=全国版!K898,AND(検索シート!$F$9=\"変更等なし\",全国版!K898=\"\")),1,0)","v":1},{"$f":"IF(A898=0,\"\",IFERROR(IF(OR(検索シート!$F$5=\"\",検索シート!$F$5=\"（指定なし）\"),1,FIND(ASC(検索シート!$F$5),ASC(全国版!D898)))+FIND(ASC(検索シート!$F$6),ASC(全国版!E898))+FIND(ASC(検索シート!$F$7),ASC(全国版!F898)),\"\"))","v":3},{"$f":"IF(B898=\"\",\"-\",COUNT(B$4:$B898))","v":895},"広島県","広島医療保健専門学校","医療専門課程　理学療法学科","2005-12-09","～",null,"2005-12-09"]
[{"$f":"IF(OR(検索シート!$F$9=\"\",検索シート!$F$9=\"（指定なし）\",検索シート!$F$9=全国版!K899,AND(検索シート!$F$9=\"変更等なし\",全国版!K899=\"\")),1,0)","v":1},{"$f":"IF(A899=0,\"\",IFERROR(IF(OR(検索シート!$F$5=\"\",検索シート!$F$5=\"（指定なし）\"),1,FIND(ASC(検索シート!$F$5),ASC(全国版!D899)))+FIND(ASC(検索シート!$F$6),ASC(全国版!E899))+FIND(ASC(検索シート!$F$7),ASC(全国版!F899)),\"\"))","v":3},{"$f":"IF(B899=\"\",\"-\",COUNT(B$4:$B899))","v":896},"広島県","広島会計学院専門学校","商業実務専門課程　高度会計科","2016-04-01","～","2021-03-31","2017-02-28","名称変更","広島会計学院ビジネス専門学校","商業実務専門課程　高度会計科","2021-04-01","2022-03-04"]
[{"$f":"IF(OR(検索シート!$F$9=\"\",検索シート!$F$9=\"（指定なし）\",検索シート!$F$9=全国版!K900,AND(検索シート!$F$9=\"変更等なし\",全国版!K900=\"\")),1,0)","v":1},{"$f":"IF(A900=0,\"\",IFERROR(IF(OR(検索シート!$F$5=\"\",検索シート!$F$5=\"（指定なし）\"),1,FIND(ASC(検索シート!$F$5),ASC(全国版!D900)))+FIND(ASC(検索シート!$F$6),ASC(全国版!E900))+FIND(ASC(検索シート!$F$7),ASC(全国版!F900)),\"\"))","v":3},{"$f":"IF(B900=\"\",\"-\",COUNT(B$4:$B900))","v":897},"広島県","広島会計学院電子専門学校","商業実務専門課程　高度会計科","2016-02-29","～","2016-03-31","2016-02-29","名称変更","広島会計学院専門学校","商業実務専門課程　高度会計科","2016-04-01","2017-02-28"]
[{"$f":"IF(OR(検索シート!$F$9=\"\",検索シート!$F$9=\"（指定なし）\",検索シート!$F$9=全国版!K901,AND(検索シート!$F$9=\"変更等なし\",全国版!K901=\"\")),1,0)","v":1},{"$f":"IF(A901=0,\"\",IFERROR(IF(OR(検索シート!$F$5=\"\",検索シート!$F$5=\"（指定なし）\"),1,FIND(ASC(検索シート!$F$5),ASC(全国版!D901)))+FIND(ASC(検索シート!$F$6),ASC(全国版!E901))+FIND(ASC(検索シート!$F$7),ASC(全国版!F901)),\"\"))","v":3},{"$f":"IF(B901=\"\",\"-\",COUNT(B$4:$B901))","v":898},"広島県","広島会計学院ビジネス専門学校","商業実務専門課程　高度会計科","2021-04-01","～",null,"2022-03-04"]
[{"$f":"IF(OR(検索シート!$F$9=\"\",検索シート!$F$9=\"（指定なし）\",検索シート!$F$9=全国版!K902,AND(検索シート!$F$9=\"変更等なし\",全国版!K902=\"\")),1,0)","v":1},{"$f":"IF(A902=0,\"\",IFERROR(IF(OR(検索シート!$F$5=\"\",検索シート!$F$5=\"（指定なし）\"),1,FIND(ASC(検索シート!$F$5),ASC(全国版!D902)))+FIND(ASC(検索シート!$F$6),ASC(全国版!E902))+FIND(ASC(検索シート!$F$7),ASC(全国版!F902)),\"\"))","v":3},{"$f":"IF(B902=\"\",\"-\",COUNT(B$4:$B902))","v":899},"広島県","広島芸術専門学校","文化・教養専門課程　デザイン科","2011-12-22","～",null,"2011-12-22"]
[{"$f":"IF(OR(検索シート!$F$9=\"\",検索シート!$F$9=\"（指定なし）\",検索シート!$F$9=全国版!K903,AND(検索シート!$F$9=\"変更等なし\",全国版!K903=\"\")),1,0)","v":1},{"$f":"IF(A903=0,\"\",IFERROR(IF(OR(検索シート!$F$5=\"\",検索シート!$F$5=\"（指定なし）\"),1,FIND(ASC(検索シート!$F$5),ASC(全国版!D903)))+FIND(ASC(検索シート!$F$6),ASC(全国版!E903))+FIND(ASC(検索シート!$F$7),ASC(全国版!F903)),\"\"))","v":3},{"$f":"IF(B903=\"\",\"-\",COUNT(B$4:$B903))","v":900},"広島県","広島芸術専門学校","文化・教養専門課程　美術工芸科","2011-12-22","～",null,"2011-12-22"]
[{"$f":"IF(OR(検索シート!$F$9=\"\",検索シート!$F$9=\"（指定なし）\",検索シート!$F$9=全国版!K904,AND(検索シート!$F$9=\"変更等なし\",全国版!K904=\"\")),1,0)","v":1},{"$f":"IF(A904=0,\"\",IFERROR(IF(OR(検索シート!$F$5=\"\",検索シート!$F$5=\"（指定なし）\"),1,FIND(ASC(検索シート!$F$5),ASC(全国版!D904)))+FIND(ASC(検索シート!$F$6),ASC(全国版!E904))+FIND(ASC(検索シート!$F$7),ASC(全国版!F904)),\"\"))","v":3},{"$f":"IF(B904=\"\",\"-\",COUNT(B$4:$B904))","v":901},"広島県","広島情報専門学校","工業専門課程　経営情報科","2005-12-09","～","2007-03-31","2005-12-09","名称変更","広島情報専門学校","工業専門課程　情報研究科","2007-04-01","2008-02-29"]
[{"$f":"IF(OR(検索シート!$F$9=\"\",検索シート!$F$9=\"（指定なし）\",検索シート!$F$9=全国版!K905,AND(検索シート!$F$9=\"変更等なし\",全国版!K905=\"\")),1,0)","v":1},{"$f":"IF(A905=0,\"\",IFERROR(IF(OR(検索シート!$F$5=\"\",検索シート!$F$5=\"（指定なし）\"),1,FIND(ASC(検索シート!$F$5),ASC(全国版!D905)))+FIND(ASC(検索シート!$F$6),ASC(全国版!E905))+FIND(ASC(検索シート!$F$7),ASC(全国版!F905)),\"\"))","v":3},{"$f":"IF(B905=\"\",\"-\",COUNT(B$4:$B905))","v":902},"広島県","広島情報専門学校","工業専門課程　情報研究科","2007-04-01","～","2008-03-31","2008-02-29","名称変更","広島情報専門学校","工業専門課程　大学併修科","2008-04-01","2009-02-27"]
[{"$f":"IF(OR(検索シート!$F$9=\"\",検索シート!$F$9=\"（指定なし）\",検索シート!$F$9=全国版!K906,AND(検索シート!$F$9=\"変更等なし\",全国版!K906=\"\")),1,0)","v":1},{"$f":"IF(A906=0,\"\",IFERROR(IF(OR(検索シート!$F$5=\"\",検索シート!$F$5=\"（指定なし）\"),1,FIND(ASC(検索シート!$F$5),ASC(全国版!D906)))+FIND(ASC(検索シート!$F$6),ASC(全国版!E906))+FIND(ASC(検索シート!$F$7),ASC(全国版!F906)),\"\"))","v":3},{"$f":"IF(B906=\"\",\"-\",COUNT(B$4:$B906))","v":903},"広島県","広島情報専門学校","工業専門課程　大学併修科","2008-04-01","～",null,"2009-02-27"]
[{"$f":"IF(OR(検索シート!$F$9=\"\",検索シート!$F$9=\"（指定なし）\",検索シート!$F$9=全国版!K907,AND(検索シート!$F$9=\"変更等なし\",全国版!K907=\"\")),1,0)","v":1},{"$f":"IF(A907=0,\"\",IFERROR(IF(OR(検索シート!$F$5=\"\",検索シート!$F$5=\"（指定なし）\"),1,FIND(ASC(検索シート!$F$5),ASC(全国版!D907)))+FIND(ASC(検索シート!$F$6),ASC(全国版!E907))+FIND(ASC(検索シート!$F$7),ASC(全国版!F907)),\"\"))","v":3},{"$f":"IF(B907=\"\",\"-\",COUNT(B$4:$B907))","v":904},"広島県","広島ファッション専門学校","家政専門課程　ファッション高度専門学科","2010-02-26","～",null,"2010-02-26"]
[{"$f":"IF(OR(検索シート!$F$9=\"\",検索シート!$F$9=\"（指定なし）\",検索シート!$F$9=全国版!K908,AND(検索シート!$F$9=\"変更等なし\",全国版!K908=\"\")),1,0)","v":1},{"$f":"IF(A908=0,\"\",IFERROR(IF(OR(検索シート!$F$5=\"\",検索シート!$F$5=\"（指定なし）\"),1,FIND(ASC(検索シート!$F$5),ASC(全国版!D908)))+FIND(ASC(検索シート!$F$6),ASC(全国版!E908))+FIND(ASC(検索シート!$F$7),ASC(全国版!F908)),\"\"))","v":3},{"$f":"IF(B908=\"\",\"-\",COUNT(B$4:$B908))","v":905},"広島県","広島福祉専門学校","教育・社会福祉専門課程　社会福祉科","2005-12-09","～",null,"2005-12-09"]
[{"$f":"IF(OR(検索シート!$F$9=\"\",検索シート!$F$9=\"（指定なし）\",検索シート!$F$9=全国版!K909,AND(検索シート!$F$9=\"変更等なし\",全国版!K909=\"\")),1,0)","v":1},{"$f":"IF(A909=0,\"\",IFERROR(IF(OR(検索シート!$F$5=\"\",検索シート!$F$5=\"（指定なし）\"),1,FIND(ASC(検索シート!$F$5),ASC(全国版!D909)))+FIND(ASC(検索シート!$F$6),ASC(全国版!E909))+FIND(ASC(検索シート!$F$7),ASC(全国版!F909)),\"\"))","v":3},{"$f":"IF(B909=\"\",\"-\",COUNT(B$4:$B909))","v":906},"広島県","広島福祉専門学校","教育・社会福祉専門課程　保育児童科","2007-02-28","～",null,"2007-02-28"]
[{"$f":"IF(OR(検索シート!$F$9=\"\",検索シート!$F$9=\"（指定なし）\",検索シート!$F$9=全国版!K910,AND(検索シート!$F$9=\"変更等なし\",全国版!K910=\"\")),1,0)","v":1},{"$f":"IF(A910=0,\"\",IFERROR(IF(OR(検索シート!$F$5=\"\",検索シート!$F$5=\"（指定なし）\"),1,FIND(ASC(検索シート!$F$5),ASC(全国版!D910)))+FIND(ASC(検索シート!$F$6),ASC(全国版!E910))+FIND(ASC(検索シート!$F$7),ASC(全国版!F910)),\"\"))","v":3},{"$f":"IF(B910=\"\",\"-\",COUNT(B$4:$B910))","v":907},"広島県","福山医療専門学校","医療専門課程　作業療法学科","2016-04-01","～",null,"2017-02-28"]
[{"$f":"IF(OR(検索シート!$F$9=\"\",検索シート!$F$9=\"（指定なし）\",検索シート!$F$9=全国版!K911,AND(検索シート!$F$9=\"変更等なし\",全国版!K911=\"\")),1,0)","v":1},{"$f":"IF(A911=0,\"\",IFERROR(IF(OR(検索シート!$F$5=\"\",検索シート!$F$5=\"（指定なし）\"),1,FIND(ASC(検索シート!$F$5),ASC(全国版!D911)))+FIND(ASC(検索シート!$F$6),ASC(全国版!E911))+FIND(ASC(検索シート!$F$7),ASC(全国版!F911)),\"\"))","v":3},{"$f":"IF(B911=\"\",\"-\",COUNT(B$4:$B911))","v":908},"広島県","福山医療専門学校","医療専門課程　理学療法学科（昼間部）","2016-04-01","～",null,"2017-02-28"]
[{"$f":"IF(OR(検索シート!$F$9=\"\",検索シート!$F$9=\"（指定なし）\",検索シート!$F$9=全国版!K912,AND(検索シート!$F$9=\"変更等なし\",全国版!K912=\"\")),1,0)","v":1},{"$f":"IF(A912=0,\"\",IFERROR(IF(OR(検索シート!$F$5=\"\",検索シート!$F$5=\"（指定なし）\"),1,FIND(ASC(検索シート!$F$5),ASC(全国版!D912)))+FIND(ASC(検索シート!$F$6),ASC(全国版!E912))+FIND(ASC(検索シート!$F$7),ASC(全国版!F912)),\"\"))","v":3},{"$f":"IF(B912=\"\",\"-\",COUNT(B$4:$B912))","v":909},"山口県","岩国ＹＭＣＡ国際医療福祉専門学校","医療専門課程　保健看護学科","2005-12-09","～","2023-03-31","2005-12-09","名称変更","岩国ＹＭＣＡ保健看護専門学校","医療専門課程　保健看護学科","2023-04-01","2024-01-17"]
[{"$f":"IF(OR(検索シート!$F$9=\"\",検索シート!$F$9=\"（指定なし）\",検索シート!$F$9=全国版!K913,AND(検索シート!$F$9=\"変更等なし\",全国版!K913=\"\")),1,0)","v":1},{"$f":"IF(A913=0,\"\",IFERROR(IF(OR(検索シート!$F$5=\"\",検索シート!$F$5=\"（指定なし）\"),1,FIND(ASC(検索シート!$F$5),ASC(全国版!D913)))+FIND(ASC(検索シート!$F$6),ASC(全国版!E913))+FIND(ASC(検索シート!$F$7),ASC(全国版!F913)),\"\"))","v":3},{"$f":"IF(B913=\"\",\"-\",COUNT(B$4:$B913))","v":910},"山口県","岩国ＹＭＣＡ保健看護専門学校","医療専門課程　保健看護学科","2023-04-01","～",null,"2024-01-17"]
[{"$f":"IF(OR(検索シート!$F$9=\"\",検索シート!$F$9=\"（指定なし）\",検索シート!$F$9=全国版!K914,AND(検索シート!$F$9=\"変更等なし\",全国版!K914=\"\")),1,0)","v":1},{"$f":"IF(A914=0,\"\",IFERROR(IF(OR(検索シート!$F$5=\"\",検索シート!$F$5=\"（指定なし）\"),1,FIND(ASC(検索シート!$F$5),ASC(全国版!D914)))+FIND(ASC(検索シート!$F$6),ASC(全国版!E914))+FIND(ASC(検索シート!$F$7),ASC(全国版!F914)),\"\"))","v":3},{"$f":"IF(B914=\"\",\"-\",COUNT(B$4:$B914))","v":911},"山口県","下関コンピュータビジネス学院","工業専門課程　情報システム科（４年制）","2006-06-30","～","2016-09-23","2006-06-30","廃止",null,null,"2016-09-23","2018-02-28"]
[{"$f":"IF(OR(検索シート!$F$9=\"\",検索シート!$F$9=\"（指定なし）\",検索シート!$F$9=全国版!K915,AND(検索シート!$F$9=\"変更等なし\",全国版!K915=\"\")),1,0)","v":1},{"$f":"IF(A915=0,\"\",IFERROR(IF(OR(検索シート!$F$5=\"\",検索シート!$F$5=\"（指定なし）\"),1,FIND(ASC(検索シート!$F$5),ASC(全国版!D915)))+FIND(ASC(検索シート!$F$6),ASC(全国版!E915))+FIND(ASC(検索シート!$F$7),ASC(全国版!F915)),\"\"))","v":3},{"$f":"IF(B915=\"\",\"-\",COUNT(B$4:$B915))","v":912},"山口県","専門学校ＹＩＣリハビリテーション大学校","医療専門課程　作業療法学科","2009-04-01","～",null,"2010-02-26"]
[{"$f":"IF(OR(検索シート!$F$9=\"\",検索シート!$F$9=\"（指定なし）\",検索シート!$F$9=全国版!K916,AND(検索シート!$F$9=\"変更等なし\",全国版!K916=\"\")),1,0)","v":1},{"$f":"IF(A916=0,\"\",IFERROR(IF(OR(検索シート!$F$5=\"\",検索シート!$F$5=\"（指定なし）\"),1,FIND(ASC(検索シート!$F$5),ASC(全国版!D916)))+FIND(ASC(検索シート!$F$6),ASC(全国版!E916))+FIND(ASC(検索シート!$F$7),ASC(全国版!F916)),\"\"))","v":3},{"$f":"IF(B916=\"\",\"-\",COUNT(B$4:$B916))","v":913},"山口県","専門学校ＹＩＣリハビリテーション大学校","医療専門課程　理学療法学科","2009-04-01","～",null,"2010-02-26"]
[{"$f":"IF(OR(検索シート!$F$9=\"\",検索シート!$F$9=\"（指定なし）\",検索シート!$F$9=全国版!K917,AND(検索シート!$F$9=\"変更等なし\",全国版!K917=\"\")),1,0)","v":1},{"$f":"IF(A917=0,\"\",IFERROR(IF(OR(検索シート!$F$5=\"\",検索シート!$F$5=\"（指定なし）\"),1,FIND(ASC(検索シート!$F$5),ASC(全国版!D917)))+FIND(ASC(検索シート!$F$6),ASC(全国版!E917))+FIND(ASC(検索シート!$F$7),ASC(全国版!F917)),\"\"))","v":3},{"$f":"IF(B917=\"\",\"-\",COUNT(B$4:$B917))","v":914},"山口県","徳山総合ビジネス専門学校","商業実務専門課程　総合ビジネス学科","2018-02-28","～",null,"2018-02-28"]
[{"$f":"IF(OR(検索シート!$F$9=\"\",検索シート!$F$9=\"（指定なし）\",検索シート!$F$9=全国版!K918,AND(検索シート!$F$9=\"変更等なし\",全国版!K918=\"\")),1,0)","v":1},{"$f":"IF(A918=0,\"\",IFERROR(IF(OR(検索シート!$F$5=\"\",検索シート!$F$5=\"（指定なし）\"),1,FIND(ASC(検索シート!$F$5),ASC(全国版!D918)))+FIND(ASC(検索シート!$F$6),ASC(全国版!E918))+FIND(ASC(検索シート!$F$7),ASC(全国版!F918)),\"\"))","v":3},{"$f":"IF(B918=\"\",\"-\",COUNT(B$4:$B918))","v":915},"山口県","山口医療福祉専門学校","医療専門課程　作業療法学科","2006-06-30","～","2009-03-31","2006-06-30","名称変更","専門学校ＹＩＣリハビリテーション大学校","医療専門課程　作業療法学科","2009-04-01","2010-02-26"]
[{"$f":"IF(OR(検索シート!$F$9=\"\",検索シート!$F$9=\"（指定なし）\",検索シート!$F$9=全国版!K919,AND(検索シート!$F$9=\"変更等なし\",全国版!K919=\"\")),1,0)","v":1},{"$f":"IF(A919=0,\"\",IFERROR(IF(OR(検索シート!$F$5=\"\",検索シート!$F$5=\"（指定なし）\"),1,FIND(ASC(検索シート!$F$5),ASC(全国版!D919)))+FIND(ASC(検索シート!$F$6),ASC(全国版!E919))+FIND(ASC(検索シート!$F$7),ASC(全国版!F919)),\"\"))","v":3},{"$f":"IF(B919=\"\",\"-\",COUNT(B$4:$B919))","v":916},"山口県","山口医療福祉専門学校","医療専門課程　理学療法学科","2006-06-30","～","2009-03-31","2006-06-30","名称変更","専門学校ＹＩＣリハビリテーション大学校","医療専門課程　理学療法学科","2009-04-01","2010-02-26"]
[{"$f":"IF(OR(検索シート!$F$9=\"\",検索シート!$F$9=\"（指定なし）\",検索シート!$F$9=全国版!K920,AND(検索シート!$F$9=\"変更等なし\",全国版!K920=\"\")),1,0)","v":1},{"$f":"IF(A920=0,\"\",IFERROR(IF(OR(検索シート!$F$5=\"\",検索シート!$F$5=\"（指定なし）\"),1,FIND(ASC(検索シート!$F$5),ASC(全国版!D920)))+FIND(ASC(検索シート!$F$6),ASC(全国版!E920))+FIND(ASC(検索シート!$F$7),ASC(全国版!F920)),\"\"))","v":3},{"$f":"IF(B920=\"\",\"-\",COUNT(B$4:$B920))","v":917},"山口県","山口コ・メディカル学院","医療専門課程　言語聴覚学科","2013-04-01","～",null,"2014-01-28"]
[{"$f":"IF(OR(検索シート!$F$9=\"\",検索シート!$F$9=\"（指定なし）\",検索シート!$F$9=全国版!K921,AND(検索シート!$F$9=\"変更等なし\",全国版!K921=\"\")),1,0)","v":1},{"$f":"IF(A921=0,\"\",IFERROR(IF(OR(検索シート!$F$5=\"\",検索シート!$F$5=\"（指定なし）\"),1,FIND(ASC(検索シート!$F$5),ASC(全国版!D921)))+FIND(ASC(検索シート!$F$6),ASC(全国版!E921))+FIND(ASC(検索シート!$F$7),ASC(全国版!F921)),\"\"))","v":3},{"$f":"IF(B921=\"\",\"-\",COUNT(B$4:$B921))","v":918},"山口県","山口コ・メディカル学院","医療専門課程　言語聴覚療法学科","2005-12-09","～","2013-03-31","2005-12-09","名称変更","山口コ・メディカル学院","医療専門課程　言語聴覚学科","2013-04-01","2014-01-28"]
[{"$f":"IF(OR(検索シート!$F$9=\"\",検索シート!$F$9=\"（指定なし）\",検索シート!$F$9=全国版!K922,AND(検索シート!$F$9=\"変更等なし\",全国版!K922=\"\")),1,0)","v":1},{"$f":"IF(A922=0,\"\",IFERROR(IF(OR(検索シート!$F$5=\"\",検索シート!$F$5=\"（指定なし）\"),1,FIND(ASC(検索シート!$F$5),ASC(全国版!D922)))+FIND(ASC(検索シート!$F$6),ASC(全国版!E922))+FIND(ASC(検索シート!$F$7),ASC(全国版!F922)),\"\"))","v":3},{"$f":"IF(B922=\"\",\"-\",COUNT(B$4:$B922))","v":919},"山口県","山口コ・メディカル学院","医療専門課程　作業療法学科","2005-12-09","～",null,"2005-12-09"]
[{"$f":"IF(OR(検索シート!$F$9=\"\",検索シート!$F$9=\"（指定なし）\",検索シート!$F$9=全国版!K923,AND(検索シート!$F$9=\"変更等なし\",全国版!K923=\"\")),1,0)","v":1},{"$f":"IF(A923=0,\"\",IFERROR(IF(OR(検索シート!$F$5=\"\",検索シート!$F$5=\"（指定なし）\"),1,FIND(ASC(検索シート!$F$5),ASC(全国版!D923)))+FIND(ASC(検索シート!$F$6),ASC(全国版!E923))+FIND(ASC(検索シート!$F$7),ASC(全国版!F923)),\"\"))","v":3},{"$f":"IF(B923=\"\",\"-\",COUNT(B$4:$B923))","v":920},"山口県","山口コ・メディカル学院","医療専門課程　理学療法学科","2005-12-09","～",null,"2005-12-09"]
[{"$f":"IF(OR(検索シート!$F$9=\"\",検索シート!$F$9=\"（指定なし）\",検索シート!$F$9=全国版!K924,AND(検索シート!$F$9=\"変更等なし\",全国版!K924=\"\")),1,0)","v":1},{"$f":"IF(A924=0,\"\",IFERROR(IF(OR(検索シート!$F$5=\"\",検索シート!$F$5=\"（指定なし）\"),1,FIND(ASC(検索シート!$F$5),ASC(全国版!D924)))+FIND(ASC(検索シート!$F$6),ASC(全国版!E924))+FIND(ASC(検索シート!$F$7),ASC(全国版!F924)),\"\"))","v":3},{"$f":"IF(B924=\"\",\"-\",COUNT(B$4:$B924))","v":921},"徳島県","ブレーメン愛犬クリエイティブ専門学校","文化教養専門課程　ペットマイスター学科","2017-02-28","～","2019-03-31","2017-02-28","名称変更","ブレーメン動物専門学校","文化教養専門課程　ペットマイスター学科","2019-04-01","2020-02-29"]
[{"$f":"IF(OR(検索シート!$F$9=\"\",検索シート!$F$9=\"（指定なし）\",検索シート!$F$9=全国版!K925,AND(検索シート!$F$9=\"変更等なし\",全国版!K925=\"\")),1,0)","v":1},{"$f":"IF(A925=0,\"\",IFERROR(IF(OR(検索シート!$F$5=\"\",検索シート!$F$5=\"（指定なし）\"),1,FIND(ASC(検索シート!$F$5),ASC(全国版!D925)))+FIND(ASC(検索シート!$F$6),ASC(全国版!E925))+FIND(ASC(検索シート!$F$7),ASC(全国版!F925)),\"\"))","v":3},{"$f":"IF(B925=\"\",\"-\",COUNT(B$4:$B925))","v":922},"徳島県","ブレーメン動物専門学校","文化教養専門課程　ペットマイスター学科","2019-04-01","～",null,"2020-02-29"]
[{"$f":"IF(OR(検索シート!$F$9=\"\",検索シート!$F$9=\"（指定なし）\",検索シート!$F$9=全国版!K926,AND(検索シート!$F$9=\"変更等なし\",全国版!K926=\"\")),1,0)","v":1},{"$f":"IF(A926=0,\"\",IFERROR(IF(OR(検索シート!$F$5=\"\",検索シート!$F$5=\"（指定なし）\"),1,FIND(ASC(検索シート!$F$5),ASC(全国版!D926)))+FIND(ASC(検索シート!$F$6),ASC(全国版!E926))+FIND(ASC(検索シート!$F$7),ASC(全国版!F926)),\"\"))","v":3},{"$f":"IF(B926=\"\",\"-\",COUNT(B$4:$B926))","v":923},"香川県","穴吹医療大学校","医療専門課程　看護学科","2016-04-01","～",null,"2017-02-28"]
[{"$f":"IF(OR(検索シート!$F$9=\"\",検索シート!$F$9=\"（指定なし）\",検索シート!$F$9=全国版!K927,AND(検索シート!$F$9=\"変更等なし\",全国版!K927=\"\")),1,0)","v":1},{"$f":"IF(A927=0,\"\",IFERROR(IF(OR(検索シート!$F$5=\"\",検索シート!$F$5=\"（指定なし）\"),1,FIND(ASC(検索シート!$F$5),ASC(全国版!D927)))+FIND(ASC(検索シート!$F$6),ASC(全国版!E927))+FIND(ASC(検索シート!$F$7),ASC(全国版!F927)),\"\"))","v":3},{"$f":"IF(B927=\"\",\"-\",COUNT(B$4:$B927))","v":924},"香川県","穴吹医療大学校","医療専門課程　保健看護学科","2012-04-01","～","2016-03-31","2013-01-29","名称変更","穴吹医療大学校","医療専門課程　看護学科","2016-04-01","2017-02-28"]
[{"$f":"IF(OR(検索シート!$F$9=\"\",検索シート!$F$9=\"（指定なし）\",検索シート!$F$9=全国版!K928,AND(検索シート!$F$9=\"変更等なし\",全国版!K928=\"\")),1,0)","v":1},{"$f":"IF(A928=0,\"\",IFERROR(IF(OR(検索シート!$F$5=\"\",検索シート!$F$5=\"（指定なし）\"),1,FIND(ASC(検索シート!$F$5),ASC(全国版!D928)))+FIND(ASC(検索シート!$F$6),ASC(全国版!E928))+FIND(ASC(検索シート!$F$7),ASC(全国版!F928)),\"\"))","v":3},{"$f":"IF(B928=\"\",\"-\",COUNT(B$4:$B928))","v":925},"香川県","四国医療専門学校","医療専門課程　看護学科","2008-02-29","～",null,"2008-02-29"]
[{"$f":"IF(OR(検索シート!$F$9=\"\",検索シート!$F$9=\"（指定なし）\",検索シート!$F$9=全国版!K929,AND(検索シート!$F$9=\"変更等なし\",全国版!K929=\"\")),1,0)","v":1},{"$f":"IF(A929=0,\"\",IFERROR(IF(OR(検索シート!$F$5=\"\",検索シート!$F$5=\"（指定なし）\"),1,FIND(ASC(検索シート!$F$5),ASC(全国版!D929)))+FIND(ASC(検索シート!$F$6),ASC(全国版!E929))+FIND(ASC(検索シート!$F$7),ASC(全国版!F929)),\"\"))","v":3},{"$f":"IF(B929=\"\",\"-\",COUNT(B$4:$B929))","v":926},"香川県","四国医療専門学校","医療専門課程　作業療法学科","2007-02-28","～",null,"2007-02-28"]
[{"$f":"IF(OR(検索シート!$F$9=\"\",検索シート!$F$9=\"（指定なし）\",検索シート!$F$9=全国版!K930,AND(検索シート!$F$9=\"変更等なし\",全国版!K930=\"\")),1,0)","v":1},{"$f":"IF(A930=0,\"\",IFERROR(IF(OR(検索シート!$F$5=\"\",検索シート!$F$5=\"（指定なし）\"),1,FIND(ASC(検索シート!$F$5),ASC(全国版!D930)))+FIND(ASC(検索シート!$F$6),ASC(全国版!E930))+FIND(ASC(検索シート!$F$7),ASC(全国版!F930)),\"\"))","v":3},{"$f":"IF(B930=\"\",\"-\",COUNT(B$4:$B930))","v":927},"香川県","四国医療専門学校","医療専門課程　理学療法学科","2007-02-28","～",null,"2007-02-28"]
[{"$f":"IF(OR(検索シート!$F$9=\"\",検索シート!$F$9=\"（指定なし）\",検索シート!$F$9=全国版!K931,AND(検索シート!$F$9=\"変更等なし\",全国版!K931=\"\")),1,0)","v":1},{"$f":"IF(A931=0,\"\",IFERROR(IF(OR(検索シート!$F$5=\"\",検索シート!$F$5=\"（指定なし）\"),1,FIND(ASC(検索シート!$F$5),ASC(全国版!D931)))+FIND(ASC(検索シート!$F$6),ASC(全国版!E931))+FIND(ASC(検索シート!$F$7),ASC(全国版!F931)),\"\"))","v":3},{"$f":"IF(B931=\"\",\"-\",COUNT(B$4:$B931))","v":928},"香川県","四国リハビリテーション学院","医療専門課程　作業療法学科","2005-12-09","～","2006-03-31","2005-12-09","廃止",null,null,"2006-03-31","2007-02-28"]
[{"$f":"IF(OR(検索シート!$F$9=\"\",検索シート!$F$9=\"（指定なし）\",検索シート!$F$9=全国版!K932,AND(検索シート!$F$9=\"変更等なし\",全国版!K932=\"\")),1,0)","v":1},{"$f":"IF(A932=0,\"\",IFERROR(IF(OR(検索シート!$F$5=\"\",検索シート!$F$5=\"（指定なし）\"),1,FIND(ASC(検索シート!$F$5),ASC(全国版!D932)))+FIND(ASC(検索シート!$F$6),ASC(全国版!E932))+FIND(ASC(検索シート!$F$7),ASC(全国版!F932)),\"\"))","v":3},{"$f":"IF(B932=\"\",\"-\",COUNT(B$4:$B932))","v":929},"香川県","四国リハビリテーション学院","医療専門課程　理学療法学科","2005-12-09","～","2006-03-31","2005-12-09","廃止",null,null,"2006-03-31","2007-02-28"]
[{"$f":"IF(OR(検索シート!$F$9=\"\",検索シート!$F$9=\"（指定なし）\",検索シート!$F$9=全国版!K933,AND(検索シート!$F$9=\"変更等なし\",全国版!K933=\"\")),1,0)","v":1},{"$f":"IF(A933=0,\"\",IFERROR(IF(OR(検索シート!$F$5=\"\",検索シート!$F$5=\"（指定なし）\"),1,FIND(ASC(検索シート!$F$5),ASC(全国版!D933)))+FIND(ASC(検索シート!$F$6),ASC(全国版!E933))+FIND(ASC(検索シート!$F$7),ASC(全国版!F933)),\"\"))","v":3},{"$f":"IF(B933=\"\",\"-\",COUNT(B$4:$B933))","v":930},"香川県","専門学校穴吹医療カレッジ","医療専門課程　保健看護学科","2010-02-26","～","2012-03-31","2010-02-26","名称変更","穴吹医療大学校","医療専門課程　保健看護学科","2012-04-01","2013-01-29"]
[{"$f":"IF(OR(検索シート!$F$9=\"\",検索シート!$F$9=\"（指定なし）\",検索シート!$F$9=全国版!K934,AND(検索シート!$F$9=\"変更等なし\",全国版!K934=\"\")),1,0)","v":1},{"$f":"IF(A934=0,\"\",IFERROR(IF(OR(検索シート!$F$5=\"\",検索シート!$F$5=\"（指定なし）\"),1,FIND(ASC(検索シート!$F$5),ASC(全国版!D934)))+FIND(ASC(検索シート!$F$6),ASC(全国版!E934))+FIND(ASC(検索シート!$F$7),ASC(全国版!F934)),\"\"))","v":3},{"$f":"IF(B934=\"\",\"-\",COUNT(B$4:$B934))","v":931},"香川県","専門学校穴吹コンピュータカレッジ","工業専門課程　大学併修高度情報学科","2011-04-01","～","2014-03-31","2011-12-22","廃止",null,null,"2014-03-31","2015-02-19"]
[{"$f":"IF(OR(検索シート!$F$9=\"\",検索シート!$F$9=\"（指定なし）\",検索シート!$F$9=全国版!K935,AND(検索シート!$F$9=\"変更等なし\",全国版!K935=\"\")),1,0)","v":1},{"$f":"IF(A935=0,\"\",IFERROR(IF(OR(検索シート!$F$5=\"\",検索シート!$F$5=\"（指定なし）\"),1,FIND(ASC(検索シート!$F$5),ASC(全国版!D935)))+FIND(ASC(検索シート!$F$6),ASC(全国版!E935))+FIND(ASC(検索シート!$F$7),ASC(全国版!F935)),\"\"))","v":3},{"$f":"IF(B935=\"\",\"-\",COUNT(B$4:$B935))","v":932},"香川県","専門学校穴吹コンピュータカレッジ","工業専門課程　高度情報学科","2010-02-26","～","2011-03-31","2010-02-26","名称変更","専門学校穴吹コンピュータカレッジ","工業専門課程　大学併修高度情報学科","2011-04-01","2011-12-22"]
[{"$f":"IF(OR(検索シート!$F$9=\"\",検索シート!$F$9=\"（指定なし）\",検索シート!$F$9=全国版!K936,AND(検索シート!$F$9=\"変更等なし\",全国版!K936=\"\")),1,0)","v":1},{"$f":"IF(A936=0,\"\",IFERROR(IF(OR(検索シート!$F$5=\"\",検索シート!$F$5=\"（指定なし）\"),1,FIND(ASC(検索シート!$F$5),ASC(全国版!D936)))+FIND(ASC(検索シート!$F$6),ASC(全国版!E936))+FIND(ASC(検索シート!$F$7),ASC(全国版!F936)),\"\"))","v":3},{"$f":"IF(B936=\"\",\"-\",COUNT(B$4:$B936))","v":933},"愛媛県","愛媛大原簿記公務員専門学校","商業実務関係専門課程　税理士科（４年制）","2009-02-27","～","2011-03-31","2009-02-27","名称変更","大原簿記公務員専門学校愛媛校","商業実務関係専門課程　税理士科（４年制）","2011-04-01","2011-12-22"]
[{"$f":"IF(OR(検索シート!$F$9=\"\",検索シート!$F$9=\"（指定なし）\",検索シート!$F$9=全国版!K937,AND(検索シート!$F$9=\"変更等なし\",全国版!K937=\"\")),1,0)","v":1},{"$f":"IF(A937=0,\"\",IFERROR(IF(OR(検索シート!$F$5=\"\",検索シート!$F$5=\"（指定なし）\"),1,FIND(ASC(検索シート!$F$5),ASC(全国版!D937)))+FIND(ASC(検索シート!$F$6),ASC(全国版!E937))+FIND(ASC(検索シート!$F$7),ASC(全国版!F937)),\"\"))","v":3},{"$f":"IF(B937=\"\",\"-\",COUNT(B$4:$B937))","v":934},"愛媛県","愛媛電子ビジネス専門学校","工業関係専門課程　高度情報技術科（４年制）","2008-02-29","～","2011-03-31","2008-02-29","名称変更","河原電子ビジネス専門学校","工業関係専門課程　高度情報技術科（４年制）","2011-04-01","2011-12-22"]
[{"$f":"IF(OR(検索シート!$F$9=\"\",検索シート!$F$9=\"（指定なし）\",検索シート!$F$9=全国版!K938,AND(検索シート!$F$9=\"変更等なし\",全国版!K938=\"\")),1,0)","v":1},{"$f":"IF(A938=0,\"\",IFERROR(IF(OR(検索シート!$F$5=\"\",検索シート!$F$5=\"（指定なし）\"),1,FIND(ASC(検索シート!$F$5),ASC(全国版!D938)))+FIND(ASC(検索シート!$F$6),ASC(全国版!E938))+FIND(ASC(検索シート!$F$7),ASC(全国版!F938)),\"\"))","v":3},{"$f":"IF(B938=\"\",\"-\",COUNT(B$4:$B938))","v":935},"愛媛県","大原簿記公務員専門学校愛媛校","商業実務関係専門課程　会計学科４年制","2013-04-01","～",null,"2014-01-28"]
[{"$f":"IF(OR(検索シート!$F$9=\"\",検索シート!$F$9=\"（指定なし）\",検索シート!$F$9=全国版!K939,AND(検索シート!$F$9=\"変更等なし\",全国版!K939=\"\")),1,0)","v":1},{"$f":"IF(A939=0,\"\",IFERROR(IF(OR(検索シート!$F$5=\"\",検索シート!$F$5=\"（指定なし）\"),1,FIND(ASC(検索シート!$F$5),ASC(全国版!D939)))+FIND(ASC(検索シート!$F$6),ASC(全国版!E939))+FIND(ASC(検索シート!$F$7),ASC(全国版!F939)),\"\"))","v":3},{"$f":"IF(B939=\"\",\"-\",COUNT(B$4:$B939))","v":936},"愛媛県","大原簿記公務員専門学校愛媛校","商業実務関係専門課程　税理士科（４年制）","2011-04-01","～","2013-03-31","2011-12-22","名称変更","大原簿記公務員専門学校愛媛校","商業実務関係専門課程　会計学科４年制","2013-04-01","2014-01-28"]
[{"$f":"IF(OR(検索シート!$F$9=\"\",検索シート!$F$9=\"（指定なし）\",検索シート!$F$9=全国版!K940,AND(検索シート!$F$9=\"変更等なし\",全国版!K940=\"\")),1,0)","v":1},{"$f":"IF(A940=0,\"\",IFERROR(IF(OR(検索シート!$F$5=\"\",検索シート!$F$5=\"（指定なし）\"),1,FIND(ASC(検索シート!$F$5),ASC(全国版!D940)))+FIND(ASC(検索シート!$F$6),ASC(全国版!E940))+FIND(ASC(検索シート!$F$7),ASC(全国版!F940)),\"\"))","v":3},{"$f":"IF(B940=\"\",\"-\",COUNT(B$4:$B940))","v":937},"愛媛県","河原医療大学校","医療専門課程　看護学科","2011-04-01","～","2020-03-31","2011-12-22","廃止",null,null,"2020-03-31","2023-01-27"]
[{"$f":"IF(OR(検索シート!$F$9=\"\",検索シート!$F$9=\"（指定なし）\",検索シート!$F$9=全国版!K941,AND(検索シート!$F$9=\"変更等なし\",全国版!K941=\"\")),1,0)","v":1},{"$f":"IF(A941=0,\"\",IFERROR(IF(OR(検索シート!$F$5=\"\",検索シート!$F$5=\"（指定なし）\"),1,FIND(ASC(検索シート!$F$5),ASC(全国版!D941)))+FIND(ASC(検索シート!$F$6),ASC(全国版!E941))+FIND(ASC(検索シート!$F$7),ASC(全国版!F941)),\"\"))","v":3},{"$f":"IF(B941=\"\",\"-\",COUNT(B$4:$B941))","v":938},"愛媛県","河原医療大学校","医療専門課程　作業療法学科","2011-04-01","～","2021-03-31","2011-12-22","名称変更","河原医療大学校","医療専門課程　作業療法学科（４年制）","2021-04-01","2024-01-17"]
[{"$f":"IF(OR(検索シート!$F$9=\"\",検索シート!$F$9=\"（指定なし）\",検索シート!$F$9=全国版!K942,AND(検索シート!$F$9=\"変更等なし\",全国版!K942=\"\")),1,0)","v":1},{"$f":"IF(A942=0,\"\",IFERROR(IF(OR(検索シート!$F$5=\"\",検索シート!$F$5=\"（指定なし）\"),1,FIND(ASC(検索シート!$F$5),ASC(全国版!D942)))+FIND(ASC(検索シート!$F$6),ASC(全国版!E942))+FIND(ASC(検索シート!$F$7),ASC(全国版!F942)),\"\"))","v":3},{"$f":"IF(B942=\"\",\"-\",COUNT(B$4:$B942))","v":939},"愛媛県","河原医療大学校","医療専門課程　作業療法学科（４年制）","2021-04-01","～",null,"2024-01-17"]
[{"$f":"IF(OR(検索シート!$F$9=\"\",検索シート!$F$9=\"（指定なし）\",検索シート!$F$9=全国版!K943,AND(検索シート!$F$9=\"変更等なし\",全国版!K943=\"\")),1,0)","v":1},{"$f":"IF(A943=0,\"\",IFERROR(IF(OR(検索シート!$F$5=\"\",検索シート!$F$5=\"（指定なし）\"),1,FIND(ASC(検索シート!$F$5),ASC(全国版!D943)))+FIND(ASC(検索シート!$F$6),ASC(全国版!E943))+FIND(ASC(検索シート!$F$7),ASC(全国版!F943)),\"\"))","v":3},{"$f":"IF(B943=\"\",\"-\",COUNT(B$4:$B943))","v":940},"愛媛県","河原医療大学校","医療専門課程　理学療法学科","2011-04-01","～",null,"2011-12-22"]
[{"$f":"IF(OR(検索シート!$F$9=\"\",検索シート!$F$9=\"（指定なし）\",検索シート!$F$9=全国版!K944,AND(検索シート!$F$9=\"変更等なし\",全国版!K944=\"\")),1,0)","v":1},{"$f":"IF(A944=0,\"\",IFERROR(IF(OR(検索シート!$F$5=\"\",検索シート!$F$5=\"（指定なし）\"),1,FIND(ASC(検索シート!$F$5),ASC(全国版!D944)))+FIND(ASC(検索シート!$F$6),ASC(全国版!E944))+FIND(ASC(検索シート!$F$7),ASC(全国版!F944)),\"\"))","v":3},{"$f":"IF(B944=\"\",\"-\",COUNT(B$4:$B944))","v":941},"愛媛県","河原電子ビジネス専門学校","工業関係専門課程　ＩＴイノベーション科","2023-04-01","～",null,"2024-01-17"]
[{"$f":"IF(OR(検索シート!$F$9=\"\",検索シート!$F$9=\"（指定なし）\",検索シート!$F$9=全国版!K945,AND(検索シート!$F$9=\"変更等なし\",全国版!K945=\"\")),1,0)","v":1},{"$f":"IF(A945=0,\"\",IFERROR(IF(OR(検索シート!$F$5=\"\",検索シート!$F$5=\"（指定なし）\"),1,FIND(ASC(検索シート!$F$5),ASC(全国版!D945)))+FIND(ASC(検索シート!$F$6),ASC(全国版!E945))+FIND(ASC(検索シート!$F$7),ASC(全国版!F945)),\"\"))","v":3},{"$f":"IF(B945=\"\",\"-\",COUNT(B$4:$B945))","v":942},"愛媛県","河原電子ビジネス専門学校","工業関係専門課程　ＩＴエンジニア科（４年制）","2019-01-25","～","2023-03-31","2019-01-25","名称変更","河原電子ビジネス専門学校","工業関係専門課程　ＩＴイノベーション科","2023-04-01","2024-01-17"]
[{"$f":"IF(OR(検索シート!$F$9=\"\",検索シート!$F$9=\"（指定なし）\",検索シート!$F$9=全国版!K946,AND(検索シート!$F$9=\"変更等なし\",全国版!K946=\"\")),1,0)","v":1},{"$f":"IF(A946=0,\"\",IFERROR(IF(OR(検索シート!$F$5=\"\",検索シート!$F$5=\"（指定なし）\"),1,FIND(ASC(検索シート!$F$5),ASC(全国版!D946)))+FIND(ASC(検索シート!$F$6),ASC(全国版!E946))+FIND(ASC(検索シート!$F$7),ASC(全国版!F946)),\"\"))","v":3},{"$f":"IF(B946=\"\",\"-\",COUNT(B$4:$B946))","v":943},"愛媛県","河原電子ビジネス専門学校","工業関係専門課程　高度情報技術科（４年制）","2011-04-01","～","2019-03-31","2011-12-22","廃止",null,null,"2019-03-31","2021-02-24"]
[{"$f":"IF(OR(検索シート!$F$9=\"\",検索シート!$F$9=\"（指定なし）\",検索シート!$F$9=全国版!K947,AND(検索シート!$F$9=\"変更等なし\",全国版!K947=\"\")),1,0)","v":1},{"$f":"IF(A947=0,\"\",IFERROR(IF(OR(検索シート!$F$5=\"\",検索シート!$F$5=\"（指定なし）\"),1,FIND(ASC(検索シート!$F$5),ASC(全国版!D947)))+FIND(ASC(検索シート!$F$6),ASC(全国版!E947))+FIND(ASC(検索シート!$F$7),ASC(全国版!F947)),\"\"))","v":3},{"$f":"IF(B947=\"\",\"-\",COUNT(B$4:$B947))","v":944},"愛媛県","専修学校愛媛医療専門大学校","医療専門課程　作業療法学科","2008-02-29","～","2011-03-31","2008-02-29","名称変更","河原医療大学校","医療専門課程　作業療法学科","2011-04-01","2011-12-22"]
[{"$f":"IF(OR(検索シート!$F$9=\"\",検索シート!$F$9=\"（指定なし）\",検索シート!$F$9=全国版!K948,AND(検索シート!$F$9=\"変更等なし\",全国版!K948=\"\")),1,0)","v":1},{"$f":"IF(A948=0,\"\",IFERROR(IF(OR(検索シート!$F$5=\"\",検索シート!$F$5=\"（指定なし）\"),1,FIND(ASC(検索シート!$F$5),ASC(全国版!D948)))+FIND(ASC(検索シート!$F$6),ASC(全国版!E948))+FIND(ASC(検索シート!$F$7),ASC(全国版!F948)),\"\"))","v":3},{"$f":"IF(B948=\"\",\"-\",COUNT(B$4:$B948))","v":945},"愛媛県","専修学校愛媛医療専門大学校","医療専門課程　理学療法学科","2008-02-29","～","2011-03-31","2008-02-29","名称変更","河原医療大学校","医療専門課程　理学療法学科","2011-04-01","2011-12-22"]
[{"$f":"IF(OR(検索シート!$F$9=\"\",検索シート!$F$9=\"（指定なし）\",検索シート!$F$9=全国版!K949,AND(検索シート!$F$9=\"変更等なし\",全国版!K949=\"\")),1,0)","v":1},{"$f":"IF(A949=0,\"\",IFERROR(IF(OR(検索シート!$F$5=\"\",検索シート!$F$5=\"（指定なし）\"),1,FIND(ASC(検索シート!$F$5),ASC(全国版!D949)))+FIND(ASC(検索シート!$F$6),ASC(全国版!E949))+FIND(ASC(検索シート!$F$7),ASC(全国版!F949)),\"\"))","v":3},{"$f":"IF(B949=\"\",\"-\",COUNT(B$4:$B949))","v":946},"愛媛県","専修学校愛媛医療専門大学校","医療専門課程　看護学科","2008-02-29","～","2011-03-31","2008-02-29","名称変更","河原医療大学校","医療専門課程　看護学科","2011-04-01","2011-12-22"]
[{"$f":"IF(OR(検索シート!$F$9=\"\",検索シート!$F$9=\"（指定なし）\",検索シート!$F$9=全国版!K950,AND(検索シート!$F$9=\"変更等なし\",全国版!K950=\"\")),1,0)","v":1},{"$f":"IF(A950=0,\"\",IFERROR(IF(OR(検索シート!$F$5=\"\",検索シート!$F$5=\"（指定なし）\"),1,FIND(ASC(検索シート!$F$5),ASC(全国版!D950)))+FIND(ASC(検索シート!$F$6),ASC(全国版!E950))+FIND(ASC(検索シート!$F$7),ASC(全国版!F950)),\"\"))","v":3},{"$f":"IF(B950=\"\",\"-\",COUNT(B$4:$B950))","v":947},"愛媛県","専門学校日産愛媛自動車大学校","工業専門課程　一級自動車工学科","2007-04-01","～",null,"2008-02-29"]
[{"$f":"IF(OR(検索シート!$F$9=\"\",検索シート!$F$9=\"（指定なし）\",検索シート!$F$9=全国版!K951,AND(検索シート!$F$9=\"変更等なし\",全国版!K951=\"\")),1,0)","v":1},{"$f":"IF(A951=0,\"\",IFERROR(IF(OR(検索シート!$F$5=\"\",検索シート!$F$5=\"（指定なし）\"),1,FIND(ASC(検索シート!$F$5),ASC(全国版!D951)))+FIND(ASC(検索シート!$F$6),ASC(全国版!E951))+FIND(ASC(検索シート!$F$7),ASC(全国版!F951)),\"\"))","v":3},{"$f":"IF(B951=\"\",\"-\",COUNT(B$4:$B951))","v":948},"愛媛県","日産愛媛整備専門学校","工業専門課程　一級自動車工学科","2006-06-30","～","2007-03-31","2006-06-30","名称変更","専門学校日産愛媛自動車大学校","工業専門課程　一級自動車工学科","2007-04-01","2008-02-29"]
[{"$f":"IF(OR(検索シート!$F$9=\"\",検索シート!$F$9=\"（指定なし）\",検索シート!$F$9=全国版!K952,AND(検索シート!$F$9=\"変更等なし\",全国版!K952=\"\")),1,0)","v":1},{"$f":"IF(A952=0,\"\",IFERROR(IF(OR(検索シート!$F$5=\"\",検索シート!$F$5=\"（指定なし）\"),1,FIND(ASC(検索シート!$F$5),ASC(全国版!D952)))+FIND(ASC(検索シート!$F$6),ASC(全国版!E952))+FIND(ASC(検索シート!$F$7),ASC(全国版!F952)),\"\"))","v":3},{"$f":"IF(B952=\"\",\"-\",COUNT(B$4:$B952))","v":949},"高知県","高知開成専門学校","工業専門課程　高度システム開発科","2008-02-29","～",null,"2008-02-29"]
[{"$f":"IF(OR(検索シート!$F$9=\"\",検索シート!$F$9=\"（指定なし）\",検索シート!$F$9=全国版!K953,AND(検索シート!$F$9=\"変更等なし\",全国版!K953=\"\")),1,0)","v":1},{"$f":"IF(A953=0,\"\",IFERROR(IF(OR(検索シート!$F$5=\"\",検索シート!$F$5=\"（指定なし）\"),1,FIND(ASC(検索シート!$F$5),ASC(全国版!D953)))+FIND(ASC(検索シート!$F$6),ASC(全国版!E953))+FIND(ASC(検索シート!$F$7),ASC(全国版!F953)),\"\"))","v":3},{"$f":"IF(B953=\"\",\"-\",COUNT(B$4:$B953))","v":950},"高知県","高知リハビリテーション学院","医療専門課程　言語療法学科","2005-12-09","～","2023-03-31","2005-12-09","廃止",null,null,"2023-03-31"]
[{"$f":"IF(OR(検索シート!$F$9=\"\",検索シート!$F$9=\"（指定なし）\",検索シート!$F$9=全国版!K954,AND(検索シート!$F$9=\"変更等なし\",全国版!K954=\"\")),1,0)","v":1},{"$f":"IF(A954=0,\"\",IFERROR(IF(OR(検索シート!$F$5=\"\",検索シート!$F$5=\"（指定なし）\"),1,FIND(ASC(検索シート!$F$5),ASC(全国版!D954)))+FIND(ASC(検索シート!$F$6),ASC(全国版!E954))+FIND(ASC(検索シート!$F$7),ASC(全国版!F954)),\"\"))","v":3},{"$f":"IF(B954=\"\",\"-\",COUNT(B$4:$B954))","v":951},"高知県","高知リハビリテーション学院","医療専門課程　作業療法学科","2005-12-09","～","2023-03-31","2005-12-09","廃止",null,null,"2023-03-31"]
[{"$f":"IF(OR(検索シート!$F$9=\"\",検索シート!$F$9=\"（指定なし）\",検索シート!$F$9=全国版!K955,AND(検索シート!$F$9=\"変更等なし\",全国版!K955=\"\")),1,0)","v":1},{"$f":"IF(A955=0,\"\",IFERROR(IF(OR(検索シート!$F$5=\"\",検索シート!$F$5=\"（指定なし）\"),1,FIND(ASC(検索シート!$F$5),ASC(全国版!D955)))+FIND(ASC(検索シート!$F$6),ASC(全国版!E955))+FIND(ASC(検索シート!$F$7),ASC(全国版!F955)),\"\"))","v":3},{"$f":"IF(B955=\"\",\"-\",COUNT(B$4:$B955))","v":952},"高知県","高知リハビリテーション学院","医療専門課程　理学療法学科","2005-12-09","～","2023-03-31","2005-12-09","廃止",null,null,"2023-03-31"]
[{"$f":"IF(OR(検索シート!$F$9=\"\",検索シート!$F$9=\"（指定なし）\",検索シート!$F$9=全国版!K956,AND(検索シート!$F$9=\"変更等なし\",全国版!K956=\"\")),1,0)","v":1},{"$f":"IF(A956=0,\"\",IFERROR(IF(OR(検索シート!$F$5=\"\",検索シート!$F$5=\"（指定なし）\"),1,FIND(ASC(検索シート!$F$5),ASC(全国版!D956)))+FIND(ASC(検索シート!$F$6),ASC(全国版!E956))+FIND(ASC(検索シート!$F$7),ASC(全国版!F956)),\"\"))","v":3},{"$f":"IF(B956=\"\",\"-\",COUNT(B$4:$B956))","v":953},"高知県","土佐リハビリテーションカレッジ","医療専門課程　作業療法学科","2005-12-09","～",null,"2005-12-09"]
[{"$f":"IF(OR(検索シート!$F$9=\"\",検索シート!$F$9=\"（指定なし）\",検索シート!$F$9=全国版!K957,AND(検索シート!$F$9=\"変更等なし\",全国版!K957=\"\")),1,0)","v":1},{"$f":"IF(A957=0,\"\",IFERROR(IF(OR(検索シート!$F$5=\"\",検索シート!$F$5=\"（指定なし）\"),1,FIND(ASC(検索シート!$F$5),ASC(全国版!D957)))+FIND(ASC(検索シート!$F$6),ASC(全国版!E957))+FIND(ASC(検索シート!$F$7),ASC(全国版!F957)),\"\"))","v":3},{"$f":"IF(B957=\"\",\"-\",COUNT(B$4:$B957))","v":954},"高知県","土佐リハビリテーションカレッジ","医療専門課程　理学療法学科","2005-12-09","～",null,"2005-12-09"]
[{"$f":"IF(OR(検索シート!$F$9=\"\",検索シート!$F$9=\"（指定なし）\",検索シート!$F$9=全国版!K958,AND(検索シート!$F$9=\"変更等なし\",全国版!K958=\"\")),1,0)","v":1},{"$f":"IF(A958=0,\"\",IFERROR(IF(OR(検索シート!$F$5=\"\",検索シート!$F$5=\"（指定なし）\"),1,FIND(ASC(検索シート!$F$5),ASC(全国版!D958)))+FIND(ASC(検索シート!$F$6),ASC(全国版!E958))+FIND(ASC(検索シート!$F$7),ASC(全国版!F958)),\"\"))","v":3},{"$f":"IF(B958=\"\",\"-\",COUNT(B$4:$B958))","v":955},"高知県","龍馬看護ふくし専門学校","医療専門課程　看護学科","2007-02-28","～","2012-03-31","2007-02-28","廃止",null,null,"2012-03-31","2013-01-29"]
[{"$f":"IF(OR(検索シート!$F$9=\"\",検索シート!$F$9=\"（指定なし）\",検索シート!$F$9=全国版!K959,AND(検索シート!$F$9=\"変更等なし\",全国版!K959=\"\")),1,0)","v":1},{"$f":"IF(A959=0,\"\",IFERROR(IF(OR(検索シート!$F$5=\"\",検索シート!$F$5=\"（指定なし）\"),1,FIND(ASC(検索シート!$F$5),ASC(全国版!D959)))+FIND(ASC(検索シート!$F$6),ASC(全国版!E959))+FIND(ASC(検索シート!$F$7),ASC(全国版!F959)),\"\"))","v":3},{"$f":"IF(B959=\"\",\"-\",COUNT(B$4:$B959))","v":956},"福岡県","ＡＳＯポップカルチャー専門学校","文化・教養専門課程　ゲーム・ＣＧ・アニメ専攻科","2022-03-04","～",null,"2022-03-04"]
[{"$f":"IF(OR(検索シート!$F$9=\"\",検索シート!$F$9=\"（指定なし）\",検索シート!$F$9=全国版!K960,AND(検索シート!$F$9=\"変更等なし\",全国版!K960=\"\")),1,0)","v":1},{"$f":"IF(A960=0,\"\",IFERROR(IF(OR(検索シート!$F$5=\"\",検索シート!$F$5=\"（指定なし）\"),1,FIND(ASC(検索シート!$F$5),ASC(全国版!D960)))+FIND(ASC(検索シート!$F$6),ASC(全国版!E960))+FIND(ASC(検索シート!$F$7),ASC(全国版!F960)),\"\"))","v":3},{"$f":"IF(B960=\"\",\"-\",COUNT(B$4:$B960))","v":957},"福岡県","ＫＣＳ北九州情報専門学校","工業専門課程　大学併修科","2005-12-09","～",null,"2005-12-09"]
[{"$f":"IF(OR(検索シート!$F$9=\"\",検索シート!$F$9=\"（指定なし）\",検索シート!$F$9=全国版!K961,AND(検索シート!$F$9=\"変更等なし\",全国版!K961=\"\")),1,0)","v":1},{"$f":"IF(A961=0,\"\",IFERROR(IF(OR(検索シート!$F$5=\"\",検索シート!$F$5=\"（指定なし）\"),1,FIND(ASC(検索シート!$F$5),ASC(全国版!D961)))+FIND(ASC(検索シート!$F$6),ASC(全国版!E961))+FIND(ASC(検索シート!$F$7),ASC(全国版!F961)),\"\"))","v":3},{"$f":"IF(B961=\"\",\"-\",COUNT(B$4:$B961))","v":958},"福岡県","ＫＣＳ福岡情報専門学校","工業専門課程　大学併修科","2005-12-09","～",null,"2005-12-09"]
[{"$f":"IF(OR(検索シート!$F$9=\"\",検索シート!$F$9=\"（指定なし）\",検索シート!$F$9=全国版!K962,AND(検索シート!$F$9=\"変更等なし\",全国版!K962=\"\")),1,0)","v":1},{"$f":"IF(A962=0,\"\",IFERROR(IF(OR(検索シート!$F$5=\"\",検索シート!$F$5=\"（指定なし）\"),1,FIND(ASC(検索シート!$F$5),ASC(全国版!D962)))+FIND(ASC(検索シート!$F$6),ASC(全国版!E962))+FIND(ASC(検索シート!$F$7),ASC(全国版!F962)),\"\"))","v":3},{"$f":"IF(B962=\"\",\"-\",COUNT(B$4:$B962))","v":959},"福岡県","麻生情報ビジネス専門学校","工業専門課程　ゲームクリエータ専攻科","2010-02-26","～","2021-03-31","2010-02-26","廃止",null,null,"2021-03-31","2022-03-04"]
[{"$f":"IF(OR(検索シート!$F$9=\"\",検索シート!$F$9=\"（指定なし）\",検索シート!$F$9=全国版!K963,AND(検索シート!$F$9=\"変更等なし\",全国版!K963=\"\")),1,0)","v":1},{"$f":"IF(A963=0,\"\",IFERROR(IF(OR(検索シート!$F$5=\"\",検索シート!$F$5=\"（指定なし）\"),1,FIND(ASC(検索シート!$F$5),ASC(全国版!D963)))+FIND(ASC(検索シート!$F$6),ASC(全国版!E963))+FIND(ASC(検索シート!$F$7),ASC(全国版!F963)),\"\"))","v":3},{"$f":"IF(B963=\"\",\"-\",COUNT(B$4:$B963))","v":960},"福岡県","麻生情報ビジネス専門学校","工業専門課程　情報工学科","2010-02-26","～",null,"2010-02-26"]
[{"$f":"IF(OR(検索シート!$F$9=\"\",検索シート!$F$9=\"（指定なし）\",検索シート!$F$9=全国版!K964,AND(検索シート!$F$9=\"変更等なし\",全国版!K964=\"\")),1,0)","v":1},{"$f":"IF(A964=0,\"\",IFERROR(IF(OR(検索シート!$F$5=\"\",検索シート!$F$5=\"（指定なし）\"),1,FIND(ASC(検索シート!$F$5),ASC(全国版!D964)))+FIND(ASC(検索シート!$F$6),ASC(全国版!E964))+FIND(ASC(検索シート!$F$7),ASC(全国版!F964)),\"\"))","v":3},{"$f":"IF(B964=\"\",\"-\",COUNT(B$4:$B964))","v":961},"福岡県","麻生情報ビジネス専門学校","商業実務専門課程　税理士専攻科","2010-02-26","～","2020-03-31","2010-02-26","廃止",null,null,"2020-03-31","2021-02-24"]
[{"$f":"IF(OR(検索シート!$F$9=\"\",検索シート!$F$9=\"（指定なし）\",検索シート!$F$9=全国版!K965,AND(検索シート!$F$9=\"変更等なし\",全国版!K965=\"\")),1,0)","v":1},{"$f":"IF(A965=0,\"\",IFERROR(IF(OR(検索シート!$F$5=\"\",検索シート!$F$5=\"（指定なし）\"),1,FIND(ASC(検索シート!$F$5),ASC(全国版!D965)))+FIND(ASC(検索シート!$F$6),ASC(全国版!E965))+FIND(ASC(検索シート!$F$7),ASC(全国版!F965)),\"\"))","v":3},{"$f":"IF(B965=\"\",\"-\",COUNT(B$4:$B965))","v":962},"福岡県","大原情報ＩＴ簿記公務員専門学校小倉校","商業実務専門課程　経理本科４年制学科","2022-04-01","～","2023-03-31","2023-01-27","名称変更","大原ビジネス公務員専門学校北九州校","商業実務専門課程　経理本科４年制学科","2023-04-01","2024-01-17"]
[{"$f":"IF(OR(検索シート!$F$9=\"\",検索シート!$F$9=\"（指定なし）\",検索シート!$F$9=全国版!K966,AND(検索シート!$F$9=\"変更等なし\",全国版!K966=\"\")),1,0)","v":1},{"$f":"IF(A966=0,\"\",IFERROR(IF(OR(検索シート!$F$5=\"\",検索シート!$F$5=\"（指定なし）\"),1,FIND(ASC(検索シート!$F$5),ASC(全国版!D966)))+FIND(ASC(検索シート!$F$6),ASC(全国版!E966))+FIND(ASC(検索シート!$F$7),ASC(全国版!F966)),\"\"))","v":3},{"$f":"IF(B966=\"\",\"-\",COUNT(B$4:$B966))","v":963},"福岡県","大原昴自動車・スポーツ専門学校","工業専門課程　一級自動車整備研究科","2015-04-01","～","2018-03-31","2016-02-29","名称変更","専門学校大原自動車工科大学校","工業専門課程　一級自動車整備研究科","2018-04-01","2019-01-25"]
[{"$f":"IF(OR(検索シート!$F$9=\"\",検索シート!$F$9=\"（指定なし）\",検索シート!$F$9=全国版!K967,AND(検索シート!$F$9=\"変更等なし\",全国版!K967=\"\")),1,0)","v":1},{"$f":"IF(A967=0,\"\",IFERROR(IF(OR(検索シート!$F$5=\"\",検索シート!$F$5=\"（指定なし）\"),1,FIND(ASC(検索シート!$F$5),ASC(全国版!D967)))+FIND(ASC(検索シート!$F$6),ASC(全国版!E967))+FIND(ASC(検索シート!$F$7),ASC(全国版!F967)),\"\"))","v":3},{"$f":"IF(B967=\"\",\"-\",COUNT(B$4:$B967))","v":964},"福岡県","大原ビジネス公務員専門学校北九州校","商業実務専門課程　経理本科４年制学科","2023-04-01","～",null,"2024-01-17"]
[{"$f":"IF(OR(検索シート!$F$9=\"\",検索シート!$F$9=\"（指定なし）\",検索シート!$F$9=全国版!K968,AND(検索シート!$F$9=\"変更等なし\",全国版!K968=\"\")),1,0)","v":1},{"$f":"IF(A968=0,\"\",IFERROR(IF(OR(検索シート!$F$5=\"\",検索シート!$F$5=\"（指定なし）\"),1,FIND(ASC(検索シート!$F$5),ASC(全国版!D968)))+FIND(ASC(検索シート!$F$6),ASC(全国版!E968))+FIND(ASC(検索シート!$F$7),ASC(全国版!F968)),\"\"))","v":3},{"$f":"IF(B968=\"\",\"-\",COUNT(B$4:$B968))","v":965},"福岡県","大原簿記公務員専門学校小倉校","商業実務専門課程　経理本科４年制学科","2008-02-29","～","2022-03-31","2008-02-29","名称変更","大原情報ＩＴ簿記公務員専門学校小倉校","商業実務専門課程　経理本科４年制学科","2022-04-01","2023-01-27"]
[{"$f":"IF(OR(検索シート!$F$9=\"\",検索シート!$F$9=\"（指定なし）\",検索シート!$F$9=全国版!K969,AND(検索シート!$F$9=\"変更等なし\",全国版!K969=\"\")),1,0)","v":1},{"$f":"IF(A969=0,\"\",IFERROR(IF(OR(検索シート!$F$5=\"\",検索シート!$F$5=\"（指定なし）\"),1,FIND(ASC(検索シート!$F$5),ASC(全国版!D969)))+FIND(ASC(検索シート!$F$6),ASC(全国版!E969))+FIND(ASC(検索シート!$F$7),ASC(全国版!F969)),\"\"))","v":3},{"$f":"IF(B969=\"\",\"-\",COUNT(B$4:$B969))","v":966},"福岡県","大原簿記情報専門学校福岡校","商業実務専門課程　経理本科４年制学科","2005-12-09","～","2022-03-31","2005-12-09","名称変更","大原簿記ビジネス専門学校福岡校","商業実務専門課程　経理本科４年制学科","2022-04-01","2023-01-27"]
[{"$f":"IF(OR(検索シート!$F$9=\"\",検索シート!$F$9=\"（指定なし）\",検索シート!$F$9=全国版!K970,AND(検索シート!$F$9=\"変更等なし\",全国版!K970=\"\")),1,0)","v":1},{"$f":"IF(A970=0,\"\",IFERROR(IF(OR(検索シート!$F$5=\"\",検索シート!$F$5=\"（指定なし）\"),1,FIND(ASC(検索シート!$F$5),ASC(全国版!D970)))+FIND(ASC(検索シート!$F$6),ASC(全国版!E970))+FIND(ASC(検索シート!$F$7),ASC(全国版!F970)),\"\"))","v":3},{"$f":"IF(B970=\"\",\"-\",COUNT(B$4:$B970))","v":967},"福岡県","大原簿記ビジネス専門学校福岡校","商業実務専門課程　経理本科４年制学科","2022-04-01","～",null,"2023-01-27"]
[{"$f":"IF(OR(検索シート!$F$9=\"\",検索シート!$F$9=\"（指定なし）\",検索シート!$F$9=全国版!K971,AND(検索シート!$F$9=\"変更等なし\",全国版!K971=\"\")),1,0)","v":1},{"$f":"IF(A971=0,\"\",IFERROR(IF(OR(検索シート!$F$5=\"\",検索シート!$F$5=\"（指定なし）\"),1,FIND(ASC(検索シート!$F$5),ASC(全国版!D971)))+FIND(ASC(検索シート!$F$6),ASC(全国版!E971))+FIND(ASC(検索シート!$F$7),ASC(全国版!F971)),\"\"))","v":3},{"$f":"IF(B971=\"\",\"-\",COUNT(B$4:$B971))","v":968},"福岡県","専修学校コンピュータ教育学院","コンピュータ専門課程　情報工学科","2006-04-01","～","2014-05-12","2007-02-28","名称変更","専門学校コンピュータ教育学院","コンピュータ専門課程　情報工学科","2014-05-13","2016-02-29"]
[{"$f":"IF(OR(検索シート!$F$9=\"\",検索シート!$F$9=\"（指定なし）\",検索シート!$F$9=全国版!K972,AND(検索シート!$F$9=\"変更等なし\",全国版!K972=\"\")),1,0)","v":1},{"$f":"IF(A972=0,\"\",IFERROR(IF(OR(検索シート!$F$5=\"\",検索シート!$F$5=\"（指定なし）\"),1,FIND(ASC(検索シート!$F$5),ASC(全国版!D972)))+FIND(ASC(検索シート!$F$6),ASC(全国版!E972))+FIND(ASC(検索シート!$F$7),ASC(全国版!F972)),\"\"))","v":3},{"$f":"IF(B972=\"\",\"-\",COUNT(B$4:$B972))","v":969},"福岡県","専修学校コンピュータ教育学院","コンピュータ専門課程　総合情報科","2005-12-09","～","2006-03-31","2005-12-09","名称変更","専修学校コンピュータ教育学院","コンピュータ専門課程　情報工学科","2006-04-01","2007-02-28"]
[{"$f":"IF(OR(検索シート!$F$9=\"\",検索シート!$F$9=\"（指定なし）\",検索シート!$F$9=全国版!K973,AND(検索シート!$F$9=\"変更等なし\",全国版!K973=\"\")),1,0)","v":1},{"$f":"IF(A973=0,\"\",IFERROR(IF(OR(検索シート!$F$5=\"\",検索シート!$F$5=\"（指定なし）\"),1,FIND(ASC(検索シート!$F$5),ASC(全国版!D973)))+FIND(ASC(検索シート!$F$6),ASC(全国版!E973))+FIND(ASC(検索シート!$F$7),ASC(全国版!F973)),\"\"))","v":3},{"$f":"IF(B973=\"\",\"-\",COUNT(B$4:$B973))","v":970},"福岡県","専門学校麻生工科自動車大学校","工業専門課程　１級自動車整備科","2010-11-29","～",null,"2010-11-29"]
[{"$f":"IF(OR(検索シート!$F$9=\"\",検索シート!$F$9=\"（指定なし）\",検索シート!$F$9=全国版!K974,AND(検索シート!$F$9=\"変更等なし\",全国版!K974=\"\")),1,0)","v":1},{"$f":"IF(A974=0,\"\",IFERROR(IF(OR(検索シート!$F$5=\"\",検索シート!$F$5=\"（指定なし）\"),1,FIND(ASC(検索シート!$F$5),ASC(全国版!D974)))+FIND(ASC(検索シート!$F$6),ASC(全国版!E974))+FIND(ASC(検索シート!$F$7),ASC(全国版!F974)),\"\"))","v":3},{"$f":"IF(B974=\"\",\"-\",COUNT(B$4:$B974))","v":971},"福岡県","専門学校大原自動車工科大学校","工業専門課程　一級自動車整備研究科","2018-04-01","～","2021-03-31","2019-01-25","名称変更","専門学校大原自動車工科大学校","工業専門課程　一級自動車整備研究学科","2021-04-01","2022-03-04"]
[{"$f":"IF(OR(検索シート!$F$9=\"\",検索シート!$F$9=\"（指定なし）\",検索シート!$F$9=全国版!K975,AND(検索シート!$F$9=\"変更等なし\",全国版!K975=\"\")),1,0)","v":1},{"$f":"IF(A975=0,\"\",IFERROR(IF(OR(検索シート!$F$5=\"\",検索シート!$F$5=\"（指定なし）\"),1,FIND(ASC(検索シート!$F$5),ASC(全国版!D975)))+FIND(ASC(検索シート!$F$6),ASC(全国版!E975))+FIND(ASC(検索シート!$F$7),ASC(全国版!F975)),\"\"))","v":3},{"$f":"IF(B975=\"\",\"-\",COUNT(B$4:$B975))","v":972},"福岡県","専門学校大原自動車工科大学校","工業専門課程　一級自動車整備研究学科","2021-04-01","～",null,"2022-03-04"]
[{"$f":"IF(OR(検索シート!$F$9=\"\",検索シート!$F$9=\"（指定なし）\",検索シート!$F$9=全国版!K976,AND(検索シート!$F$9=\"変更等なし\",全国版!K976=\"\")),1,0)","v":1},{"$f":"IF(A976=0,\"\",IFERROR(IF(OR(検索シート!$F$5=\"\",検索シート!$F$5=\"（指定なし）\"),1,FIND(ASC(検索シート!$F$5),ASC(全国版!D976)))+FIND(ASC(検索シート!$F$6),ASC(全国版!E976))+FIND(ASC(検索シート!$F$7),ASC(全国版!F976)),\"\"))","v":3},{"$f":"IF(B976=\"\",\"-\",COUNT(B$4:$B976))","v":973},"福岡県","専門学校北九州自動車大学校","工業専門課程　一級自動車整備科","2011-12-22","～",null,"2011-12-22"]
[{"$f":"IF(OR(検索シート!$F$9=\"\",検索シート!$F$9=\"（指定なし）\",検索シート!$F$9=全国版!K977,AND(検索シート!$F$9=\"変更等なし\",全国版!K977=\"\")),1,0)","v":1},{"$f":"IF(A977=0,\"\",IFERROR(IF(OR(検索シート!$F$5=\"\",検索シート!$F$5=\"（指定なし）\"),1,FIND(ASC(検索シート!$F$5),ASC(全国版!D977)))+FIND(ASC(検索シート!$F$6),ASC(全国版!E977))+FIND(ASC(検索シート!$F$7),ASC(全国版!F977)),\"\"))","v":3},{"$f":"IF(B977=\"\",\"-\",COUNT(B$4:$B977))","v":974},"福岡県","専門学校九州リハビリテーション大学校","医療専門課程　作業療法学科","2010-11-29","～","2014-09-03","2010-11-29","廃止",null,null,"2014-09-03","2018-02-28"]
[{"$f":"IF(OR(検索シート!$F$9=\"\",検索シート!$F$9=\"（指定なし）\",検索シート!$F$9=全国版!K978,AND(検索シート!$F$9=\"変更等なし\",全国版!K978=\"\")),1,0)","v":1},{"$f":"IF(A978=0,\"\",IFERROR(IF(OR(検索シート!$F$5=\"\",検索シート!$F$5=\"（指定なし）\"),1,FIND(ASC(検索シート!$F$5),ASC(全国版!D978)))+FIND(ASC(検索シート!$F$6),ASC(全国版!E978))+FIND(ASC(検索シート!$F$7),ASC(全国版!F978)),\"\"))","v":3},{"$f":"IF(B978=\"\",\"-\",COUNT(B$4:$B978))","v":975},"福岡県","専門学校九州リハビリテーション大学校","医療専門課程　理学療法学科","2010-11-29","～","2014-09-03","2010-11-29","廃止",null,null,"2014-09-03","2018-02-28"]
[{"$f":"IF(OR(検索シート!$F$9=\"\",検索シート!$F$9=\"（指定なし）\",検索シート!$F$9=全国版!K979,AND(検索シート!$F$9=\"変更等なし\",全国版!K979=\"\")),1,0)","v":1},{"$f":"IF(A979=0,\"\",IFERROR(IF(OR(検索シート!$F$5=\"\",検索シート!$F$5=\"（指定なし）\"),1,FIND(ASC(検索シート!$F$5),ASC(全国版!D979)))+FIND(ASC(検索シート!$F$6),ASC(全国版!E979))+FIND(ASC(検索シート!$F$7),ASC(全国版!F979)),\"\"))","v":3},{"$f":"IF(B979=\"\",\"-\",COUNT(B$4:$B979))","v":976},"福岡県","専門学校久留米自動車工科大学校","工業専門課程　一級自動車工学科","2017-02-28","～",null,"2017-02-28"]
[{"$f":"IF(OR(検索シート!$F$9=\"\",検索シート!$F$9=\"（指定なし）\",検索シート!$F$9=全国版!K980,AND(検索シート!$F$9=\"変更等なし\",全国版!K980=\"\")),1,0)","v":1},{"$f":"IF(A980=0,\"\",IFERROR(IF(OR(検索シート!$F$5=\"\",検索シート!$F$5=\"（指定なし）\"),1,FIND(ASC(検索シート!$F$5),ASC(全国版!D980)))+FIND(ASC(検索シート!$F$6),ASC(全国版!E980))+FIND(ASC(検索シート!$F$7),ASC(全国版!F980)),\"\"))","v":3},{"$f":"IF(B980=\"\",\"-\",COUNT(B$4:$B980))","v":977},"福岡県","専門学校久留米リハビリテーション学院","医療専門課程　作業療法学科","2007-02-28","～",null,"2007-02-28"]
[{"$f":"IF(OR(検索シート!$F$9=\"\",検索シート!$F$9=\"（指定なし）\",検索シート!$F$9=全国版!K981,AND(検索シート!$F$9=\"変更等なし\",全国版!K981=\"\")),1,0)","v":1},{"$f":"IF(A981=0,\"\",IFERROR(IF(OR(検索シート!$F$5=\"\",検索シート!$F$5=\"（指定なし）\"),1,FIND(ASC(検索シート!$F$5),ASC(全国版!D981)))+FIND(ASC(検索シート!$F$6),ASC(全国版!E981))+FIND(ASC(検索シート!$F$7),ASC(全国版!F981)),\"\"))","v":3},{"$f":"IF(B981=\"\",\"-\",COUNT(B$4:$B981))","v":978},"福岡県","専門学校久留米リハビリテーション学院","医療専門課程　理学療法学科","2007-02-28","～",null,"2007-02-28"]
[{"$f":"IF(OR(検索シート!$F$9=\"\",検索シート!$F$9=\"（指定なし）\",検索シート!$F$9=全国版!K982,AND(検索シート!$F$9=\"変更等なし\",全国版!K982=\"\")),1,0)","v":1},{"$f":"IF(A982=0,\"\",IFERROR(IF(OR(検索シート!$F$5=\"\",検索シート!$F$5=\"（指定なし）\"),1,FIND(ASC(検索シート!$F$5),ASC(全国版!D982)))+FIND(ASC(検索シート!$F$6),ASC(全国版!E982))+FIND(ASC(検索シート!$F$7),ASC(全国版!F982)),\"\"))","v":3},{"$f":"IF(B982=\"\",\"-\",COUNT(B$4:$B982))","v":979},"福岡県","専門学校国際貢献専門大学校","商業実務専門課程　ＩＴビジネス学科（４年制）","2020-02-29","～",null,"2020-02-29"]
[{"$f":"IF(OR(検索シート!$F$9=\"\",検索シート!$F$9=\"（指定なし）\",検索シート!$F$9=全国版!K983,AND(検索シート!$F$9=\"変更等なし\",全国版!K983=\"\")),1,0)","v":1},{"$f":"IF(A983=0,\"\",IFERROR(IF(OR(検索シート!$F$5=\"\",検索シート!$F$5=\"（指定なし）\"),1,FIND(ASC(検索シート!$F$5),ASC(全国版!D983)))+FIND(ASC(検索シート!$F$6),ASC(全国版!E983))+FIND(ASC(検索シート!$F$7),ASC(全国版!F983)),\"\"))","v":3},{"$f":"IF(B983=\"\",\"-\",COUNT(B$4:$B983))","v":980},"福岡県","専門学校国際貢献専門大学校","文化・教養専門課程　グローバルキャリア日本語教師養成学科","2020-02-29","～",null,"2020-02-29"]
[{"$f":"IF(OR(検索シート!$F$9=\"\",検索シート!$F$9=\"（指定なし）\",検索シート!$F$9=全国版!K984,AND(検索シート!$F$9=\"変更等なし\",全国版!K984=\"\")),1,0)","v":1},{"$f":"IF(A984=0,\"\",IFERROR(IF(OR(検索シート!$F$5=\"\",検索シート!$F$5=\"（指定なし）\"),1,FIND(ASC(検索シート!$F$5),ASC(全国版!D984)))+FIND(ASC(検索シート!$F$6),ASC(全国版!E984))+FIND(ASC(検索シート!$F$7),ASC(全国版!F984)),\"\"))","v":3},{"$f":"IF(B984=\"\",\"-\",COUNT(B$4:$B984))","v":981},"福岡県","専門学校コンピュータ教育学院","コンピュータ専門課程　ＩＴスペシャリスト学科","2017-04-01","～","2018-03-31","2018-02-28","名称変更","専門学校コンピュータ教育学院","コンピュータ専門課程　経営情報学科","2018-04-01","2019-01-25"]
[{"$f":"IF(OR(検索シート!$F$9=\"\",検索シート!$F$9=\"（指定なし）\",検索シート!$F$9=全国版!K985,AND(検索シート!$F$9=\"変更等なし\",全国版!K985=\"\")),1,0)","v":1},{"$f":"IF(A985=0,\"\",IFERROR(IF(OR(検索シート!$F$5=\"\",検索シート!$F$5=\"（指定なし）\"),1,FIND(ASC(検索シート!$F$5),ASC(全国版!D985)))+FIND(ASC(検索シート!$F$6),ASC(全国版!E985))+FIND(ASC(検索シート!$F$7),ASC(全国版!F985)),\"\"))","v":3},{"$f":"IF(B985=\"\",\"-\",COUNT(B$4:$B985))","v":982},"福岡県","専門学校コンピュータ教育学院","コンピュータ専門課程　経営情報学科","2018-04-01","～","2020-03-31","2019-01-25","名称変更","専門学校コンピュータ教育学院","コンピュータ専門課程　未来創成情報学科","2020-04-01","2021-02-24"]
[{"$f":"IF(OR(検索シート!$F$9=\"\",検索シート!$F$9=\"（指定なし）\",検索シート!$F$9=全国版!K986,AND(検索シート!$F$9=\"変更等なし\",全国版!K986=\"\")),1,0)","v":1},{"$f":"IF(A986=0,\"\",IFERROR(IF(OR(検索シート!$F$5=\"\",検索シート!$F$5=\"（指定なし）\"),1,FIND(ASC(検索シート!$F$5),ASC(全国版!D986)))+FIND(ASC(検索シート!$F$6),ASC(全国版!E986))+FIND(ASC(検索シート!$F$7),ASC(全国版!F986)),\"\"))","v":3},{"$f":"IF(B986=\"\",\"-\",COUNT(B$4:$B986))","v":983},"福岡県","専門学校コンピュータ教育学院","コンピュータ専門課程　情報工学科","2014-05-13","～","2017-03-31","2016-02-29","名称変更","専門学校コンピュータ教育学院","コンピュータ専門課程　ＩＴスペシャリスト学科","2017-04-01","2018-02-28"]
[{"$f":"IF(OR(検索シート!$F$9=\"\",検索シート!$F$9=\"（指定なし）\",検索シート!$F$9=全国版!K987,AND(検索シート!$F$9=\"変更等なし\",全国版!K987=\"\")),1,0)","v":1},{"$f":"IF(A987=0,\"\",IFERROR(IF(OR(検索シート!$F$5=\"\",検索シート!$F$5=\"（指定なし）\"),1,FIND(ASC(検索シート!$F$5),ASC(全国版!D987)))+FIND(ASC(検索シート!$F$6),ASC(全国版!E987))+FIND(ASC(検索シート!$F$7),ASC(全国版!F987)),\"\"))","v":3},{"$f":"IF(B987=\"\",\"-\",COUNT(B$4:$B987))","v":984},"福岡県","専門学校コンピュータ教育学院","コンピュータ専門課程　未来創成情報学科","2020-04-01","～",null,"2021-02-24"]
[{"$f":"IF(OR(検索シート!$F$9=\"\",検索シート!$F$9=\"（指定なし）\",検索シート!$F$9=全国版!K988,AND(検索シート!$F$9=\"変更等なし\",全国版!K988=\"\")),1,0)","v":1},{"$f":"IF(A988=0,\"\",IFERROR(IF(OR(検索シート!$F$5=\"\",検索シート!$F$5=\"（指定なし）\"),1,FIND(ASC(検索シート!$F$5),ASC(全国版!D988)))+FIND(ASC(検索シート!$F$6),ASC(全国版!E988))+FIND(ASC(検索シート!$F$7),ASC(全国版!F988)),\"\"))","v":3},{"$f":"IF(B988=\"\",\"-\",COUNT(B$4:$B988))","v":985},"福岡県","専門学校昴大原自動車大学校","工業専門課程　一級自動車整備研究科","2014-01-28","～","2015-03-31","2014-01-28","名称変更","大原昴自動車・スポーツ専門学校","工業専門課程　一級自動車整備研究科","2015-04-01","2016-02-29"]
[{"$f":"IF(OR(検索シート!$F$9=\"\",検索シート!$F$9=\"（指定なし）\",検索シート!$F$9=全国版!K989,AND(検索シート!$F$9=\"変更等なし\",全国版!K989=\"\")),1,0)","v":1},{"$f":"IF(A989=0,\"\",IFERROR(IF(OR(検索シート!$F$5=\"\",検索シート!$F$5=\"（指定なし）\"),1,FIND(ASC(検索シート!$F$5),ASC(全国版!D989)))+FIND(ASC(検索シート!$F$6),ASC(全国版!E989))+FIND(ASC(検索シート!$F$7),ASC(全国版!F989)),\"\"))","v":3},{"$f":"IF(B989=\"\",\"-\",COUNT(B$4:$B989))","v":986},"福岡県","専門学校第一自動車大学校","工業専門課程　自動車整備学科一級自動車整備士コース","2018-02-28","～",null,"2018-02-28"]
[{"$f":"IF(OR(検索シート!$F$9=\"\",検索シート!$F$9=\"（指定なし）\",検索シート!$F$9=全国版!K990,AND(検索シート!$F$9=\"変更等なし\",全国版!K990=\"\")),1,0)","v":1},{"$f":"IF(A990=0,\"\",IFERROR(IF(OR(検索シート!$F$5=\"\",検索シート!$F$5=\"（指定なし）\"),1,FIND(ASC(検索シート!$F$5),ASC(全国版!D990)))+FIND(ASC(検索シート!$F$6),ASC(全国版!E990))+FIND(ASC(検索シート!$F$7),ASC(全国版!F990)),\"\"))","v":3},{"$f":"IF(B990=\"\",\"-\",COUNT(B$4:$B990))","v":987},"福岡県","専門学校福岡カレッジ・オブ・ビジネス","商業実務専門課程　大学併修リクルート科","2014-01-28","～",null,"2014-01-28"]
[{"$f":"IF(OR(検索シート!$F$9=\"\",検索シート!$F$9=\"（指定なし）\",検索シート!$F$9=全国版!K991,AND(検索シート!$F$9=\"変更等なし\",全国版!K991=\"\")),1,0)","v":1},{"$f":"IF(A991=0,\"\",IFERROR(IF(OR(検索シート!$F$5=\"\",検索シート!$F$5=\"（指定なし）\"),1,FIND(ASC(検索シート!$F$5),ASC(全国版!D991)))+FIND(ASC(検索シート!$F$6),ASC(全国版!E991))+FIND(ASC(検索シート!$F$7),ASC(全国版!F991)),\"\"))","v":3},{"$f":"IF(B991=\"\",\"-\",COUNT(B$4:$B991))","v":988},"福岡県","第一医療リハビリテーション専門学校","医療専門課程　作業療法学科（昼間部）","2007-02-28","～","2009-03-31","2007-02-28","名称変更","福岡天神医療リハビリ専門学校","医療専門課程　作業療法学科（昼間部）","2009-04-01","2010-02-26"]
[{"$f":"IF(OR(検索シート!$F$9=\"\",検索シート!$F$9=\"（指定なし）\",検索シート!$F$9=全国版!K992,AND(検索シート!$F$9=\"変更等なし\",全国版!K992=\"\")),1,0)","v":1},{"$f":"IF(A992=0,\"\",IFERROR(IF(OR(検索シート!$F$5=\"\",検索シート!$F$5=\"（指定なし）\"),1,FIND(ASC(検索シート!$F$5),ASC(全国版!D992)))+FIND(ASC(検索シート!$F$6),ASC(全国版!E992))+FIND(ASC(検索シート!$F$7),ASC(全国版!F992)),\"\"))","v":3},{"$f":"IF(B992=\"\",\"-\",COUNT(B$4:$B992))","v":989},"福岡県","第一医療リハビリテーション専門学校","医療専門課程　理学療法学科（昼間部）","2007-02-28","～","2009-03-31","2007-02-28","名称変更","福岡天神医療リハビリ専門学校","医療専門課程　理学療法学科（昼間部）","2009-04-01","2010-02-26"]
[{"$f":"IF(OR(検索シート!$F$9=\"\",検索シート!$F$9=\"（指定なし）\",検索シート!$F$9=全国版!K993,AND(検索シート!$F$9=\"変更等なし\",全国版!K993=\"\")),1,0)","v":1},{"$f":"IF(A993=0,\"\",IFERROR(IF(OR(検索シート!$F$5=\"\",検索シート!$F$5=\"（指定なし）\"),1,FIND(ASC(検索シート!$F$5),ASC(全国版!D993)))+FIND(ASC(検索シート!$F$6),ASC(全国版!E993))+FIND(ASC(検索シート!$F$7),ASC(全国版!F993)),\"\"))","v":3},{"$f":"IF(B993=\"\",\"-\",COUNT(B$4:$B993))","v":990},"福岡県","福岡ＥＣＯ動物海洋専門学校","文化・教養専門課程　エコテクノロジー科","2023-01-27","～",null,"2023-01-27"]
[{"$f":"IF(OR(検索シート!$F$9=\"\",検索シート!$F$9=\"（指定なし）\",検索シート!$F$9=全国版!K994,AND(検索シート!$F$9=\"変更等なし\",全国版!K994=\"\")),1,0)","v":1},{"$f":"IF(A994=0,\"\",IFERROR(IF(OR(検索シート!$F$5=\"\",検索シート!$F$5=\"（指定なし）\"),1,FIND(ASC(検索シート!$F$5),ASC(全国版!D994)))+FIND(ASC(検索シート!$F$6),ASC(全国版!E994))+FIND(ASC(検索シート!$F$7),ASC(全国版!F994)),\"\"))","v":3},{"$f":"IF(B994=\"\",\"-\",COUNT(B$4:$B994))","v":991},"福岡県","福岡ＥＣＯ動物海洋専門学校","文化・教養専門課程　動物看護科（４年制）","2023-01-27","～",null,"2023-01-27"]
[{"$f":"IF(OR(検索シート!$F$9=\"\",検索シート!$F$9=\"（指定なし）\",検索シート!$F$9=全国版!K995,AND(検索シート!$F$9=\"変更等なし\",全国版!K995=\"\")),1,0)","v":1},{"$f":"IF(A995=0,\"\",IFERROR(IF(OR(検索シート!$F$5=\"\",検索シート!$F$5=\"（指定なし）\"),1,FIND(ASC(検索シート!$F$5),ASC(全国版!D995)))+FIND(ASC(検索シート!$F$6),ASC(全国版!E995))+FIND(ASC(検索シート!$F$7),ASC(全国版!F995)),\"\"))","v":3},{"$f":"IF(B995=\"\",\"-\",COUNT(B$4:$B995))","v":992},"福岡県","福岡医健・スポーツ専門学校","医療専門課程　作業療法科","2018-04-01","～",null,"2019-01-25"]
[{"$f":"IF(OR(検索シート!$F$9=\"\",検索シート!$F$9=\"（指定なし）\",検索シート!$F$9=全国版!K996,AND(検索シート!$F$9=\"変更等なし\",全国版!K996=\"\")),1,0)","v":1},{"$f":"IF(A996=0,\"\",IFERROR(IF(OR(検索シート!$F$5=\"\",検索シート!$F$5=\"（指定なし）\"),1,FIND(ASC(検索シート!$F$5),ASC(全国版!D996)))+FIND(ASC(検索シート!$F$6),ASC(全国版!E996))+FIND(ASC(検索シート!$F$7),ASC(全国版!F996)),\"\"))","v":3},{"$f":"IF(B996=\"\",\"-\",COUNT(B$4:$B996))","v":993},"福岡県","福岡医健・スポーツ専門学校","医療専門課程　理学療法科","2018-04-01","～",null,"2019-01-25"]
[{"$f":"IF(OR(検索シート!$F$9=\"\",検索シート!$F$9=\"（指定なし）\",検索シート!$F$9=全国版!K997,AND(検索シート!$F$9=\"変更等なし\",全国版!K997=\"\")),1,0)","v":1},{"$f":"IF(A997=0,\"\",IFERROR(IF(OR(検索シート!$F$5=\"\",検索シート!$F$5=\"（指定なし）\"),1,FIND(ASC(検索シート!$F$5),ASC(全国版!D997)))+FIND(ASC(検索シート!$F$6),ASC(全国版!E997))+FIND(ASC(検索シート!$F$7),ASC(全国版!F997)),\"\"))","v":3},{"$f":"IF(B997=\"\",\"-\",COUNT(B$4:$B997))","v":994},"福岡県","福岡医健・スポーツ専門学校","文化・教養専門課程　スポーツマネジメントテクノロジー科","2024-01-17",null,null,"2024-01-17"]
[{"$f":"IF(OR(検索シート!$F$9=\"\",検索シート!$F$9=\"（指定なし）\",検索シート!$F$9=全国版!K998,AND(検索シート!$F$9=\"変更等なし\",全国版!K998=\"\")),1,0)","v":1},{"$f":"IF(A998=0,\"\",IFERROR(IF(OR(検索シート!$F$5=\"\",検索シート!$F$5=\"（指定なし）\"),1,FIND(ASC(検索シート!$F$5),ASC(全国版!D998)))+FIND(ASC(検索シート!$F$6),ASC(全国版!E998))+FIND(ASC(検索シート!$F$7),ASC(全国版!F998)),\"\"))","v":3},{"$f":"IF(B998=\"\",\"-\",COUNT(B$4:$B998))","v":995},"福岡県","福岡医健専門学校","医療専門課程　作業療法科","2011-12-22","～","2018-03-31","2011-12-22","名称変更","福岡医健・スポーツ専門学校","医療専門課程　作業療法科","2018-04-01","2019-01-25"]
[{"$f":"IF(OR(検索シート!$F$9=\"\",検索シート!$F$9=\"（指定なし）\",検索シート!$F$9=全国版!K999,AND(検索シート!$F$9=\"変更等なし\",全国版!K999=\"\")),1,0)","v":1},{"$f":"IF(A999=0,\"\",IFERROR(IF(OR(検索シート!$F$5=\"\",検索シート!$F$5=\"（指定なし）\"),1,FIND(ASC(検索シート!$F$5),ASC(全国版!D999)))+FIND(ASC(検索シート!$F$6),ASC(全国版!E999))+FIND(ASC(検索シート!$F$7),ASC(全国版!F999)),\"\"))","v":3},{"$f":"IF(B999=\"\",\"-\",COUNT(B$4:$B999))","v":996},"福岡県","福岡医健専門学校","医療専門課程　理学療法科（昼間部）","2011-12-22","～","2018-03-31","2011-12-22","名称変更","福岡医健・スポーツ専門学校","医療専門課程　理学療法科","2018-04-01","2019-01-25"]
[{"$f":"IF(OR(検索シート!$F$9=\"\",検索シート!$F$9=\"（指定なし）\",検索シート!$F$9=全国版!K1000,AND(検索シート!$F$9=\"変更等なし\",全国版!K1000=\"\")),1,0)","v":1},{"$f":"IF(A1000=0,\"\",IFERROR(IF(OR(検索シート!$F$5=\"\",検索シート!$F$5=\"（指定なし）\"),1,FIND(ASC(検索シート!$F$5),ASC(全国版!D1000)))+FIND(ASC(検索シート!$F$6),ASC(全国版!E1000))+FIND(ASC(検索シート!$F$7),ASC(全国版!F1000)),\"\"))","v":3},{"$f":"IF(B1000=\"\",\"-\",COUNT(B$4:$B1000))","v":997},"福岡県","福岡医療専門学校","医療専門課程　理学療法科","2010-11-29","～",null,"2010-11-29"]
[{"$f":"IF(OR(検索シート!$F$9=\"\",検索シート!$F$9=\"（指定なし）\",検索シート!$F$9=全国版!K1001,AND(検索シート!$F$9=\"変更等なし\",全国版!K1001=\"\")),1,0)","v":1},{"$f":"IF(A1001=0,\"\",IFERROR(IF(OR(検索シート!$F$5=\"\",検索シート!$F$5=\"（指定なし）\"),1,FIND(ASC(検索シート!$F$5),ASC(全国版!D1001)))+FIND(ASC(検索シート!$F$6),ASC(全国版!E1001))+FIND(ASC(検索シート!$F$7),ASC(全国版!F1001)),\"\"))","v":3},{"$f":"IF(B1001=\"\",\"-\",COUNT(B$4:$B1001))","v":998},"福岡県","福岡医療リハビリテーション専門学校","医療専門課程　理学療法科","2009-02-27","～",null,"2009-02-27"]
[{"$f":"IF(OR(検索シート!$F$9=\"\",検索シート!$F$9=\"（指定なし）\",検索シート!$F$9=全国版!K1002,AND(検索シート!$F$9=\"変更等なし\",全国版!K1002=\"\")),1,0)","v":1},{"$f":"IF(A1002=0,\"\",IFERROR(IF(OR(検索シート!$F$5=\"\",検索シート!$F$5=\"（指定なし）\"),1,FIND(ASC(検索シート!$F$5),ASC(全国版!D1002)))+FIND(ASC(検索シート!$F$6),ASC(全国版!E1002))+FIND(ASC(検索シート!$F$7),ASC(全国版!F1002)),\"\"))","v":3},{"$f":"IF(B1002=\"\",\"-\",COUNT(B$4:$B1002))","v":999},"福岡県","福岡キャリナリー農業・食テクノロジー専門学校","衛生専門課程　農芸テクノロジー科","2024-01-17",null,null,"2024-01-17"]
[{"$f":"IF(OR(検索シート!$F$9=\"\",検索シート!$F$9=\"（指定なし）\",検索シート!$F$9=全国版!K1003,AND(検索シート!$F$9=\"変更等なし\",全国版!K1003=\"\")),1,0)","v":1},{"$f":"IF(A1003=0,\"\",IFERROR(IF(OR(検索シート!$F$5=\"\",検索シート!$F$5=\"（指定なし）\"),1,FIND(ASC(検索シート!$F$5),ASC(全国版!D1003)))+FIND(ASC(検索シート!$F$6),ASC(全国版!E1003))+FIND(ASC(検索シート!$F$7),ASC(全国版!F1003)),\"\"))","v":3},{"$f":"IF(B1003=\"\",\"-\",COUNT(B$4:$B1003))","v":1000},"福岡県","福岡柔道整復専門学校","医療専門課程　理学療法科","2008-02-29","～","2008-03-31","2008-02-29","廃止",null,null,"2008-03-31","2009-02-27"]
[{"$f":"IF(OR(検索シート!$F$9=\"\",検索シート!$F$9=\"（指定なし）\",検索シート!$F$9=全国版!K1004,AND(検索シート!$F$9=\"変更等なし\",全国版!K1004=\"\")),1,0)","v":1},{"$f":"IF(A1004=0,\"\",IFERROR(IF(OR(検索シート!$F$5=\"\",検索シート!$F$5=\"（指定なし）\"),1,FIND(ASC(検索シート!$F$5),ASC(全国版!D1004)))+FIND(ASC(検索シート!$F$6),ASC(全国版!E1004))+FIND(ASC(検索シート!$F$7),ASC(全国版!F1004)),\"\"))","v":3},{"$f":"IF(B1004=\"\",\"-\",COUNT(B$4:$B1004))","v":1001},"福岡県","福岡スクールオブミュージック＆ダンス専門学校","文化・教養専門課程　スーパーeエンターテイメント科","2024-01-17",null,null,"2024-01-17"]
[{"$f":"IF(OR(検索シート!$F$9=\"\",検索シート!$F$9=\"（指定なし）\",検索シート!$F$9=全国版!K1005,AND(検索シート!$F$9=\"変更等なし\",全国版!K1005=\"\")),1,0)","v":1},{"$f":"IF(A1005=0,\"\",IFERROR(IF(OR(検索シート!$F$5=\"\",検索シート!$F$5=\"（指定なし）\"),1,FIND(ASC(検索シート!$F$5),ASC(全国版!D1005)))+FIND(ASC(検索シート!$F$6),ASC(全国版!E1005))+FIND(ASC(検索シート!$F$7),ASC(全国版!F1005)),\"\"))","v":3},{"$f":"IF(B1005=\"\",\"-\",COUNT(B$4:$B1005))","v":1002},"福岡県","福岡デザイン＆テクノロジー専門学校","文化・教養専門課程　スーパークリエーター科（昼間Ⅰ部）","2021-02-24","～",null,"2021-02-24"]
[{"$f":"IF(OR(検索シート!$F$9=\"\",検索シート!$F$9=\"（指定なし）\",検索シート!$F$9=全国版!K1006,AND(検索シート!$F$9=\"変更等なし\",全国版!K1006=\"\")),1,0)","v":1},{"$f":"IF(A1006=0,\"\",IFERROR(IF(OR(検索シート!$F$5=\"\",検索シート!$F$5=\"（指定なし）\"),1,FIND(ASC(検索シート!$F$5),ASC(全国版!D1006)))+FIND(ASC(検索シート!$F$6),ASC(全国版!E1006))+FIND(ASC(検索シート!$F$7),ASC(全国版!F1006)),\"\"))","v":3},{"$f":"IF(B1006=\"\",\"-\",COUNT(B$4:$B1006))","v":1003},"福岡県","福岡デザイン＆テクノロジー専門学校","文化・教養専門課程　スーパークリエーター科（昼間Ⅱ部）","2021-02-24","～",null,"2021-02-24"]
[{"$f":"IF(OR(検索シート!$F$9=\"\",検索シート!$F$9=\"（指定なし）\",検索シート!$F$9=全国版!K1007,AND(検索シート!$F$9=\"変更等なし\",全国版!K1007=\"\")),1,0)","v":1},{"$f":"IF(A1007=0,\"\",IFERROR(IF(OR(検索シート!$F$5=\"\",検索シート!$F$5=\"（指定なし）\"),1,FIND(ASC(検索シート!$F$5),ASC(全国版!D1007)))+FIND(ASC(検索シート!$F$6),ASC(全国版!E1007))+FIND(ASC(検索シート!$F$7),ASC(全国版!F1007)),\"\"))","v":3},{"$f":"IF(B1007=\"\",\"-\",COUNT(B$4:$B1007))","v":1004},"福岡県","福岡デザイン専門学校","デザイン専門課程　高度総合デザイン科","2016-02-29","～",null,"2016-02-29"]
[{"$f":"IF(OR(検索シート!$F$9=\"\",検索シート!$F$9=\"（指定なし）\",検索シート!$F$9=全国版!K1008,AND(検索シート!$F$9=\"変更等なし\",全国版!K1008=\"\")),1,0)","v":1},{"$f":"IF(A1008=0,\"\",IFERROR(IF(OR(検索シート!$F$5=\"\",検索シート!$F$5=\"（指定なし）\"),1,FIND(ASC(検索シート!$F$5),ASC(全国版!D1008)))+FIND(ASC(検索シート!$F$6),ASC(全国版!E1008))+FIND(ASC(検索シート!$F$7),ASC(全国版!F1008)),\"\"))","v":3},{"$f":"IF(B1008=\"\",\"-\",COUNT(B$4:$B1008))","v":1005},"福岡県","福岡天神医療リハビリ専門学校","医療専門課程　作業療法学科（４年制・昼間部）","2011-04-01","～","2015-03-31","2015-02-19","不適合",null,null,"2015-04-01","2016-02-29"]
[{"$f":"IF(OR(検索シート!$F$9=\"\",検索シート!$F$9=\"（指定なし）\",検索シート!$F$9=全国版!K1009,AND(検索シート!$F$9=\"変更等なし\",全国版!K1009=\"\")),1,0)","v":1},{"$f":"IF(A1009=0,\"\",IFERROR(IF(OR(検索シート!$F$5=\"\",検索シート!$F$5=\"（指定なし）\"),1,FIND(ASC(検索シート!$F$5),ASC(全国版!D1009)))+FIND(ASC(検索シート!$F$6),ASC(全国版!E1009))+FIND(ASC(検索シート!$F$7),ASC(全国版!F1009)),\"\"))","v":3},{"$f":"IF(B1009=\"\",\"-\",COUNT(B$4:$B1009))","v":1006},"福岡県","福岡天神医療リハビリ専門学校","医療専門課程　理学療法学科（４年制・昼間部）","2011-04-01","～","2014-03-31","2015-02-19","不適合",null,null,"2014-04-01","2015-02-19"]
[{"$f":"IF(OR(検索シート!$F$9=\"\",検索シート!$F$9=\"（指定なし）\",検索シート!$F$9=全国版!K1010,AND(検索シート!$F$9=\"変更等なし\",全国版!K1010=\"\")),1,0)","v":1},{"$f":"IF(A1010=0,\"\",IFERROR(IF(OR(検索シート!$F$5=\"\",検索シート!$F$5=\"（指定なし）\"),1,FIND(ASC(検索シート!$F$5),ASC(全国版!D1010)))+FIND(ASC(検索シート!$F$6),ASC(全国版!E1010))+FIND(ASC(検索シート!$F$7),ASC(全国版!F1010)),\"\"))","v":3},{"$f":"IF(B1010=\"\",\"-\",COUNT(B$4:$B1010))","v":1007},"福岡県","福岡天神医療リハビリ専門学校","医療専門課程　作業療法学科（昼間部）","2009-04-01","～","2011-03-31","2010-02-26","名称変更","福岡天神医療リハビリ専門学校","医療専門課程　作業療法学科（４年制・昼間部）","2011-04-01","2015-02-19"]
[{"$f":"IF(OR(検索シート!$F$9=\"\",検索シート!$F$9=\"（指定なし）\",検索シート!$F$9=全国版!K1011,AND(検索シート!$F$9=\"変更等なし\",全国版!K1011=\"\")),1,0)","v":1},{"$f":"IF(A1011=0,\"\",IFERROR(IF(OR(検索シート!$F$5=\"\",検索シート!$F$5=\"（指定なし）\"),1,FIND(ASC(検索シート!$F$5),ASC(全国版!D1011)))+FIND(ASC(検索シート!$F$6),ASC(全国版!E1011))+FIND(ASC(検索シート!$F$7),ASC(全国版!F1011)),\"\"))","v":3},{"$f":"IF(B1011=\"\",\"-\",COUNT(B$4:$B1011))","v":1008},"福岡県","福岡天神医療リハビリ専門学校","医療専門課程　理学療法学科（昼間部）","2009-04-01","～","2011-03-31","2010-02-26","名称変更","福岡天神医療リハビリ専門学校","医療専門課程　理学療法学科（４年制・昼間部）","2011-04-01","2015-02-19"]
[{"$f":"IF(OR(検索シート!$F$9=\"\",検索シート!$F$9=\"（指定なし）\",検索シート!$F$9=全国版!K1012,AND(検索シート!$F$9=\"変更等なし\",全国版!K1012=\"\")),1,0)","v":1},{"$f":"IF(A1012=0,\"\",IFERROR(IF(OR(検索シート!$F$5=\"\",検索シート!$F$5=\"（指定なし）\"),1,FIND(ASC(検索シート!$F$5),ASC(全国版!D1012)))+FIND(ASC(検索シート!$F$6),ASC(全国版!E1012))+FIND(ASC(検索シート!$F$7),ASC(全国版!F1012)),\"\"))","v":3},{"$f":"IF(B1012=\"\",\"-\",COUNT(B$4:$B1012))","v":1009},"福岡県","福岡リハビリテーション専門学校","医療専門課程　作業療法学科（昼間部）","2007-02-28","～",null,"2007-02-28"]
[{"$f":"IF(OR(検索シート!$F$9=\"\",検索シート!$F$9=\"（指定なし）\",検索シート!$F$9=全国版!K1013,AND(検索シート!$F$9=\"変更等なし\",全国版!K1013=\"\")),1,0)","v":1},{"$f":"IF(A1013=0,\"\",IFERROR(IF(OR(検索シート!$F$5=\"\",検索シート!$F$5=\"（指定なし）\"),1,FIND(ASC(検索シート!$F$5),ASC(全国版!D1013)))+FIND(ASC(検索シート!$F$6),ASC(全国版!E1013))+FIND(ASC(検索シート!$F$7),ASC(全国版!F1013)),\"\"))","v":3},{"$f":"IF(B1013=\"\",\"-\",COUNT(B$4:$B1013))","v":1010},"福岡県","福岡リハビリテーション専門学校","医療専門課程　作業療法学科（夜間部）","2010-02-26","～","2013-03-31","2010-02-26","廃止",null,null,"2013-03-31","2014-01-28"]
[{"$f":"IF(OR(検索シート!$F$9=\"\",検索シート!$F$9=\"（指定なし）\",検索シート!$F$9=全国版!K1014,AND(検索シート!$F$9=\"変更等なし\",全国版!K1014=\"\")),1,0)","v":1},{"$f":"IF(A1014=0,\"\",IFERROR(IF(OR(検索シート!$F$5=\"\",検索シート!$F$5=\"（指定なし）\"),1,FIND(ASC(検索シート!$F$5),ASC(全国版!D1014)))+FIND(ASC(検索シート!$F$6),ASC(全国版!E1014))+FIND(ASC(検索シート!$F$7),ASC(全国版!F1014)),\"\"))","v":3},{"$f":"IF(B1014=\"\",\"-\",COUNT(B$4:$B1014))","v":1011},"福岡県","福岡リハビリテーション専門学校","医療専門課程　理学療法学科（昼間部）","2007-02-28","～",null,"2007-02-28"]
[{"$f":"IF(OR(検索シート!$F$9=\"\",検索シート!$F$9=\"（指定なし）\",検索シート!$F$9=全国版!K1015,AND(検索シート!$F$9=\"変更等なし\",全国版!K1015=\"\")),1,0)","v":1},{"$f":"IF(A1015=0,\"\",IFERROR(IF(OR(検索シート!$F$5=\"\",検索シート!$F$5=\"（指定なし）\"),1,FIND(ASC(検索シート!$F$5),ASC(全国版!D1015)))+FIND(ASC(検索シート!$F$6),ASC(全国版!E1015))+FIND(ASC(検索シート!$F$7),ASC(全国版!F1015)),\"\"))","v":3},{"$f":"IF(B1015=\"\",\"-\",COUNT(B$4:$B1015))","v":1012},"福岡県","福岡リハビリテーション専門学校","医療専門課程　理学療法学科（夜間部）","2010-02-26","～",null,"2010-02-26"]
[{"$f":"IF(OR(検索シート!$F$9=\"\",検索シート!$F$9=\"（指定なし）\",検索シート!$F$9=全国版!K1016,AND(検索シート!$F$9=\"変更等なし\",全国版!K1016=\"\")),1,0)","v":1},{"$f":"IF(A1016=0,\"\",IFERROR(IF(OR(検索シート!$F$5=\"\",検索シート!$F$5=\"（指定なし）\"),1,FIND(ASC(検索シート!$F$5),ASC(全国版!D1016)))+FIND(ASC(検索シート!$F$6),ASC(全国版!E1016))+FIND(ASC(検索シート!$F$7),ASC(全国版!F1016)),\"\"))","v":3},{"$f":"IF(B1016=\"\",\"-\",COUNT(B$4:$B1016))","v":1013},"佐賀県","医療福祉専門学校緑生館","リハビリテーション専門課程　作業療法学科","2005-12-09","～",null,"2005-12-09"]
[{"$f":"IF(OR(検索シート!$F$9=\"\",検索シート!$F$9=\"（指定なし）\",検索シート!$F$9=全国版!K1017,AND(検索シート!$F$9=\"変更等なし\",全国版!K1017=\"\")),1,0)","v":1},{"$f":"IF(A1017=0,\"\",IFERROR(IF(OR(検索シート!$F$5=\"\",検索シート!$F$5=\"（指定なし）\"),1,FIND(ASC(検索シート!$F$5),ASC(全国版!D1017)))+FIND(ASC(検索シート!$F$6),ASC(全国版!E1017))+FIND(ASC(検索シート!$F$7),ASC(全国版!F1017)),\"\"))","v":3},{"$f":"IF(B1017=\"\",\"-\",COUNT(B$4:$B1017))","v":1014},"佐賀県","医療福祉専門学校緑生館","リハビリテーション専門課程　理学療法学科","2005-12-09","～",null,"2005-12-09"]
[{"$f":"IF(OR(検索シート!$F$9=\"\",検索シート!$F$9=\"（指定なし）\",検索シート!$F$9=全国版!K1018,AND(検索シート!$F$9=\"変更等なし\",全国版!K1018=\"\")),1,0)","v":1},{"$f":"IF(A1018=0,\"\",IFERROR(IF(OR(検索シート!$F$5=\"\",検索シート!$F$5=\"（指定なし）\"),1,FIND(ASC(検索シート!$F$5),ASC(全国版!D1018)))+FIND(ASC(検索シート!$F$6),ASC(全国版!E1018))+FIND(ASC(検索シート!$F$7),ASC(全国版!F1018)),\"\"))","v":3},{"$f":"IF(B1018=\"\",\"-\",COUNT(B$4:$B1018))","v":1015},"佐賀県","医療福祉専門学校緑生館","看護師専門課程　総合看護学科","2010-02-26","～",null,"2010-02-26"]
[{"$f":"IF(OR(検索シート!$F$9=\"\",検索シート!$F$9=\"（指定なし）\",検索シート!$F$9=全国版!K1019,AND(検索シート!$F$9=\"変更等なし\",全国版!K1019=\"\")),1,0)","v":1},{"$f":"IF(A1019=0,\"\",IFERROR(IF(OR(検索シート!$F$5=\"\",検索シート!$F$5=\"（指定なし）\"),1,FIND(ASC(検索シート!$F$5),ASC(全国版!D1019)))+FIND(ASC(検索シート!$F$6),ASC(全国版!E1019))+FIND(ASC(検索シート!$F$7),ASC(全国版!F1019)),\"\"))","v":3},{"$f":"IF(B1019=\"\",\"-\",COUNT(B$4:$B1019))","v":1016},"佐賀県","佐賀県立有田窯業大学校","専門課程　陶磁器科（四年制）","2010-02-26","～","2019-03-31","2010-02-26","廃止",null,null,"2019-03-31","2020-02-29"]
[{"$f":"IF(OR(検索シート!$F$9=\"\",検索シート!$F$9=\"（指定なし）\",検索シート!$F$9=全国版!K1020,AND(検索シート!$F$9=\"変更等なし\",全国版!K1020=\"\")),1,0)","v":1},{"$f":"IF(A1020=0,\"\",IFERROR(IF(OR(検索シート!$F$5=\"\",検索シート!$F$5=\"（指定なし）\"),1,FIND(ASC(検索シート!$F$5),ASC(全国版!D1020)))+FIND(ASC(検索シート!$F$6),ASC(全国版!E1020))+FIND(ASC(検索シート!$F$7),ASC(全国版!F1020)),\"\"))","v":3},{"$f":"IF(B1020=\"\",\"-\",COUNT(B$4:$B1020))","v":1017},"長崎県","こころ医療福祉専門学校","医療専門課程　理学療法科","2008-02-29","～","2021-02-24","2008-02-29","不適合",null,null,"2021-02-24","2021-02-24"]
[{"$f":"IF(OR(検索シート!$F$9=\"\",検索シート!$F$9=\"（指定なし）\",検索シート!$F$9=全国版!K1021,AND(検索シート!$F$9=\"変更等なし\",全国版!K1021=\"\")),1,0)","v":1},{"$f":"IF(A1021=0,\"\",IFERROR(IF(OR(検索シート!$F$5=\"\",検索シート!$F$5=\"（指定なし）\"),1,FIND(ASC(検索シート!$F$5),ASC(全国版!D1021)))+FIND(ASC(検索シート!$F$6),ASC(全国版!E1021))+FIND(ASC(検索シート!$F$7),ASC(全国版!F1021)),\"\"))","v":3},{"$f":"IF(B1021=\"\",\"-\",COUNT(B$4:$B1021))","v":1018},"熊本県","ＩＥＣ九州国際カレッジ専門学校","文化教養専門課程　総合英語ビジネス学科（昼間課程）","2010-02-26","～","2012-03-31","2010-02-26","名称変更","専門学校ＩＥＣ熊本国際大学校","文化教養専門課程　総合英語ビジネス学科","2012-04-01","2013-01-29"]
[{"$f":"IF(OR(検索シート!$F$9=\"\",検索シート!$F$9=\"（指定なし）\",検索シート!$F$9=全国版!K1022,AND(検索シート!$F$9=\"変更等なし\",全国版!K1022=\"\")),1,0)","v":1},{"$f":"IF(A1022=0,\"\",IFERROR(IF(OR(検索シート!$F$5=\"\",検索シート!$F$5=\"（指定なし）\"),1,FIND(ASC(検索シート!$F$5),ASC(全国版!D1022)))+FIND(ASC(検索シート!$F$6),ASC(全国版!E1022))+FIND(ASC(検索シート!$F$7),ASC(全国版!F1022)),\"\"))","v":3},{"$f":"IF(B1022=\"\",\"-\",COUNT(B$4:$B1022))","v":1019},"熊本県","ＩＥＣ九州国際カレッジ専門学校","文化教養専門課程　総合スポーツ科学学科（昼間課程）","2010-02-26","～","2012-03-31","2010-02-26","名称変更","専門学校ＩＥＣ熊本国際大学校","文化教養専門課程　総合スポーツ科学学科","2012-04-01","2013-01-29"]
[{"$f":"IF(OR(検索シート!$F$9=\"\",検索シート!$F$9=\"（指定なし）\",検索シート!$F$9=全国版!K1023,AND(検索シート!$F$9=\"変更等なし\",全国版!K1023=\"\")),1,0)","v":1},{"$f":"IF(A1023=0,\"\",IFERROR(IF(OR(検索シート!$F$5=\"\",検索シート!$F$5=\"（指定なし）\"),1,FIND(ASC(検索シート!$F$5),ASC(全国版!D1023)))+FIND(ASC(検索シート!$F$6),ASC(全国版!E1023))+FIND(ASC(検索シート!$F$7),ASC(全国版!F1023)),\"\"))","v":3},{"$f":"IF(B1023=\"\",\"-\",COUNT(B$4:$B1023))","v":1020},"熊本県","学校法人松本学園日本総合教育専門学校","教育・社会福祉専門課程　幼児教育学科","2009-02-27","～",null,"2009-02-27"]
[{"$f":"IF(OR(検索シート!$F$9=\"\",検索シート!$F$9=\"（指定なし）\",検索シート!$F$9=全国版!K1024,AND(検索シート!$F$9=\"変更等なし\",全国版!K1024=\"\")),1,0)","v":1},{"$f":"IF(A1024=0,\"\",IFERROR(IF(OR(検索シート!$F$5=\"\",検索シート!$F$5=\"（指定なし）\"),1,FIND(ASC(検索シート!$F$5),ASC(全国版!D1024)))+FIND(ASC(検索シート!$F$6),ASC(全国版!E1024))+FIND(ASC(検索シート!$F$7),ASC(全国版!F1024)),\"\"))","v":3},{"$f":"IF(B1024=\"\",\"-\",COUNT(B$4:$B1024))","v":1021},"熊本県","九州中央リハビリテーション学院","医療専門課程　作業療法学科","2007-02-28","～",null,"2007-02-28"]
[{"$f":"IF(OR(検索シート!$F$9=\"\",検索シート!$F$9=\"（指定なし）\",検索シート!$F$9=全国版!K1025,AND(検索シート!$F$9=\"変更等なし\",全国版!K1025=\"\")),1,0)","v":1},{"$f":"IF(A1025=0,\"\",IFERROR(IF(OR(検索シート!$F$5=\"\",検索シート!$F$5=\"（指定なし）\"),1,FIND(ASC(検索シート!$F$5),ASC(全国版!D1025)))+FIND(ASC(検索シート!$F$6),ASC(全国版!E1025))+FIND(ASC(検索シート!$F$7),ASC(全国版!F1025)),\"\"))","v":3},{"$f":"IF(B1025=\"\",\"-\",COUNT(B$4:$B1025))","v":1022},"熊本県","九州中央リハビリテーション学院","医療専門課程　理学療法学科（昼間部）","2007-02-28","～",null,"2007-02-28"]
[{"$f":"IF(OR(検索シート!$F$9=\"\",検索シート!$F$9=\"（指定なし）\",検索シート!$F$9=全国版!K1026,AND(検索シート!$F$9=\"変更等なし\",全国版!K1026=\"\")),1,0)","v":1},{"$f":"IF(A1026=0,\"\",IFERROR(IF(OR(検索シート!$F$5=\"\",検索シート!$F$5=\"（指定なし）\"),1,FIND(ASC(検索シート!$F$5),ASC(全国版!D1026)))+FIND(ASC(検索シート!$F$6),ASC(全国版!E1026))+FIND(ASC(検索シート!$F$7),ASC(全国版!F1026)),\"\"))","v":3},{"$f":"IF(B1026=\"\",\"-\",COUNT(B$4:$B1026))","v":1023},"熊本県","九州中央リハビリテーション学院","医療専門課程　理学療法学科（夜間部）","2010-02-26","～","2022-03-31","2010-02-26","廃止",null,null,"2022-03-31","2023-01-27"]
[{"$f":"IF(OR(検索シート!$F$9=\"\",検索シート!$F$9=\"（指定なし）\",検索シート!$F$9=全国版!K1027,AND(検索シート!$F$9=\"変更等なし\",全国版!K1027=\"\")),1,0)","v":1},{"$f":"IF(A1027=0,\"\",IFERROR(IF(OR(検索シート!$F$5=\"\",検索シート!$F$5=\"（指定なし）\"),1,FIND(ASC(検索シート!$F$5),ASC(全国版!D1027)))+FIND(ASC(検索シート!$F$6),ASC(全国版!E1027))+FIND(ASC(検索シート!$F$7),ASC(全国版!F1027)),\"\"))","v":3},{"$f":"IF(B1027=\"\",\"-\",COUNT(B$4:$B1027))","v":1024},"熊本県","熊本駅前看護リハビリテーション学院","医療専門課程　作業療法学科","2009-04-01","～",null,"2010-02-26"]
[{"$f":"IF(OR(検索シート!$F$9=\"\",検索シート!$F$9=\"（指定なし）\",検索シート!$F$9=全国版!K1028,AND(検索シート!$F$9=\"変更等なし\",全国版!K1028=\"\")),1,0)","v":1},{"$f":"IF(A1028=0,\"\",IFERROR(IF(OR(検索シート!$F$5=\"\",検索シート!$F$5=\"（指定なし）\"),1,FIND(ASC(検索シート!$F$5),ASC(全国版!D1028)))+FIND(ASC(検索シート!$F$6),ASC(全国版!E1028))+FIND(ASC(検索シート!$F$7),ASC(全国版!F1028)),\"\"))","v":3},{"$f":"IF(B1028=\"\",\"-\",COUNT(B$4:$B1028))","v":1025},"熊本県","熊本駅前看護リハビリテーション学院","医療専門課程　理学療法学科","2009-04-01","～",null,"2010-02-26"]
[{"$f":"IF(OR(検索シート!$F$9=\"\",検索シート!$F$9=\"（指定なし）\",検索シート!$F$9=全国版!K1029,AND(検索シート!$F$9=\"変更等なし\",全国版!K1029=\"\")),1,0)","v":1},{"$f":"IF(A1029=0,\"\",IFERROR(IF(OR(検索シート!$F$5=\"\",検索シート!$F$5=\"（指定なし）\"),1,FIND(ASC(検索シート!$F$5),ASC(全国版!D1029)))+FIND(ASC(検索シート!$F$6),ASC(全国版!E1029))+FIND(ASC(検索シート!$F$7),ASC(全国版!F1029)),\"\"))","v":3},{"$f":"IF(B1029=\"\",\"-\",COUNT(B$4:$B1029))","v":1026},"熊本県","熊本駅前看護リハビリテーション学院","医療専門課程　言語聴覚療法学科","2021-02-24","～",null,"2021-02-24"]
[{"$f":"IF(OR(検索シート!$F$9=\"\",検索シート!$F$9=\"（指定なし）\",検索シート!$F$9=全国版!K1030,AND(検索シート!$F$9=\"変更等なし\",全国版!K1030=\"\")),1,0)","v":1},{"$f":"IF(A1030=0,\"\",IFERROR(IF(OR(検索シート!$F$5=\"\",検索シート!$F$5=\"（指定なし）\"),1,FIND(ASC(検索シート!$F$5),ASC(全国版!D1030)))+FIND(ASC(検索シート!$F$6),ASC(全国版!E1030))+FIND(ASC(検索シート!$F$7),ASC(全国版!F1030)),\"\"))","v":3},{"$f":"IF(B1030=\"\",\"-\",COUNT(B$4:$B1030))","v":1027},"熊本県","熊本駅前リハビリテーション専門学校","医療専門課程　作業療法学科","2009-02-27","～","2009-03-31","2009-02-27","名称変更","熊本駅前看護リハビリテーション学院","医療専門課程　作業療法学科","2009-04-01","2010-02-26"]
[{"$f":"IF(OR(検索シート!$F$9=\"\",検索シート!$F$9=\"（指定なし）\",検索シート!$F$9=全国版!K1031,AND(検索シート!$F$9=\"変更等なし\",全国版!K1031=\"\")),1,0)","v":1},{"$f":"IF(A1031=0,\"\",IFERROR(IF(OR(検索シート!$F$5=\"\",検索シート!$F$5=\"（指定なし）\"),1,FIND(ASC(検索シート!$F$5),ASC(全国版!D1031)))+FIND(ASC(検索シート!$F$6),ASC(全国版!E1031))+FIND(ASC(検索シート!$F$7),ASC(全国版!F1031)),\"\"))","v":3},{"$f":"IF(B1031=\"\",\"-\",COUNT(B$4:$B1031))","v":1028},"熊本県","熊本駅前リハビリテーション専門学校","医療専門課程　理学療法学科","2009-02-27","～","2009-03-31","2009-02-27","名称変更","熊本駅前看護リハビリテーション学院","医療専門課程　理学療法学科","2009-04-01","2010-02-26"]
[{"$f":"IF(OR(検索シート!$F$9=\"\",検索シート!$F$9=\"（指定なし）\",検索シート!$F$9=全国版!K1032,AND(検索シート!$F$9=\"変更等なし\",全国版!K1032=\"\")),1,0)","v":1},{"$f":"IF(A1032=0,\"\",IFERROR(IF(OR(検索シート!$F$5=\"\",検索シート!$F$5=\"（指定なし）\"),1,FIND(ASC(検索シート!$F$5),ASC(全国版!D1032)))+FIND(ASC(検索シート!$F$6),ASC(全国版!E1032))+FIND(ASC(検索シート!$F$7),ASC(全国版!F1032)),\"\"))","v":3},{"$f":"IF(B1032=\"\",\"-\",COUNT(B$4:$B1032))","v":1029},"熊本県","熊本総合医療リハビリテーション学院","医療専門課程　作業療法学科","2010-04-01","～",null,"2010-11-29"]
[{"$f":"IF(OR(検索シート!$F$9=\"\",検索シート!$F$9=\"（指定なし）\",検索シート!$F$9=全国版!K1033,AND(検索シート!$F$9=\"変更等なし\",全国版!K1033=\"\")),1,0)","v":1},{"$f":"IF(A1033=0,\"\",IFERROR(IF(OR(検索シート!$F$5=\"\",検索シート!$F$5=\"（指定なし）\"),1,FIND(ASC(検索シート!$F$5),ASC(全国版!D1033)))+FIND(ASC(検索シート!$F$6),ASC(全国版!E1033))+FIND(ASC(検索シート!$F$7),ASC(全国版!F1033)),\"\"))","v":3},{"$f":"IF(B1033=\"\",\"-\",COUNT(B$4:$B1033))","v":1030},"熊本県","熊本総合医療リハビリテーション学院","医療専門課程　理学療法学科","2010-04-01","～",null,"2010-11-29"]
[{"$f":"IF(OR(検索シート!$F$9=\"\",検索シート!$F$9=\"（指定なし）\",検索シート!$F$9=全国版!K1034,AND(検索シート!$F$9=\"変更等なし\",全国版!K1034=\"\")),1,0)","v":1},{"$f":"IF(A1034=0,\"\",IFERROR(IF(OR(検索シート!$F$5=\"\",検索シート!$F$5=\"（指定なし）\"),1,FIND(ASC(検索シート!$F$5),ASC(全国版!D1034)))+FIND(ASC(検索シート!$F$6),ASC(全国版!E1034))+FIND(ASC(検索シート!$F$7),ASC(全国版!F1034)),\"\"))","v":3},{"$f":"IF(B1034=\"\",\"-\",COUNT(B$4:$B1034))","v":1031},"熊本県","熊本リハビリテーション学院","医療専門課程　作業療法学科","2009-02-27","～","2010-03-31","2009-02-27","名称変更","熊本総合医療リハビリテーション学院","医療専門課程　作業療法学科","2010-04-01","2010-11-29"]
[{"$f":"IF(OR(検索シート!$F$9=\"\",検索シート!$F$9=\"（指定なし）\",検索シート!$F$9=全国版!K1035,AND(検索シート!$F$9=\"変更等なし\",全国版!K1035=\"\")),1,0)","v":1},{"$f":"IF(A1035=0,\"\",IFERROR(IF(OR(検索シート!$F$5=\"\",検索シート!$F$5=\"（指定なし）\"),1,FIND(ASC(検索シート!$F$5),ASC(全国版!D1035)))+FIND(ASC(検索シート!$F$6),ASC(全国版!E1035))+FIND(ASC(検索シート!$F$7),ASC(全国版!F1035)),\"\"))","v":3},{"$f":"IF(B1035=\"\",\"-\",COUNT(B$4:$B1035))","v":1032},"熊本県","熊本リハビリテーション学院","医療専門課程　理学療法学科","2009-02-27","～","2010-03-31","2009-02-27","名称変更","熊本総合医療リハビリテーション学院","医療専門課程　理学療法学科","2010-04-01","2010-11-29"]
[{"$f":"IF(OR(検索シート!$F$9=\"\",検索シート!$F$9=\"（指定なし）\",検索シート!$F$9=全国版!K1036,AND(検索シート!$F$9=\"変更等なし\",全国版!K1036=\"\")),1,0)","v":1},{"$f":"IF(A1036=0,\"\",IFERROR(IF(OR(検索シート!$F$5=\"\",検索シート!$F$5=\"（指定なし）\"),1,FIND(ASC(検索シート!$F$5),ASC(全国版!D1036)))+FIND(ASC(検索シート!$F$6),ASC(全国版!E1036))+FIND(ASC(検索シート!$F$7),ASC(全国版!F1036)),\"\"))","v":3},{"$f":"IF(B1036=\"\",\"-\",COUNT(B$4:$B1036))","v":1033},"熊本県","湖東カレッジ教育芸術専門学校","教育社会福祉専門課程　人間福祉学科","2008-02-29","～","2011-03-31","2008-02-29","名称変更","専門学校湖東カレッジ唐人町校","教育社会福祉専門課程　人間福祉学科","2011-04-01","2011-12-22"]
[{"$f":"IF(OR(検索シート!$F$9=\"\",検索シート!$F$9=\"（指定なし）\",検索シート!$F$9=全国版!K1037,AND(検索シート!$F$9=\"変更等なし\",全国版!K1037=\"\")),1,0)","v":1},{"$f":"IF(A1037=0,\"\",IFERROR(IF(OR(検索シート!$F$5=\"\",検索シート!$F$5=\"（指定なし）\"),1,FIND(ASC(検索シート!$F$5),ASC(全国版!D1037)))+FIND(ASC(検索シート!$F$6),ASC(全国版!E1037))+FIND(ASC(検索シート!$F$7),ASC(全国版!F1037)),\"\"))","v":3},{"$f":"IF(B1037=\"\",\"-\",COUNT(B$4:$B1037))","v":1034},"熊本県","専修学校熊本ＹＭＣＡ学院","社会福祉専門課程　社会福祉学科","2011-12-22","～","2012-03-31","2011-12-22","廃止",null,null,"2012-03-31","2013-01-29"]
[{"$f":"IF(OR(検索シート!$F$9=\"\",検索シート!$F$9=\"（指定なし）\",検索シート!$F$9=全国版!K1038,AND(検索シート!$F$9=\"変更等なし\",全国版!K1038=\"\")),1,0)","v":1},{"$f":"IF(A1038=0,\"\",IFERROR(IF(OR(検索シート!$F$5=\"\",検索シート!$F$5=\"（指定なし）\"),1,FIND(ASC(検索シート!$F$5),ASC(全国版!D1038)))+FIND(ASC(検索シート!$F$6),ASC(全国版!E1038))+FIND(ASC(検索シート!$F$7),ASC(全国版!F1038)),\"\"))","v":3},{"$f":"IF(B1038=\"\",\"-\",COUNT(B$4:$B1038))","v":1035},"熊本県","専門学校ＩＥＣ熊本国際大学校","文化教養専門課程　アスリート英語ビジネス学科","2017-04-01","～","2022-03-31","2022-03-04","廃止",null,null,"2022-03-31","2023-01-27"]
[{"$f":"IF(OR(検索シート!$F$9=\"\",検索シート!$F$9=\"（指定なし）\",検索シート!$F$9=全国版!K1039,AND(検索シート!$F$9=\"変更等なし\",全国版!K1039=\"\")),1,0)","v":1},{"$f":"IF(A1039=0,\"\",IFERROR(IF(OR(検索シート!$F$5=\"\",検索シート!$F$5=\"（指定なし）\"),1,FIND(ASC(検索シート!$F$5),ASC(全国版!D1039)))+FIND(ASC(検索シート!$F$6),ASC(全国版!E1039))+FIND(ASC(検索シート!$F$7),ASC(全国版!F1039)),\"\"))","v":3},{"$f":"IF(B1039=\"\",\"-\",COUNT(B$4:$B1039))","v":1036},"熊本県","専門学校ＩＥＣ熊本国際大学校","文化教養専門課程　英語セールスフォース学科","2018-04-01","～","2022-03-31","2019-01-25","廃止",null,null,"2022-03-31","2023-01-27"]
[{"$f":"IF(OR(検索シート!$F$9=\"\",検索シート!$F$9=\"（指定なし）\",検索シート!$F$9=全国版!K1040,AND(検索シート!$F$9=\"変更等なし\",全国版!K1040=\"\")),1,0)","v":1},{"$f":"IF(A1040=0,\"\",IFERROR(IF(OR(検索シート!$F$5=\"\",検索シート!$F$5=\"（指定なし）\"),1,FIND(ASC(検索シート!$F$5),ASC(全国版!D1040)))+FIND(ASC(検索シート!$F$6),ASC(全国版!E1040))+FIND(ASC(検索シート!$F$7),ASC(全国版!F1040)),\"\"))","v":3},{"$f":"IF(B1040=\"\",\"-\",COUNT(B$4:$B1040))","v":1037},"熊本県","専門学校ＩＥＣ熊本国際大学校","文化教養専門課程　総合英語ビジネス学科","2012-04-01","～","2018-03-31","2013-01-29","名称変更","専門学校ＩＥＣ熊本国際大学校","文化教養専門課程　英語セールスフォース学科","2018-04-01","2019-01-25"]
[{"$f":"IF(OR(検索シート!$F$9=\"\",検索シート!$F$9=\"（指定なし）\",検索シート!$F$9=全国版!K1041,AND(検索シート!$F$9=\"変更等なし\",全国版!K1041=\"\")),1,0)","v":1},{"$f":"IF(A1041=0,\"\",IFERROR(IF(OR(検索シート!$F$5=\"\",検索シート!$F$5=\"（指定なし）\"),1,FIND(ASC(検索シート!$F$5),ASC(全国版!D1041)))+FIND(ASC(検索シート!$F$6),ASC(全国版!E1041))+FIND(ASC(検索シート!$F$7),ASC(全国版!F1041)),\"\"))","v":3},{"$f":"IF(B1041=\"\",\"-\",COUNT(B$4:$B1041))","v":1038},"熊本県","専門学校ＩＥＣ熊本国際大学校","文化教養専門課程　総合スポーツ科学学科","2012-04-01","～","2017-03-31","2013-01-29","名称変更","専門学校ＩＥＣ熊本国際大学校","文化教養専門課程　アスリート英語ビジネス学科","2017-04-01","2022-03-04"]
[{"$f":"IF(OR(検索シート!$F$9=\"\",検索シート!$F$9=\"（指定なし）\",検索シート!$F$9=全国版!K1042,AND(検索シート!$F$9=\"変更等なし\",全国版!K1042=\"\")),1,0)","v":1},{"$f":"IF(A1042=0,\"\",IFERROR(IF(OR(検索シート!$F$5=\"\",検索シート!$F$5=\"（指定なし）\"),1,FIND(ASC(検索シート!$F$5),ASC(全国版!D1042)))+FIND(ASC(検索シート!$F$6),ASC(全国版!E1042))+FIND(ASC(検索シート!$F$7),ASC(全国版!F1042)),\"\"))","v":3},{"$f":"IF(B1042=\"\",\"-\",COUNT(B$4:$B1042))","v":1039},"熊本県","専門学校国際文化教養大学校","文化教養専門課程　国際英語教育学科（４年課程）","2022-03-04","～",null,"2022-03-04"]
[{"$f":"IF(OR(検索シート!$F$9=\"\",検索シート!$F$9=\"（指定なし）\",検索シート!$F$9=全国版!K1043,AND(検索シート!$F$9=\"変更等なし\",全国版!K1043=\"\")),1,0)","v":1},{"$f":"IF(A1043=0,\"\",IFERROR(IF(OR(検索シート!$F$5=\"\",検索シート!$F$5=\"（指定なし）\"),1,FIND(ASC(検索シート!$F$5),ASC(全国版!D1043)))+FIND(ASC(検索シート!$F$6),ASC(全国版!E1043))+FIND(ASC(検索シート!$F$7),ASC(全国版!F1043)),\"\"))","v":3},{"$f":"IF(B1043=\"\",\"-\",COUNT(B$4:$B1043))","v":1040},"熊本県","専門学校湖東カレッジ唐人町校","教育社会福祉専門課程　子ども未来学科","2019-04-01","～",null,"2020-02-29"]
[{"$f":"IF(OR(検索シート!$F$9=\"\",検索シート!$F$9=\"（指定なし）\",検索シート!$F$9=全国版!K1044,AND(検索シート!$F$9=\"変更等なし\",全国版!K1044=\"\")),1,0)","v":1},{"$f":"IF(A1044=0,\"\",IFERROR(IF(OR(検索シート!$F$5=\"\",検索シート!$F$5=\"（指定なし）\"),1,FIND(ASC(検索シート!$F$5),ASC(全国版!D1044)))+FIND(ASC(検索シート!$F$6),ASC(全国版!E1044))+FIND(ASC(検索シート!$F$7),ASC(全国版!F1044)),\"\"))","v":3},{"$f":"IF(B1044=\"\",\"-\",COUNT(B$4:$B1044))","v":1041},"熊本県","専門学校湖東カレッジ唐人町校","教育社会福祉専門課程　人間福祉学科","2011-04-01","～","2019-03-31","2011-12-22","名称変更","専門学校湖東カレッジ唐人町校","教育社会福祉専門課程　子ども未来学科","2019-04-01","2020-02-29"]
[{"$f":"IF(OR(検索シート!$F$9=\"\",検索シート!$F$9=\"（指定なし）\",検索シート!$F$9=全国版!K1045,AND(検索シート!$F$9=\"変更等なし\",全国版!K1045=\"\")),1,0)","v":1},{"$f":"IF(A1045=0,\"\",IFERROR(IF(OR(検索シート!$F$5=\"\",検索シート!$F$5=\"（指定なし）\"),1,FIND(ASC(検索シート!$F$5),ASC(全国版!D1045)))+FIND(ASC(検索シート!$F$6),ASC(全国版!E1045))+FIND(ASC(検索シート!$F$7),ASC(全国版!F1045)),\"\"))","v":3},{"$f":"IF(B1045=\"\",\"-\",COUNT(B$4:$B1045))","v":1042},"熊本県","ヒロ・デザイン専門学校","服飾専門課程　プロフェッショナル・デザイン科","2013-01-29","～","2016-03-31","2013-01-29","名称変更","ヒロ・デザイン専門学校","服飾専門課程　プロフェッショナルデザイン科","2016-04-01","2017-02-28"]
[{"$f":"IF(OR(検索シート!$F$9=\"\",検索シート!$F$9=\"（指定なし）\",検索シート!$F$9=全国版!K1046,AND(検索シート!$F$9=\"変更等なし\",全国版!K1046=\"\")),1,0)","v":1},{"$f":"IF(A1046=0,\"\",IFERROR(IF(OR(検索シート!$F$5=\"\",検索シート!$F$5=\"（指定なし）\"),1,FIND(ASC(検索シート!$F$5),ASC(全国版!D1046)))+FIND(ASC(検索シート!$F$6),ASC(全国版!E1046))+FIND(ASC(検索シート!$F$7),ASC(全国版!F1046)),\"\"))","v":3},{"$f":"IF(B1046=\"\",\"-\",COUNT(B$4:$B1046))","v":1043},"熊本県","ヒロ・デザイン専門学校","服飾専門課程　プロフェッショナルデザイン科","2016-04-01","～",null,"2017-02-28"]
[{"$f":"IF(OR(検索シート!$F$9=\"\",検索シート!$F$9=\"（指定なし）\",検索シート!$F$9=全国版!K1047,AND(検索シート!$F$9=\"変更等なし\",全国版!K1047=\"\")),1,0)","v":1},{"$f":"IF(A1047=0,\"\",IFERROR(IF(OR(検索シート!$F$5=\"\",検索シート!$F$5=\"（指定なし）\"),1,FIND(ASC(検索シート!$F$5),ASC(全国版!D1047)))+FIND(ASC(検索シート!$F$6),ASC(全国版!E1047))+FIND(ASC(検索シート!$F$7),ASC(全国版!F1047)),\"\"))","v":3},{"$f":"IF(B1047=\"\",\"-\",COUNT(B$4:$B1047))","v":1044},"熊本県","メディカル・カレッジ青照館","医療専門課程　言語聴覚療法学科","2005-12-09","～","2020-03-31","2005-12-09","廃止",null,null,"2020-03-31","2021-02-24"]
[{"$f":"IF(OR(検索シート!$F$9=\"\",検索シート!$F$9=\"（指定なし）\",検索シート!$F$9=全国版!K1048,AND(検索シート!$F$9=\"変更等なし\",全国版!K1048=\"\")),1,0)","v":1},{"$f":"IF(A1048=0,\"\",IFERROR(IF(OR(検索シート!$F$5=\"\",検索シート!$F$5=\"（指定なし）\"),1,FIND(ASC(検索シート!$F$5),ASC(全国版!D1048)))+FIND(ASC(検索シート!$F$6),ASC(全国版!E1048))+FIND(ASC(検索シート!$F$7),ASC(全国版!F1048)),\"\"))","v":3},{"$f":"IF(B1048=\"\",\"-\",COUNT(B$4:$B1048))","v":1045},"熊本県","メディカル・カレッジ青照館","医療専門課程　作業療法学科","2005-12-09","～",null,"2005-12-09"]
[{"$f":"IF(OR(検索シート!$F$9=\"\",検索シート!$F$9=\"（指定なし）\",検索シート!$F$9=全国版!K1049,AND(検索シート!$F$9=\"変更等なし\",全国版!K1049=\"\")),1,0)","v":1},{"$f":"IF(A1049=0,\"\",IFERROR(IF(OR(検索シート!$F$5=\"\",検索シート!$F$5=\"（指定なし）\"),1,FIND(ASC(検索シート!$F$5),ASC(全国版!D1049)))+FIND(ASC(検索シート!$F$6),ASC(全国版!E1049))+FIND(ASC(検索シート!$F$7),ASC(全国版!F1049)),\"\"))","v":3},{"$f":"IF(B1049=\"\",\"-\",COUNT(B$4:$B1049))","v":1046},"熊本県","メディカル・カレッジ青照館","医療専門課程　理学療法学科","2005-12-09","～",null,"2005-12-09"]
[{"$f":"IF(OR(検索シート!$F$9=\"\",検索シート!$F$9=\"（指定なし）\",検索シート!$F$9=全国版!K1050,AND(検索シート!$F$9=\"変更等なし\",全国版!K1050=\"\")),1,0)","v":1},{"$f":"IF(A1050=0,\"\",IFERROR(IF(OR(検索シート!$F$5=\"\",検索シート!$F$5=\"（指定なし）\"),1,FIND(ASC(検索シート!$F$5),ASC(全国版!D1050)))+FIND(ASC(検索シート!$F$6),ASC(全国版!E1050))+FIND(ASC(検索シート!$F$7),ASC(全国版!F1050)),\"\"))","v":3},{"$f":"IF(B1050=\"\",\"-\",COUNT(B$4:$B1050))","v":1047},"大分県","ＫＣＳ大分情報専門学校","工業専門課程　大学併修科","2005-12-09","～",null,"2005-12-09"]
[{"$f":"IF(OR(検索シート!$F$9=\"\",検索シート!$F$9=\"（指定なし）\",検索シート!$F$9=全国版!K1051,AND(検索シート!$F$9=\"変更等なし\",全国版!K1051=\"\")),1,0)","v":1},{"$f":"IF(A1051=0,\"\",IFERROR(IF(OR(検索シート!$F$5=\"\",検索シート!$F$5=\"（指定なし）\"),1,FIND(ASC(検索シート!$F$5),ASC(全国版!D1051)))+FIND(ASC(検索シート!$F$6),ASC(全国版!E1051))+FIND(ASC(検索シート!$F$7),ASC(全国版!F1051)),\"\"))","v":3},{"$f":"IF(B1051=\"\",\"-\",COUNT(B$4:$B1051))","v":1048},"宮崎県","都城リハビリテーション学院","医療専門課程　理学療法学科","2021-02-24","～",null,"2021-02-24"]
[{"$f":"IF(OR(検索シート!$F$9=\"\",検索シート!$F$9=\"（指定なし）\",検索シート!$F$9=全国版!K1052,AND(検索シート!$F$9=\"変更等なし\",全国版!K1052=\"\")),1,0)","v":1},{"$f":"IF(A1052=0,\"\",IFERROR(IF(OR(検索シート!$F$5=\"\",検索シート!$F$5=\"（指定なし）\"),1,FIND(ASC(検索シート!$F$5),ASC(全国版!D1052)))+FIND(ASC(検索シート!$F$6),ASC(全国版!E1052))+FIND(ASC(検索シート!$F$7),ASC(全国版!F1052)),\"\"))","v":3},{"$f":"IF(B1052=\"\",\"-\",COUNT(B$4:$B1052))","v":1049},"宮崎県","宮崎情報ビジネス医療専門学校","工業専門課程　情報システム科（高度専門士）","2017-04-01","～",null,"2018-02-28"]
[{"$f":"IF(OR(検索シート!$F$9=\"\",検索シート!$F$9=\"（指定なし）\",検索シート!$F$9=全国版!K1053,AND(検索シート!$F$9=\"変更等なし\",全国版!K1053=\"\")),1,0)","v":1},{"$f":"IF(A1053=0,\"\",IFERROR(IF(OR(検索シート!$F$5=\"\",検索シート!$F$5=\"（指定なし）\"),1,FIND(ASC(検索シート!$F$5),ASC(全国版!D1053)))+FIND(ASC(検索シート!$F$6),ASC(全国版!E1053))+FIND(ASC(検索シート!$F$7),ASC(全国版!F1053)),\"\"))","v":3},{"$f":"IF(B1053=\"\",\"-\",COUNT(B$4:$B1053))","v":1050},"宮崎県","宮崎情報ビジネス専門学校","工業関係専門課程　情報システム科（高度専門士）","2007-02-28","～","2014-09-16","2007-02-28","名称変更","宮崎情報ビジネス専門学校","工業専門課程　情報システム科（高度専門士）","2014-09-17","2016-02-29"]
[{"$f":"IF(OR(検索シート!$F$9=\"\",検索シート!$F$9=\"（指定なし）\",検索シート!$F$9=全国版!K1054,AND(検索シート!$F$9=\"変更等なし\",全国版!K1054=\"\")),1,0)","v":1},{"$f":"IF(A1054=0,\"\",IFERROR(IF(OR(検索シート!$F$5=\"\",検索シート!$F$5=\"（指定なし）\"),1,FIND(ASC(検索シート!$F$5),ASC(全国版!D1054)))+FIND(ASC(検索シート!$F$6),ASC(全国版!E1054))+FIND(ASC(検索シート!$F$7),ASC(全国版!F1054)),\"\"))","v":3},{"$f":"IF(B1054=\"\",\"-\",COUNT(B$4:$B1054))","v":1051},"宮崎県","宮崎情報ビジネス専門学校","工業専門課程　情報システム科（高度専門士）","2014-09-17","～","2017-03-31","2016-02-29","名称変更","宮崎情報ビジネス医療専門学校","工業専門課程　情報システム科（高度専門士）","2017-04-01","2018-02-28"]
[{"$f":"IF(OR(検索シート!$F$9=\"\",検索シート!$F$9=\"（指定なし）\",検索シート!$F$9=全国版!K1055,AND(検索シート!$F$9=\"変更等なし\",全国版!K1055=\"\")),1,0)","v":1},{"$f":"IF(A1055=0,\"\",IFERROR(IF(OR(検索シート!$F$5=\"\",検索シート!$F$5=\"（指定なし）\"),1,FIND(ASC(検索シート!$F$5),ASC(全国版!D1055)))+FIND(ASC(検索シート!$F$6),ASC(全国版!E1055))+FIND(ASC(検索シート!$F$7),ASC(全国版!F1055)),\"\"))","v":3},{"$f":"IF(B1055=\"\",\"-\",COUNT(B$4:$B1055))","v":1052},"鹿児島県","ＫＣＳ鹿児島情報専門学校","工業専門課程　大学併修科","2005-12-09","～",null,"2005-12-09"]
[{"$f":"IF(OR(検索シート!$F$9=\"\",検索シート!$F$9=\"（指定なし）\",検索シート!$F$9=全国版!K1056,AND(検索シート!$F$9=\"変更等なし\",全国版!K1056=\"\")),1,0)","v":1},{"$f":"IF(A1056=0,\"\",IFERROR(IF(OR(検索シート!$F$5=\"\",検索シート!$F$5=\"（指定なし）\"),1,FIND(ASC(検索シート!$F$5),ASC(全国版!D1056)))+FIND(ASC(検索シート!$F$6),ASC(全国版!E1056))+FIND(ASC(検索シート!$F$7),ASC(全国版!F1056)),\"\"))","v":3},{"$f":"IF(B1056=\"\",\"-\",COUNT(B$4:$B1056))","v":1053},"鹿児島県","鹿児島医療技術専門学校","医療専門課程　看護学科","2018-04-01","～",null,"2019-01-25"]
[{"$f":"IF(OR(検索シート!$F$9=\"\",検索シート!$F$9=\"（指定なし）\",検索シート!$F$9=全国版!K1057,AND(検索シート!$F$9=\"変更等なし\",全国版!K1057=\"\")),1,0)","v":1},{"$f":"IF(A1057=0,\"\",IFERROR(IF(OR(検索シート!$F$5=\"\",検索シート!$F$5=\"（指定なし）\"),1,FIND(ASC(検索シート!$F$5),ASC(全国版!D1057)))+FIND(ASC(検索シート!$F$6),ASC(全国版!E1057))+FIND(ASC(検索シート!$F$7),ASC(全国版!F1057)),\"\"))","v":3},{"$f":"IF(B1057=\"\",\"-\",COUNT(B$4:$B1057))","v":1054},"鹿児島県","鹿児島医療技術専門学校","医療専門課程　言語聴覚療法学科","2010-02-26","～",null,"2010-02-26"]
[{"$f":"IF(OR(検索シート!$F$9=\"\",検索シート!$F$9=\"（指定なし）\",検索シート!$F$9=全国版!K1058,AND(検索シート!$F$9=\"変更等なし\",全国版!K1058=\"\")),1,0)","v":1},{"$f":"IF(A1058=0,\"\",IFERROR(IF(OR(検索シート!$F$5=\"\",検索シート!$F$5=\"（指定なし）\"),1,FIND(ASC(検索シート!$F$5),ASC(全国版!D1058)))+FIND(ASC(検索シート!$F$6),ASC(全国版!E1058))+FIND(ASC(検索シート!$F$7),ASC(全国版!F1058)),\"\"))","v":3},{"$f":"IF(B1058=\"\",\"-\",COUNT(B$4:$B1058))","v":1055},"鹿児島県","鹿児島医療技術専門学校","医療専門課程　作業療法学科（昼間部）","2010-02-26","～",null,"2010-02-26"]
[{"$f":"IF(OR(検索シート!$F$9=\"\",検索シート!$F$9=\"（指定なし）\",検索シート!$F$9=全国版!K1059,AND(検索シート!$F$9=\"変更等なし\",全国版!K1059=\"\")),1,0)","v":1},{"$f":"IF(A1059=0,\"\",IFERROR(IF(OR(検索シート!$F$5=\"\",検索シート!$F$5=\"（指定なし）\"),1,FIND(ASC(検索シート!$F$5),ASC(全国版!D1059)))+FIND(ASC(検索シート!$F$6),ASC(全国版!E1059))+FIND(ASC(検索シート!$F$7),ASC(全国版!F1059)),\"\"))","v":3},{"$f":"IF(B1059=\"\",\"-\",COUNT(B$4:$B1059))","v":1056},"鹿児島県","鹿児島医療技術専門学校","医療専門課程　作業療法学科（夜間部）","2008-02-29","～","2016-03-31","2008-02-29","不適合",null,null,"2016-04-01","2020-02-29"]
[{"$f":"IF(OR(検索シート!$F$9=\"\",検索シート!$F$9=\"（指定なし）\",検索シート!$F$9=全国版!K1060,AND(検索シート!$F$9=\"変更等なし\",全国版!K1060=\"\")),1,0)","v":1},{"$f":"IF(A1060=0,\"\",IFERROR(IF(OR(検索シート!$F$5=\"\",検索シート!$F$5=\"（指定なし）\"),1,FIND(ASC(検索シート!$F$5),ASC(全国版!D1060)))+FIND(ASC(検索シート!$F$6),ASC(全国版!E1060))+FIND(ASC(検索シート!$F$7),ASC(全国版!F1060)),\"\"))","v":3},{"$f":"IF(B1060=\"\",\"-\",COUNT(B$4:$B1060))","v":1057},"鹿児島県","鹿児島医療技術専門学校","医療専門課程　診療放射線技術学科","2010-02-26","～",null,"2010-02-26"]
[{"$f":"IF(OR(検索シート!$F$9=\"\",検索シート!$F$9=\"（指定なし）\",検索シート!$F$9=全国版!K1061,AND(検索シート!$F$9=\"変更等なし\",全国版!K1061=\"\")),1,0)","v":1},{"$f":"IF(A1061=0,\"\",IFERROR(IF(OR(検索シート!$F$5=\"\",検索シート!$F$5=\"（指定なし）\"),1,FIND(ASC(検索シート!$F$5),ASC(全国版!D1061)))+FIND(ASC(検索シート!$F$6),ASC(全国版!E1061))+FIND(ASC(検索シート!$F$7),ASC(全国版!F1061)),\"\"))","v":3},{"$f":"IF(B1061=\"\",\"-\",COUNT(B$4:$B1061))","v":1058},"鹿児島県","鹿児島医療技術専門学校","医療専門課程　保健看護学科","2005-12-09","～","2018-03-31","2005-12-09","名称変更","鹿児島医療技術専門学校","医療専門課程　看護学科","2018-04-01","2019-01-25"]
[{"$f":"IF(OR(検索シート!$F$9=\"\",検索シート!$F$9=\"（指定なし）\",検索シート!$F$9=全国版!K1062,AND(検索シート!$F$9=\"変更等なし\",全国版!K1062=\"\")),1,0)","v":1},{"$f":"IF(A1062=0,\"\",IFERROR(IF(OR(検索シート!$F$5=\"\",検索シート!$F$5=\"（指定なし）\"),1,FIND(ASC(検索シート!$F$5),ASC(全国版!D1062)))+FIND(ASC(検索シート!$F$6),ASC(全国版!E1062))+FIND(ASC(検索シート!$F$7),ASC(全国版!F1062)),\"\"))","v":3},{"$f":"IF(B1062=\"\",\"-\",COUNT(B$4:$B1062))","v":1059},"鹿児島県","鹿児島医療技術専門学校","医療専門課程　理学療法学科（昼間部）","2010-02-26","～",null,"2010-02-26"]
[{"$f":"IF(OR(検索シート!$F$9=\"\",検索シート!$F$9=\"（指定なし）\",検索シート!$F$9=全国版!K1063,AND(検索シート!$F$9=\"変更等なし\",全国版!K1063=\"\")),1,0)","v":1},{"$f":"IF(A1063=0,\"\",IFERROR(IF(OR(検索シート!$F$5=\"\",検索シート!$F$5=\"（指定なし）\"),1,FIND(ASC(検索シート!$F$5),ASC(全国版!D1063)))+FIND(ASC(検索シート!$F$6),ASC(全国版!E1063))+FIND(ASC(検索シート!$F$7),ASC(全国版!F1063)),\"\"))","v":3},{"$f":"IF(B1063=\"\",\"-\",COUNT(B$4:$B1063))","v":1060},"鹿児島県","鹿児島医療技術専門学校","医療専門課程　理学療法学科（夜間部）","2008-02-29","～","2016-03-31","2008-02-29","不適合",null,null,"2016-04-01","2020-02-29"]
[{"$f":"IF(OR(検索シート!$F$9=\"\",検索シート!$F$9=\"（指定なし）\",検索シート!$F$9=全国版!K1064,AND(検索シート!$F$9=\"変更等なし\",全国版!K1064=\"\")),1,0)","v":1},{"$f":"IF(A1064=0,\"\",IFERROR(IF(OR(検索シート!$F$5=\"\",検索シート!$F$5=\"（指定なし）\"),1,FIND(ASC(検索シート!$F$5),ASC(全国版!D1064)))+FIND(ASC(検索シート!$F$6),ASC(全国版!E1064))+FIND(ASC(検索シート!$F$7),ASC(全国版!F1064)),\"\"))","v":3},{"$f":"IF(B1064=\"\",\"-\",COUNT(B$4:$B1064))","v":1061},"鹿児島県","鹿児島キャリアデザイン専門学校","商業実務専門課程　経営情報学科","2013-04-01","～","2017-03-31","2014-01-28","廃止",null,null,"2017-03-31","2018-02-28"]
[{"$f":"IF(OR(検索シート!$F$9=\"\",検索シート!$F$9=\"（指定なし）\",検索シート!$F$9=全国版!K1065,AND(検索シート!$F$9=\"変更等なし\",全国版!K1065=\"\")),1,0)","v":1},{"$f":"IF(A1065=0,\"\",IFERROR(IF(OR(検索シート!$F$5=\"\",検索シート!$F$5=\"（指定なし）\"),1,FIND(ASC(検索シート!$F$5),ASC(全国版!D1065)))+FIND(ASC(検索シート!$F$6),ASC(全国版!E1065))+FIND(ASC(検索シート!$F$7),ASC(全国版!F1065)),\"\"))","v":3},{"$f":"IF(B1065=\"\",\"-\",COUNT(B$4:$B1065))","v":1062},"鹿児島県","鹿児島ハイテク専門学校","商業実務専門課程　経営情報学科","2005-12-09","～","2008-03-31","2005-12-09","名称変更","原田学園ハイテク専門学校","商業実務専門課程　経営情報学科","2008-04-01","2009-02-27"]
[{"$f":"IF(OR(検索シート!$F$9=\"\",検索シート!$F$9=\"（指定なし）\",検索シート!$F$9=全国版!K1066,AND(検索シート!$F$9=\"変更等なし\",全国版!K1066=\"\")),1,0)","v":1},{"$f":"IF(A1066=0,\"\",IFERROR(IF(OR(検索シート!$F$5=\"\",検索シート!$F$5=\"（指定なし）\"),1,FIND(ASC(検索シート!$F$5),ASC(全国版!D1066)))+FIND(ASC(検索シート!$F$6),ASC(全国版!E1066))+FIND(ASC(検索シート!$F$7),ASC(全国版!F1066)),\"\"))","v":3},{"$f":"IF(B1066=\"\",\"-\",COUNT(B$4:$B1066))","v":1063},"鹿児島県","原田学園ハイテク専門学校","商業実務専門課程　経営情報学科","2008-04-01","～","2013-03-31","2009-02-27","名称変更","鹿児島キャリアデザイン専門学校","商業実務専門課程　経営情報学科","2013-04-01","2014-01-28"]
[{"$f":"IF(OR(検索シート!$F$9=\"\",検索シート!$F$9=\"（指定なし）\",検索シート!$F$9=全国版!K1067,AND(検索シート!$F$9=\"変更等なし\",全国版!K1067=\"\")),1,0)","v":1},{"$f":"IF(A1067=0,\"\",IFERROR(IF(OR(検索シート!$F$5=\"\",検索シート!$F$5=\"（指定なし）\"),1,FIND(ASC(検索シート!$F$5),ASC(全国版!D1067)))+FIND(ASC(検索シート!$F$6),ASC(全国版!E1067))+FIND(ASC(検索シート!$F$7),ASC(全国版!F1067)),\"\"))","v":3},{"$f":"IF(B1067=\"\",\"-\",COUNT(B$4:$B1067))","v":1064},"沖縄県","沖縄情報経理専門学校","商業実務専門課程　キャリアカレッジ科","2009-04-01","～",null,"2010-02-26"]
[{"$f":"IF(OR(検索シート!$F$9=\"\",検索シート!$F$9=\"（指定なし）\",検索シート!$F$9=全国版!K1068,AND(検索シート!$F$9=\"変更等なし\",全国版!K1068=\"\")),1,0)","v":1},{"$f":"IF(A1068=0,\"\",IFERROR(IF(OR(検索シート!$F$5=\"\",検索シート!$F$5=\"（指定なし）\"),1,FIND(ASC(検索シート!$F$5),ASC(全国版!D1068)))+FIND(ASC(検索シート!$F$6),ASC(全国版!E1068))+FIND(ASC(検索シート!$F$7),ASC(全国版!F1068)),\"\"))","v":3},{"$f":"IF(B1068=\"\",\"-\",COUNT(B$4:$B1068))","v":1065},"沖縄県","沖縄情報経理専門学校","商業実務専門課程　経営情報科（昼間部）","2005-12-09","～","2009-03-31","2005-12-09","名称変更","沖縄情報経理専門学校","商業実務専門課程　キャリアカレッジ科","2009-04-01","2010-02-26"]
[{"$f":"IF(OR(検索シート!$F$9=\"\",検索シート!$F$9=\"（指定なし）\",検索シート!$F$9=全国版!K1069,AND(検索シート!$F$9=\"変更等なし\",全国版!K1069=\"\")),1,0)","v":1},{"$f":"IF(A1069=0,\"\",IFERROR(IF(OR(検索シート!$F$5=\"\",検索シート!$F$5=\"（指定なし）\"),1,FIND(ASC(検索シート!$F$5),ASC(全国版!D1069)))+FIND(ASC(検索シート!$F$6),ASC(全国版!E1069))+FIND(ASC(検索シート!$F$7),ASC(全国版!F1069)),\"\"))","v":3},{"$f":"IF(B1069=\"\",\"-\",COUNT(B$4:$B1069))","v":1066},"沖縄県","沖縄情報経理専門学校那覇校","商業実務専門課程　キャリアカレッジ科","2009-04-01","～",null,"2010-02-26"]
[{"$f":"IF(OR(検索シート!$F$9=\"\",検索シート!$F$9=\"（指定なし）\",検索シート!$F$9=全国版!K1070,AND(検索シート!$F$9=\"変更等なし\",全国版!K1070=\"\")),1,0)","v":1},{"$f":"IF(A1070=0,\"\",IFERROR(IF(OR(検索シート!$F$5=\"\",検索シート!$F$5=\"（指定なし）\"),1,FIND(ASC(検索シート!$F$5),ASC(全国版!D1070)))+FIND(ASC(検索シート!$F$6),ASC(全国版!E1070))+FIND(ASC(検索シート!$F$7),ASC(全国版!F1070)),\"\"))","v":3},{"$f":"IF(B1070=\"\",\"-\",COUNT(B$4:$B1070))","v":1067},"沖縄県","沖縄情報経理専門学校那覇校","商業実務専門課程　経営情報科","2005-12-09","～","2009-03-31","2005-12-09","名称変更","沖縄情報経理専門学校那覇校","商業実務専門課程　キャリアカレッジ科","2009-04-01","2010-02-26"]
[{"$f":"IF(OR(検索シート!$F$9=\"\",検索シート!$F$9=\"（指定なし）\",検索シート!$F$9=全国版!K1071,AND(検索シート!$F$9=\"変更等なし\",全国版!K1071=\"\")),1,0)","v":1},{"$f":"IF(A1071=0,\"\",IFERROR(IF(OR(検索シート!$F$5=\"\",検索シート!$F$5=\"（指定なし）\"),1,FIND(ASC(検索シート!$F$5),ASC(全国版!D1071)))+FIND(ASC(検索シート!$F$6),ASC(全国版!E1071))+FIND(ASC(検索シート!$F$7),ASC(全国版!F1071)),\"\"))","v":3},{"$f":"IF(B1071=\"\",\"-\",COUNT(B$4:$B1071))","v":1068},"沖縄県","尚学院国際ビジネスアカデミー","教育・社会福祉専門課程　こども未来本科（４年制）","2011-12-22","～",null,"2011-12-22"]
[{"$f":"IF(OR(検索シート!$F$9=\"\",検索シート!$F$9=\"（指定なし）\",検索シート!$F$9=全国版!K1072,AND(検索シート!$F$9=\"変更等なし\",全国版!K1072=\"\")),1,0)","v":1},{"$f":"IF(A1072=0,\"\",IFERROR(IF(OR(検索シート!$F$5=\"\",検索シート!$F$5=\"（指定なし）\"),1,FIND(ASC(検索シート!$F$5),ASC(全国版!D1072)))+FIND(ASC(検索シート!$F$6),ASC(全国版!E1072))+FIND(ASC(検索シート!$F$7),ASC(全国版!F1072)),\"\"))","v":3},{"$f":"IF(B1072=\"\",\"-\",COUNT(B$4:$B1072))","v":1069},"沖縄県","尚学院国際ビジネスアカデミー","文化・教養専門課程　公務員・教養本科（４年制）","2017-02-28","～","2022-04-25","2017-02-28","廃止",null,null,"2022-04-25"]
[{"$f":"IF(OR(検索シート!$F$9=\"\",検索シート!$F$9=\"（指定なし）\",検索シート!$F$9=全国版!K1073,AND(検索シート!$F$9=\"変更等なし\",全国版!K1073=\"\")),1,0)","v":1},{"$f":"IF(A1073=0,\"\",IFERROR(IF(OR(検索シート!$F$5=\"\",検索シート!$F$5=\"（指定なし）\"),1,FIND(ASC(検索シート!$F$5),ASC(全国版!D1073)))+FIND(ASC(検索シート!$F$6),ASC(全国版!E1073))+FIND(ASC(検索シート!$F$7),ASC(全国版!F1073)),\"\"))","v":3},{"$f":"IF(B1073=\"\",\"-\",COUNT(B$4:$B1073))","v":1070},"沖縄県","専修学校国際電子ビジネス専門学校","工業専門課程　ＩＴエンジニア科（４年制）","2019-01-25","～",null,"2019-01-25"]
[{"$f":"IF(OR(検索シート!$F$9=\"\",検索シート!$F$9=\"（指定なし）\",検索シート!$F$9=全国版!K1074,AND(検索シート!$F$9=\"変更等なし\",全国版!K1074=\"\")),1,0)","v":1},{"$f":"IF(A1074=0,\"\",IFERROR(IF(OR(検索シート!$F$5=\"\",検索シート!$F$5=\"（指定なし）\"),1,FIND(ASC(検索シート!$F$5),ASC(全国版!D1074)))+FIND(ASC(検索シート!$F$6),ASC(全国版!E1074))+FIND(ASC(検索シート!$F$7),ASC(全国版!F1074)),\"\"))","v":3},{"$f":"IF(B1074=\"\",\"-\",COUNT(B$4:$B1074))","v":1071},"沖縄県","専修学校国際電子ビジネス専門学校","工業専門課程　情報スペシャリスト科（４年制）","2008-02-29","～",null,"2008-02-29"]
[{"$f":"IF(OR(検索シート!$F$9=\"\",検索シート!$F$9=\"（指定なし）\",検索シート!$F$9=全国版!K1075,AND(検索シート!$F$9=\"変更等なし\",全国版!K1075=\"\")),1,0)","v":1},{"$f":"IF(A1075=0,\"\",IFERROR(IF(OR(検索シート!$F$5=\"\",検索シート!$F$5=\"（指定なし）\"),1,FIND(ASC(検索シート!$F$5),ASC(全国版!D1075)))+FIND(ASC(検索シート!$F$6),ASC(全国版!E1075))+FIND(ASC(検索シート!$F$7),ASC(全国版!F1075)),\"\"))","v":3},{"$f":"IF(B1075=\"\",\"-\",COUNT(B$4:$B1075))","v":1072},"沖縄県","専修学校大育情報ビジネス専門学校","商業専門課程　経営経理学科","2011-04-01","～",null,"2011-12-22"]
[{"$f":"IF(OR(検索シート!$F$9=\"\",検索シート!$F$9=\"（指定なし）\",検索シート!$F$9=全国版!K1076,AND(検索シート!$F$9=\"変更等なし\",全国版!K1076=\"\")),1,0)","v":1},{"$f":"IF(A1076=0,\"\",IFERROR(IF(OR(検索シート!$F$5=\"\",検索シート!$F$5=\"（指定なし）\"),1,FIND(ASC(検索シート!$F$5),ASC(全国版!D1076)))+FIND(ASC(検索シート!$F$6),ASC(全国版!E1076))+FIND(ASC(検索シート!$F$7),ASC(全国版!F1076)),\"\"))","v":3},{"$f":"IF(B1076=\"\",\"-\",COUNT(B$4:$B1076))","v":1073},"沖縄県","専門学校琉球リハビリテーション学院","医療専門課程　言語聴覚学科","2009-04-01","～","2013-03-31","2010-02-26","廃止",null,null,"2013-03-31","2014-01-28"]
[{"$f":"IF(OR(検索シート!$F$9=\"\",検索シート!$F$9=\"（指定なし）\",検索シート!$F$9=全国版!K1077,AND(検索シート!$F$9=\"変更等なし\",全国版!K1077=\"\")),1,0)","v":1},{"$f":"IF(A1077=0,\"\",IFERROR(IF(OR(検索シート!$F$5=\"\",検索シート!$F$5=\"（指定なし）\"),1,FIND(ASC(検索シート!$F$5),ASC(全国版!D1077)))+FIND(ASC(検索シート!$F$6),ASC(全国版!E1077))+FIND(ASC(検索シート!$F$7),ASC(全国版!F1077)),\"\"))","v":3},{"$f":"IF(B1077=\"\",\"-\",COUNT(B$4:$B1077))","v":1074},"沖縄県","専門学校琉球リハビリテーション学院","医療専門課程　言語療法学科","2007-02-28","～","2009-03-31","2007-02-28","名称変更","専門学校琉球リハビリテーション学院","医療専門課程　言語聴覚学科","2009-04-01","2010-02-26"]
[{"$f":"IF(OR(検索シート!$F$9=\"\",検索シート!$F$9=\"（指定なし）\",検索シート!$F$9=全国版!K1078,AND(検索シート!$F$9=\"変更等なし\",全国版!K1078=\"\")),1,0)","v":1},{"$f":"IF(A1078=0,\"\",IFERROR(IF(OR(検索シート!$F$5=\"\",検索シート!$F$5=\"（指定なし）\"),1,FIND(ASC(検索シート!$F$5),ASC(全国版!D1078)))+FIND(ASC(検索シート!$F$6),ASC(全国版!E1078))+FIND(ASC(検索シート!$F$7),ASC(全国版!F1078)),\"\"))","v":3},{"$f":"IF(B1078=\"\",\"-\",COUNT(B$4:$B1078))","v":1075},"沖縄県","専門学校琉球リハビリテーション学院","医療専門課程　作業療法学科（昼間部）","2007-02-28","～","2013-03-31","2007-02-28","不適合",null,null,"2013-04-01","2014-01-28"]
[{"$f":"IF(OR(検索シート!$F$9=\"\",検索シート!$F$9=\"（指定なし）\",検索シート!$F$9=全国版!K1079,AND(検索シート!$F$9=\"変更等なし\",全国版!K1079=\"\")),1,0)","v":1},{"$f":"IF(A1079=0,\"\",IFERROR(IF(OR(検索シート!$F$5=\"\",検索シート!$F$5=\"（指定なし）\"),1,FIND(ASC(検索シート!$F$5),ASC(全国版!D1079)))+FIND(ASC(検索シート!$F$6),ASC(全国版!E1079))+FIND(ASC(検索シート!$F$7),ASC(全国版!F1079)),\"\"))","v":3},{"$f":"IF(B1079=\"\",\"-\",COUNT(B$4:$B1079))","v":1076},"沖縄県","専門学校琉球リハビリテーション学院","医療専門課程　作業療法学科（夜間主）","2007-02-28","～","2008-03-31","2007-02-28","名称変更","専門学校琉球リハビリテーション学院","医療専門課程　作業療法学科（夜間部）","2008-04-01","2009-02-27"]
[{"$f":"IF(OR(検索シート!$F$9=\"\",検索シート!$F$9=\"（指定なし）\",検索シート!$F$9=全国版!K1080,AND(検索シート!$F$9=\"変更等なし\",全国版!K1080=\"\")),1,0)","v":1},{"$f":"IF(A1080=0,\"\",IFERROR(IF(OR(検索シート!$F$5=\"\",検索シート!$F$5=\"（指定なし）\"),1,FIND(ASC(検索シート!$F$5),ASC(全国版!D1080)))+FIND(ASC(検索シート!$F$6),ASC(全国版!E1080))+FIND(ASC(検索シート!$F$7),ASC(全国版!F1080)),\"\"))","v":3},{"$f":"IF(B1080=\"\",\"-\",COUNT(B$4:$B1080))","v":1077},"沖縄県","専門学校琉球リハビリテーション学院","医療専門課程　作業療法学科（夜間部）","2008-04-01","～","2013-03-31","2009-02-27","不適合",null,null,"2013-04-01","2014-01-28"]
[{"$f":"IF(OR(検索シート!$F$9=\"\",検索シート!$F$9=\"（指定なし）\",検索シート!$F$9=全国版!K1081,AND(検索シート!$F$9=\"変更等なし\",全国版!K1081=\"\")),1,0)","v":1},{"$f":"IF(A1081=0,\"\",IFERROR(IF(OR(検索シート!$F$5=\"\",検索シート!$F$5=\"（指定なし）\"),1,FIND(ASC(検索シート!$F$5),ASC(全国版!D1081)))+FIND(ASC(検索シート!$F$6),ASC(全国版!E1081))+FIND(ASC(検索シート!$F$7),ASC(全国版!F1081)),\"\"))","v":3},{"$f":"IF(B1081=\"\",\"-\",COUNT(B$4:$B1081))","v":1078},"沖縄県","専門学校琉球リハビリテーション学院","医療専門課程　理学療法学科（昼間部）","2007-02-28","～","2013-03-31","2007-02-28","不適合",null,null,"2013-04-01","2014-01-28"]
[{"$f":"IF(OR(検索シート!$F$9=\"\",検索シート!$F$9=\"（指定なし）\",検索シート!$F$9=全国版!K1082,AND(検索シート!$F$9=\"変更等なし\",全国版!K1082=\"\")),1,0)","v":1},{"$f":"IF(A1082=0,\"\",IFERROR(IF(OR(検索シート!$F$5=\"\",検索シート!$F$5=\"（指定なし）\"),1,FIND(ASC(検索シート!$F$5),ASC(全国版!D1082)))+FIND(ASC(検索シート!$F$6),ASC(全国版!E1082))+FIND(ASC(検索シート!$F$7),ASC(全国版!F1082)),\"\"))","v":3},{"$f":"IF(B1082=\"\",\"-\",COUNT(B$4:$B1082))","v":1079},"沖縄県","専門学校琉球リハビリテーション学院","医療専門課程　理学療法学科（夜間主）","2007-02-28","～","2008-03-31","2007-02-28","名称変更","専門学校琉球リハビリテーション学院","医療専門課程　理学療法学科（夜間部）","2008-04-01","2009-02-27"]
[{"$f":"IF(OR(検索シート!$F$9=\"\",検索シート!$F$9=\"（指定なし）\",検索シート!$F$9=全国版!K1083,AND(検索シート!$F$9=\"変更等なし\",全国版!K1083=\"\")),1,0)","v":1},{"$f":"IF(A1083=0,\"\",IFERROR(IF(OR(検索シート!$F$5=\"\",検索シート!$F$5=\"（指定なし）\"),1,FIND(ASC(検索シート!$F$5),ASC(全国版!D1083)))+FIND(ASC(検索シート!$F$6),ASC(全国版!E1083))+FIND(ASC(検索シート!$F$7),ASC(全国版!F1083)),\"\"))","v":3},{"$f":"IF(B1083=\"\",\"-\",COUNT(B$4:$B1083))","v":1080},"沖縄県","専門学校琉球リハビリテーション学院","医療専門課程　理学療法学科（夜間部）","2008-04-01","～","2013-03-31","2009-02-27","不適合",null,null,"2013-04-01","2014-01-28"]
[{"$f":"IF(OR(検索シート!$F$9=\"\",検索シート!$F$9=\"（指定なし）\",検索シート!$F$9=全国版!K1084,AND(検索シート!$F$9=\"変更等なし\",全国版!K1084=\"\")),1,0)","v":1},{"$f":"IF(A1084=0,\"\",IFERROR(IF(OR(検索シート!$F$5=\"\",検索シート!$F$5=\"（指定なし）\"),1,FIND(ASC(検索シート!$F$5),ASC(全国版!D1084)))+FIND(ASC(検索シート!$F$6),ASC(全国版!E1084))+FIND(ASC(検索シート!$F$7),ASC(全国版!F1084)),\"\"))","v":3},{"$f":"IF(B1084=\"\",\"-\",COUNT(B$4:$B1084))","v":1081},"沖縄県","大育情報ビジネス専門学校","商業専門課程　情報経営学科","2005-12-09","～","2011-03-31","2005-12-09","名称変更","専修学校大育情報ビジネス専門学校","商業専門課程　経営経理学科","2011-04-01","2011-12-22"]
[{"$f":"IF(OR(検索シート!$F$9=\"\",検索シート!$F$9=\"（指定なし）\",検索シート!$F$9=全国版!K1085,AND(検索シート!$F$9=\"変更等なし\",全国版!K1085=\"\")),1,0)","v":1},{"$f":"IF(A1085=0,\"\",IFERROR(IF(OR(検索シート!$F$5=\"\",検索シート!$F$5=\"（指定なし）\"),1,FIND(ASC(検索シート!$F$5),ASC(全国版!D1085)))+FIND(ASC(検索シート!$F$6),ASC(全国版!E1085))+FIND(ASC(検索シート!$F$7),ASC(全国版!F1085)),\"\"))","v":3},{"$f":"IF(B1085=\"\",\"-\",COUNT(B$4:$B1085))","v":1082},"沖縄県","尚学院公務員法律大学校","文化・教養専門課程　公務員・法律本科","2023-01-27","～",null,"2023-01-27"]

{"sheet":"設定の仕方","index":2,"n_rows":21,"n_cols":2,"rows_kept":21,"cut":false,"hidden":true,"merged":[]}
[]
[]
[null,"①　「全国版」の一覧を最新のものに変更する"]
[null,"D列の「位置」～O列の「変更、廃止、不適合告示年月日」までを最新の一覧に変更する。"]
[null,"A列～C列の数式が一覧の最後まで入っているようにコピーする"]
[]
[null,"② 「全国版」シートと「設定の仕方」シートを非表示にする"]
[null,"シートの名前の上で右クリック→非表示を選択"]
[null,"※ 再表示は同様に右クリック→再表示を選択"]
[]
[null,"③ 「検索シート」に「シートの保護」をかける。"]
[null,"「ロックされていないセルの選択」のみを許可"]
[null,"必ずパスワードをかける"]
[]
[null,"④ 「ブックの保護」をかける"]
[null,"「シート構成」にチェックを入れて保護をかける"]
[null,"必ずパスワードをかける"]
[null,"※ これで非表示のシートが再表示されなくなる"]
[]
[]
[null,"※高度専門士分は、「検索シート」にある「専門士検索システム」の名前を変更、「全国版」シートを高度専門士の一覧に変更すればできます！"]